Workbook
Name Lookup: #REF!
Name Lookup: #REF!

Sheet Payments
A1: Date | B1: Ref No | C1: Paid by/to | D1: Details | E1: Code | F1: Auto Fill | G1: Net | H1: VAT | I1: Gross | J1: VAT only: Reg No | K1: Vat only: Invoice date
A2: PAYMENTS
A3: 46104 | B3: 100838 | C3: H Denton- Stacey | D3: salary | E3: b1 | F3: =VLOOKUP(E3,'Budget v Actual'!A:B,2,FALSE) -> Clerk's Salary | G3: 381.7 | I3: 381.7
A4: 46104 | B4: 100834 | C4: H Denton- Stacey | D4: home allowance | E4: b5 | F4: =VLOOKUP(E4,'Budget v Actual'!A:B,2,FALSE) -> Printing, Stationery, Postage | G4: 26 | I4: 26
A5: 46104 | B5: 100835 | C5: Amazon | D5: ink | E5: b5 | F5: =VLOOKUP(E5,'Budget v Actual'!A:B,2,FALSE) -> Printing, Stationery, Postage | G5: 48.81 | I5: 48.81
A6: 46114 | B6: visa | C6: google | D6: web services | E6: e3 | F6: =VLOOKUP(E6,'Budget v Actual'!A:B,2,FALSE) -> IT (website support) | G6: 7 | I6: 7
A7: 46120 | B7: charges | C7: HSBC | D7: bank charges | E7: b4 | F7: =VLOOKUP(E7,'Budget v Actual'!A:B,2,FALSE) -> Bank Charges | G7: 2 | I7: 2
A8: 46125 | B8: dd | C8: N power | D8: street lighting | E8: s1 | F8: =VLOOKUP(E8,'Budget v Actual'!A:B,2,FALSE) -> Street Lighting supply | G8: 601.91 | I8: 601.91 | L8: x
A9: 46134 | B9: visa | C9: RBC | D9: dog bins | E9: f1 | F9: =VLOOKUP(E9,'Budget v Actual'!A:B,2,FALSE) -> Repairs & Maintenance | G9: 43.2 | I9: 43.2 | L9: x
A10: 46140 | B10: visa | C10: WCC | D10: street lighting | E10: s1 | F10: =VLOOKUP(E10,'Budget v Actual'!A:B,2,FALSE) -> Street Lighting supply | G10: 101.18 | I10: 101.18 | L10: x
A11: 46143 | B11: 100840 | C11: H Denton- Stacey | D11: home allowance | E11: b5 | F11: =VLOOKUP(E11,'Budget v Actual'!A:B,2,FALSE) -> Printing, Stationery, Postage | G11: 26 | I11: 26 | L11: x
A12: 46147 | B12: 100836 | C12: H Denton- Stacey | D12: salary | E12: b1 | F12: =VLOOKUP(E12,'Budget v Actual'!A:B,2,FALSE) -> Clerk's Salary | G12: 381.7 | I12: 381.7 | L12: x
A13: 46151 | B13: visa | C13: google | D13: web services | E13: e3 | F13: =VLOOKUP(E13,'Budget v Actual'!A:B,2,FALSE) -> IT (website support) | G13: 7 | I13: 7
A14: 46151 | B14: charges | C14: HSBC | D14: bank charges | E14: b4 | F14: =VLOOKUP(E14,'Budget v Actual'!A:B,2,FALSE) -> Bank Charges | G14: 3 | I14: 3 | L14: x
A15: 46162 | B15: 100842 | C15: H Denton- Stacey | D15: salary | E15: b1 | F15: =VLOOKUP(E15,'Budget v Actual'!A:B,2,FALSE) -> Clerk's Salary | G15: 381.7 | I15: 381.7 | L15: x
A16: 46162 | B16: 100845 | C16: royal mail | D16: po box renewal | E16: e2 | F16: =VLOOKUP(E16,'Budget v Actual'!A:B,2,FALSE) -> Subscriptions & Membership | G16: 99.96 | I16: 99.96 | L16: x
A17: 46162 | B17: 100844 | C17: H Denton- Stacey | D17: home allowance | E17: b5 | F17: =VLOOKUP(E17,'Budget v Actual'!A:B,2,FALSE) -> Printing, Stationery, Postage | G17: 26 | I17: 26 | L17: x
A18: 46163 | B18: 100839 | C18: hmrc | D18: tax and ni | E18: b1 | F18: =VLOOKUP(E18,'Budget v Actual'!A:B,2,FALSE) -> Clerk's Salary | G18: 95.4 | I18: 95.4 | L18: x
A19: 46163 | B19: 100837 | C19: hmrc | D19: tax and ni | E19: b1 | F19: =VLOOKUP(E19,'Budget v Actual'!A:B,2,FALSE) -> Clerk's Salary | G19: 95.4 | I19: 95.4 | L19: x
A20: 46168 | B20: visa | C20: post office | D20: postage | E20: b5 | F20: =VLOOKUP(E20,'Budget v Actual'!A:B,2,FALSE) -> Printing, Stationery, Postage | G20: 22.7 | I20: 22.7 | L20: x
A21: 46169 | B21: 100841 | C21: leicestershire gardens | D21: grass cutting | E21: c1 | F21: =VLOOKUP(E21,'Budget v Actual'!A:B,2,FALSE) -> Grass Cutting | G21: 502.4 | I21: 502.4 | L21: x
A22: 46170 | B22: 100843 | C22: hmrc | D22: tax and ni | E22: b1 | F22: =VLOOKUP(E22,'Budget v Actual'!A:B,2,FALSE) -> Clerk's Salary | G22: 95.4 | I22: 95.4 | L22: x
A23: 46175 | B23: visa | C23: google | D23: web services | E23: e3 | F23: =VLOOKUP(E23,'Budget v Actual'!A:B,2,FALSE) -> IT (website support) | G23: 7 | I23: 7 | L23: x
A24: 46181 | B24: charges | C24: HSBC | D24: bank charges | E24: b4 | F24: =VLOOKUP(E24,'Budget v Actual'!A:B,2,FALSE) -> Bank Charges | G24: 2 | I24: 2 | L24: x
A25: 46195 | B25: 100849 | C25: Amazon | D25: ink | E25: b5 | F25: =VLOOKUP(E25,'Budget v Actual'!A:B,2,FALSE) -> Printing, Stationery, Postage | G25: 47.73 | I25: 47.73 | L25: x
... A38: 46216 | B38: dd | C38: N power | D38: street lighting | E38: s1 | F38: =VLOOKUP(E38,'Budget v Actual'!A:B,2,FALSE) -> Street Lighting supply | G38: 373.57 | I38: 373.57 | L38: x
F39: =VLOOKUP(E39,'[1]Budget v Actual'!A:B,2,FALSE) -> #N/A
F40: Printing, Stationery, Postage | L40: x
F41: Bank Charges | L41: x
F42: Clerk's Salary | L42: x
F43: Grass Cutting | L43: x
F44: =VLOOKUP(E44,'[1]Budget v Actual'!A:B,2,FALSE) -> #N/A | L44: x
F45: =VLOOKUP(E45,'Budget v Actual'!A:B,2,FALSE) -> #N/A | L45: x
F46: =VLOOKUP(E46,'Budget v Actual'!A:B,2,FALSE) -> #N/A | L46: x
F47: =VLOOKUP(E47,'Budget v Actual'!A:B,2,FALSE) -> #N/A | L47: x
F48: Printing, Stationery, Postage | L48: x
F49: Village Hall Room hire
F50: website support | L50: x
F51: website support
F52: Subscriptions & Membership
...

Sheet Receipts
A1: Date | B1: Ref No | C1: Paid by/to | D1: Details | E1: Code | F1: Auto Fill | G1: Net | H1: VAT | I1: Gross | J1: VAT only: Reg No | K1: Vat only: Invoice date | M1: b/s
A2: RECEIPTS
A3: 46101 | C3: hmrc | D3: vat reclaim | E3: v1 | F3: =VLOOKUP(E3,'Budget v Actual'!A:B,2,FALSE) -> VAT Recovered | G3: 1832.16 | M3: x
A4: 46120 | C4: RBC | D4: Precept 1/2 | E4: a1 | F4: =VLOOKUP(E4,'Budget v Actual'!A:B,2,FALSE) -> Precept | G4: 8039.81 | M4: x
F5: =VLOOKUP(E5,'Budget v Actual'!A:B,2,FALSE) -> #N/A | M5: x
F6: =VLOOKUP(E6,'Budget v Actual'!A:B,2,FALSE) -> #N/A | M6: x
F7: =VLOOKUP(E7,'Budget v Actual'!A:B,2,FALSE) -> #N/A | M7: x
F8: =VLOOKUP(E8,'Budget v Actual'!A:B,2,FALSE) -> #N/A | M8: x
F9: =VLOOKUP(E9,'Budget v Actual'!A:B,2,FALSE) -> #N/A | M9: x
F10: =VLOOKUP(E10,'Budget v Actual'!A:B,2,FALSE) -> #N/A
F11: =VLOOKUP(E11,'Budget v Actual'!A:B,2,FALSE) -> #N/A
F12: =VLOOKUP(E12,'Budget v Actual'!A:B,2,FALSE) -> #N/A
F13: =VLOOKUP(E13,'Budget v Actual'!A:B,2,FALSE) -> #N/A
F14: =VLOOKUP(E14,'Budget v Actual'!A:B,2,FALSE) -> #N/A
F15: =VLOOKUP(E15,'Budget v Actual'!A:B,2,FALSE) -> #N/A
F16: =VLOOKUP(E16,'Budget v Actual'!A:B,2,FALSE) -> #N/A
F17: =VLOOKUP(E17,'Budget v Actual'!A:B,2,FALSE) -> #N/A
F18: =VLOOKUP(E18,'Budget v Actual'!A:B,2,FALSE) -> #N/A
F19: =VLOOKUP(E19,'Budget v Actual'!A:B,2,FALSE) -> #N/A
F20: =VLOOKUP(E20,'Budget v Actual'!A:B,2,FALSE) -> #N/A
F21: =VLOOKUP(E21,'Budget v Actual'!A:B,2,FALSE) -> #N/A
A36: jul

Sheet Budget v Actual
C1: 2025/2026 Budget | E1: 2025/2026 Actual | F1: Total | G1: 2026/2027 Budget
B2: Receipts
A3: A1 | B3: Precept | C3: 15313.92 | E3: =SUMIF(Receipts!E:E,A3,Receipts!G:G) -> 8039.81 | F3: =SUM(E3:E3) -> 8039.81 | G3: 16079.62
A4: A5 | B4: Grants/Rebates | C4: 55000 | E4: =SUMIF(Receipts!E:E,A4,Receipts!G:G) -> 0 | F4: =SUM(E4:E4) -> 0
A5: V1 | B5: VAT Recovered | E5: =SUMIF(Receipts!E:E,A5,Receipts!G:G) -> 1832.16 | F5: =SUM(E5:E5) -> 1832.16 | G5: 1800
C6: =SUM(C3:C5) -> 70313.92 | E6: =SUM(E3:E5) -> 9871.97 | F6: =SUM(E6:E6) -> 9871.97 | G6: =SUM(G3:G5) -> 17879.62
B9: Payments
A10: B1 | B10: Clerk's Salary | C10: 5200 | E10: =SUMIF(Payments!E:E,A10,Payments!G:G) -> 1908.4 | F10: =SUM(E10:E10) -> 1908.4 | G10: 5800
A11: B2 | B11: Audit | C11: 220 | E11: =SUMIF(Payments!E:E,A11,Payments!G:G) -> 275 | F11: =SUM(E11:E11) -> 275 | G11: 600
A12: B3 | B12: Insurance | C12: 800 | E12: =SUMIF(Payments!E:E,A12,Payments!G:G) -> 1307.08 | F12: =SUM(E12:E12) -> 1307.08 | G12: 800
A13: B4 | B13: Bank Charges | C13: 116 | E13: =SUMIF(Payments!E:E,A13,Payments!G:G) -> 17 | F13: =SUM(E13:E13) -> 17 | G13: 116
A14: B5 | B14: Printing, Stationery, Postage | C14: 900 | E14: =SUMIF(Payments!E:E,A14,Payments!G:G) -> 249.24 | F14: =SUM(E14:E14) -> 249.24 | G14: 900
A15: C1 | B15: Grass Cutting | C15: 2700 | E15: =SUMIF(Payments!E:E,A15,Payments!G:G) -> 2050.4 | F15: =SUM(E15:E15) -> 2050.4 | G15: 3500
A16: E1 | B16: Training & Development | C16: 120 | E16: =SUMIF(Payments!E:E,A16,Payments!G:G) -> 0 | F16: =SUM(E16:E16) -> 0 | G16: 120
A17: E2 | B17: Subscriptions & Membership | C17: 350 | E17: =SUMIF(Payments!E:E,A17,Payments!G:G) -> 99.96 | F17: =SUM(E17:E17) -> 99.96 | G17: 350
A18: E3 | B18: IT (website support) | C18: 200 | E18: =SUMIF(Payments!E:E,A18,Payments!G:G) -> 84.99 | F18: =SUM(E18:E18) -> 84.99 | G18: 200
A19: F1 | B19: Repairs & Maintenance | C19: 200 | E19: =SUMIF(Payments!E:E,A19,Payments!G:G) -> 43.2 | F19: =SUM(E19:E19) -> 43.2 | G19: 200
A20: F2 | B20: Grants | C20: 90 | G20: 90
A21: F3 | B21: Macafee | C21: 80 | E21: =SUMIF(Payments!E:E,A21,Payments!G:G) -> 0 | F21: =SUM(E21:E21) -> 0 | G21: 80
A22: F4 | B22: Google | C22: 48 | E22: =SUMIF(Payments!E:E,A22,Payments!G:G) -> 0 | F22: =SUM(E22:E22) -> 0 | G22: 48
A23: P1 | B23: Playground lease | C23: 100 | F23: =SUM(E23:E23) -> 0 | G23: 100
A24: P2 | B24: Playground - Inspection | C24: 140 | E24: =SUMIF(Payments!E:E,A24,Payments!G:G) -> 0 | F24: =SUM(E24:E24) -> 0 | G24: 140
A25: S1 | B25: Street Lighting supply | C25: 1500 | E25: 975.48 | F25: 0 | G25: 1500
A26: S2 | B26: Street lighting maintenance | C26: 110 | E26: 101.18 | F26: 101.18 | G26: 110
A27: T1 | B27: Sundry | C27: 0 | G27: 0
A28: v2 | B28: Village Hall Room hire | C28: 200 | G28: 200
A29: P3 | B29: Playground Refurbishment | C29: 70000 | G29: 250
A30: W2 | B30: Defib | C30: 90 | E30: 0 | F30: 0 | G30: 90
C31: =SUM(C10:C30) -> 83164 | E31: =SUM(E10:E30) -> 7111.93 | F31: =SUM(F10:F30) -> 6136.45 | G31: =SUM(G10:G30) -> 15194
B33: Opening Balance | C33: 32610 | E33: 32610 | F33: 14076.98
B34: Receipts | C34: =C6 -> 70313.92 | E34: =E6 -> 9871.97 | F34: =SUM(E34:E34) -> 9871.97
B35: Payments | C35: =-SUM(C31) -> -83164 | E35: =-SUM(E31) -> -7111.93 | F35: =SUM(E35:E35) -> -7111.93
B36: Closing Balance | C36: =SUM(C33:C35) -> 19759.92 | E36: =SUM(E33:E35) -> 35370.04 | F36: =SUM(F33:F35) -> 16837.02
J37: Difference
B38: Bank Balances from reconciliation | F38: 16837.02 | J38: =SUM(F38-F36) -> 0 | K38: 0 | M38: Manual Entry Required in G46 and I46
F67: 65ccv
