Workbook

Sheet Gate Dashboard
A1: PROJECT STAGE GATE TEMPLATE
A2: Yellow cells are inputs. White cells calculate.
A4: PROJECT DETAILS
A5: Project Name | E5: Project No.
A6: Client | E6: Project Manager
A7: Project Sponsor | E7: Estimated Project Value ($)
A8: Current Stage | E8: Report Date
A9: Stage Name | C9: =IF($C$8="","",INDEX('Stage Definitions'!$B$6:$B$10,$C$8))
A11: STAGE AND GATE STATUS
A12: Stage | B12: Stage Name | C12: Stage Status | D12: Gate | E12: Gate Review Date | F12: Knockouts Failed | G12: Weighted Score | H12: Recommendation | I12: Gate Decision | J12: Deliverables Complete | K12: Open Actions | L12: Next Review
A13: 1 | B13: =INDEX('Stage Definitions'!$B$6:$B$10,$A13) -> Feasibility | D13: =INDEX('Stage Definitions'!$C$6:$C$10,$A13) -> Gate 1 — Proceed to Concept | E13: =IF('Gate Decisions'!$C9="","",'Gate Decisions'!$C9) | F13: ='Gate Criteria'!$E9 | G13: ='Gate Criteria'!$G9 | H13: ='Gate Criteria'!$H9 | I13: =IF('Gate Decisions'!$E9="","",'Gate Decisions'!$E9) | J13: =Deliverables!$G9 | K13: =IF((COUNTIFS('Gate Review Meeting'!$B$39:$B$63,$A13,'Gate Review Meeting'!$F$39:$F$63,"Open")+COUNTIFS('Gate Review Meeting'!$B$39:$B$63,$A13,'Gate Review Meeting'!$F$39:$F$63,"In progress"))=0,"",(COUNTIFS('Gate Review Meeting'!$B$39:$B$63,$A13,'Gate Review Meeting'!$F$39:$F$63,"Open")+COUNTIFS('Gate Review Meeting'!$B$39:$B$63,$A13,'Gate Review Meeting'!$F$39:$F$63,"In progress"))) | L13: =IF('Gate Decisions'!$K9="","",'Gate Decisions'!$K9)
A14: 2 | B14: =INDEX('Stage Definitions'!$B$6:$B$10,$A14) -> Concept Development | D14: =INDEX('Stage Definitions'!$C$6:$C$10,$A14) -> Gate 2 — Approve Business Case | E14: =IF('Gate Decisions'!$C10="","",'Gate Decisions'!$C10) | F14: ='Gate Criteria'!$E10 | G14: ='Gate Criteria'!$G10 | H14: ='Gate Criteria'!$H10 | I14: =IF('Gate Decisions'!$E10="","",'Gate Decisions'!$E10) | J14: =Deliverables!$G10 | K14: =IF((COUNTIFS('Gate Review Meeting'!$B$39:$B$63,$A14,'Gate Review Meeting'!$F$39:$F$63,"Open")+COUNTIFS('Gate Review Meeting'!$B$39:$B$63,$A14,'Gate Review Meeting'!$F$39:$F$63,"In progress"))=0,"",(COUNTIFS('Gate Review Meeting'!$B$39:$B$63,$A14,'Gate Review Meeting'!$F$39:$F$63,"Open")+COUNTIFS('Gate Review Meeting'!$B$39:$B$63,$A14,'Gate Review Meeting'!$F$39:$F$63,"In progress"))) | L14: =IF('Gate Decisions'!$K10="","",'Gate Decisions'!$K10)
A15: 3 | B15: =INDEX('Stage Definitions'!$B$6:$B$10,$A15) -> Detailed Design | D15: =INDEX('Stage Definitions'!$C$6:$C$10,$A15) -> Gate 3 — Commit to Delivery | E15: =IF('Gate Decisions'!$C11="","",'Gate Decisions'!$C11) | F15: ='Gate Criteria'!$E11 | G15: ='Gate Criteria'!$G11 | H15: ='Gate Criteria'!$H11 | I15: =IF('Gate Decisions'!$E11="","",'Gate Decisions'!$E11) | J15: =Deliverables!$G11 | K15: =IF((COUNTIFS('Gate Review Meeting'!$B$39:$B$63,$A15,'Gate Review Meeting'!$F$39:$F$63,"Open")+COUNTIFS('Gate Review Meeting'!$B$39:$B$63,$A15,'Gate Review Meeting'!$F$39:$F$63,"In progress"))=0,"",(COUNTIFS('Gate Review Meeting'!$B$39:$B$63,$A15,'Gate Review Meeting'!$F$39:$F$63,"Open")+COUNTIFS('Gate Review Meeting'!$B$39:$B$63,$A15,'Gate Review Meeting'!$F$39:$F$63,"In progress"))) | L15: =IF('Gate Decisions'!$K11="","",'Gate Decisions'!$K11)
A16: 4 | B16: =INDEX('Stage Definitions'!$B$6:$B$10,$A16) -> Execution | D16: =INDEX('Stage Definitions'!$C$6:$C$10,$A16) -> Gate 4 — Accept for Service | E16: =IF('Gate Decisions'!$C12="","",'Gate Decisions'!$C12) | F16: ='Gate Criteria'!$E12 | G16: ='Gate Criteria'!$G12 | H16: ='Gate Criteria'!$H12 | I16: =IF('Gate Decisions'!$E12="","",'Gate Decisions'!$E12) | J16: =Deliverables!$G12 | K16: =IF((COUNTIFS('Gate Review Meeting'!$B$39:$B$63,$A16,'Gate Review Meeting'!$F$39:$F$63,"Open")+COUNTIFS('Gate Review Meeting'!$B$39:$B$63,$A16,'Gate Review Meeting'!$F$39:$F$63,"In progress"))=0,"",(COUNTIFS('Gate Review Meeting'!$B$39:$B$63,$A16,'Gate Review Meeting'!$F$39:$F$63,"Open")+COUNTIFS('Gate Review Meeting'!$B$39:$B$63,$A16,'Gate Review Meeting'!$F$39:$F$63,"In progress"))) | L16: =IF('Gate Decisions'!$K12="","",'Gate Decisions'!$K12)
A17: 5 | B17: =INDEX('Stage Definitions'!$B$6:$B$10,$A17) -> Closeout | D17: =INDEX('Stage Definitions'!$C$6:$C$10,$A17) -> Gate 5 — Close and Realise Benefits | E17: =IF('Gate Decisions'!$C13="","",'Gate Decisions'!$C13) | F17: ='Gate Criteria'!$E13 | G17: ='Gate Criteria'!$G13 | H17: ='Gate Criteria'!$H13 | I17: =IF('Gate Decisions'!$E13="","",'Gate Decisions'!$E13) | J17: =Deliverables!$G13 | K17: =IF((COUNTIFS('Gate Review Meeting'!$B$39:$B$63,$A17,'Gate Review Meeting'!$F$39:$F$63,"Open")+COUNTIFS('Gate Review Meeting'!$B$39:$B$63,$A17,'Gate Review Meeting'!$F$39:$F$63,"In progress"))=0,"",(COUNTIFS('Gate Review Meeting'!$B$39:$B$63,$A17,'Gate Review Meeting'!$F$39:$F$63,"Open")+COUNTIFS('Gate Review Meeting'!$B$39:$B$63,$A17,'Gate Review Meeting'!$F$39:$F$63,"In progress"))) | L17: =IF('Gate Decisions'!$K13="","",'Gate Decisions'!$K13)
A19: SUMMARY
A20: Gates Passed | E20: =IF(COUNTIF($I$13:$I$17,"Go")+COUNTIF($I$13:$I$17,"Conditional Go")=0,"",COUNTIF($I$13:$I$17,"Go")+COUNTIF($I$13:$I$17,"Conditional Go")&" of 5")
A21: Knockouts Failed | E21: =IF(SUM($F$13:$F$17)=0,"",SUM($F$13:$F$17))
A22: Deliverables Complete | E22: =IF(SUMPRODUCT((Deliverables!$C$17:$C$61<>"")*(Deliverables!$F$17:$F$61<>""))=0,"",COUNTIF(Deliverables!$F$17:$F$61,"Complete")/MAX(1,SUMPRODUCT((Deliverables!$C$17:$C$61<>"")*1)-COUNTIF(Deliverables!$F$17:$F$61,"Not required")))
A23: Open Actions | E23: =IF(COUNTIF('Gate Review Meeting'!$F$39:$F$63,"Open")+COUNTIF('Gate Review Meeting'!$F$39:$F$63,"In progress")=0,"",COUNTIF('Gate Review Meeting'!$F$39:$F$63,"Open")+COUNTIF('Gate Review Meeting'!$F$39:$F$63,"In progress"))
A25: Visit mastt.com

Sheet Schedule Dashboard
A1: SCHEDULE DASHBOARD
A4: SCHEDULE SUMMARY
A5: Project | C5: =IF('Gate Dashboard'!$C$5="","",'Gate Dashboard'!$C$5) | F5: Today | H5: =TODAY() -> 46281 | M5: Complete | T5: =IF(COUNTIF($E$23:$E$52,"Complete")=0,"",COUNTIF($E$23:$E$52,"Complete"))
A6: Current Stage | C6: =IF(COUNTIF($C$13:$C$17,"In Progress")=0,"",INDEX($B$13:$B$17,MATCH("In Progress",$C$13:$C$17,0))) | F6: Variance to Baseline | H6: =IF(OR(NOT(ISNUMBER($C$8)),NOT(ISNUMBER($C$7))),"",IF($C$8=$C$7,"",ABS($C$8-$C$7)&IF(ABS($C$8-$C$7)=1," day "," days ")&IF($C$8>$C$7,"behind","ahead"))) | M6: In Progress | T6: =IF(COUNTIF($E$23:$E$52,"In Progress")=0,"",COUNTIF($E$23:$E$52,"In Progress"))
A7: Baseline Completion | C7: =IF(COUNT($G$23:$G$52)=0,"",MAX($G$23:$G$52)) | F7: Activities | H7: =IF(SUMPRODUCT(--($E$23:$E$52<>""))=0,"",SUMPRODUCT(--($E$23:$E$52<>""))) -> 5 | M7: Overdue | T7: =IF(COUNTIF($E$23:$E$52,"Overdue")=0,"",COUNTIF($E$23:$E$52,"Overdue"))
A8: Forecast Completion | C8: =IF(COUNT($J$23:$J$52)=0,"",MAX($J$23:$J$52)) | F8: Behind Baseline | H8: =IF(SUMPRODUCT(--ISNUMBER(SEARCH("behind",$K$23:$K$52)))=0,"",SUMPRODUCT(--ISNUMBER(SEARCH("behind",$K$23:$K$52)))) | M8: Not Started | T8: =IF(COUNTIF($E$23:$E$52,"Not Started")=0,"",COUNTIF($E$23:$E$52,"Not Started")) -> 5
A10: STAGE TIMELINE
A11: Months per Column | C11: =IF(COUNT($F$23:$J$52)=0,"",MAX(1,ROUNDUP(((YEAR(MAX($F$23:$J$52))-YEAR(MIN($F$23:$J$52)))*12+MONTH(MAX($F$23:$J$52))-MONTH(MIN($F$23:$J$52))+1)/24,0))) | E11: ■ Today | M11: =IF(M12="","",YEAR(M12)) | N11: =IF(N12="","",IF(YEAR(N12)<>YEAR(M12),YEAR(N12),"")) | O11: =IF(O12="","",IF(YEAR(O12)<>YEAR(N12),YEAR(O12),"")) | P11: =IF(P12="","",IF(YEAR(P12)<>YEAR(O12),YEAR(P12),"")) | Q11: =IF(Q12="","",IF(YEAR(Q12)<>YEAR(P12),YEAR(Q12),"")) | R11: =IF(R12="","",IF(YEAR(R12)<>YEAR(Q12),YEAR(R12),"")) | S11: =IF(S12="","",IF(YEAR(S12)<>YEAR(R12),YEAR(S12),"")) | T11: =IF(T12="","",IF(YEAR(T12)<>YEAR(S12),YEAR(T12),"")) | U11: =IF(U12="","",IF(YEAR(U12)<>YEAR(T12),YEAR(U12),"")) | ... AJ11: =IF(AJ12="","",IF(YEAR(AJ12)<>YEAR(AI12),YEAR(AJ12),""))
A12: No. | B12: Stage | C12: Status | D12: Activities | E12: Complete | F12: Start | G12: Baseline Finish | H12: Forecast Finish | I12: % Complete | J12: Duration (days) | K12: Delay / Gain | M12: =IF(COUNT($F$23:$J$52)=0,"",DATE(YEAR(MIN($F$23:$J$52)),MONTH(MIN($F$23:$J$52)),1)) | N12: =IF(M12="","",EDATE(M12,$C$11)) | O12: =IF(N12="","",EDATE(N12,$C$11)) | P12: =IF(O12="","",EDATE(O12,$C$11)) | Q12: =IF(P12="","",EDATE(P12,$C$11)) | R12: =IF(Q12="","",EDATE(Q12,$C$11)) | S12: =IF(R12="","",EDATE(R12,$C$11)) | T12: =IF(S12="","",EDATE(S12,$C$11)) | U12: =IF(T12="","",EDATE(T12,$C$11)) | ... AJ12: =IF(AI12="","",EDATE(AI12,$C$11))
A13: 1 | B13: =INDEX('Stage Definitions'!$B$6:$B$10,$A13) -> Feasibility | C13: =IF($D13="","",IF(AND($F13="",$H13=""),"",IF(COUNTIFS($C$23:$C$52,$B13,$E$23:$E$52,"Complete")=$D13,"Complete",IF(OR(COUNTIFS($C$23:$C$52,$B13,$E$23:$E$52,"Complete")>0,(COUNTIFS($C$23:$C$52,$B13,$E$23:$E$52,"In Progress")+COUNTIFS($C$23:$C$52,$B13,$E$23:$E$52,"Overdue"))>0),"In Progress","Not Started")))) | D13: =IF($B13="","",IF(COUNTIF($C$23:$C$52,$B13)=0,"",COUNTIF($C$23:$C$52,$B13))) -> 1 | E13: =IF($D13="","",IF(COUNTIFS($C$23:$C$52,$B13,$E$23:$E$52,"Complete")=0,"",COUNTIFS($C$23:$C$52,$B13,$E$23:$E$52,"Complete"))) | F13: =IF($B13="","",IF(COUNTIFS($C$23:$C$52,$B13,$F$23:$F$52,">0")=0,"",_xlfn.MINIFS($F$23:$F$52,$C$23:$C$52,$B13))) | G13: =IF($B13="","",IF(COUNTIFS($C$23:$C$52,$B13,$G$23:$G$52,">0")=0,"",_xlfn.MAXIFS($G$23:$G$52,$C$23:$C$52,$B13))) | H13: =IF($B13="","",IF(COUNTIFS($C$23:$C$52,$B13,$J$23:$J$52,">0")=0,"",_xlfn.MAXIFS($J$23:$J$52,$C$23:$C$52,$B13))) | I13: =IF(OR($D13="",$E13=""),"",$E13/$D13) | J13: =IF(OR($F13="",$H13=""),"",$H13-$F13) | K13: =IF(OR(NOT(ISNUMBER($H13)),NOT(ISNUMBER($G13))),"",IF($H13=$G13,"",ABS($H13-$G13)&IF(ABS($H13-$G13)=1," day "," days ")&IF($H13>$G13,"behind","ahead")))
A14: 2 | B14: =INDEX('Stage Definitions'!$B$6:$B$10,$A14) -> Concept Development | C14: =IF($D14="","",IF(AND($F14="",$H14=""),"",IF(COUNTIFS($C$23:$C$52,$B14,$E$23:$E$52,"Complete")=$D14,"Complete",IF(OR(COUNTIFS($C$23:$C$52,$B14,$E$23:$E$52,"Complete")>0,(COUNTIFS($C$23:$C$52,$B14,$E$23:$E$52,"In Progress")+COUNTIFS($C$23:$C$52,$B14,$E$23:$E$52,"Overdue"))>0),"In Progress","Not Started")))) | D14: =IF($B14="","",IF(COUNTIF($C$23:$C$52,$B14)=0,"",COUNTIF($C$23:$C$52,$B14))) -> 1 | E14: =IF($D14="","",IF(COUNTIFS($C$23:$C$52,$B14,$E$23:$E$52,"Complete")=0,"",COUNTIFS($C$23:$C$52,$B14,$E$23:$E$52,"Complete"))) | F14: =IF($B14="","",IF(COUNTIFS($C$23:$C$52,$B14,$F$23:$F$52,">0")=0,"",_xlfn.MINIFS($F$23:$F$52,$C$23:$C$52,$B14))) | G14: =IF($B14="","",IF(COUNTIFS($C$23:$C$52,$B14,$G$23:$G$52,">0")=0,"",_xlfn.MAXIFS($G$23:$G$52,$C$23:$C$52,$B14))) | H14: =IF($B14="","",IF(COUNTIFS($C$23:$C$52,$B14,$J$23:$J$52,">0")=0,"",_xlfn.MAXIFS($J$23:$J$52,$C$23:$C$52,$B14))) | I14: =IF(OR($D14="",$E14=""),"",$E14/$D14) | J14: =IF(OR($F14="",$H14=""),"",$H14-$F14) | K14: =IF(OR(NOT(ISNUMBER($H14)),NOT(ISNUMBER($G14))),"",IF($H14=$G14,"",ABS($H14-$G14)&IF(ABS($H14-$G14)=1," day "," days ")&IF($H14>$G14,"behind","ahead")))
A15: 3 | B15: =INDEX('Stage Definitions'!$B$6:$B$10,$A15) -> Detailed Design | C15: =IF($D15="","",IF(AND($F15="",$H15=""),"",IF(COUNTIFS($C$23:$C$52,$B15,$E$23:$E$52,"Complete")=$D15,"Complete",IF(OR(COUNTIFS($C$23:$C$52,$B15,$E$23:$E$52,"Complete")>0,(COUNTIFS($C$23:$C$52,$B15,$E$23:$E$52,"In Progress")+COUNTIFS($C$23:$C$52,$B15,$E$23:$E$52,"Overdue"))>0),"In Progress","Not Started")))) | D15: =IF($B15="","",IF(COUNTIF($C$23:$C$52,$B15)=0,"",COUNTIF($C$23:$C$52,$B15))) -> 1 | E15: =IF($D15="","",IF(COUNTIFS($C$23:$C$52,$B15,$E$23:$E$52,"Complete")=0,"",COUNTIFS($C$23:$C$52,$B15,$E$23:$E$52,"Complete"))) | F15: =IF($B15="","",IF(COUNTIFS($C$23:$C$52,$B15,$F$23:$F$52,">0")=0,"",_xlfn.MINIFS($F$23:$F$52,$C$23:$C$52,$B15))) | G15: =IF($B15="","",IF(COUNTIFS($C$23:$C$52,$B15,$G$23:$G$52,">0")=0,"",_xlfn.MAXIFS($G$23:$G$52,$C$23:$C$52,$B15))) | H15: =IF($B15="","",IF(COUNTIFS($C$23:$C$52,$B15,$J$23:$J$52,">0")=0,"",_xlfn.MAXIFS($J$23:$J$52,$C$23:$C$52,$B15))) | I15: =IF(OR($D15="",$E15=""),"",$E15/$D15) | J15: =IF(OR($F15="",$H15=""),"",$H15-$F15) | K15: =IF(OR(NOT(ISNUMBER($H15)),NOT(ISNUMBER($G15))),"",IF($H15=$G15,"",ABS($H15-$G15)&IF(ABS($H15-$G15)=1," day "," days ")&IF($H15>$G15,"behind","ahead")))
A16: 4 | B16: =INDEX('Stage Definitions'!$B$6:$B$10,$A16) -> Execution | C16: =IF($D16="","",IF(AND($F16="",$H16=""),"",IF(COUNTIFS($C$23:$C$52,$B16,$E$23:$E$52,"Complete")=$D16,"Complete",IF(OR(COUNTIFS($C$23:$C$52,$B16,$E$23:$E$52,"Complete")>0,(COUNTIFS($C$23:$C$52,$B16,$E$23:$E$52,"In Progress")+COUNTIFS($C$23:$C$52,$B16,$E$23:$E$52,"Overdue"))>0),"In Progress","Not Started")))) | D16: =IF($B16="","",IF(COUNTIF($C$23:$C$52,$B16)=0,"",COUNTIF($C$23:$C$52,$B16))) -> 1 | E16: =IF($D16="","",IF(COUNTIFS($C$23:$C$52,$B16,$E$23:$E$52,"Complete")=0,"",COUNTIFS($C$23:$C$52,$B16,$E$23:$E$52,"Complete"))) | F16: =IF($B16="","",IF(COUNTIFS($C$23:$C$52,$B16,$F$23:$F$52,">0")=0,"",_xlfn.MINIFS($F$23:$F$52,$C$23:$C$52,$B16))) | G16: =IF($B16="","",IF(COUNTIFS($C$23:$C$52,$B16,$G$23:$G$52,">0")=0,"",_xlfn.MAXIFS($G$23:$G$52,$C$23:$C$52,$B16))) | H16: =IF($B16="","",IF(COUNTIFS($C$23:$C$52,$B16,$J$23:$J$52,">0")=0,"",_xlfn.MAXIFS($J$23:$J$52,$C$23:$C$52,$B16))) | I16: =IF(OR($D16="",$E16=""),"",$E16/$D16) | J16: =IF(OR($F16="",$H16=""),"",$H16-$F16) | K16: =IF(OR(NOT(ISNUMBER($H16)),NOT(ISNUMBER($G16))),"",IF($H16=$G16,"",ABS($H16-$G16)&IF(ABS($H16-$G16)=1," day "," days ")&IF($H16>$G16,"behind","ahead")))
A17: 5 | B17: =INDEX('Stage Definitions'!$B$6:$B$10,$A17) -> Closeout | C17: =IF($D17="","",IF(AND($F17="",$H17=""),"",IF(COUNTIFS($C$23:$C$52,$B17,$E$23:$E$52,"Complete")=$D17,"Complete",IF(OR(COUNTIFS($C$23:$C$52,$B17,$E$23:$E$52,"Complete")>0,(COUNTIFS($C$23:$C$52,$B17,$E$23:$E$52,"In Progress")+COUNTIFS($C$23:$C$52,$B17,$E$23:$E$52,"Overdue"))>0),"In Progress","Not Started")))) | D17: =IF($B17="","",IF(COUNTIF($C$23:$C$52,$B17)=0,"",COUNTIF($C$23:$C$52,$B17))) -> 1 | E17: =IF($D17="","",IF(COUNTIFS($C$23:$C$52,$B17,$E$23:$E$52,"Complete")=0,"",COUNTIFS($C$23:$C$52,$B17,$E$23:$E$52,"Complete"))) | F17: =IF($B17="","",IF(COUNTIFS($C$23:$C$52,$B17,$F$23:$F$52,">0")=0,"",_xlfn.MINIFS($F$23:$F$52,$C$23:$C$52,$B17))) | G17: =IF($B17="","",IF(COUNTIFS($C$23:$C$52,$B17,$G$23:$G$52,">0")=0,"",_xlfn.MAXIFS($G$23:$G$52,$C$23:$C$52,$B17))) | H17: =IF($B17="","",IF(COUNTIFS($C$23:$C$52,$B17,$J$23:$J$52,">0")=0,"",_xlfn.MAXIFS($J$23:$J$52,$C$23:$C$52,$B17))) | I17: =IF(OR($D17="",$E17=""),"",$E17/$D17) | J17: =IF(OR($F17="",$H17=""),"",$H17-$F17) | K17: =IF(OR(NOT(ISNUMBER($H17)),NOT(ISNUMBER($G17))),"",IF($H17=$G17,"",ABS($H17-$G17)&IF(ABS($H17-$G17)=1," day "," days ")&IF($H17>$G17,"behind","ahead")))
B18: Activities Due | M18: =IF(M$12="","",IF(COUNTIFS($J$23:$J$52,">="&M$12,$J$23:$J$52,"<"&EDATE(M$12,$C$11))=0,"",COUNTIFS($J$23:$J$52,">="&M$12,$J$23:$J$52,"<"&EDATE(M$12,$C$11)))) | N18: =IF(N$12="","",IF(COUNTIFS($J$23:$J$52,">="&N$12,$J$23:$J$52,"<"&EDATE(N$12,$C$11))=0,"",COUNTIFS($J$23:$J$52,">="&N$12,$J$23:$J$52,"<"&EDATE(N$12,$C$11)))) | O18: =IF(O$12="","",IF(COUNTIFS($J$23:$J$52,">="&O$12,$J$23:$J$52,"<"&EDATE(O$12,$C$11))=0,"",COUNTIFS($J$23:$J$52,">="&O$12,$J$23:$J$52,"<"&EDATE(O$12,$C$11)))) | P18: =IF(P$12="","",IF(COUNTIFS($J$23:$J$52,">="&P$12,$J$23:$J$52,"<"&EDATE(P$12,$C$11))=0,"",COUNTIFS($J$23:$J$52,">="&P$12,$J$23:$J$52,"<"&EDATE(P$12,$C$11)))) | Q18: =IF(Q$12="","",IF(COUNTIFS($J$23:$J$52,">="&Q$12,$J$23:$J$52,"<"&EDATE(Q$12,$C$11))=0,"",COUNTIFS($J$23:$J$52,">="&Q$12,$J$23:$J$52,"<"&EDATE(Q$12,$C$11)))) | R18: =IF(R$12="","",IF(COUNTIFS($J$23:$J$52,">="&R$12,$J$23:$J$52,"<"&EDATE(R$12,$C$11))=0,"",COUNTIFS($J$23:$J$52,">="&R$12,$J$23:$J$52,"<"&EDATE(R$12,$C$11)))) | S18: =IF(S$12="","",IF(COUNTIFS($J$23:$J$52,">="&S$12,$J$23:$J$52,"<"&EDATE(S$12,$C$11))=0,"",COUNTIFS($J$23:$J$52,">="&S$12,$J$23:$J$52,"<"&EDATE(S$12,$C$11)))) | T18: =IF(T$12="","",IF(COUNTIFS($J$23:$J$52,">="&T$12,$J$23:$J$52,"<"&EDATE(T$12,$C$11))=0,"",COUNTIFS($J$23:$J$52,">="&T$12,$J$23:$J$52,"<"&EDATE(T$12,$C$11)))) | ... AJ18: =IF(AJ$12="","",IF(COUNTIFS($J$23:$J$52,">="&AJ$12,$J$23:$J$52,"<"&EDATE(AJ$12,$C$11))=0,"",COUNTIFS($J$23:$J$52,">="&AJ$12,$J$23:$J$52,"<"&EDATE(AJ$12,$C$11))))
B19: Activities Complete | M19: =IF(M$12="","",IF(COUNTIFS($J$23:$J$52,">="&M$12,$J$23:$J$52,"<"&EDATE(M$12,$C$11),$E$23:$E$52,"Complete")=0,"",COUNTIFS($J$23:$J$52,">="&M$12,$J$23:$J$52,"<"&EDATE(M$12,$C$11),$E$23:$E$52,"Complete"))) | N19: =IF(N$12="","",IF(COUNTIFS($J$23:$J$52,">="&N$12,$J$23:$J$52,"<"&EDATE(N$12,$C$11),$E$23:$E$52,"Complete")=0,"",COUNTIFS($J$23:$J$52,">="&N$12,$J$23:$J$52,"<"&EDATE(N$12,$C$11),$E$23:$E$52,"Complete"))) | O19: =IF(O$12="","",IF(COUNTIFS($J$23:$J$52,">="&O$12,$J$23:$J$52,"<"&EDATE(O$12,$C$11),$E$23:$E$52,"Complete")=0,"",COUNTIFS($J$23:$J$52,">="&O$12,$J$23:$J$52,"<"&EDATE(O$12,$C$11),$E$23:$E$52,"Complete"))) | P19: =IF(P$12="","",IF(COUNTIFS($J$23:$J$52,">="&P$12,$J$23:$J$52,"<"&EDATE(P$12,$C$11),$E$23:$E$52,"Complete")=0,"",COUNTIFS($J$23:$J$52,">="&P$12,$J$23:$J$52,"<"&EDATE(P$12,$C$11),$E$23:$E$52,"Complete"))) | Q19: =IF(Q$12="","",IF(COUNTIFS($J$23:$J$52,">="&Q$12,$J$23:$J$52,"<"&EDATE(Q$12,$C$11),$E$23:$E$52,"Complete")=0,"",COUNTIFS($J$23:$J$52,">="&Q$12,$J$23:$J$52,"<"&EDATE(Q$12,$C$11),$E$23:$E$52,"Complete"))) | R19: =IF(R$12="","",IF(COUNTIFS($J$23:$J$52,">="&R$12,$J$23:$J$52,"<"&EDATE(R$12,$C$11),$E$23:$E$52,"Complete")=0,"",COUNTIFS($J$23:$J$52,">="&R$12,$J$23:$J$52,"<"&EDATE(R$12,$C$11),$E$23:$E$52,"Complete"))) | S19: =IF(S$12="","",IF(COUNTIFS($J$23:$J$52,">="&S$12,$J$23:$J$52,"<"&EDATE(S$12,$C$11),$E$23:$E$52,"Complete")=0,"",COUNTIFS($J$23:$J$52,">="&S$12,$J$23:$J$52,"<"&EDATE(S$12,$C$11),$E$23:$E$52,"Complete"))) | T19: =IF(T$12="","",IF(COUNTIFS($J$23:$J$52,">="&T$12,$J$23:$J$52,"<"&EDATE(T$12,$C$11),$E$23:$E$52,"Complete")=0,"",COUNTIFS($J$23:$J$52,">="&T$12,$J$23:$J$52,"<"&EDATE(T$12,$C$11),$E$23:$E$52,"Complete"))) | ... AJ19: =IF(AJ$12="","",IF(COUNTIFS($J$23:$J$52,">="&AJ$12,$J$23:$J$52,"<"&EDATE(AJ$12,$C$11),$E$23:$E$52,"Complete")=0,"",COUNTIFS($J$23:$J$52,">="&AJ$12,$J$23:$J$52,"<"&EDATE(AJ$12,$C$11),$E$23:$E$52,"Complete")))
A21: ACTIVITY SCHEDULE | E21: ✔ Complete | G21: ◆ In Progress | I21: ◆ Overdue | K21: ◇ Not Started | M21: =IF(M22="","",YEAR(M22)) | N21: =IF(N22="","",IF(YEAR(N22)<>YEAR(M22),YEAR(N22),"")) | O21: =IF(O22="","",IF(YEAR(O22)<>YEAR(N22),YEAR(O22),"")) | P21: =IF(P22="","",IF(YEAR(P22)<>YEAR(O22),YEAR(P22),"")) | Q21: =IF(Q22="","",IF(YEAR(Q22)<>YEAR(P22),YEAR(Q22),"")) | R21: =IF(R22="","",IF(YEAR(R22)<>YEAR(Q22),YEAR(R22),"")) | S21: =IF(S22="","",IF(YEAR(S22)<>YEAR(R22),YEAR(S22),"")) | T21: =IF(T22="","",IF(YEAR(T22)<>YEAR(S22),YEAR(T22),"")) | U21: =IF(U22="","",IF(YEAR(U22)<>YEAR(T22),YEAR(U22),"")) | ... AJ21: =IF(AJ22="","",IF(YEAR(AJ22)<>YEAR(AI22),YEAR(AJ22),""))
A22: Icon | B22: Activity | C22: Stage | D22: Key Milestone | E22: Status | F22: Start Date | G22: Baseline Date | H22: Planned Date | I22: Actual Date | J22: Forecast Date | K22: Delay / Gain | M22: =IF($M$12="","",$M$12) | N22: =IF(M22="","",EDATE(M22,$C$11)) | O22: =IF(N22="","",EDATE(N22,$C$11)) | P22: =IF(O22="","",EDATE(O22,$C$11)) | Q22: =IF(P22="","",EDATE(P22,$C$11)) | R22: =IF(Q22="","",EDATE(Q22,$C$11)) | S22: =IF(R22="","",EDATE(R22,$C$11)) | T22: =IF(S22="","",EDATE(S22,$C$11)) | U22: =IF(T22="","",EDATE(T22,$C$11)) | ... AJ22: =IF(AI22="","",EDATE(AI22,$C$11))
A23: =IF($E23="","",IF(AND($E23<>"Complete",ISNUMBER(SEARCH("behind",$K23))),"!",IF($D23="Yes","★",""))) -> ★ | B23: Gate 1 — Proceed to Concept | C23: Feasibility | D23: Yes | E23: =IF(AND($B23="",COUNTA($F23:$I23)=0),"",IF(COUNTA($F23:$I23)>COUNT($F23:$I23),"Invalid date",IF(ISNUMBER($I23),"Complete",IF(AND(ISNUMBER($J23),$J23<TODAY()),"Overdue",IF(AND(ISNUMBER($F23),$F23<=TODAY()),"In Progress","Not Started"))))) -> Not Started | J23: =IF(ISNUMBER($I23),$I23,IF(ISNUMBER($H23),$H23,IF(ISNUMBER($G23),$G23,""))) | K23: =IF(OR(NOT(ISNUMBER($J23)),NOT(ISNUMBER($G23))),"",IF($J23=$G23,"",ABS($J23-$G23)&IF(ABS($J23-$G23)=1," day "," days ")&IF($J23>$G23,"behind","ahead"))) | M23: =IF(OR(M$22="",$J23=""),"",IF(AND($J23>=M$22,$J23<EDATE(M$22,$C$11)),IF($E23="Complete","✔",IF($E23="Not Started","◇","◆")),"")) | N23: =IF(OR(N$22="",$J23=""),"",IF(AND($J23>=N$22,$J23<EDATE(N$22,$C$11)),IF($E23="Complete","✔",IF($E23="Not Started","◇","◆")),"")) | O23: =IF(OR(O$22="",$J23=""),"",IF(AND($J23>=O$22,$J23<EDATE(O$22,$C$11)),IF($E23="Complete","✔",IF($E23="Not Started","◇","◆")),"")) | P23: =IF(OR(P$22="",$J23=""),"",IF(AND($J23>=P$22,$J23<EDATE(P$22,$C$11)),IF($E23="Complete","✔",IF($E23="Not Started","◇","◆")),"")) | Q23: =IF(OR(Q$22="",$J23=""),"",IF(AND($J23>=Q$22,$J23<EDATE(Q$22,$C$11)),IF($E23="Complete","✔",IF($E23="Not Started","◇","◆")),"")) | R23: =IF(OR(R$22="",$J23=""),"",IF(AND($J23>=R$22,$J23<EDATE(R$22,$C$11)),IF($E23="Complete","✔",IF($E23="Not Started","◇","◆")),"")) | S23: =IF(OR(S$22="",$J23=""),"",IF(AND($J23>=S$22,$J23<EDATE(S$22,$C$11)),IF($E23="Complete","✔",IF($E23="Not Started","◇","◆")),"")) | T23: =IF(OR(T$22="",$J23=""),"",IF(AND($J23>=T$22,$J23<EDATE(T$22,$C$11)),IF($E23="Complete","✔",IF($E23="Not Started","◇","◆")),"")) | ... AJ23: =IF(OR(AJ$22="",$J23=""),"",IF(AND($J23>=AJ$22,$J23<EDATE(AJ$22,$C$11)),IF($E23="Complete","✔",IF($E23="Not Started","◇","◆")),""))
A24: =IF($E24="","",IF(AND($E24<>"Complete",ISNUMBER(SEARCH("behind",$K24))),"!",IF($D24="Yes","★",""))) -> ★ | B24: Gate 2 — Approve Business Case | C24: Concept Development | D24: Yes | E24: =IF(AND($B24="",COUNTA($F24:$I24)=0),"",IF(COUNTA($F24:$I24)>COUNT($F24:$I24),"Invalid date",IF(ISNUMBER($I24),"Complete",IF(AND(ISNUMBER($J24),$J24<TODAY()),"Overdue",IF(AND(ISNUMBER($F24),$F24<=TODAY()),"In Progress","Not Started"))))) -> Not Started | J24: =IF(ISNUMBER($I24),$I24,IF(ISNUMBER($H24),$H24,IF(ISNUMBER($G24),$G24,""))) | K24: =IF(OR(NOT(ISNUMBER($J24)),NOT(ISNUMBER($G24))),"",IF($J24=$G24,"",ABS($J24-$G24)&IF(ABS($J24-$G24)=1," day "," days ")&IF($J24>$G24,"behind","ahead"))) | M24: =IF(OR(M$22="",$J24=""),"",IF(AND($J24>=M$22,$J24<EDATE(M$22,$C$11)),IF($E24="Complete","✔",IF($E24="Not Started","◇","◆")),"")) | N24: =IF(OR(N$22="",$J24=""),"",IF(AND($J24>=N$22,$J24<EDATE(N$22,$C$11)),IF($E24="Complete","✔",IF($E24="Not Started","◇","◆")),"")) | O24: =IF(OR(O$22="",$J24=""),"",IF(AND($J24>=O$22,$J24<EDATE(O$22,$C$11)),IF($E24="Complete","✔",IF($E24="Not Started","◇","◆")),"")) | P24: =IF(OR(P$22="",$J24=""),"",IF(AND($J24>=P$22,$J24<EDATE(P$22,$C$11)),IF($E24="Complete","✔",IF($E24="Not Started","◇","◆")),"")) | Q24: =IF(OR(Q$22="",$J24=""),"",IF(AND($J24>=Q$22,$J24<EDATE(Q$22,$C$11)),IF($E24="Complete","✔",IF($E24="Not Started","◇","◆")),"")) | R24: =IF(OR(R$22="",$J24=""),"",IF(AND($J24>=R$22,$J24<EDATE(R$22,$C$11)),IF($E24="Complete","✔",IF($E24="Not Started","◇","◆")),"")) | S24: =IF(OR(S$22="",$J24=""),"",IF(AND($J24>=S$22,$J24<EDATE(S$22,$C$11)),IF($E24="Complete","✔",IF($E24="Not Started","◇","◆")),"")) | T24: =IF(OR(T$22="",$J24=""),"",IF(AND($J24>=T$22,$J24<EDATE(T$22,$C$11)),IF($E24="Complete","✔",IF($E24="Not Started","◇","◆")),"")) | ... AJ24: =IF(OR(AJ$22="",$J24=""),"",IF(AND($J24>=AJ$22,$J24<EDATE(AJ$22,$C$11)),IF($E24="Complete","✔",IF($E24="Not Started","◇","◆")),""))
A25: =IF($E25="","",IF(AND($E25<>"Complete",ISNUMBER(SEARCH("behind",$K25))),"!",IF($D25="Yes","★",""))) -> ★ | B25: Gate 3 — Commit to Delivery | C25: Detailed Design | D25: Yes | E25: =IF(AND($B25="",COUNTA($F25:$I25)=0),"",IF(COUNTA($F25:$I25)>COUNT($F25:$I25),"Invalid date",IF(ISNUMBER($I25),"Complete",IF(AND(ISNUMBER($J25),$J25<TODAY()),"Overdue",IF(AND(ISNUMBER($F25),$F25<=TODAY()),"In Progress","Not Started"))))) -> Not Started | J25: =IF(ISNUMBER($I25),$I25,IF(ISNUMBER($H25),$H25,IF(ISNUMBER($G25),$G25,""))) | K25: =IF(OR(NOT(ISNUMBER($J25)),NOT(ISNUMBER($G25))),"",IF($J25=$G25,"",ABS($J25-$G25)&IF(ABS($J25-$G25)=1," day "," days ")&IF($J25>$G25,"behind","ahead"))) | M25: =IF(OR(M$22="",$J25=""),"",IF(AND($J25>=M$22,$J25<EDATE(M$22,$C$11)),IF($E25="Complete","✔",IF($E25="Not Started","◇","◆")),"")) | N25: =IF(OR(N$22="",$J25=""),"",IF(AND($J25>=N$22,$J25<EDATE(N$22,$C$11)),IF($E25="Complete","✔",IF($E25="Not Started","◇","◆")),"")) | O25: =IF(OR(O$22="",$J25=""),"",IF(AND($J25>=O$22,$J25<EDATE(O$22,$C$11)),IF($E25="Complete","✔",IF($E25="Not Started","◇","◆")),"")) | P25: =IF(OR(P$22="",$J25=""),"",IF(AND($J25>=P$22,$J25<EDATE(P$22,$C$11)),IF($E25="Complete","✔",IF($E25="Not Started","◇","◆")),"")) | Q25: =IF(OR(Q$22="",$J25=""),"",IF(AND($J25>=Q$22,$J25<EDATE(Q$22,$C$11)),IF($E25="Complete","✔",IF($E25="Not Started","◇","◆")),"")) | R25: =IF(OR(R$22="",$J25=""),"",IF(AND($J25>=R$22,$J25<EDATE(R$22,$C$11)),IF($E25="Complete","✔",IF($E25="Not Started","◇","◆")),"")) | S25: =IF(OR(S$22="",$J25=""),"",IF(AND($J25>=S$22,$J25<EDATE(S$22,$C$11)),IF($E25="Complete","✔",IF($E25="Not Started","◇","◆")),"")) | T25: =IF(OR(T$22="",$J25=""),"",IF(AND($J25>=T$22,$J25<EDATE(T$22,$C$11)),IF($E25="Complete","✔",IF($E25="Not Started","◇","◆")),"")) | ... AJ25: =IF(OR(AJ$22="",$J25=""),"",IF(AND($J25>=AJ$22,$J25<EDATE(AJ$22,$C$11)),IF($E25="Complete","✔",IF($E25="Not Started","◇","◆")),""))
A26: =IF($E26="","",IF(AND($E26<>"Complete",ISNUMBER(SEARCH("behind",$K26))),"!",IF($D26="Yes","★",""))) -> ★ | B26: Gate 4 — Accept for Service | C26: Execution | D26: Yes | E26: =IF(AND($B26="",COUNTA($F26:$I26)=0),"",IF(COUNTA($F26:$I26)>COUNT($F26:$I26),"Invalid date",IF(ISNUMBER($I26),"Complete",IF(AND(ISNUMBER($J26),$J26<TODAY()),"Overdue",IF(AND(ISNUMBER($F26),$F26<=TODAY()),"In Progress","Not Started"))))) -> Not Started | J26: =IF(ISNUMBER($I26),$I26,IF(ISNUMBER($H26),$H26,IF(ISNUMBER($G26),$G26,""))) | K26: =IF(OR(NOT(ISNUMBER($J26)),NOT(ISNUMBER($G26))),"",IF($J26=$G26,"",ABS($J26-$G26)&IF(ABS($J26-$G26)=1," day "," days ")&IF($J26>$G26,"behind","ahead"))) | M26: =IF(OR(M$22="",$J26=""),"",IF(AND($J26>=M$22,$J26<EDATE(M$22,$C$11)),IF($E26="Complete","✔",IF($E26="Not Started","◇","◆")),"")) | N26: =IF(OR(N$22="",$J26=""),"",IF(AND($J26>=N$22,$J26<EDATE(N$22,$C$11)),IF($E26="Complete","✔",IF($E26="Not Started","◇","◆")),"")) | O26: =IF(OR(O$22="",$J26=""),"",IF(AND($J26>=O$22,$J26<EDATE(O$22,$C$11)),IF($E26="Complete","✔",IF($E26="Not Started","◇","◆")),"")) | P26: =IF(OR(P$22="",$J26=""),"",IF(AND($J26>=P$22,$J26<EDATE(P$22,$C$11)),IF($E26="Complete","✔",IF($E26="Not Started","◇","◆")),"")) | Q26: =IF(OR(Q$22="",$J26=""),"",IF(AND($J26>=Q$22,$J26<EDATE(Q$22,$C$11)),IF($E26="Complete","✔",IF($E26="Not Started","◇","◆")),"")) | R26: =IF(OR(R$22="",$J26=""),"",IF(AND($J26>=R$22,$J26<EDATE(R$22,$C$11)),IF($E26="Complete","✔",IF($E26="Not Started","◇","◆")),"")) | S26: =IF(OR(S$22="",$J26=""),"",IF(AND($J26>=S$22,$J26<EDATE(S$22,$C$11)),IF($E26="Complete","✔",IF($E26="Not Started","◇","◆")),"")) | T26: =IF(OR(T$22="",$J26=""),"",IF(AND($J26>=T$22,$J26<EDATE(T$22,$C$11)),IF($E26="Complete","✔",IF($E26="Not Started","◇","◆")),"")) | ... AJ26: =IF(OR(AJ$22="",$J26=""),"",IF(AND($J26>=AJ$22,$J26<EDATE(AJ$22,$C$11)),IF($E26="Complete","✔",IF($E26="Not Started","◇","◆")),""))
A27: =IF($E27="","",IF(AND($E27<>"Complete",ISNUMBER(SEARCH("behind",$K27))),"!",IF($D27="Yes","★",""))) -> ★ | B27: Gate 5 — Close and Realise Benefits | C27: Closeout | D27: Yes | E27: =IF(AND($B27="",COUNTA($F27:$I27)=0),"",IF(COUNTA($F27:$I27)>COUNT($F27:$I27),"Invalid date",IF(ISNUMBER($I27),"Complete",IF(AND(ISNUMBER($J27),$J27<TODAY()),"Overdue",IF(AND(ISNUMBER($F27),$F27<=TODAY()),"In Progress","Not Started"))))) -> Not Started | J27: =IF(ISNUMBER($I27),$I27,IF(ISNUMBER($H27),$H27,IF(ISNUMBER($G27),$G27,""))) | K27: =IF(OR(NOT(ISNUMBER($J27)),NOT(ISNUMBER($G27))),"",IF($J27=$G27,"",ABS($J27-$G27)&IF(ABS($J27-$G27)=1," day "," days ")&IF($J27>$G27,"behind","ahead"))) | M27: =IF(OR(M$22="",$J27=""),"",IF(AND($J27>=M$22,$J27<EDATE(M$22,$C$11)),IF($E27="Complete","✔",IF($E27="Not Started","◇","◆")),"")) | N27: =IF(OR(N$22="",$J27=""),"",IF(AND($J27>=N$22,$J27<EDATE(N$22,$C$11)),IF($E27="Complete","✔",IF($E27="Not Started","◇","◆")),"")) | O27: =IF(OR(O$22="",$J27=""),"",IF(AND($J27>=O$22,$J27<EDATE(O$22,$C$11)),IF($E27="Complete","✔",IF($E27="Not Started","◇","◆")),"")) | P27: =IF(OR(P$22="",$J27=""),"",IF(AND($J27>=P$22,$J27<EDATE(P$22,$C$11)),IF($E27="Complete","✔",IF($E27="Not Started","◇","◆")),"")) | Q27: =IF(OR(Q$22="",$J27=""),"",IF(AND($J27>=Q$22,$J27<EDATE(Q$22,$C$11)),IF($E27="Complete","✔",IF($E27="Not Started","◇","◆")),"")) | R27: =IF(OR(R$22="",$J27=""),"",IF(AND($J27>=R$22,$J27<EDATE(R$22,$C$11)),IF($E27="Complete","✔",IF($E27="Not Started","◇","◆")),"")) | S27: =IF(OR(S$22="",$J27=""),"",IF(AND($J27>=S$22,$J27<EDATE(S$22,$C$11)),IF($E27="Complete","✔",IF($E27="Not Started","◇","◆")),"")) | T27: =IF(OR(T$22="",$J27=""),"",IF(AND($J27>=T$22,$J27<EDATE(T$22,$C$11)),IF($E27="Complete","✔",IF($E27="Not Started","◇","◆")),"")) | ... AJ27: =IF(OR(AJ$22="",$J27=""),"",IF(AND($J27>=AJ$22,$J27<EDATE(AJ$22,$C$11)),IF($E27="Complete","✔",IF($E27="Not Started","◇","◆")),""))
A28: =IF($E28="","",IF(AND($E28<>"Complete",ISNUMBER(SEARCH("behind",$K28))),"!",IF($D28="Yes","★",""))) | E28: =IF(AND($B28="",COUNTA($F28:$I28)=0),"",IF(COUNTA($F28:$I28)>COUNT($F28:$I28),"Invalid date",IF(ISNUMBER($I28),"Complete",IF(AND(ISNUMBER($J28),$J28<TODAY()),"Overdue",IF(AND(ISNUMBER($F28),$F28<=TODAY()),"In Progress","Not Started"))))) | J28: =IF(ISNUMBER($I28),$I28,IF(ISNUMBER($H28),$H28,IF(ISNUMBER($G28),$G28,""))) | K28: =IF(OR(NOT(ISNUMBER($J28)),NOT(ISNUMBER($G28))),"",IF($J28=$G28,"",ABS($J28-$G28)&IF(ABS($J28-$G28)=1," day "," days ")&IF($J28>$G28,"behind","ahead"))) | M28: =IF(OR(M$22="",$J28=""),"",IF(AND($J28>=M$22,$J28<EDATE(M$22,$C$11)),IF($E28="Complete","✔",IF($E28="Not Started","◇","◆")),"")) | N28: =IF(OR(N$22="",$J28=""),"",IF(AND($J28>=N$22,$J28<EDATE(N$22,$C$11)),IF($E28="Complete","✔",IF($E28="Not Started","◇","◆")),"")) | O28: =IF(OR(O$22="",$J28=""),"",IF(AND($J28>=O$22,$J28<EDATE(O$22,$C$11)),IF($E28="Complete","✔",IF($E28="Not Started","◇","◆")),"")) | P28: =IF(OR(P$22="",$J28=""),"",IF(AND($J28>=P$22,$J28<EDATE(P$22,$C$11)),IF($E28="Complete","✔",IF($E28="Not Started","◇","◆")),"")) | Q28: =IF(OR(Q$22="",$J28=""),"",IF(AND($J28>=Q$22,$J28<EDATE(Q$22,$C$11)),IF($E28="Complete","✔",IF($E28="Not Started","◇","◆")),"")) | R28: =IF(OR(R$22="",$J28=""),"",IF(AND($J28>=R$22,$J28<EDATE(R$22,$C$11)),IF($E28="Complete","✔",IF($E28="Not Started","◇","◆")),"")) | S28: =IF(OR(S$22="",$J28=""),"",IF(AND($J28>=S$22,$J28<EDATE(S$22,$C$11)),IF($E28="Complete","✔",IF($E28="Not Started","◇","◆")),"")) | T28: =IF(OR(T$22="",$J28=""),"",IF(AND($J28>=T$22,$J28<EDATE(T$22,$C$11)),IF($E28="Complete","✔",IF($E28="Not Started","◇","◆")),"")) | ... AJ28: =IF(OR(AJ$22="",$J28=""),"",IF(AND($J28>=AJ$22,$J28<EDATE(AJ$22,$C$11)),IF($E28="Complete","✔",IF($E28="Not Started","◇","◆")),""))
A29: =IF($E29="","",IF(AND($E29<>"Complete",ISNUMBER(SEARCH("behind",$K29))),"!",IF($D29="Yes","★",""))) | E29: =IF(AND($B29="",COUNTA($F29:$I29)=0),"",IF(COUNTA($F29:$I29)>COUNT($F29:$I29),"Invalid date",IF(ISNUMBER($I29),"Complete",IF(AND(ISNUMBER($J29),$J29<TODAY()),"Overdue",IF(AND(ISNUMBER($F29),$F29<=TODAY()),"In Progress","Not Started"))))) | J29: =IF(ISNUMBER($I29),$I29,IF(ISNUMBER($H29),$H29,IF(ISNUMBER($G29),$G29,""))) | K29: =IF(OR(NOT(ISNUMBER($J29)),NOT(ISNUMBER($G29))),"",IF($J29=$G29,"",ABS($J29-$G29)&IF(ABS($J29-$G29)=1," day "," days ")&IF($J29>$G29,"behind","ahead"))) | M29: =IF(OR(M$22="",$J29=""),"",IF(AND($J29>=M$22,$J29<EDATE(M$22,$C$11)),IF($E29="Complete","✔",IF($E29="Not Started","◇","◆")),"")) | N29: =IF(OR(N$22="",$J29=""),"",IF(AND($J29>=N$22,$J29<EDATE(N$22,$C$11)),IF($E29="Complete","✔",IF($E29="Not Started","◇","◆")),"")) | O29: =IF(OR(O$22="",$J29=""),"",IF(AND($J29>=O$22,$J29<EDATE(O$22,$C$11)),IF($E29="Complete","✔",IF($E29="Not Started","◇","◆")),"")) | P29: =IF(OR(P$22="",$J29=""),"",IF(AND($J29>=P$22,$J29<EDATE(P$22,$C$11)),IF($E29="Complete","✔",IF($E29="Not Started","◇","◆")),"")) | Q29: =IF(OR(Q$22="",$J29=""),"",IF(AND($J29>=Q$22,$J29<EDATE(Q$22,$C$11)),IF($E29="Complete","✔",IF($E29="Not Started","◇","◆")),"")) | R29: =IF(OR(R$22="",$J29=""),"",IF(AND($J29>=R$22,$J29<EDATE(R$22,$C$11)),IF($E29="Complete","✔",IF($E29="Not Started","◇","◆")),"")) | S29: =IF(OR(S$22="",$J29=""),"",IF(AND($J29>=S$22,$J29<EDATE(S$22,$C$11)),IF($E29="Complete","✔",IF($E29="Not Started","◇","◆")),"")) | T29: =IF(OR(T$22="",$J29=""),"",IF(AND($J29>=T$22,$J29<EDATE(T$22,$C$11)),IF($E29="Complete","✔",IF($E29="Not Started","◇","◆")),"")) | ... AJ29: =IF(OR(AJ$22="",$J29=""),"",IF(AND($J29>=AJ$22,$J29<EDATE(AJ$22,$C$11)),IF($E29="Complete","✔",IF($E29="Not Started","◇","◆")),""))
A30: =IF($E30="","",IF(AND($E30<>"Complete",ISNUMBER(SEARCH("behind",$K30))),"!",IF($D30="Yes","★",""))) | E30: =IF(AND($B30="",COUNTA($F30:$I30)=0),"",IF(COUNTA($F30:$I30)>COUNT($F30:$I30),"Invalid date",IF(ISNUMBER($I30),"Complete",IF(AND(ISNUMBER($J30),$J30<TODAY()),"Overdue",IF(AND(ISNUMBER($F30),$F30<=TODAY()),"In Progress","Not Started"))))) | J30: =IF(ISNUMBER($I30),$I30,IF(ISNUMBER($H30),$H30,IF(ISNUMBER($G30),$G30,""))) | K30: =IF(OR(NOT(ISNUMBER($J30)),NOT(ISNUMBER($G30))),"",IF($J30=$G30,"",ABS($J30-$G30)&IF(ABS($J30-$G30)=1," day "," days ")&IF($J30>$G30,"behind","ahead"))) | M30: =IF(OR(M$22="",$J30=""),"",IF(AND($J30>=M$22,$J30<EDATE(M$22,$C$11)),IF($E30="Complete","✔",IF($E30="Not Started","◇","◆")),"")) | N30: =IF(OR(N$22="",$J30=""),"",IF(AND($J30>=N$22,$J30<EDATE(N$22,$C$11)),IF($E30="Complete","✔",IF($E30="Not Started","◇","◆")),"")) | O30: =IF(OR(O$22="",$J30=""),"",IF(AND($J30>=O$22,$J30<EDATE(O$22,$C$11)),IF($E30="Complete","✔",IF($E30="Not Started","◇","◆")),"")) | P30: =IF(OR(P$22="",$J30=""),"",IF(AND($J30>=P$22,$J30<EDATE(P$22,$C$11)),IF($E30="Complete","✔",IF($E30="Not Started","◇","◆")),"")) | Q30: =IF(OR(Q$22="",$J30=""),"",IF(AND($J30>=Q$22,$J30<EDATE(Q$22,$C$11)),IF($E30="Complete","✔",IF($E30="Not Started","◇","◆")),"")) | R30: =IF(OR(R$22="",$J30=""),"",IF(AND($J30>=R$22,$J30<EDATE(R$22,$C$11)),IF($E30="Complete","✔",IF($E30="Not Started","◇","◆")),"")) | S30: =IF(OR(S$22="",$J30=""),"",IF(AND($J30>=S$22,$J30<EDATE(S$22,$C$11)),IF($E30="Complete","✔",IF($E30="Not Started","◇","◆")),"")) | T30: =IF(OR(T$22="",$J30=""),"",IF(AND($J30>=T$22,$J30<EDATE(T$22,$C$11)),IF($E30="Complete","✔",IF($E30="Not Started","◇","◆")),"")) | ... AJ30: =IF(OR(AJ$22="",$J30=""),"",IF(AND($J30>=AJ$22,$J30<EDATE(AJ$22,$C$11)),IF($E30="Complete","✔",IF($E30="Not Started","◇","◆")),""))
A31: =IF($E31="","",IF(AND($E31<>"Complete",ISNUMBER(SEARCH("behind",$K31))),"!",IF($D31="Yes","★",""))) | E31: =IF(AND($B31="",COUNTA($F31:$I31)=0),"",IF(COUNTA($F31:$I31)>COUNT($F31:$I31),"Invalid date",IF(ISNUMBER($I31),"Complete",IF(AND(ISNUMBER($J31),$J31<TODAY()),"Overdue",IF(AND(ISNUMBER($F31),$F31<=TODAY()),"In Progress","Not Started"))))) | J31: =IF(ISNUMBER($I31),$I31,IF(ISNUMBER($H31),$H31,IF(ISNUMBER($G31),$G31,""))) | K31: =IF(OR(NOT(ISNUMBER($J31)),NOT(ISNUMBER($G31))),"",IF($J31=$G31,"",ABS($J31-$G31)&IF(ABS($J31-$G31)=1," day "," days ")&IF($J31>$G31,"behind","ahead"))) | M31: =IF(OR(M$22="",$J31=""),"",IF(AND($J31>=M$22,$J31<EDATE(M$22,$C$11)),IF($E31="Complete","✔",IF($E31="Not Started","◇","◆")),"")) | N31: =IF(OR(N$22="",$J31=""),"",IF(AND($J31>=N$22,$J31<EDATE(N$22,$C$11)),IF($E31="Complete","✔",IF($E31="Not Started","◇","◆")),"")) | O31: =IF(OR(O$22="",$J31=""),"",IF(AND($J31>=O$22,$J31<EDATE(O$22,$C$11)),IF($E31="Complete","✔",IF($E31="Not Started","◇","◆")),"")) | P31: =IF(OR(P$22="",$J31=""),"",IF(AND($J31>=P$22,$J31<EDATE(P$22,$C$11)),IF($E31="Complete","✔",IF($E31="Not Started","◇","◆")),"")) | Q31: =IF(OR(Q$22="",$J31=""),"",IF(AND($J31>=Q$22,$J31<EDATE(Q$22,$C$11)),IF($E31="Complete","✔",IF($E31="Not Started","◇","◆")),"")) | R31: =IF(OR(R$22="",$J31=""),"",IF(AND($J31>=R$22,$J31<EDATE(R$22,$C$11)),IF($E31="Complete","✔",IF($E31="Not Started","◇","◆")),"")) | S31: =IF(OR(S$22="",$J31=""),"",IF(AND($J31>=S$22,$J31<EDATE(S$22,$C$11)),IF($E31="Complete","✔",IF($E31="Not Started","◇","◆")),"")) | T31: =IF(OR(T$22="",$J31=""),"",IF(AND($J31>=T$22,$J31<EDATE(T$22,$C$11)),IF($E31="Complete","✔",IF($E31="Not Started","◇","◆")),"")) | ... AJ31: =IF(OR(AJ$22="",$J31=""),"",IF(AND($J31>=AJ$22,$J31<EDATE(AJ$22,$C$11)),IF($E31="Complete","✔",IF($E31="Not Started","◇","◆")),""))
A32: =IF($E32="","",IF(AND($E32<>"Complete",ISNUMBER(SEARCH("behind",$K32))),"!",IF($D32="Yes","★",""))) | E32: =IF(AND($B32="",COUNTA($F32:$I32)=0),"",IF(COUNTA($F32:$I32)>COUNT($F32:$I32),"Invalid date",IF(ISNUMBER($I32),"Complete",IF(AND(ISNUMBER($J32),$J32<TODAY()),"Overdue",IF(AND(ISNUMBER($F32),$F32<=TODAY()),"In Progress","Not Started"))))) | J32: =IF(ISNUMBER($I32),$I32,IF(ISNUMBER($H32),$H32,IF(ISNUMBER($G32),$G32,""))) | K32: =IF(OR(NOT(ISNUMBER($J32)),NOT(ISNUMBER($G32))),"",IF($J32=$G32,"",ABS($J32-$G32)&IF(ABS($J32-$G32)=1," day "," days ")&IF($J32>$G32,"behind","ahead"))) | M32: =IF(OR(M$22="",$J32=""),"",IF(AND($J32>=M$22,$J32<EDATE(M$22,$C$11)),IF($E32="Complete","✔",IF($E32="Not Started","◇","◆")),"")) | N32: =IF(OR(N$22="",$J32=""),"",IF(AND($J32>=N$22,$J32<EDATE(N$22,$C$11)),IF($E32="Complete","✔",IF($E32="Not Started","◇","◆")),"")) | O32: =IF(OR(O$22="",$J32=""),"",IF(AND($J32>=O$22,$J32<EDATE(O$22,$C$11)),IF($E32="Complete","✔",IF($E32="Not Started","◇","◆")),"")) | P32: =IF(OR(P$22="",$J32=""),"",IF(AND($J32>=P$22,$J32<EDATE(P$22,$C$11)),IF($E32="Complete","✔",IF($E32="Not Started","◇","◆")),"")) | Q32: =IF(OR(Q$22="",$J32=""),"",IF(AND($J32>=Q$22,$J32<EDATE(Q$22,$C$11)),IF($E32="Complete","✔",IF($E32="Not Started","◇","◆")),"")) | R32: =IF(OR(R$22="",$J32=""),"",IF(AND($J32>=R$22,$J32<EDATE(R$22,$C$11)),IF($E32="Complete","✔",IF($E32="Not Started","◇","◆")),"")) | S32: =IF(OR(S$22="",$J32=""),"",IF(AND($J32>=S$22,$J32<EDATE(S$22,$C$11)),IF($E32="Complete","✔",IF($E32="Not Started","◇","◆")),"")) | T32: =IF(OR(T$22="",$J32=""),"",IF(AND($J32>=T$22,$J32<EDATE(T$22,$C$11)),IF($E32="Complete","✔",IF($E32="Not Started","◇","◆")),"")) | ... AJ32: =IF(OR(AJ$22="",$J32=""),"",IF(AND($J32>=AJ$22,$J32<EDATE(AJ$22,$C$11)),IF($E32="Complete","✔",IF($E32="Not Started","◇","◆")),""))
A33: =IF($E33="","",IF(AND($E33<>"Complete",ISNUMBER(SEARCH("behind",$K33))),"!",IF($D33="Yes","★",""))) | E33: =IF(AND($B33="",COUNTA($F33:$I33)=0),"",IF(COUNTA($F33:$I33)>COUNT($F33:$I33),"Invalid date",IF(ISNUMBER($I33),"Complete",IF(AND(ISNUMBER($J33),$J33<TODAY()),"Overdue",IF(AND(ISNUMBER($F33),$F33<=TODAY()),"In Progress","Not Started"))))) | J33: =IF(ISNUMBER($I33),$I33,IF(ISNUMBER($H33),$H33,IF(ISNUMBER($G33),$G33,""))) | K33: =IF(OR(NOT(ISNUMBER($J33)),NOT(ISNUMBER($G33))),"",IF($J33=$G33,"",ABS($J33-$G33)&IF(ABS($J33-$G33)=1," day "," days ")&IF($J33>$G33,"behind","ahead"))) | M33: =IF(OR(M$22="",$J33=""),"",IF(AND($J33>=M$22,$J33<EDATE(M$22,$C$11)),IF($E33="Complete","✔",IF($E33="Not Started","◇","◆")),"")) | N33: =IF(OR(N$22="",$J33=""),"",IF(AND($J33>=N$22,$J33<EDATE(N$22,$C$11)),IF($E33="Complete","✔",IF($E33="Not Started","◇","◆")),"")) | O33: =IF(OR(O$22="",$J33=""),"",IF(AND($J33>=O$22,$J33<EDATE(O$22,$C$11)),IF($E33="Complete","✔",IF($E33="Not Started","◇","◆")),"")) | P33: =IF(OR(P$22="",$J33=""),"",IF(AND($J33>=P$22,$J33<EDATE(P$22,$C$11)),IF($E33="Complete","✔",IF($E33="Not Started","◇","◆")),"")) | Q33: =IF(OR(Q$22="",$J33=""),"",IF(AND($J33>=Q$22,$J33<EDATE(Q$22,$C$11)),IF($E33="Complete","✔",IF($E33="Not Started","◇","◆")),"")) | R33: =IF(OR(R$22="",$J33=""),"",IF(AND($J33>=R$22,$J33<EDATE(R$22,$C$11)),IF($E33="Complete","✔",IF($E33="Not Started","◇","◆")),"")) | S33: =IF(OR(S$22="",$J33=""),"",IF(AND($J33>=S$22,$J33<EDATE(S$22,$C$11)),IF($E33="Complete","✔",IF($E33="Not Started","◇","◆")),"")) | T33: =IF(OR(T$22="",$J33=""),"",IF(AND($J33>=T$22,$J33<EDATE(T$22,$C$11)),IF($E33="Complete","✔",IF($E33="Not Started","◇","◆")),"")) | ... AJ33: =IF(OR(AJ$22="",$J33=""),"",IF(AND($J33>=AJ$22,$J33<EDATE(AJ$22,$C$11)),IF($E33="Complete","✔",IF($E33="Not Started","◇","◆")),""))
A34: =IF($E34="","",IF(AND($E34<>"Complete",ISNUMBER(SEARCH("behind",$K34))),"!",IF($D34="Yes","★",""))) | E34: =IF(AND($B34="",COUNTA($F34:$I34)=0),"",IF(COUNTA($F34:$I34)>COUNT($F34:$I34),"Invalid date",IF(ISNUMBER($I34),"Complete",IF(AND(ISNUMBER($J34),$J34<TODAY()),"Overdue",IF(AND(ISNUMBER($F34),$F34<=TODAY()),"In Progress","Not Started"))))) | J34: =IF(ISNUMBER($I34),$I34,IF(ISNUMBER($H34),$H34,IF(ISNUMBER($G34),$G34,""))) | K34: =IF(OR(NOT(ISNUMBER($J34)),NOT(ISNUMBER($G34))),"",IF($J34=$G34,"",ABS($J34-$G34)&IF(ABS($J34-$G34)=1," day "," days ")&IF($J34>$G34,"behind","ahead"))) | M34: =IF(OR(M$22="",$J34=""),"",IF(AND($J34>=M$22,$J34<EDATE(M$22,$C$11)),IF($E34="Complete","✔",IF($E34="Not Started","◇","◆")),"")) | N34: =IF(OR(N$22="",$J34=""),"",IF(AND($J34>=N$22,$J34<EDATE(N$22,$C$11)),IF($E34="Complete","✔",IF($E34="Not Started","◇","◆")),"")) | O34: =IF(OR(O$22="",$J34=""),"",IF(AND($J34>=O$22,$J34<EDATE(O$22,$C$11)),IF($E34="Complete","✔",IF($E34="Not Started","◇","◆")),"")) | P34: =IF(OR(P$22="",$J34=""),"",IF(AND($J34>=P$22,$J34<EDATE(P$22,$C$11)),IF($E34="Complete","✔",IF($E34="Not Started","◇","◆")),"")) | Q34: =IF(OR(Q$22="",$J34=""),"",IF(AND($J34>=Q$22,$J34<EDATE(Q$22,$C$11)),IF($E34="Complete","✔",IF($E34="Not Started","◇","◆")),"")) | R34: =IF(OR(R$22="",$J34=""),"",IF(AND($J34>=R$22,$J34<EDATE(R$22,$C$11)),IF($E34="Complete","✔",IF($E34="Not Started","◇","◆")),"")) | S34: =IF(OR(S$22="",$J34=""),"",IF(AND($J34>=S$22,$J34<EDATE(S$22,$C$11)),IF($E34="Complete","✔",IF($E34="Not Started","◇","◆")),"")) | T34: =IF(OR(T$22="",$J34=""),"",IF(AND($J34>=T$22,$J34<EDATE(T$22,$C$11)),IF($E34="Complete","✔",IF($E34="Not Started","◇","◆")),"")) | ... AJ34: =IF(OR(AJ$22="",$J34=""),"",IF(AND($J34>=AJ$22,$J34<EDATE(AJ$22,$C$11)),IF($E34="Complete","✔",IF($E34="Not Started","◇","◆")),""))
A35: =IF($E35="","",IF(AND($E35<>"Complete",ISNUMBER(SEARCH("behind",$K35))),"!",IF($D35="Yes","★",""))) | E35: =IF(AND($B35="",COUNTA($F35:$I35)=0),"",IF(COUNTA($F35:$I35)>COUNT($F35:$I35),"Invalid date",IF(ISNUMBER($I35),"Complete",IF(AND(ISNUMBER($J35),$J35<TODAY()),"Overdue",IF(AND(ISNUMBER($F35),$F35<=TODAY()),"In Progress","Not Started"))))) | J35: =IF(ISNUMBER($I35),$I35,IF(ISNUMBER($H35),$H35,IF(ISNUMBER($G35),$G35,""))) | K35: =IF(OR(NOT(ISNUMBER($J35)),NOT(ISNUMBER($G35))),"",IF($J35=$G35,"",ABS($J35-$G35)&IF(ABS($J35-$G35)=1," day "," days ")&IF($J35>$G35,"behind","ahead"))) | M35: =IF(OR(M$22="",$J35=""),"",IF(AND($J35>=M$22,$J35<EDATE(M$22,$C$11)),IF($E35="Complete","✔",IF($E35="Not Started","◇","◆")),"")) | N35: =IF(OR(N$22="",$J35=""),"",IF(AND($J35>=N$22,$J35<EDATE(N$22,$C$11)),IF($E35="Complete","✔",IF($E35="Not Started","◇","◆")),"")) | O35: =IF(OR(O$22="",$J35=""),"",IF(AND($J35>=O$22,$J35<EDATE(O$22,$C$11)),IF($E35="Complete","✔",IF($E35="Not Started","◇","◆")),"")) | P35: =IF(OR(P$22="",$J35=""),"",IF(AND($J35>=P$22,$J35<EDATE(P$22,$C$11)),IF($E35="Complete","✔",IF($E35="Not Started","◇","◆")),"")) | Q35: =IF(OR(Q$22="",$J35=""),"",IF(AND($J35>=Q$22,$J35<EDATE(Q$22,$C$11)),IF($E35="Complete","✔",IF($E35="Not Started","◇","◆")),"")) | R35: =IF(OR(R$22="",$J35=""),"",IF(AND($J35>=R$22,$J35<EDATE(R$22,$C$11)),IF($E35="Complete","✔",IF($E35="Not Started","◇","◆")),"")) | S35: =IF(OR(S$22="",$J35=""),"",IF(AND($J35>=S$22,$J35<EDATE(S$22,$C$11)),IF($E35="Complete","✔",IF($E35="Not Started","◇","◆")),"")) | T35: =IF(OR(T$22="",$J35=""),"",IF(AND($J35>=T$22,$J35<EDATE(T$22,$C$11)),IF($E35="Complete","✔",IF($E35="Not Started","◇","◆")),"")) | ... AJ35: =IF(OR(AJ$22="",$J35=""),"",IF(AND($J35>=AJ$22,$J35<EDATE(AJ$22,$C$11)),IF($E35="Complete","✔",IF($E35="Not Started","◇","◆")),""))
A36: =IF($E36="","",IF(AND($E36<>"Complete",ISNUMBER(SEARCH("behind",$K36))),"!",IF($D36="Yes","★",""))) | E36: =IF(AND($B36="",COUNTA($F36:$I36)=0),"",IF(COUNTA($F36:$I36)>COUNT($F36:$I36),"Invalid date",IF(ISNUMBER($I36),"Complete",IF(AND(ISNUMBER($J36),$J36<TODAY()),"Overdue",IF(AND(ISNUMBER($F36),$F36<=TODAY()),"In Progress","Not Started"))))) | J36: =IF(ISNUMBER($I36),$I36,IF(ISNUMBER($H36),$H36,IF(ISNUMBER($G36),$G36,""))) | K36: =IF(OR(NOT(ISNUMBER($J36)),NOT(ISNUMBER($G36))),"",IF($J36=$G36,"",ABS($J36-$G36)&IF(ABS($J36-$G36)=1," day "," days ")&IF($J36>$G36,"behind","ahead"))) | M36: =IF(OR(M$22="",$J36=""),"",IF(AND($J36>=M$22,$J36<EDATE(M$22,$C$11)),IF($E36="Complete","✔",IF($E36="Not Started","◇","◆")),"")) | N36: =IF(OR(N$22="",$J36=""),"",IF(AND($J36>=N$22,$J36<EDATE(N$22,$C$11)),IF($E36="Complete","✔",IF($E36="Not Started","◇","◆")),"")) | O36: =IF(OR(O$22="",$J36=""),"",IF(AND($J36>=O$22,$J36<EDATE(O$22,$C$11)),IF($E36="Complete","✔",IF($E36="Not Started","◇","◆")),"")) | P36: =IF(OR(P$22="",$J36=""),"",IF(AND($J36>=P$22,$J36<EDATE(P$22,$C$11)),IF($E36="Complete","✔",IF($E36="Not Started","◇","◆")),"")) | Q36: =IF(OR(Q$22="",$J36=""),"",IF(AND($J36>=Q$22,$J36<EDATE(Q$22,$C$11)),IF($E36="Complete","✔",IF($E36="Not Started","◇","◆")),"")) | R36: =IF(OR(R$22="",$J36=""),"",IF(AND($J36>=R$22,$J36<EDATE(R$22,$C$11)),IF($E36="Complete","✔",IF($E36="Not Started","◇","◆")),"")) | S36: =IF(OR(S$22="",$J36=""),"",IF(AND($J36>=S$22,$J36<EDATE(S$22,$C$11)),IF($E36="Complete","✔",IF($E36="Not Started","◇","◆")),"")) | T36: =IF(OR(T$22="",$J36=""),"",IF(AND($J36>=T$22,$J36<EDATE(T$22,$C$11)),IF($E36="Complete","✔",IF($E36="Not Started","◇","◆")),"")) | ... AJ36: =IF(OR(AJ$22="",$J36=""),"",IF(AND($J36>=AJ$22,$J36<EDATE(AJ$22,$C$11)),IF($E36="Complete","✔",IF($E36="Not Started","◇","◆")),""))
A37: =IF($E37="","",IF(AND($E37<>"Complete",ISNUMBER(SEARCH("behind",$K37))),"!",IF($D37="Yes","★",""))) | E37: =IF(AND($B37="",COUNTA($F37:$I37)=0),"",IF(COUNTA($F37:$I37)>COUNT($F37:$I37),"Invalid date",IF(ISNUMBER($I37),"Complete",IF(AND(ISNUMBER($J37),$J37<TODAY()),"Overdue",IF(AND(ISNUMBER($F37),$F37<=TODAY()),"In Progress","Not Started"))))) | J37: =IF(ISNUMBER($I37),$I37,IF(ISNUMBER($H37),$H37,IF(ISNUMBER($G37),$G37,""))) | K37: =IF(OR(NOT(ISNUMBER($J37)),NOT(ISNUMBER($G37))),"",IF($J37=$G37,"",ABS($J37-$G37)&IF(ABS($J37-$G37)=1," day "," days ")&IF($J37>$G37,"behind","ahead"))) | M37: =IF(OR(M$22="",$J37=""),"",IF(AND($J37>=M$22,$J37<EDATE(M$22,$C$11)),IF($E37="Complete","✔",IF($E37="Not Started","◇","◆")),"")) | N37: =IF(OR(N$22="",$J37=""),"",IF(AND($J37>=N$22,$J37<EDATE(N$22,$C$11)),IF($E37="Complete","✔",IF($E37="Not Started","◇","◆")),"")) | O37: =IF(OR(O$22="",$J37=""),"",IF(AND($J37>=O$22,$J37<EDATE(O$22,$C$11)),IF($E37="Complete","✔",IF($E37="Not Started","◇","◆")),"")) | P37: =IF(OR(P$22="",$J37=""),"",IF(AND($J37>=P$22,$J37<EDATE(P$22,$C$11)),IF($E37="Complete","✔",IF($E37="Not Started","◇","◆")),"")) | Q37: =IF(OR(Q$22="",$J37=""),"",IF(AND($J37>=Q$22,$J37<EDATE(Q$22,$C$11)),IF($E37="Complete","✔",IF($E37="Not Started","◇","◆")),"")) | R37: =IF(OR(R$22="",$J37=""),"",IF(AND($J37>=R$22,$J37<EDATE(R$22,$C$11)),IF($E37="Complete","✔",IF($E37="Not Started","◇","◆")),"")) | S37: =IF(OR(S$22="",$J37=""),"",IF(AND($J37>=S$22,$J37<EDATE(S$22,$C$11)),IF($E37="Complete","✔",IF($E37="Not Started","◇","◆")),"")) | T37: =IF(OR(T$22="",$J37=""),"",IF(AND($J37>=T$22,$J37<EDATE(T$22,$C$11)),IF($E37="Complete","✔",IF($E37="Not Started","◇","◆")),"")) | ... AJ37: =IF(OR(AJ$22="",$J37=""),"",IF(AND($J37>=AJ$22,$J37<EDATE(AJ$22,$C$11)),IF($E37="Complete","✔",IF($E37="Not Started","◇","◆")),""))
A38: =IF($E38="","",IF(AND($E38<>"Complete",ISNUMBER(SEARCH("behind",$K38))),"!",IF($D38="Yes","★",""))) | E38: =IF(AND($B38="",COUNTA($F38:$I38)=0),"",IF(COUNTA($F38:$I38)>COUNT($F38:$I38),"Invalid date",IF(ISNUMBER($I38),"Complete",IF(AND(ISNUMBER($J38),$J38<TODAY()),"Overdue",IF(AND(ISNUMBER($F38),$F38<=TODAY()),"In Progress","Not Started"))))) | J38: =IF(ISNUMBER($I38),$I38,IF(ISNUMBER($H38),$H38,IF(ISNUMBER($G38),$G38,""))) | K38: =IF(OR(NOT(ISNUMBER($J38)),NOT(ISNUMBER($G38))),"",IF($J38=$G38,"",ABS($J38-$G38)&IF(ABS($J38-$G38)=1," day "," days ")&IF($J38>$G38,"behind","ahead"))) | M38: =IF(OR(M$22="",$J38=""),"",IF(AND($J38>=M$22,$J38<EDATE(M$22,$C$11)),IF($E38="Complete","✔",IF($E38="Not Started","◇","◆")),"")) | N38: =IF(OR(N$22="",$J38=""),"",IF(AND($J38>=N$22,$J38<EDATE(N$22,$C$11)),IF($E38="Complete","✔",IF($E38="Not Started","◇","◆")),"")) | O38: =IF(OR(O$22="",$J38=""),"",IF(AND($J38>=O$22,$J38<EDATE(O$22,$C$11)),IF($E38="Complete","✔",IF($E38="Not Started","◇","◆")),"")) | P38: =IF(OR(P$22="",$J38=""),"",IF(AND($J38>=P$22,$J38<EDATE(P$22,$C$11)),IF($E38="Complete","✔",IF($E38="Not Started","◇","◆")),"")) | Q38: =IF(OR(Q$22="",$J38=""),"",IF(AND($J38>=Q$22,$J38<EDATE(Q$22,$C$11)),IF($E38="Complete","✔",IF($E38="Not Started","◇","◆")),"")) | R38: =IF(OR(R$22="",$J38=""),"",IF(AND($J38>=R$22,$J38<EDATE(R$22,$C$11)),IF($E38="Complete","✔",IF($E38="Not Started","◇","◆")),"")) | S38: =IF(OR(S$22="",$J38=""),"",IF(AND($J38>=S$22,$J38<EDATE(S$22,$C$11)),IF($E38="Complete","✔",IF($E38="Not Started","◇","◆")),"")) | T38: =IF(OR(T$22="",$J38=""),"",IF(AND($J38>=T$22,$J38<EDATE(T$22,$C$11)),IF($E38="Complete","✔",IF($E38="Not Started","◇","◆")),"")) | ... AJ38: =IF(OR(AJ$22="",$J38=""),"",IF(AND($J38>=AJ$22,$J38<EDATE(AJ$22,$C$11)),IF($E38="Complete","✔",IF($E38="Not Started","◇","◆")),""))
A39: =IF($E39="","",IF(AND($E39<>"Complete",ISNUMBER(SEARCH("behind",$K39))),"!",IF($D39="Yes","★",""))) | E39: =IF(AND($B39="",COUNTA($F39:$I39)=0),"",IF(COUNTA($F39:$I39)>COUNT($F39:$I39),"Invalid date",IF(ISNUMBER($I39),"Complete",IF(AND(ISNUMBER($J39),$J39<TODAY()),"Overdue",IF(AND(ISNUMBER($F39),$F39<=TODAY()),"In Progress","Not Started"))))) | J39: =IF(ISNUMBER($I39),$I39,IF(ISNUMBER($H39),$H39,IF(ISNUMBER($G39),$G39,""))) | K39: =IF(OR(NOT(ISNUMBER($J39)),NOT(ISNUMBER($G39))),"",IF($J39=$G39,"",ABS($J39-$G39)&IF(ABS($J39-$G39)=1," day "," days ")&IF($J39>$G39,"behind","ahead"))) | M39: =IF(OR(M$22="",$J39=""),"",IF(AND($J39>=M$22,$J39<EDATE(M$22,$C$11)),IF($E39="Complete","✔",IF($E39="Not Started","◇","◆")),"")) | N39: =IF(OR(N$22="",$J39=""),"",IF(AND($J39>=N$22,$J39<EDATE(N$22,$C$11)),IF($E39="Complete","✔",IF($E39="Not Started","◇","◆")),"")) | O39: =IF(OR(O$22="",$J39=""),"",IF(AND($J39>=O$22,$J39<EDATE(O$22,$C$11)),IF($E39="Complete","✔",IF($E39="Not Started","◇","◆")),"")) | P39: =IF(OR(P$22="",$J39=""),"",IF(AND($J39>=P$22,$J39<EDATE(P$22,$C$11)),IF($E39="Complete","✔",IF($E39="Not Started","◇","◆")),"")) | Q39: =IF(OR(Q$22="",$J39=""),"",IF(AND($J39>=Q$22,$J39<EDATE(Q$22,$C$11)),IF($E39="Complete","✔",IF($E39="Not Started","◇","◆")),"")) | R39: =IF(OR(R$22="",$J39=""),"",IF(AND($J39>=R$22,$J39<EDATE(R$22,$C$11)),IF($E39="Complete","✔",IF($E39="Not Started","◇","◆")),"")) | S39: =IF(OR(S$22="",$J39=""),"",IF(AND($J39>=S$22,$J39<EDATE(S$22,$C$11)),IF($E39="Complete","✔",IF($E39="Not Started","◇","◆")),"")) | T39: =IF(OR(T$22="",$J39=""),"",IF(AND($J39>=T$22,$J39<EDATE(T$22,$C$11)),IF($E39="Complete","✔",IF($E39="Not Started","◇","◆")),"")) | ... AJ39: =IF(OR(AJ$22="",$J39=""),"",IF(AND($J39>=AJ$22,$J39<EDATE(AJ$22,$C$11)),IF($E39="Complete","✔",IF($E39="Not Started","◇","◆")),""))
... A52: =IF($E52="","",IF(AND($E52<>"Complete",ISNUMBER(SEARCH("behind",$K52))),"!",IF($D52="Yes","★",""))) | E52: =IF(AND($B52="",COUNTA($F52:$I52)=0),"",IF(COUNTA($F52:$I52)>COUNT($F52:$I52),"Invalid date",IF(ISNUMBER($I52),"Complete",IF(AND(ISNUMBER($J52),$J52<TODAY()),"Overdue",IF(AND(ISNUMBER($F52),$F52<=TODAY()),"In Progress","Not Started"))))) | J52: =IF(ISNUMBER($I52),$I52,IF(ISNUMBER($H52),$H52,IF(ISNUMBER($G52),$G52,""))) | K52: =IF(OR(NOT(ISNUMBER($J52)),NOT(ISNUMBER($G52))),"",IF($J52=$G52,"",ABS($J52-$G52)&IF(ABS($J52-$G52)=1," day "," days ")&IF($J52>$G52,"behind","ahead"))) | M52: =IF(OR(M$22="",$J52=""),"",IF(AND($J52>=M$22,$J52<EDATE(M$22,$C$11)),IF($E52="Complete","✔",IF($E52="Not Started","◇","◆")),"")) | N52: =IF(OR(N$22="",$J52=""),"",IF(AND($J52>=N$22,$J52<EDATE(N$22,$C$11)),IF($E52="Complete","✔",IF($E52="Not Started","◇","◆")),"")) | O52: =IF(OR(O$22="",$J52=""),"",IF(AND($J52>=O$22,$J52<EDATE(O$22,$C$11)),IF($E52="Complete","✔",IF($E52="Not Started","◇","◆")),"")) | P52: =IF(OR(P$22="",$J52=""),"",IF(AND($J52>=P$22,$J52<EDATE(P$22,$C$11)),IF($E52="Complete","✔",IF($E52="Not Started","◇","◆")),"")) | Q52: =IF(OR(Q$22="",$J52=""),"",IF(AND($J52>=Q$22,$J52<EDATE(Q$22,$C$11)),IF($E52="Complete","✔",IF($E52="Not Started","◇","◆")),"")) | R52: =IF(OR(R$22="",$J52=""),"",IF(AND($J52>=R$22,$J52<EDATE(R$22,$C$11)),IF($E52="Complete","✔",IF($E52="Not Started","◇","◆")),"")) | S52: =IF(OR(S$22="",$J52=""),"",IF(AND($J52>=S$22,$J52<EDATE(S$22,$C$11)),IF($E52="Complete","✔",IF($E52="Not Started","◇","◆")),"")) | T52: =IF(OR(T$22="",$J52=""),"",IF(AND($J52>=T$22,$J52<EDATE(T$22,$C$11)),IF($E52="Complete","✔",IF($E52="Not Started","◇","◆")),"")) | ... AJ52: =IF(OR(AJ$22="",$J52=""),"",IF(AND($J52>=AJ$22,$J52<EDATE(AJ$22,$C$11)),IF($E52="Complete","✔",IF($E52="Not Started","◇","◆")),""))
A54: Visit mastt.com

Sheet Stage Definitions
A1: STAGE DEFINITIONS
A4: STAGES AND GATES
A5: Stage | B5: Stage Name | C5: Gate | D5: Gate Purpose | E5: Gateway Review Equivalent | F5: Gate Owner
A6: 1 | B6: Feasibility | C6: Gate 1 — Proceed to Concept | D6: Confirm the service need and approve investigation of options | E6: Gate 1 — Concept and Feasibility
A7: 2 | B7: Concept Development | C7: Gate 2 — Approve Business Case | D7: Approve the business case and the preferred option | E7: Gate 2 — Business Case
A8: 3 | B8: Detailed Design | C8: Gate 3 — Commit to Delivery | D8: Approve release to market and commitment of funds | E8: Gates 3 and 4 — Readiness for Market, Tender Decision
A9: 4 | B9: Execution | C9: Gate 4 — Accept for Service | D9: Accept the completed works for service and handover | E9: Gate 5 — Readiness for Service
A10: 5 | B10: Closeout | C10: Gate 5 — Close and Realise Benefits | D10: Close the project and confirm benefits realisation | E10: Gate 6 — Benefits Evaluation
A12: DECISION THRESHOLDS
A13: No. | B13: Decision | C13: Threshold (%) | D13: Definition
A14: 1 | B14: Go | C14: 75 | D14: All must-meet criteria met and weighted score at or above threshold
A15: 2 | B15: Conditional Go | C15: 60 | D15: All must-meet criteria met; proceed with recorded conditions
A16: 3 | B16: Hold | C16: 40 | D16: Must-meet criteria met; case not yet sufficient — resubmit by agreed date
A17: 4 | B17: Recycle or Kill | C17: < Hold | D17: Below Hold threshold, or any must-meet criterion not met
A19: SCORING SCALE
A20: Score | B20: Definition
A21: 0 | B21: Not addressed
A22: 3 | B22: Partially addressed — major gaps
A23: 5 | B23: Addressed — notable gaps or unverified evidence
A24: 8 | B24: Largely met — minor gaps
A25: 10 | B25: Fully met with evidence
A27: WEIGHTING
A28: Weighting | B28: Definition
A29: 1 | B29: Minor
A30: 3 | B30: Important
A31: 5 | B31: Critical
A33: Visit mastt.com

Sheet Gate Criteria
A1: GATE CRITERIA AND SCORECARD
A4: Project | B4: =IF('Gate Dashboard'!$C$5="","",'Gate Dashboard'!$C$5) | F4: Report Date | G4: =IF('Gate Dashboard'!$G$8="","",'Gate Dashboard'!$G$8)
A5: Client | B5: =IF('Gate Dashboard'!$C$6="","",'Gate Dashboard'!$C$6) | F5: Project No. | G5: =IF('Gate Dashboard'!$G$5="","",'Gate Dashboard'!$G$5)
A7: GATE SUMMARY
A8: Gate | B8: Gate Name | D8: Knockouts Answered | E8: Knockouts Failed | F8: Criteria Scored | G8: Weighted Score | H8: Recommendation
A9: 1 | B9: =INDEX('Stage Definitions'!$C$6:$C$10,$A9) -> Gate 1 — Proceed to Concept | D9: =IF((COUNTIFS($B$17:$B$75,$A9,$D$17:$D$75,"Must-meet",$F$17:$F$75,"Yes")+COUNTIFS($B$17:$B$75,$A9,$D$17:$D$75,"Must-meet",$F$17:$F$75,"No"))=0,"",(COUNTIFS($B$17:$B$75,$A9,$D$17:$D$75,"Must-meet",$F$17:$F$75,"Yes")+COUNTIFS($B$17:$B$75,$A9,$D$17:$D$75,"Must-meet",$F$17:$F$75,"No"))&" of "&COUNTIFS($B$17:$B$75,$A9,$D$17:$D$75,"Must-meet")) | E9: =IF(COUNTIFS($B$17:$B$75,$A9,$D$17:$D$75,"Must-meet",$F$17:$F$75,"No")=0,"",COUNTIFS($B$17:$B$75,$A9,$D$17:$D$75,"Must-meet",$F$17:$F$75,"No")) | F9: =IF(COUNTIFS($B$17:$B$75,$A9,$D$17:$D$75,"Should-meet",$G$17:$G$75,">=0")=0,"",COUNTIFS($B$17:$B$75,$A9,$D$17:$D$75,"Should-meet",$G$17:$G$75,">=0")&" of "&COUNTIFS($B$17:$B$75,$A9,$D$17:$D$75,"Should-meet")) | G9: =IF(SUMIFS($I$17:$I$75,$B$17:$B$75,$A9)=0,"",SUMIFS($H$17:$H$75,$B$17:$B$75,$A9)/SUMIFS($I$17:$I$75,$B$17:$B$75,$A9)) | H9: =IF(AND((COUNTIFS($B$17:$B$75,$A9,$D$17:$D$75,"Must-meet",$F$17:$F$75,"Yes")+COUNTIFS($B$17:$B$75,$A9,$D$17:$D$75,"Must-meet",$F$17:$F$75,"No"))=0,$G9=""),"",IF($E9<>"","Recycle or Kill — knockout failed",IF((COUNTIFS($B$17:$B$75,$A9,$D$17:$D$75,"Must-meet",$F$17:$F$75,"Yes")+COUNTIFS($B$17:$B$75,$A9,$D$17:$D$75,"Must-meet",$F$17:$F$75,"No"))<COUNTIFS($B$17:$B$75,$A9,$D$17:$D$75,"Must-meet"),"Incomplete — knockouts unanswered",IF($G9="","Incomplete — criteria unscored",IF($G9>='Stage Definitions'!$C$14/100,"Go",IF($G9>='Stage Definitions'!$C$15/100,"Conditional Go",IF($G9>='Stage Definitions'!$C$16/100,"Hold","Recycle or Kill")))))))
A10: 2 | B10: =INDEX('Stage Definitions'!$C$6:$C$10,$A10) -> Gate 2 — Approve Business Case | D10: =IF((COUNTIFS($B$17:$B$75,$A10,$D$17:$D$75,"Must-meet",$F$17:$F$75,"Yes")+COUNTIFS($B$17:$B$75,$A10,$D$17:$D$75,"Must-meet",$F$17:$F$75,"No"))=0,"",(COUNTIFS($B$17:$B$75,$A10,$D$17:$D$75,"Must-meet",$F$17:$F$75,"Yes")+COUNTIFS($B$17:$B$75,$A10,$D$17:$D$75,"Must-meet",$F$17:$F$75,"No"))&" of "&COUNTIFS($B$17:$B$75,$A10,$D$17:$D$75,"Must-meet")) | E10: =IF(COUNTIFS($B$17:$B$75,$A10,$D$17:$D$75,"Must-meet",$F$17:$F$75,"No")=0,"",COUNTIFS($B$17:$B$75,$A10,$D$17:$D$75,"Must-meet",$F$17:$F$75,"No")) | F10: =IF(COUNTIFS($B$17:$B$75,$A10,$D$17:$D$75,"Should-meet",$G$17:$G$75,">=0")=0,"",COUNTIFS($B$17:$B$75,$A10,$D$17:$D$75,"Should-meet",$G$17:$G$75,">=0")&" of "&COUNTIFS($B$17:$B$75,$A10,$D$17:$D$75,"Should-meet")) | G10: =IF(SUMIFS($I$17:$I$75,$B$17:$B$75,$A10)=0,"",SUMIFS($H$17:$H$75,$B$17:$B$75,$A10)/SUMIFS($I$17:$I$75,$B$17:$B$75,$A10)) | H10: =IF(AND((COUNTIFS($B$17:$B$75,$A10,$D$17:$D$75,"Must-meet",$F$17:$F$75,"Yes")+COUNTIFS($B$17:$B$75,$A10,$D$17:$D$75,"Must-meet",$F$17:$F$75,"No"))=0,$G10=""),"",IF($E10<>"","Recycle or Kill — knockout failed",IF((COUNTIFS($B$17:$B$75,$A10,$D$17:$D$75,"Must-meet",$F$17:$F$75,"Yes")+COUNTIFS($B$17:$B$75,$A10,$D$17:$D$75,"Must-meet",$F$17:$F$75,"No"))<COUNTIFS($B$17:$B$75,$A10,$D$17:$D$75,"Must-meet"),"Incomplete — knockouts unanswered",IF($G10="","Incomplete — criteria unscored",IF($G10>='Stage Definitions'!$C$14/100,"Go",IF($G10>='Stage Definitions'!$C$15/100,"Conditional Go",IF($G10>='Stage Definitions'!$C$16/100,"Hold","Recycle or Kill")))))))
A11: 3 | B11: =INDEX('Stage Definitions'!$C$6:$C$10,$A11) -> Gate 3 — Commit to Delivery | D11: =IF((COUNTIFS($B$17:$B$75,$A11,$D$17:$D$75,"Must-meet",$F$17:$F$75,"Yes")+COUNTIFS($B$17:$B$75,$A11,$D$17:$D$75,"Must-meet",$F$17:$F$75,"No"))=0,"",(COUNTIFS($B$17:$B$75,$A11,$D$17:$D$75,"Must-meet",$F$17:$F$75,"Yes")+COUNTIFS($B$17:$B$75,$A11,$D$17:$D$75,"Must-meet",$F$17:$F$75,"No"))&" of "&COUNTIFS($B$17:$B$75,$A11,$D$17:$D$75,"Must-meet")) | E11: =IF(COUNTIFS($B$17:$B$75,$A11,$D$17:$D$75,"Must-meet",$F$17:$F$75,"No")=0,"",COUNTIFS($B$17:$B$75,$A11,$D$17:$D$75,"Must-meet",$F$17:$F$75,"No")) | F11: =IF(COUNTIFS($B$17:$B$75,$A11,$D$17:$D$75,"Should-meet",$G$17:$G$75,">=0")=0,"",COUNTIFS($B$17:$B$75,$A11,$D$17:$D$75,"Should-meet",$G$17:$G$75,">=0")&" of "&COUNTIFS($B$17:$B$75,$A11,$D$17:$D$75,"Should-meet")) | G11: =IF(SUMIFS($I$17:$I$75,$B$17:$B$75,$A11)=0,"",SUMIFS($H$17:$H$75,$B$17:$B$75,$A11)/SUMIFS($I$17:$I$75,$B$17:$B$75,$A11)) | H11: =IF(AND((COUNTIFS($B$17:$B$75,$A11,$D$17:$D$75,"Must-meet",$F$17:$F$75,"Yes")+COUNTIFS($B$17:$B$75,$A11,$D$17:$D$75,"Must-meet",$F$17:$F$75,"No"))=0,$G11=""),"",IF($E11<>"","Recycle or Kill — knockout failed",IF((COUNTIFS($B$17:$B$75,$A11,$D$17:$D$75,"Must-meet",$F$17:$F$75,"Yes")+COUNTIFS($B$17:$B$75,$A11,$D$17:$D$75,"Must-meet",$F$17:$F$75,"No"))<COUNTIFS($B$17:$B$75,$A11,$D$17:$D$75,"Must-meet"),"Incomplete — knockouts unanswered",IF($G11="","Incomplete — criteria unscored",IF($G11>='Stage Definitions'!$C$14/100,"Go",IF($G11>='Stage Definitions'!$C$15/100,"Conditional Go",IF($G11>='Stage Definitions'!$C$16/100,"Hold","Recycle or Kill")))))))
