Workbook

Sheet Dashboard
A1: AI READINESS CHECKLIST
A2: Yellow cells are inputs. White cells calculate. Thresholds and weights are on the Scoring sheet. | W2: =Scoring!$A$17 -> 0.4 | X2: =Scoring!$A$18 -> 0.6 | Y2: =Scoring!$A$19 -> 0.8
A4: ASSESSMENT DETAILS
A5: Organization | P5: Assessment Date
A6: Assessment Scope | P6: Assessment Lead | W6: =COUNTIFS('Readiness Checklist'!$D$8:$D$65,"Yes",'Readiness Checklist'!$C$8:$C$65,"<>") -> 5 | X6: =COUNTIFS('Readiness Checklist'!$D$8:$D$65,"Yes",'Readiness Checklist'!$C$8:$C$65,"<>",'Readiness Checklist'!$E$8:$E$65,">=2",'Readiness Checklist'!$E$8:$E$65,"<=3") -> 0 | Y6: =COUNTIFS('Readiness Checklist'!$D$8:$D$65,"Yes",'Readiness Checklist'!$C$8:$C$65,"<>",'Readiness Checklist'!$E$8:$E$65,">=0",'Readiness Checklist'!$E$8:$E$65,"<2")+COUNTIFS('Readiness Checklist'!$D$8:$D$65,"Yes",'Readiness Checklist'!$C$8:$C$65,"<>",'Readiness Checklist'!$E$8:$E$65,"N/A") -> 0 | Z6: =SUM($Y$36:$Y$42) -> 0 | AA6: =SUM($Z$36:$Z$42) -> 44
A8: READINESS SUMMARY
A9: Readiness Score | E9: Readiness Level | R9: Pilot Gate | T9: Must-Meet Criteria
A10: =IF($E$43="","",$E$43) | E10: =IF($P$43="","",$P$43) | R10: =IF($W$6=0,"",IF(AND($X$6+$Y$6=0,$Z$6=0),"",IF($Y$6>0,"Not Met",IF($X$6=$W$6,"Met","Incomplete")))) | T10: =IF($X$6+$Y$6=0,"",$X$6&" of "&$W$6&" met")
R11: Criteria Rated | T11: Use Cases Ready
R12: =IF($Z$6=0,"",$Z$6&" of "&$AA$6) | T12: =IF(COUNTIF('Use Case Register'!$B$8:$B$27,"<>")=0,"",COUNTIF('Use Case Register'!$N$8:$N$27,"Ready for Pilot")&" of "&COUNTIF('Use Case Register'!$B$8:$B$27,"<>"))
R13: Open Actions | T13: Overdue Actions
A14: =Scoring!$B$17&" from "&TEXT($W$2,"0%")&" · "&Scoring!$B$18&" from "&TEXT($X$2,"0%")&" · "&Scoring!$B$19&" from "&TEXT($Y$2,"0%") -> Developing from 40% · Established from 60% · Advanced from 80% | R14: =IF(COUNTIF('Action Plan'!$F$8:$F$57,"<>")=0,"",COUNTIFS('Action Plan'!$F$8:$F$57,"<>",'Action Plan'!$I$8:$I$57,"<>Complete")) | T14: =IF(COUNTIF('Action Plan'!$F$8:$F$57,"<>")=0,"",COUNT('Action Plan'!$J$8:$J$57))
A16: RATING PROFILE | R16: USE CASE MATRIX
A34: DIMENSION SCORES | R34: MUST-MEET CRITERIA
A35: No. | B35: Dimension | D35: Rated | E35: Score | P35: Level | R35: No. | S35: Criterion | U35: Rating | V35: Result
A36: 1 | B36: =INDEX(Scoring!$B$23:$B$29,$A36)&"" -> Strategy and Leadership | D36: =IF($Y36=0,"",$Y36&" of "&$Z36) | E36: =IF($X36=0,"",$W36/(3*$X36)) | P36: =IF($E36="","",IF($Y36<$Z36,"Incomplete",IF($E36>=$Y$2,Scoring!$B$19&"",IF($E36>=$X$2,Scoring!$B$18&"",IF($E36>=$W$2,Scoring!$B$17&"",Scoring!$B$16&""))))) | R36: =IF($AD36="","",INDEX('Readiness Checklist'!$A$8:$A$65,$AD36)) -> 5.3 | S36: =IF($AD36="","",INDEX('Readiness Checklist'!$C$8:$C$65,$AD36)) -> A named reviewer and backup cover each AI output. | U36: =IF($AD36="","",IF(INDEX('Readiness Checklist'!$E$8:$E$65,$AD36)="","",INDEX('Readiness Checklist'!$E$8:$E$65,$AD36))) | V36: =IF(OR($AD36="",$U36=""),"",IF(AND(ISNUMBER($U36),$U36>=2,$U36<=3),"Met","Not Met")) | W36: =SUMIFS('Readiness Checklist'!$E$8:$E$65,'Readiness Checklist'!$I$8:$I$65,$A36,'Readiness Checklist'!$C$8:$C$65,"<>",'Readiness Checklist'!$E$8:$E$65,">=0",'Readiness Checklist'!$E$8:$E$65,"<=3") -> 0 | X36: =COUNTIFS('Readiness Checklist'!$I$8:$I$65,$A36,'Readiness Checklist'!$C$8:$C$65,"<>",'Readiness Checklist'!$E$8:$E$65,">=0",'Readiness Checklist'!$E$8:$E$65,"<=3") -> 0 | Y36: =$X36+COUNTIFS('Readiness Checklist'!$I$8:$I$65,$A36,'Readiness Checklist'!$C$8:$C$65,"<>",'Readiness Checklist'!$E$8:$E$65,"N/A") -> 0 | Z36: =COUNTIFS('Readiness Checklist'!$I$8:$I$65,$A36,'Readiness Checklist'!$C$8:$C$65,"<>") -> 6 | AA36: =IF(ISNUMBER(Scoring!$C$23),Scoring!$C$23,0) -> 1 | AB36: =IF($X36=0,0,$AA36*$W36/(3*$X36)) -> 0 | AC36: =IF($X36=0,0,$AA36) -> 0 | AD36: =IFERROR(MATCH(1,'Readiness Checklist'!$J$8:$J$65,0),"") -> 34
A37: 2 | B37: =INDEX(Scoring!$B$23:$B$29,$A37)&"" -> Use Cases and Value | D37: =IF($Y37=0,"",$Y37&" of "&$Z37) | E37: =IF($X37=0,"",$W37/(3*$X37)) | P37: =IF($E37="","",IF($Y37<$Z37,"Incomplete",IF($E37>=$Y$2,Scoring!$B$19&"",IF($E37>=$X$2,Scoring!$B$18&"",IF($E37>=$W$2,Scoring!$B$17&"",Scoring!$B$16&""))))) | R37: =IF($AD37="","",INDEX('Readiness Checklist'!$A$8:$A$65,$AD37)) -> 6.1 | S37: =IF($AD37="","",INDEX('Readiness Checklist'!$C$8:$C$65,$AD37)) -> An AI acceptable use policy is approved and communicated. | U37: =IF($AD37="","",IF(INDEX('Readiness Checklist'!$E$8:$E$65,$AD37)="","",INDEX('Readiness Checklist'!$E$8:$E$65,$AD37))) | V37: =IF(OR($AD37="",$U37=""),"",IF(AND(ISNUMBER($U37),$U37>=2,$U37<=3),"Met","Not Met")) | W37: =SUMIFS('Readiness Checklist'!$E$8:$E$65,'Readiness Checklist'!$I$8:$I$65,$A37,'Readiness Checklist'!$C$8:$C$65,"<>",'Readiness Checklist'!$E$8:$E$65,">=0",'Readiness Checklist'!$E$8:$E$65,"<=3") -> 0 | X37: =COUNTIFS('Readiness Checklist'!$I$8:$I$65,$A37,'Readiness Checklist'!$C$8:$C$65,"<>",'Readiness Checklist'!$E$8:$E$65,">=0",'Readiness Checklist'!$E$8:$E$65,"<=3") -> 0 | Y37: =$X37+COUNTIFS('Readiness Checklist'!$I$8:$I$65,$A37,'Readiness Checklist'!$C$8:$C$65,"<>",'Readiness Checklist'!$E$8:$E$65,"N/A") -> 0 | Z37: =COUNTIFS('Readiness Checklist'!$I$8:$I$65,$A37,'Readiness Checklist'!$C$8:$C$65,"<>") -> 6 | AA37: =IF(ISNUMBER(Scoring!$C$24),Scoring!$C$24,0) -> 1 | AB37: =IF($X37=0,0,$AA37*$W37/(3*$X37)) -> 0 | AC37: =IF($X37=0,0,$AA37) -> 0 | AD37: =IFERROR(MATCH(2,'Readiness Checklist'!$J$8:$J$65,0),"") -> 41
A38: 3 | B38: =INDEX(Scoring!$B$23:$B$29,$A38)&"" -> Project Data | D38: =IF($Y38=0,"",$Y38&" of "&$Z38) | E38: =IF($X38=0,"",$W38/(3*$X38)) | P38: =IF($E38="","",IF($Y38<$Z38,"Incomplete",IF($E38>=$Y$2,Scoring!$B$19&"",IF($E38>=$X$2,Scoring!$B$18&"",IF($E38>=$W$2,Scoring!$B$17&"",Scoring!$B$16&""))))) | R38: =IF($AD38="","",INDEX('Readiness Checklist'!$A$8:$A$65,$AD38)) -> 6.3 | S38: =IF($AD38="","",INDEX('Readiness Checklist'!$C$8:$C$65,$AD38)) -> A person approves AI outputs before they are issued. | U38: =IF($AD38="","",IF(INDEX('Readiness Checklist'!$E$8:$E$65,$AD38)="","",INDEX('Readiness Checklist'!$E$8:$E$65,$AD38))) | V38: =IF(OR($AD38="",$U38=""),"",IF(AND(ISNUMBER($U38),$U38>=2,$U38<=3),"Met","Not Met")) | W38: =SUMIFS('Readiness Checklist'!$E$8:$E$65,'Readiness Checklist'!$I$8:$I$65,$A38,'Readiness Checklist'!$C$8:$C$65,"<>",'Readiness Checklist'!$E$8:$E$65,">=0",'Readiness Checklist'!$E$8:$E$65,"<=3") -> 0 | X38: =COUNTIFS('Readiness Checklist'!$I$8:$I$65,$A38,'Readiness Checklist'!$C$8:$C$65,"<>",'Readiness Checklist'!$E$8:$E$65,">=0",'Readiness Checklist'!$E$8:$E$65,"<=3") -> 0 | Y38: =$X38+COUNTIFS('Readiness Checklist'!$I$8:$I$65,$A38,'Readiness Checklist'!$C$8:$C$65,"<>",'Readiness Checklist'!$E$8:$E$65,"N/A") -> 0 | Z38: =COUNTIFS('Readiness Checklist'!$I$8:$I$65,$A38,'Readiness Checklist'!$C$8:$C$65,"<>") -> 6 | AA38: =IF(ISNUMBER(Scoring!$C$25),Scoring!$C$25,0) -> 1 | AB38: =IF($X38=0,0,$AA38*$W38/(3*$X38)) -> 0 | AC38: =IF($X38=0,0,$AA38) -> 0 | AD38: =IFERROR(MATCH(3,'Readiness Checklist'!$J$8:$J$65,0),"") -> 43
A39: 4 | B39: =INDEX(Scoring!$B$23:$B$29,$A39)&"" -> Systems and Integration | D39: =IF($Y39=0,"",$Y39&" of "&$Z39) | E39: =IF($X39=0,"",$W39/(3*$X39)) | P39: =IF($E39="","",IF($Y39<$Z39,"Incomplete",IF($E39>=$Y$2,Scoring!$B$19&"",IF($E39>=$X$2,Scoring!$B$18&"",IF($E39>=$W$2,Scoring!$B$17&"",Scoring!$B$16&""))))) | R39: =IF($AD39="","",INDEX('Readiness Checklist'!$A$8:$A$65,$AD39)) -> 7.1 | S39: =IF($AD39="","",INDEX('Readiness Checklist'!$C$8:$C$65,$AD39)) -> Contracts and client agreements permit AI use of project data. | U39: =IF($AD39="","",IF(INDEX('Readiness Checklist'!$E$8:$E$65,$AD39)="","",INDEX('Readiness Checklist'!$E$8:$E$65,$AD39))) | V39: =IF(OR($AD39="",$U39=""),"",IF(AND(ISNUMBER($U39),$U39>=2,$U39<=3),"Met","Not Met")) | W39: =SUMIFS('Readiness Checklist'!$E$8:$E$65,'Readiness Checklist'!$I$8:$I$65,$A39,'Readiness Checklist'!$C$8:$C$65,"<>",'Readiness Checklist'!$E$8:$E$65,">=0",'Readiness Checklist'!$E$8:$E$65,"<=3") -> 0 | X39: =COUNTIFS('Readiness Checklist'!$I$8:$I$65,$A39,'Readiness Checklist'!$C$8:$C$65,"<>",'Readiness Checklist'!$E$8:$E$65,">=0",'Readiness Checklist'!$E$8:$E$65,"<=3") -> 0 | Y39: =$X39+COUNTIFS('Readiness Checklist'!$I$8:$I$65,$A39,'Readiness Checklist'!$C$8:$C$65,"<>",'Readiness Checklist'!$E$8:$E$65,"N/A") -> 0 | Z39: =COUNTIFS('Readiness Checklist'!$I$8:$I$65,$A39,'Readiness Checklist'!$C$8:$C$65,"<>") -> 5 | AA39: =IF(ISNUMBER(Scoring!$C$26),Scoring!$C$26,0) -> 1 | AB39: =IF($X39=0,0,$AA39*$W39/(3*$X39)) -> 0 | AC39: =IF($X39=0,0,$AA39) -> 0 | AD39: =IFERROR(MATCH(4,'Readiness Checklist'!$J$8:$J$65,0),"") -> 50
A40: 5 | B40: =INDEX(Scoring!$B$23:$B$29,$A40)&"" -> People and Skills | D40: =IF($Y40=0,"",$Y40&" of "&$Z40) | E40: =IF($X40=0,"",$W40/(3*$X40)) | P40: =IF($E40="","",IF($Y40<$Z40,"Incomplete",IF($E40>=$Y$2,Scoring!$B$19&"",IF($E40>=$X$2,Scoring!$B$18&"",IF($E40>=$W$2,Scoring!$B$17&"",Scoring!$B$16&""))))) | R40: =IF($AD40="","",INDEX('Readiness Checklist'!$A$8:$A$65,$AD40)) -> 7.3 | S40: =IF($AD40="","",INDEX('Readiness Checklist'!$C$8:$C$65,$AD40)) -> AI provider terms are checked for model training, data retention and data residency. | U40: =IF($AD40="","",IF(INDEX('Readiness Checklist'!$E$8:$E$65,$AD40)="","",INDEX('Readiness Checklist'!$E$8:$E$65,$AD40))) | V40: =IF(OR($AD40="",$U40=""),"",IF(AND(ISNUMBER($U40),$U40>=2,$U40<=3),"Met","Not Met")) | W40: =SUMIFS('Readiness Checklist'!$E$8:$E$65,'Readiness Checklist'!$I$8:$I$65,$A40,'Readiness Checklist'!$C$8:$C$65,"<>",'Readiness Checklist'!$E$8:$E$65,">=0",'Readiness Checklist'!$E$8:$E$65,"<=3") -> 0 | X40: =COUNTIFS('Readiness Checklist'!$I$8:$I$65,$A40,'Readiness Checklist'!$C$8:$C$65,"<>",'Readiness Checklist'!$E$8:$E$65,">=0",'Readiness Checklist'!$E$8:$E$65,"<=3") -> 0 | Y40: =$X40+COUNTIFS('Readiness Checklist'!$I$8:$I$65,$A40,'Readiness Checklist'!$C$8:$C$65,"<>",'Readiness Checklist'!$E$8:$E$65,"N/A") -> 0 | Z40: =COUNTIFS('Readiness Checklist'!$I$8:$I$65,$A40,'Readiness Checklist'!$C$8:$C$65,"<>") -> 7 | AA40: =IF(ISNUMBER(Scoring!$C$27),Scoring!$C$27,0) -> 1 | AB40: =IF($X40=0,0,$AA40*$W40/(3*$X40)) -> 0 | AC40: =IF($X40=0,0,$AA40) -> 0 | AD40: =IFERROR(MATCH(5,'Readiness Checklist'!$J$8:$J$65,0),"") -> 52
A41: 6 | B41: =INDEX(Scoring!$B$23:$B$29,$A41)&"" -> Governance and Risk | D41: =IF($Y41=0,"",$Y41&" of "&$Z41) | E41: =IF($X41=0,"",$W41/(3*$X41)) | P41: =IF($E41="","",IF($Y41<$Z41,"Incomplete",IF($E41>=$Y$2,Scoring!$B$19&"",IF($E41>=$X$2,Scoring!$B$18&"",IF($E41>=$W$2,Scoring!$B$17&"",Scoring!$B$16&""))))) | R41: =IF($AD41="","",INDEX('Readiness Checklist'!$A$8:$A$65,$AD41)) | S41: =IF($AD41="","",INDEX('Readiness Checklist'!$C$8:$C$65,$AD41)) | U41: =IF($AD41="","",IF(INDEX('Readiness Checklist'!$E$8:$E$65,$AD41)="","",INDEX('Readiness Checklist'!$E$8:$E$65,$AD41))) | V41: =IF(OR($AD41="",$U41=""),"",IF(AND(ISNUMBER($U41),$U41>=2,$U41<=3),"Met","Not Met")) | W41: =SUMIFS('Readiness Checklist'!$E$8:$E$65,'Readiness Checklist'!$I$8:$I$65,$A41,'Readiness Checklist'!$C$8:$C$65,"<>",'Readiness Checklist'!$E$8:$E$65,">=0",'Readiness Checklist'!$E$8:$E$65,"<=3") -> 0 | X41: =COUNTIFS('Readiness Checklist'!$I$8:$I$65,$A41,'Readiness Checklist'!$C$8:$C$65,"<>",'Readiness Checklist'!$E$8:$E$65,">=0",'Readiness Checklist'!$E$8:$E$65,"<=3") -> 0 | Y41: =$X41+COUNTIFS('Readiness Checklist'!$I$8:$I$65,$A41,'Readiness Checklist'!$C$8:$C$65,"<>",'Readiness Checklist'!$E$8:$E$65,"N/A") -> 0 | Z41: =COUNTIFS('Readiness Checklist'!$I$8:$I$65,$A41,'Readiness Checklist'!$C$8:$C$65,"<>") -> 7 | AA41: =IF(ISNUMBER(Scoring!$C$28),Scoring!$C$28,0) -> 1 | AB41: =IF($X41=0,0,$AA41*$W41/(3*$X41)) -> 0 | AC41: =IF($X41=0,0,$AA41) -> 0 | AD41: =IFERROR(MATCH(6,'Readiness Checklist'!$J$8:$J$65,0),"")
A42: 7 | B42: =INDEX(Scoring!$B$23:$B$29,$A42)&"" -> Security and Privacy | D42: =IF($Y42=0,"",$Y42&" of "&$Z42) | E42: =IF($X42=0,"",$W42/(3*$X42)) | P42: =IF($E42="","",IF($Y42<$Z42,"Incomplete",IF($E42>=$Y$2,Scoring!$B$19&"",IF($E42>=$X$2,Scoring!$B$18&"",IF($E42>=$W$2,Scoring!$B$17&"",Scoring!$B$16&""))))) | R42: =IF($AD42="","",INDEX('Readiness Checklist'!$A$8:$A$65,$AD42)) | S42: =IF($AD42="","",INDEX('Readiness Checklist'!$C$8:$C$65,$AD42)) | U42: =IF($AD42="","",IF(INDEX('Readiness Checklist'!$E$8:$E$65,$AD42)="","",INDEX('Readiness Checklist'!$E$8:$E$65,$AD42))) | V42: =IF(OR($AD42="",$U42=""),"",IF(AND(ISNUMBER($U42),$U42>=2,$U42<=3),"Met","Not Met")) | W42: =SUMIFS('Readiness Checklist'!$E$8:$E$65,'Readiness Checklist'!$I$8:$I$65,$A42,'Readiness Checklist'!$C$8:$C$65,"<>",'Readiness Checklist'!$E$8:$E$65,">=0",'Readiness Checklist'!$E$8:$E$65,"<=3") -> 0 | X42: =COUNTIFS('Readiness Checklist'!$I$8:$I$65,$A42,'Readiness Checklist'!$C$8:$C$65,"<>",'Readiness Checklist'!$E$8:$E$65,">=0",'Readiness Checklist'!$E$8:$E$65,"<=3") -> 0 | Y42: =$X42+COUNTIFS('Readiness Checklist'!$I$8:$I$65,$A42,'Readiness Checklist'!$C$8:$C$65,"<>",'Readiness Checklist'!$E$8:$E$65,"N/A") -> 0 | Z42: =COUNTIFS('Readiness Checklist'!$I$8:$I$65,$A42,'Readiness Checklist'!$C$8:$C$65,"<>") -> 7 | AA42: =IF(ISNUMBER(Scoring!$C$29),Scoring!$C$29,0) -> 1 | AB42: =IF($X42=0,0,$AA42*$W42/(3*$X42)) -> 0 | AC42: =IF($X42=0,0,$AA42) -> 0 | AD42: =IFERROR(MATCH(7,'Readiness Checklist'!$J$8:$J$65,0),"")
B43: Overall | D43: =IF($Z$6=0,"",$Z$6&" of "&$AA$6) | E43: =IF(SUM($AC$36:$AC$42)=0,"",SUM($AB$36:$AB$42)/SUM($AC$36:$AC$42)) | P43: =IF($E43="","",IF($Z$6<$AA$6,"Incomplete",IF($E43>=$Y$2,Scoring!$B$19&"",IF($E43>=$X$2,Scoring!$B$18&"",IF($E43>=$W$2,Scoring!$B$17&"",Scoring!$B$16&""))))) | R43: =IF($AD43="","",INDEX('Readiness Checklist'!$A$8:$A$65,$AD43)) | S43: =IF($AD43="","",INDEX('Readiness Checklist'!$C$8:$C$65,$AD43)) | U43: =IF($AD43="","",IF(INDEX('Readiness Checklist'!$E$8:$E$65,$AD43)="","",INDEX('Readiness Checklist'!$E$8:$E$65,$AD43))) | V43: =IF(OR($AD43="",$U43=""),"",IF(AND(ISNUMBER($U43),$U43>=2,$U43<=3),"Met","Not Met")) | AD43: =IFERROR(MATCH(8,'Readiness Checklist'!$J$8:$J$65,0),"")
A45: PRIORITY USE CASES | R45: ACTION STATUS
A46: Ref | B46: Use Case | D46: Value | E46: Readiness | F46: Priority Score | J46: Recommendation | P46: Decision | R46: Status | U46: Actions
A47: =IF($AD47="","",INDEX('Use Case Register'!$A$8:$A$27,$AD47)) | B47: =IF($AD47="","",INDEX('Use Case Register'!$B$8:$B$27,$AD47)&"") | D47: =IF($AD47="","",INDEX('Use Case Register'!$D$8:$D$27,$AD47)) | E47: =IF($AD47="","",INDEX('Use Case Register'!$M$8:$M$27,$AD47)) | F47: =IF($AD47="","",INDEX('Use Case Register'!$Q$8:$Q$27,$AD47)) | J47: =IF($AD47="","",INDEX('Use Case Register'!$N$8:$N$27,$AD47)&"") | P47: =IF($AD47="","",INDEX('Use Case Register'!$O$8:$O$27,$AD47)&"") | R47: Not Started | U47: =IF(COUNTIF('Action Plan'!$F$8:$F$57,"<>")=0,"",COUNTIFS('Action Plan'!$F$8:$F$57,"<>",'Action Plan'!$I$8:$I$57,"Not Started")+COUNTIFS('Action Plan'!$F$8:$F$57,"<>",'Action Plan'!$I$8:$I$57,"")) | AD47: =IF(COUNT('Use Case Register'!$S$8:$S$27)<1,"",MATCH(LARGE('Use Case Register'!$S$8:$S$27,1),'Use Case Register'!$S$8:$S$27,0))
A48: =IF($AD48="","",INDEX('Use Case Register'!$A$8:$A$27,$AD48)) | B48: =IF($AD48="","",INDEX('Use Case Register'!$B$8:$B$27,$AD48)&"") | D48: =IF($AD48="","",INDEX('Use Case Register'!$D$8:$D$27,$AD48)) | E48: =IF($AD48="","",INDEX('Use Case Register'!$M$8:$M$27,$AD48)) | F48: =IF($AD48="","",INDEX('Use Case Register'!$Q$8:$Q$27,$AD48)) | J48: =IF($AD48="","",INDEX('Use Case Register'!$N$8:$N$27,$AD48)&"") | P48: =IF($AD48="","",INDEX('Use Case Register'!$O$8:$O$27,$AD48)&"") | R48: In Progress | U48: =IF(COUNTIF('Action Plan'!$F$8:$F$57,"<>")=0,"",COUNTIFS('Action Plan'!$F$8:$F$57,"<>",'Action Plan'!$I$8:$I$57,"In Progress")) | AD48: =IF(COUNT('Use Case Register'!$S$8:$S$27)<2,"",MATCH(LARGE('Use Case Register'!$S$8:$S$27,2),'Use Case Register'!$S$8:$S$27,0))
A49: =IF($AD49="","",INDEX('Use Case Register'!$A$8:$A$27,$AD49)) | B49: =IF($AD49="","",INDEX('Use Case Register'!$B$8:$B$27,$AD49)&"") | D49: =IF($AD49="","",INDEX('Use Case Register'!$D$8:$D$27,$AD49)) | E49: =IF($AD49="","",INDEX('Use Case Register'!$M$8:$M$27,$AD49)) | F49: =IF($AD49="","",INDEX('Use Case Register'!$Q$8:$Q$27,$AD49)) | J49: =IF($AD49="","",INDEX('Use Case Register'!$N$8:$N$27,$AD49)&"") | P49: =IF($AD49="","",INDEX('Use Case Register'!$O$8:$O$27,$AD49)&"") | R49: Complete | U49: =IF(COUNTIF('Action Plan'!$F$8:$F$57,"<>")=0,"",COUNTIFS('Action Plan'!$F$8:$F$57,"<>",'Action Plan'!$I$8:$I$57,"Complete")) | AD49: =IF(COUNT('Use Case Register'!$S$8:$S$27)<3,"",MATCH(LARGE('Use Case Register'!$S$8:$S$27,3),'Use Case Register'!$S$8:$S$27,0))
A50: =IF($AD50="","",INDEX('Use Case Register'!$A$8:$A$27,$AD50)) | B50: =IF($AD50="","",INDEX('Use Case Register'!$B$8:$B$27,$AD50)&"") | D50: =IF($AD50="","",INDEX('Use Case Register'!$D$8:$D$27,$AD50)) | E50: =IF($AD50="","",INDEX('Use Case Register'!$M$8:$M$27,$AD50)) | F50: =IF($AD50="","",INDEX('Use Case Register'!$Q$8:$Q$27,$AD50)) | J50: =IF($AD50="","",INDEX('Use Case Register'!$N$8:$N$27,$AD50)&"") | P50: =IF($AD50="","",INDEX('Use Case Register'!$O$8:$O$27,$AD50)&"") | R50: Overdue | U50: =IF(COUNTIF('Action Plan'!$F$8:$F$57,"<>")=0,"",COUNT('Action Plan'!$J$8:$J$57)) | AD50: =IF(COUNT('Use Case Register'!$S$8:$S$27)<4,"",MATCH(LARGE('Use Case Register'!$S$8:$S$27,4),'Use Case Register'!$S$8:$S$27,0))
A51: =IF($AD51="","",INDEX('Use Case Register'!$A$8:$A$27,$AD51)) | B51: =IF($AD51="","",INDEX('Use Case Register'!$B$8:$B$27,$AD51)&"") | D51: =IF($AD51="","",INDEX('Use Case Register'!$D$8:$D$27,$AD51)) | E51: =IF($AD51="","",INDEX('Use Case Register'!$M$8:$M$27,$AD51)) | F51: =IF($AD51="","",INDEX('Use Case Register'!$Q$8:$Q$27,$AD51)) | J51: =IF($AD51="","",INDEX('Use Case Register'!$N$8:$N$27,$AD51)&"") | P51: =IF($AD51="","",INDEX('Use Case Register'!$O$8:$O$27,$AD51)&"") | R51: Must-Meet Open | U51: =IF(COUNTIF('Action Plan'!$F$8:$F$57,"<>")=0,"",COUNTIFS('Action Plan'!$F$8:$F$57,"<>",'Action Plan'!$D$8:$D$57,"Yes",'Action Plan'!$I$8:$I$57,"<>Complete")) | AD51: =IF(COUNT('Use Case Register'!$S$8:$S$27)<5,"",MATCH(LARGE('Use Case Register'!$S$8:$S$27,5),'Use Case Register'!$S$8:$S$27,0))
A52: =IF($AD52="","",INDEX('Use Case Register'!$A$8:$A$27,$AD52)) | B52: =IF($AD52="","",INDEX('Use Case Register'!$B$8:$B$27,$AD52)&"") | D52: =IF($AD52="","",INDEX('Use Case Register'!$D$8:$D$27,$AD52)) | E52: =IF($AD52="","",INDEX('Use Case Register'!$M$8:$M$27,$AD52)) | F52: =IF($AD52="","",INDEX('Use Case Register'!$Q$8:$Q$27,$AD52)) | J52: =IF($AD52="","",INDEX('Use Case Register'!$N$8:$N$27,$AD52)&"") | P52: =IF($AD52="","",INDEX('Use Case Register'!$O$8:$O$27,$AD52)&"") | AD52: =IF(COUNT('Use Case Register'!$S$8:$S$27)<6,"",MATCH(LARGE('Use Case Register'!$S$8:$S$27,6),'Use Case Register'!$S$8:$S$27,0))
A53: =IF($AD53="","",INDEX('Use Case Register'!$A$8:$A$27,$AD53)) | B53: =IF($AD53="","",INDEX('Use Case Register'!$B$8:$B$27,$AD53)&"") | D53: =IF($AD53="","",INDEX('Use Case Register'!$D$8:$D$27,$AD53)) | E53: =IF($AD53="","",INDEX('Use Case Register'!$M$8:$M$27,$AD53)) | F53: =IF($AD53="","",INDEX('Use Case Register'!$Q$8:$Q$27,$AD53)) | J53: =IF($AD53="","",INDEX('Use Case Register'!$N$8:$N$27,$AD53)&"") | P53: =IF($AD53="","",INDEX('Use Case Register'!$O$8:$O$27,$AD53)&"") | AD53: =IF(COUNT('Use Case Register'!$S$8:$S$27)<7,"",MATCH(LARGE('Use Case Register'!$S$8:$S$27,7),'Use Case Register'!$S$8:$S$27,0))
A54: =IF($AD54="","",INDEX('Use Case Register'!$A$8:$A$27,$AD54)) | B54: =IF($AD54="","",INDEX('Use Case Register'!$B$8:$B$27,$AD54)&"") | D54: =IF($AD54="","",INDEX('Use Case Register'!$D$8:$D$27,$AD54)) | E54: =IF($AD54="","",INDEX('Use Case Register'!$M$8:$M$27,$AD54)) | F54: =IF($AD54="","",INDEX('Use Case Register'!$Q$8:$Q$27,$AD54)) | J54: =IF($AD54="","",INDEX('Use Case Register'!$N$8:$N$27,$AD54)&"") | P54: =IF($AD54="","",INDEX('Use Case Register'!$O$8:$O$27,$AD54)&"") | AD54: =IF(COUNT('Use Case Register'!$S$8:$S$27)<8,"",MATCH(LARGE('Use Case Register'!$S$8:$S$27,8),'Use Case Register'!$S$8:$S$27,0))
A56: Visit mastt.com

Sheet Readiness Checklist
A1: READINESS CHECKLIST
A3: Organization | C3: =IF(Dashboard!$D$5="","",Dashboard!$D$5)
A4: Assessment Date | C4: =IF(Dashboard!$S$5="","",Dashboard!$S$5)
A6: CRITERIA
A7: No. | B7: Dimension | C7: Criterion | D7: Must-Meet | E7: Rating | F7: Evidence | G7: Rating Check | H7: Open Actions
A8: 1.1 | B8: =INDEX(Scoring!$B$23:$B$29,$I8)&"" -> Strategy and Leadership | C8: AI objectives are linked to project or portfolio outcomes. | G8: =IF($C8="",IF(OR($E8<>"",$F8<>""),"Criterion missing",""),IF(AND($E8<>"",$E8<>"N/A",OR(NOT(ISNUMBER($E8)),$E8<0,$E8>3)),"Invalid rating",IF(AND($D8="Yes",$E8="N/A"),"Must-meet cannot be N/A",IF(AND(ISNUMBER($E8),$E8>=2,$E8<=3,TRIM($F8)=""),"Evidence required","")))) | H8: =IF($C8="","",IF(COUNTIFS('Action Plan'!$B$8:$B$57,$A8,'Action Plan'!$F$8:$F$57,"<>",'Action Plan'!$I$8:$I$57,"<>Complete")=0,"",COUNTIFS('Action Plan'!$B$8:$B$57,$A8,'Action Plan'!$F$8:$F$57,"<>",'Action Plan'!$I$8:$I$57,"<>Complete"))) | I8: =VALUE(LEFT($A8,FIND(".",$A8)-1)) -> 1 | J8: =IF(AND($C8<>"",$D8="Yes"),COUNTIFS($D$8:$D8,"Yes",$C$8:$C8,"<>"),"")
A9: 1.2 | B9: =INDEX(Scoring!$B$23:$B$29,$I9)&"" -> Strategy and Leadership | C9: An executive sponsor is named for AI adoption. | G9: =IF($C9="",IF(OR($E9<>"",$F9<>""),"Criterion missing",""),IF(AND($E9<>"",$E9<>"N/A",OR(NOT(ISNUMBER($E9)),$E9<0,$E9>3)),"Invalid rating",IF(AND($D9="Yes",$E9="N/A"),"Must-meet cannot be N/A",IF(AND(ISNUMBER($E9),$E9>=2,$E9<=3,TRIM($F9)=""),"Evidence required","")))) | H9: =IF($C9="","",IF(COUNTIFS('Action Plan'!$B$8:$B$57,$A9,'Action Plan'!$F$8:$F$57,"<>",'Action Plan'!$I$8:$I$57,"<>Complete")=0,"",COUNTIFS('Action Plan'!$B$8:$B$57,$A9,'Action Plan'!$F$8:$F$57,"<>",'Action Plan'!$I$8:$I$57,"<>Complete"))) | I9: =VALUE(LEFT($A9,FIND(".",$A9)-1)) -> 1 | J9: =IF(AND($C9<>"",$D9="Yes"),COUNTIFS($D$8:$D9,"Yes",$C$8:$C9,"<>"),"")
A10: 1.3 | B10: =INDEX(Scoring!$B$23:$B$29,$I10)&"" -> Strategy and Leadership | C10: Budget covers pilot setup, tool licenses and review time. | G10: =IF($C10="",IF(OR($E10<>"",$F10<>""),"Criterion missing",""),IF(AND($E10<>"",$E10<>"N/A",OR(NOT(ISNUMBER($E10)),$E10<0,$E10>3)),"Invalid rating",IF(AND($D10="Yes",$E10="N/A"),"Must-meet cannot be N/A",IF(AND(ISNUMBER($E10),$E10>=2,$E10<=3,TRIM($F10)=""),"Evidence required","")))) | H10: =IF($C10="","",IF(COUNTIFS('Action Plan'!$B$8:$B$57,$A10,'Action Plan'!$F$8:$F$57,"<>",'Action Plan'!$I$8:$I$57,"<>Complete")=0,"",COUNTIFS('Action Plan'!$B$8:$B$57,$A10,'Action Plan'!$F$8:$F$57,"<>",'Action Plan'!$I$8:$I$57,"<>Complete"))) | I10: =VALUE(LEFT($A10,FIND(".",$A10)-1)) -> 1 | J10: =IF(AND($C10<>"",$D10="Yes"),COUNTIFS($D$8:$D10,"Yes",$C$8:$C10,"<>"),"")
A11: 1.4 | B11: =INDEX(Scoring!$B$23:$B$29,$I11)&"" -> Strategy and Leadership | C11: Success measures are agreed before any pilot starts. | G11: =IF($C11="",IF(OR($E11<>"",$F11<>""),"Criterion missing",""),IF(AND($E11<>"",$E11<>"N/A",OR(NOT(ISNUMBER($E11)),$E11<0,$E11>3)),"Invalid rating",IF(AND($D11="Yes",$E11="N/A"),"Must-meet cannot be N/A",IF(AND(ISNUMBER($E11),$E11>=2,$E11<=3,TRIM($F11)=""),"Evidence required","")))) | H11: =IF($C11="","",IF(COUNTIFS('Action Plan'!$B$8:$B$57,$A11,'Action Plan'!$F$8:$F$57,"<>",'Action Plan'!$I$8:$I$57,"<>Complete")=0,"",COUNTIFS('Action Plan'!$B$8:$B$57,$A11,'Action Plan'!$F$8:$F$57,"<>",'Action Plan'!$I$8:$I$57,"<>Complete"))) | I11: =VALUE(LEFT($A11,FIND(".",$A11)-1)) -> 1 | J11: =IF(AND($C11<>"",$D11="Yes"),COUNTIFS($D$8:$D11,"Yes",$C$8:$C11,"<>"),"")
A12: 1.5 | B12: =INDEX(Scoring!$B$23:$B$29,$I12)&"" -> Strategy and Leadership | C12: AI decisions go through an existing governance forum, such as the steering committee. | G12: =IF($C12="",IF(OR($E12<>"",$F12<>""),"Criterion missing",""),IF(AND($E12<>"",$E12<>"N/A",OR(NOT(ISNUMBER($E12)),$E12<0,$E12>3)),"Invalid rating",IF(AND($D12="Yes",$E12="N/A"),"Must-meet cannot be N/A",IF(AND(ISNUMBER($E12),$E12>=2,$E12<=3,TRIM($F12)=""),"Evidence required","")))) | H12: =IF($C12="","",IF(COUNTIFS('Action Plan'!$B$8:$B$57,$A12,'Action Plan'!$F$8:$F$57,"<>",'Action Plan'!$I$8:$I$57,"<>Complete")=0,"",COUNTIFS('Action Plan'!$B$8:$B$57,$A12,'Action Plan'!$F$8:$F$57,"<>",'Action Plan'!$I$8:$I$57,"<>Complete"))) | I12: =VALUE(LEFT($A12,FIND(".",$A12)-1)) -> 1 | J12: =IF(AND($C12<>"",$D12="Yes"),COUNTIFS($D$8:$D12,"Yes",$C$8:$C12,"<>"),"")
A13: 1.6 | B13: =INDEX(Scoring!$B$23:$B$29,$I13)&"" -> Strategy and Leadership | C13: Leadership has stated where AI will and will not be used. | G13: =IF($C13="",IF(OR($E13<>"",$F13<>""),"Criterion missing",""),IF(AND($E13<>"",$E13<>"N/A",OR(NOT(ISNUMBER($E13)),$E13<0,$E13>3)),"Invalid rating",IF(AND($D13="Yes",$E13="N/A"),"Must-meet cannot be N/A",IF(AND(ISNUMBER($E13),$E13>=2,$E13<=3,TRIM($F13)=""),"Evidence required","")))) | H13: =IF($C13="","",IF(COUNTIFS('Action Plan'!$B$8:$B$57,$A13,'Action Plan'!$F$8:$F$57,"<>",'Action Plan'!$I$8:$I$57,"<>Complete")=0,"",COUNTIFS('Action Plan'!$B$8:$B$57,$A13,'Action Plan'!$F$8:$F$57,"<>",'Action Plan'!$I$8:$I$57,"<>Complete"))) | I13: =VALUE(LEFT($A13,FIND(".",$A13)-1)) -> 1 | J13: =IF(AND($C13<>"",$D13="Yes"),COUNTIFS($D$8:$D13,"Yes",$C$8:$C13,"<>"),"")
A14: 1.7 | B14: =INDEX(Scoring!$B$23:$B$29,$I14)&"" -> Strategy and Leadership | G14: =IF($C14="",IF(OR($E14<>"",$F14<>""),"Criterion missing",""),IF(AND($E14<>"",$E14<>"N/A",OR(NOT(ISNUMBER($E14)),$E14<0,$E14>3)),"Invalid rating",IF(AND($D14="Yes",$E14="N/A"),"Must-meet cannot be N/A",IF(AND(ISNUMBER($E14),$E14>=2,$E14<=3,TRIM($F14)=""),"Evidence required","")))) | H14: =IF($C14="","",IF(COUNTIFS('Action Plan'!$B$8:$B$57,$A14,'Action Plan'!$F$8:$F$57,"<>",'Action Plan'!$I$8:$I$57,"<>Complete")=0,"",COUNTIFS('Action Plan'!$B$8:$B$57,$A14,'Action Plan'!$F$8:$F$57,"<>",'Action Plan'!$I$8:$I$57,"<>Complete"))) | I14: =VALUE(LEFT($A14,FIND(".",$A14)-1)) -> 1 | J14: =IF(AND($C14<>"",$D14="Yes"),COUNTIFS($D$8:$D14,"Yes",$C$8:$C14,"<>"),"")
A15: 1.8 | B15: =INDEX(Scoring!$B$23:$B$29,$I15)&"" -> Strategy and Leadership | G15: =IF($C15="",IF(OR($E15<>"",$F15<>""),"Criterion missing",""),IF(AND($E15<>"",$E15<>"N/A",OR(NOT(ISNUMBER($E15)),$E15<0,$E15>3)),"Invalid rating",IF(AND($D15="Yes",$E15="N/A"),"Must-meet cannot be N/A",IF(AND(ISNUMBER($E15),$E15>=2,$E15<=3,TRIM($F15)=""),"Evidence required","")))) | H15: =IF($C15="","",IF(COUNTIFS('Action Plan'!$B$8:$B$57,$A15,'Action Plan'!$F$8:$F$57,"<>",'Action Plan'!$I$8:$I$57,"<>Complete")=0,"",COUNTIFS('Action Plan'!$B$8:$B$57,$A15,'Action Plan'!$F$8:$F$57,"<>",'Action Plan'!$I$8:$I$57,"<>Complete"))) | I15: =VALUE(LEFT($A15,FIND(".",$A15)-1)) -> 1 | J15: =IF(AND($C15<>"",$D15="Yes"),COUNTIFS($D$8:$D15,"Yes",$C$8:$C15,"<>"),"")
A16: 2.1 | B16: =INDEX(Scoring!$B$23:$B$29,$I16)&"" -> Use Cases and Value | C16: Candidate use cases are listed and prioritized. | G16: =IF($C16="",IF(OR($E16<>"",$F16<>""),"Criterion missing",""),IF(AND($E16<>"",$E16<>"N/A",OR(NOT(ISNUMBER($E16)),$E16<0,$E16>3)),"Invalid rating",IF(AND($D16="Yes",$E16="N/A"),"Must-meet cannot be N/A",IF(AND(ISNUMBER($E16),$E16>=2,$E16<=3,TRIM($F16)=""),"Evidence required","")))) | H16: =IF($C16="","",IF(COUNTIFS('Action Plan'!$B$8:$B$57,$A16,'Action Plan'!$F$8:$F$57,"<>",'Action Plan'!$I$8:$I$57,"<>Complete")=0,"",COUNTIFS('Action Plan'!$B$8:$B$57,$A16,'Action Plan'!$F$8:$F$57,"<>",'Action Plan'!$I$8:$I$57,"<>Complete"))) | I16: =VALUE(LEFT($A16,FIND(".",$A16)-1)) -> 2 | J16: =IF(AND($C16<>"",$D16="Yes"),COUNTIFS($D$8:$D16,"Yes",$C$8:$C16,"<>"),"")
A17: 2.2 | B17: =INDEX(Scoring!$B$23:$B$29,$I17)&"" -> Use Cases and Value | C17: Current time and cost of each target workflow are measured. | G17: =IF($C17="",IF(OR($E17<>"",$F17<>""),"Criterion missing",""),IF(AND($E17<>"",$E17<>"N/A",OR(NOT(ISNUMBER($E17)),$E17<0,$E17>3)),"Invalid rating",IF(AND($D17="Yes",$E17="N/A"),"Must-meet cannot be N/A",IF(AND(ISNUMBER($E17),$E17>=2,$E17<=3,TRIM($F17)=""),"Evidence required","")))) | H17: =IF($C17="","",IF(COUNTIFS('Action Plan'!$B$8:$B$57,$A17,'Action Plan'!$F$8:$F$57,"<>",'Action Plan'!$I$8:$I$57,"<>Complete")=0,"",COUNTIFS('Action Plan'!$B$8:$B$57,$A17,'Action Plan'!$F$8:$F$57,"<>",'Action Plan'!$I$8:$I$57,"<>Complete"))) | I17: =VALUE(LEFT($A17,FIND(".",$A17)-1)) -> 2 | J17: =IF(AND($C17<>"",$D17="Yes"),COUNTIFS($D$8:$D17,"Yes",$C$8:$C17,"<>"),"")
A18: 2.3 | B18: =INDEX(Scoring!$B$23:$B$29,$I18)&"" -> Use Cases and Value | C18: Target improvement and quality requirements are defined. | G18: =IF($C18="",IF(OR($E18<>"",$F18<>""),"Criterion missing",""),IF(AND($E18<>"",$E18<>"N/A",OR(NOT(ISNUMBER($E18)),$E18<0,$E18>3)),"Invalid rating",IF(AND($D18="Yes",$E18="N/A"),"Must-meet cannot be N/A",IF(AND(ISNUMBER($E18),$E18>=2,$E18<=3,TRIM($F18)=""),"Evidence required","")))) | H18: =IF($C18="","",IF(COUNTIFS('Action Plan'!$B$8:$B$57,$A18,'Action Plan'!$F$8:$F$57,"<>",'Action Plan'!$I$8:$I$57,"<>Complete")=0,"",COUNTIFS('Action Plan'!$B$8:$B$57,$A18,'Action Plan'!$F$8:$F$57,"<>",'Action Plan'!$I$8:$I$57,"<>Complete"))) | I18: =VALUE(LEFT($A18,FIND(".",$A18)-1)) -> 2 | J18: =IF(AND($C18<>"",$D18="Yes"),COUNTIFS($D$8:$D18,"Yes",$C$8:$C18,"<>"),"")
A19: 2.4 | B19: =INDEX(Scoring!$B$23:$B$29,$I19)&"" -> Use Cases and Value | C19: Each pilot is limited to one project, team or report. | G19: =IF($C19="",IF(OR($E19<>"",$F19<>""),"Criterion missing",""),IF(AND($E19<>"",$E19<>"N/A",OR(NOT(ISNUMBER($E19)),$E19<0,$E19>3)),"Invalid rating",IF(AND($D19="Yes",$E19="N/A"),"Must-meet cannot be N/A",IF(AND(ISNUMBER($E19),$E19>=2,$E19<=3,TRIM($F19)=""),"Evidence required","")))) | H19: =IF($C19="","",IF(COUNTIFS('Action Plan'!$B$8:$B$57,$A19,'Action Plan'!$F$8:$F$57,"<>",'Action Plan'!$I$8:$I$57,"<>Complete")=0,"",COUNTIFS('Action Plan'!$B$8:$B$57,$A19,'Action Plan'!$F$8:$F$57,"<>",'Action Plan'!$I$8:$I$57,"<>Complete"))) | I19: =VALUE(LEFT($A19,FIND(".",$A19)-1)) -> 2 | J19: =IF(AND($C19<>"",$D19="Yes"),COUNTIFS($D$8:$D19,"Yes",$C$8:$C19,"<>"),"")
A20: 2.5 | B20: =INDEX(Scoring!$B$23:$B$29,$I20)&"" -> Use Cases and Value | C20: Criteria to continue, change or stop a pilot are agreed. | G20: =IF($C20="",IF(OR($E20<>"",$F20<>""),"Criterion missing",""),IF(AND($E20<>"",$E20<>"N/A",OR(NOT(ISNUMBER($E20)),$E20<0,$E20>3)),"Invalid rating",IF(AND($D20="Yes",$E20="N/A"),"Must-meet cannot be N/A",IF(AND(ISNUMBER($E20),$E20>=2,$E20<=3,TRIM($F20)=""),"Evidence required","")))) | H20: =IF($C20="","",IF(COUNTIFS('Action Plan'!$B$8:$B$57,$A20,'Action Plan'!$F$8:$F$57,"<>",'Action Plan'!$I$8:$I$57,"<>Complete")=0,"",COUNTIFS('Action Plan'!$B$8:$B$57,$A20,'Action Plan'!$F$8:$F$57,"<>",'Action Plan'!$I$8:$I$57,"<>Complete"))) | I20: =VALUE(LEFT($A20,FIND(".",$A20)-1)) -> 2 | J20: =IF(AND($C20<>"",$D20="Yes"),COUNTIFS($D$8:$D20,"Yes",$C$8:$C20,"<>"),"")
A21: 2.6 | B21: =INDEX(Scoring!$B$23:$B$29,$I21)&"" -> Use Cases and Value | C21: Output quality and time saved are tracked during each pilot. | G21: =IF($C21="",IF(OR($E21<>"",$F21<>""),"Criterion missing",""),IF(AND($E21<>"",$E21<>"N/A",OR(NOT(ISNUMBER($E21)),$E21<0,$E21>3)),"Invalid rating",IF(AND($D21="Yes",$E21="N/A"),"Must-meet cannot be N/A",IF(AND(ISNUMBER($E21),$E21>=2,$E21<=3,TRIM($F21)=""),"Evidence required","")))) | H21: =IF($C21="","",IF(COUNTIFS('Action Plan'!$B$8:$B$57,$A21,'Action Plan'!$F$8:$F$57,"<>",'Action Plan'!$I$8:$I$57,"<>Complete")=0,"",COUNTIFS('Action Plan'!$B$8:$B$57,$A21,'Action Plan'!$F$8:$F$57,"<>",'Action Plan'!$I$8:$I$57,"<>Complete"))) | I21: =VALUE(LEFT($A21,FIND(".",$A21)-1)) -> 2 | J21: =IF(AND($C21<>"",$D21="Yes"),COUNTIFS($D$8:$D21,"Yes",$C$8:$C21,"<>"),"")
A22: 2.7 | B22: =INDEX(Scoring!$B$23:$B$29,$I22)&"" -> Use Cases and Value | G22: =IF($C22="",IF(OR($E22<>"",$F22<>""),"Criterion missing",""),IF(AND($E22<>"",$E22<>"N/A",OR(NOT(ISNUMBER($E22)),$E22<0,$E22>3)),"Invalid rating",IF(AND($D22="Yes",$E22="N/A"),"Must-meet cannot be N/A",IF(AND(ISNUMBER($E22),$E22>=2,$E22<=3,TRIM($F22)=""),"Evidence required","")))) | H22: =IF($C22="","",IF(COUNTIFS('Action Plan'!$B$8:$B$57,$A22,'Action Plan'!$F$8:$F$57,"<>",'Action Plan'!$I$8:$I$57,"<>Complete")=0,"",COUNTIFS('Action Plan'!$B$8:$B$57,$A22,'Action Plan'!$F$8:$F$57,"<>",'Action Plan'!$I$8:$I$57,"<>Complete"))) | I22: =VALUE(LEFT($A22,FIND(".",$A22)-1)) -> 2 | J22: =IF(AND($C22<>"",$D22="Yes"),COUNTIFS($D$8:$D22,"Yes",$C$8:$C22,"<>"),"")
A23: 2.8 | B23: =INDEX(Scoring!$B$23:$B$29,$I23)&"" -> Use Cases and Value | G23: =IF($C23="",IF(OR($E23<>"",$F23<>""),"Criterion missing",""),IF(AND($E23<>"",$E23<>"N/A",OR(NOT(ISNUMBER($E23)),$E23<0,$E23>3)),"Invalid rating",IF(AND($D23="Yes",$E23="N/A"),"Must-meet cannot be N/A",IF(AND(ISNUMBER($E23),$E23>=2,$E23<=3,TRIM($F23)=""),"Evidence required","")))) | H23: =IF($C23="","",IF(COUNTIFS('Action Plan'!$B$8:$B$57,$A23,'Action Plan'!$F$8:$F$57,"<>",'Action Plan'!$I$8:$I$57,"<>Complete")=0,"",COUNTIFS('Action Plan'!$B$8:$B$57,$A23,'Action Plan'!$F$8:$F$57,"<>",'Action Plan'!$I$8:$I$57,"<>Complete"))) | I23: =VALUE(LEFT($A23,FIND(".",$A23)-1)) -> 2 | J23: =IF(AND($C23<>"",$D23="Yes"),COUNTIFS($D$8:$D23,"Yes",$C$8:$C23,"<>"),"")
A24: 3.1 | B24: =INDEX(Scoring!$B$23:$B$29,$I24)&"" -> Project Data | C24: Current and superseded documents are clearly identified. | G24: =IF($C24="",IF(OR($E24<>"",$F24<>""),"Criterion missing",""),IF(AND($E24<>"",$E24<>"N/A",OR(NOT(ISNUMBER($E24)),$E24<0,$E24>3)),"Invalid rating",IF(AND($D24="Yes",$E24="N/A"),"Must-meet cannot be N/A",IF(AND(ISNUMBER($E24),$E24>=2,$E24<=3,TRIM($F24)=""),"Evidence required","")))) | H24: =IF($C24="","",IF(COUNTIFS('Action Plan'!$B$8:$B$57,$A24,'Action Plan'!$F$8:$F$57,"<>",'Action Plan'!$I$8:$I$57,"<>Complete")=0,"",COUNTIFS('Action Plan'!$B$8:$B$57,$A24,'Action Plan'!$F$8:$F$57,"<>",'Action Plan'!$I$8:$I$57,"<>Complete"))) | I24: =VALUE(LEFT($A24,FIND(".",$A24)-1)) -> 3 | J24: =IF(AND($C24<>"",$D24="Yes"),COUNTIFS($D$8:$D24,"Yes",$C$8:$C24,"<>"),"")
A25: 3.2 | B25: =INDEX(Scoring!$B$23:$B$29,$I25)&"" -> Project Data | C25: Approved budget, forecast and pending change orders are recorded separately. | G25: =IF($C25="",IF(OR($E25<>"",$F25<>""),"Criterion missing",""),IF(AND($E25<>"",$E25<>"N/A",OR(NOT(ISNUMBER($E25)),$E25<0,$E25>3)),"Invalid rating",IF(AND($D25="Yes",$E25="N/A"),"Must-meet cannot be N/A",IF(AND(ISNUMBER($E25),$E25>=2,$E25<=3,TRIM($F25)=""),"Evidence required","")))) | H25: =IF($C25="","",IF(COUNTIFS('Action Plan'!$B$8:$B$57,$A25,'Action Plan'!$F$8:$F$57,"<>",'Action Plan'!$I$8:$I$57,"<>Complete")=0,"",COUNTIFS('Action Plan'!$B$8:$B$57,$A25,'Action Plan'!$F$8:$F$57,"<>",'Action Plan'!$I$8:$I$57,"<>Complete"))) | I25: =VALUE(LEFT($A25,FIND(".",$A25)-1)) -> 3 | J25: =IF(AND($C25<>"",$D25="Yes"),COUNTIFS($D$8:$D25,"Yes",$C$8:$C25,"<>"),"")
A26: 3.3 | B26: =INDEX(Scoring!$B$23:$B$29,$I26)&"" -> Project Data | C26: Project IDs, cost codes and WBS codes match across systems. | G26: =IF($C26="",IF(OR($E26<>"",$F26<>""),"Criterion missing",""),IF(AND($E26<>"",$E26<>"N/A",OR(NOT(ISNUMBER($E26)),$E26<0,$E26>3)),"Invalid rating",IF(AND($D26="Yes",$E26="N/A"),"Must-meet cannot be N/A",IF(AND(ISNUMBER($E26),$E26>=2,$E26<=3,TRIM($F26)=""),"Evidence required","")))) | H26: =IF($C26="","",IF(COUNTIFS('Action Plan'!$B$8:$B$57,$A26,'Action Plan'!$F$8:$F$57,"<>",'Action Plan'!$I$8:$I$57,"<>Complete")=0,"",COUNTIFS('Action Plan'!$B$8:$B$57,$A26,'Action Plan'!$F$8:$F$57,"<>",'Action Plan'!$I$8:$I$57,"<>Complete"))) | I26: =VALUE(LEFT($A26,FIND(".",$A26)-1)) -> 3 | J26: =IF(AND($C26<>"",$D26="Yes"),COUNTIFS($D$8:$D26,"Yes",$C$8:$C26,"<>"),"")
A27: 3.4 | B27: =INDEX(Scoring!$B$23:$B$29,$I27)&"" -> Project Data | C27: Records show the reporting period and date of last update. | G27: =IF($C27="",IF(OR($E27<>"",$F27<>""),"Criterion missing",""),IF(AND($E27<>"",$E27<>"N/A",OR(NOT(ISNUMBER($E27)),$E27<0,$E27>3)),"Invalid rating",IF(AND($D27="Yes",$E27="N/A"),"Must-meet cannot be N/A",IF(AND(ISNUMBER($E27),$E27>=2,$E27<=3,TRIM($F27)=""),"Evidence required","")))) | H27: =IF($C27="","",IF(COUNTIFS('Action Plan'!$B$8:$B$57,$A27,'Action Plan'!$F$8:$F$57,"<>",'Action Plan'!$I$8:$I$57,"<>Complete")=0,"",COUNTIFS('Action Plan'!$B$8:$B$57,$A27,'Action Plan'!$F$8:$F$57,"<>",'Action Plan'!$I$8:$I$57,"<>Complete"))) | I27: =VALUE(LEFT($A27,FIND(".",$A27)-1)) -> 3 | J27: =IF(AND($C27<>"",$D27="Yes"),COUNTIFS($D$8:$D27,"Yes",$C$8:$C27,"<>"),"")
A28: 3.5 | B28: =INDEX(Scoring!$B$23:$B$29,$I28)&"" -> Project Data | C28: A data owner is named for each register and system. | G28: =IF($C28="",IF(OR($E28<>"",$F28<>""),"Criterion missing",""),IF(AND($E28<>"",$E28<>"N/A",OR(NOT(ISNUMBER($E28)),$E28<0,$E28>3)),"Invalid rating",IF(AND($D28="Yes",$E28="N/A"),"Must-meet cannot be N/A",IF(AND(ISNUMBER($E28),$E28>=2,$E28<=3,TRIM($F28)=""),"Evidence required","")))) | H28: =IF($C28="","",IF(COUNTIFS('Action Plan'!$B$8:$B$57,$A28,'Action Plan'!$F$8:$F$57,"<>",'Action Plan'!$I$8:$I$57,"<>Complete")=0,"",COUNTIFS('Action Plan'!$B$8:$B$57,$A28,'Action Plan'!$F$8:$F$57,"<>",'Action Plan'!$I$8:$I$57,"<>Complete"))) | I28: =VALUE(LEFT($A28,FIND(".",$A28)-1)) -> 3 | J28: =IF(AND($C28<>"",$D28="Yes"),COUNTIFS($D$8:$D28,"Yes",$C$8:$C28,"<>"),"")
A29: 3.6 | B29: =INDEX(Scoring!$B$23:$B$29,$I29)&"" -> Project Data | C29: Project information is kept in one system of record, such as a PMIS or CDE. | G29: =IF($C29="",IF(OR($E29<>"",$F29<>""),"Criterion missing",""),IF(AND($E29<>"",$E29<>"N/A",OR(NOT(ISNUMBER($E29)),$E29<0,$E29>3)),"Invalid rating",IF(AND($D29="Yes",$E29="N/A"),"Must-meet cannot be N/A",IF(AND(ISNUMBER($E29),$E29>=2,$E29<=3,TRIM($F29)=""),"Evidence required","")))) | H29: =IF($C29="","",IF(COUNTIFS('Action Plan'!$B$8:$B$57,$A29,'Action Plan'!$F$8:$F$57,"<>",'Action Plan'!$I$8:$I$57,"<>Complete")=0,"",COUNTIFS('Action Plan'!$B$8:$B$57,$A29,'Action Plan'!$F$8:$F$57,"<>",'Action Plan'!$I$8:$I$57,"<>Complete"))) | I29: =VALUE(LEFT($A29,FIND(".",$A29)-1)) -> 3 | J29: =IF(AND($C29<>"",$D29="Yes"),COUNTIFS($D$8:$D29,"Yes",$C$8:$C29,"<>"),"")
A30: 3.7 | B30: =INDEX(Scoring!$B$23:$B$29,$I30)&"" -> Project Data | G30: =IF($C30="",IF(OR($E30<>"",$F30<>""),"Criterion missing",""),IF(AND($E30<>"",$E30<>"N/A",OR(NOT(ISNUMBER($E30)),$E30<0,$E30>3)),"Invalid rating",IF(AND($D30="Yes",$E30="N/A"),"Must-meet cannot be N/A",IF(AND(ISNUMBER($E30),$E30>=2,$E30<=3,TRIM($F30)=""),"Evidence required","")))) | H30: =IF($C30="","",IF(COUNTIFS('Action Plan'!$B$8:$B$57,$A30,'Action Plan'!$F$8:$F$57,"<>",'Action Plan'!$I$8:$I$57,"<>Complete")=0,"",COUNTIFS('Action Plan'!$B$8:$B$57,$A30,'Action Plan'!$F$8:$F$57,"<>",'Action Plan'!$I$8:$I$57,"<>Complete"))) | I30: =VALUE(LEFT($A30,FIND(".",$A30)-1)) -> 3 | J30: =IF(AND($C30<>"",$D30="Yes"),COUNTIFS($D$8:$D30,"Yes",$C$8:$C30,"<>"),"")
A31: 3.8 | B31: =INDEX(Scoring!$B$23:$B$29,$I31)&"" -> Project Data | G31: =IF($C31="",IF(OR($E31<>"",$F31<>""),"Criterion missing",""),IF(AND($E31<>"",$E31<>"N/A",OR(NOT(ISNUMBER($E31)),$E31<0,$E31>3)),"Invalid rating",IF(AND($D31="Yes",$E31="N/A"),"Must-meet cannot be N/A",IF(AND(ISNUMBER($E31),$E31>=2,$E31<=3,TRIM($F31)=""),"Evidence required","")))) | H31: =IF($C31="","",IF(COUNTIFS('Action Plan'!$B$8:$B$57,$A31,'Action Plan'!$F$8:$F$57,"<>",'Action Plan'!$I$8:$I$57,"<>Complete")=0,"",COUNTIFS('Action Plan'!$B$8:$B$57,$A31,'Action Plan'!$F$8:$F$57,"<>",'Action Plan'!$I$8:$I$57,"<>Complete"))) | I31: =VALUE(LEFT($A31,FIND(".",$A31)-1)) -> 3 | J31: =IF(AND($C31<>"",$D31="Yes"),COUNTIFS($D$8:$D31,"Yes",$C$8:$C31,"<>"),"")
A32: 4.1 | B32: =INDEX(Scoring!$B$23:$B$29,$I32)&"" -> Systems and Integration | C32: Project systems are listed: PMIS, cost, schedule, document control and ERP. | G32: =IF($C32="",IF(OR($E32<>"",$F32<>""),"Criterion missing",""),IF(AND($E32<>"",$E32<>"N/A",OR(NOT(ISNUMBER($E32)),$E32<0,$E32>3)),"Invalid rating",IF(AND($D32="Yes",$E32="N/A"),"Must-meet cannot be N/A",IF(AND(ISNUMBER($E32),$E32>=2,$E32<=3,TRIM($F32)=""),"Evidence required","")))) | H32: =IF($C32="","",IF(COUNTIFS('Action Plan'!$B$8:$B$57,$A32,'Action Plan'!$F$8:$F$57,"<>",'Action Plan'!$I$8:$I$57,"<>Complete")=0,"",COUNTIFS('Action Plan'!$B$8:$B$57,$A32,'Action Plan'!$F$8:$F$57,"<>",'Action Plan'!$I$8:$I$57,"<>Complete"))) | I32: =VALUE(LEFT($A32,FIND(".",$A32)-1)) -> 4 | J32: =IF(AND($C32<>"",$D32="Yes"),COUNTIFS($D$8:$D32,"Yes",$C$8:$C32,"<>"),"")
A33: 4.2 | B33: =INDEX(Scoring!$B$23:$B$29,$I33)&"" -> Systems and Integration | C33: A controlled export or API exists for each data source. | G33: =IF($C33="",IF(OR($E33<>"",$F33<>""),"Criterion missing",""),IF(AND($E33<>"",$E33<>"N/A",OR(NOT(ISNUMBER($E33)),$E33<0,$E33>3)),"Invalid rating",IF(AND($D33="Yes",$E33="N/A"),"Must-meet cannot be N/A",IF(AND(ISNUMBER($E33),$E33>=2,$E33<=3,TRIM($F33)=""),"Evidence required","")))) | H33: =IF($C33="","",IF(COUNTIFS('Action Plan'!$B$8:$B$57,$A33,'Action Plan'!$F$8:$F$57,"<>",'Action Plan'!$I$8:$I$57,"<>Complete")=0,"",COUNTIFS('Action Plan'!$B$8:$B$57,$A33,'Action Plan'!$F$8:$F$57,"<>",'Action Plan'!$I$8:$I$57,"<>Complete"))) | I33: =VALUE(LEFT($A33,FIND(".",$A33)-1)) -> 4 | J33: =IF(AND($C33<>"",$D33="Yes"),COUNTIFS($D$8:$D33,"Yes",$C$8:$C33,"<>"),"")
A34: 4.3 | B34: =INDEX(Scoring!$B$23:$B$29,$I34)&"" -> Systems and Integration | C34: IDs, dates and revision status survive transfer between systems. | G34: =IF($C34="",IF(OR($E34<>"",$F34<>""),"Criterion missing",""),IF(AND($E34<>"",$E34<>"N/A",OR(NOT(ISNUMBER($E34)),$E34<0,$E34>3)),"Invalid rating",IF(AND($D34="Yes",$E34="N/A"),"Must-meet cannot be N/A",IF(AND(ISNUMBER($E34),$E34>=2,$E34<=3,TRIM($F34)=""),"Evidence required","")))) | H34: =IF($C34="","",IF(COUNTIFS('Action Plan'!$B$8:$B$57,$A34,'Action Plan'!$F$8:$F$57,"<>",'Action Plan'!$I$8:$I$57,"<>Complete")=0,"",COUNTIFS('Action Plan'!$B$8:$B$57,$A34,'Action Plan'!$F$8:$F$57,"<>",'Action Plan'!$I$8:$I$57,"<>Complete"))) | I34: =VALUE(LEFT($A34,FIND(".",$A34)-1)) -> 4 | J34: =IF(AND($C34<>"",$D34="Yes"),COUNTIFS($D$8:$D34,"Yes",$C$8:$C34,"<>"),"")
A35: 4.4 | B35: =INDEX(Scoring!$B$23:$B$29,$I35)&"" -> Systems and Integration | C35: Access restrictions carry over to connected AI tools. | G35: =IF($C35="",IF(OR($E35<>"",$F35<>""),"Criterion missing",""),IF(AND($E35<>"",$E35<>"N/A",OR(NOT(ISNUMBER($E35)),$E35<0,$E35>3)),"Invalid rating",IF(AND($D35="Yes",$E35="N/A"),"Must-meet cannot be N/A",IF(AND(ISNUMBER($E35),$E35>=2,$E35<=3,TRIM($F35)=""),"Evidence required","")))) | H35: =IF($C35="","",IF(COUNTIFS('Action Plan'!$B$8:$B$57,$A35,'Action Plan'!$F$8:$F$57,"<>",'Action Plan'!$I$8:$I$57,"<>Complete")=0,"",COUNTIFS('Action Plan'!$B$8:$B$57,$A35,'Action Plan'!$F$8:$F$57,"<>",'Action Plan'!$I$8:$I$57,"<>Complete"))) | I35: =VALUE(LEFT($A35,FIND(".",$A35)-1)) -> 4 | J35: =IF(AND($C35<>"",$D35="Yes"),COUNTIFS($D$8:$D35,"Yes",$C$8:$C35,"<>"),"")
A36: 4.5 | B36: =INDEX(Scoring!$B$23:$B$29,$I36)&"" -> Systems and Integration | C36: Records stay usable if the AI tool is replaced. | G36: =IF($C36="",IF(OR($E36<>"",$F36<>""),"Criterion missing",""),IF(AND($E36<>"",$E36<>"N/A",OR(NOT(ISNUMBER($E36)),$E36<0,$E36>3)),"Invalid rating",IF(AND($D36="Yes",$E36="N/A"),"Must-meet cannot be N/A",IF(AND(ISNUMBER($E36),$E36>=2,$E36<=3,TRIM($F36)=""),"Evidence required","")))) | H36: =IF($C36="","",IF(COUNTIFS('Action Plan'!$B$8:$B$57,$A36,'Action Plan'!$F$8:$F$57,"<>",'Action Plan'!$I$8:$I$57,"<>Complete")=0,"",COUNTIFS('Action Plan'!$B$8:$B$57,$A36,'Action Plan'!$F$8:$F$57,"<>",'Action Plan'!$I$8:$I$57,"<>Complete"))) | I36: =VALUE(LEFT($A36,FIND(".",$A36)-1)) -> 4 | J36: =IF(AND($C36<>"",$D36="Yes"),COUNTIFS($D$8:$D36,"Yes",$C$8:$C36,"<>"),"")
A37: 4.6 | B37: =INDEX(Scoring!$B$23:$B$29,$I37)&"" -> Systems and Integration | G37: =IF($C37="",IF(OR($E37<>"",$F37<>""),"Criterion missing",""),IF(AND($E37<>"",$E37<>"N/A",OR(NOT(ISNUMBER($E37)),$E37<0,$E37>3)),"Invalid rating",IF(AND($D37="Yes",$E37="N/A"),"Must-meet cannot be N/A",IF(AND(ISNUMBER($E37),$E37>=2,$E37<=3,TRIM($F37)=""),"Evidence required","")))) | H37: =IF($C37="","",IF(COUNTIFS('Action Plan'!$B$8:$B$57,$A37,'Action Plan'!$F$8:$F$57,"<>",'Action Plan'!$I$8:$I$57,"<>Complete")=0,"",COUNTIFS('Action Plan'!$B$8:$B$57,$A37,'Action Plan'!$F$8:$F$57,"<>",'Action Plan'!$I$8:$I$57,"<>Complete"))) | I37: =VALUE(LEFT($A37,FIND(".",$A37)-1)) -> 4 | J37: =IF(AND($C37<>"",$D37="Yes"),COUNTIFS($D$8:$D37,"Yes",$C$8:$C37,"<>"),"")
A38: 4.7 | B38: =INDEX(Scoring!$B$23:$B$29,$I38)&"" -> Systems and Integration | G38: =IF($C38="",IF(OR($E38<>"",$F38<>""),"Criterion missing",""),IF(AND($E38<>"",$E38<>"N/A",OR(NOT(ISNUMBER($E38)),$E38<0,$E38>3)),"Invalid rating",IF(AND($D38="Yes",$E38="N/A"),"Must-meet cannot be N/A",IF(AND(ISNUMBER($E38),$E38>=2,$E38<=3,TRIM($F38)=""),"Evidence required","")))) | H38: =IF($C38="","",IF(COUNTIFS('Action Plan'!$B$8:$B$57,$A38,'Action Plan'!$F$8:$F$57,"<>",'Action Plan'!$I$8:$I$57,"<>Complete")=0,"",COUNTIFS('Action Plan'!$B$8:$B$57,$A38,'Action Plan'!$F$8:$F$57,"<>",'Action Plan'!$I$8:$I$57,"<>Complete"))) | I38: =VALUE(LEFT($A38,FIND(".",$A38)-1)) -> 4 | J38: =IF(AND($C38<>"",$D38="Yes"),COUNTIFS($D$8:$D38,"Yes",$C$8:$C38,"<>"),"")
A39: 5.1 | B39: =INDEX(Scoring!$B$23:$B$29,$I39)&"" -> People and Skills | C39: Staff have completed basic AI training. | G39: =IF($C39="",IF(OR($E39<>"",$F39<>""),"Criterion missing",""),IF(AND($E39<>"",$E39<>"N/A",OR(NOT(ISNUMBER($E39)),$E39<0,$E39>3)),"Invalid rating",IF(AND($D39="Yes",$E39="N/A"),"Must-meet cannot be N/A",IF(AND(ISNUMBER($E39),$E39>=2,$E39<=3,TRIM($F39)=""),"Evidence required","")))) | H39: =IF($C39="","",IF(COUNTIFS('Action Plan'!$B$8:$B$57,$A39,'Action Plan'!$F$8:$F$57,"<>",'Action Plan'!$I$8:$I$57,"<>Complete")=0,"",COUNTIFS('Action Plan'!$B$8:$B$57,$A39,'Action Plan'!$F$8:$F$57,"<>",'Action Plan'!$I$8:$I$57,"<>Complete"))) | I39: =VALUE(LEFT($A39,FIND(".",$A39)-1)) -> 5 | J39: =IF(AND($C39<>"",$D39="Yes"),COUNTIFS($D$8:$D39,"Yes",$C$8:$C39,"<>"),"")
A40: 5.2 | B40: =INDEX(Scoring!$B$23:$B$29,$I40)&"" -> People and Skills | C40: Reviewers can check AI outputs against source records. | G40: =IF($C40="",IF(OR($E40<>"",$F40<>""),"Criterion missing",""),IF(AND($E40<>"",$E40<>"N/A",OR(NOT(ISNUMBER($E40)),$E40<0,$E40>3)),"Invalid rating",IF(AND($D40="Yes",$E40="N/A"),"Must-meet cannot be N/A",IF(AND(ISNUMBER($E40),$E40>=2,$E40<=3,TRIM($F40)=""),"Evidence required","")))) | H40: =IF($C40="","",IF(COUNTIFS('Action Plan'!$B$8:$B$57,$A40,'Action Plan'!$F$8:$F$57,"<>",'Action Plan'!$I$8:$I$57,"<>Complete")=0,"",COUNTIFS('Action Plan'!$B$8:$B$57,$A40,'Action Plan'!$F$8:$F$57,"<>",'Action Plan'!$I$8:$I$57,"<>Complete"))) | I40: =VALUE(LEFT($A40,FIND(".",$A40)-1)) -> 5 | J40: =IF(AND($C40<>"",$D40="Yes"),COUNTIFS($D$8:$D40,"Yes",$C$8:$C40,"<>"),"")
A41: 5.3 | B41: =INDEX(Scoring!$B$23:$B$29,$I41)&"" -> People and Skills | C41: A named reviewer and backup cover each AI output. | D41: Yes | G41: =IF($C41="",IF(OR($E41<>"",$F41<>""),"Criterion missing",""),IF(AND($E41<>"",$E41<>"N/A",OR(NOT(ISNUMBER($E41)),$E41<0,$E41>3)),"Invalid rating",IF(AND($D41="Yes",$E41="N/A"),"Must-meet cannot be N/A",IF(AND(ISNUMBER($E41),$E41>=2,$E41<=3,TRIM($F41)=""),"Evidence required","")))) | H41: =IF($C41="","",IF(COUNTIFS('Action Plan'!$B$8:$B$57,$A41,'Action Plan'!$F$8:$F$57,"<>",'Action Plan'!$I$8:$I$57,"<>Complete")=0,"",COUNTIFS('Action Plan'!$B$8:$B$57,$A41,'Action Plan'!$F$8:$F$57,"<>",'Action Plan'!$I$8:$I$57,"<>Complete"))) | I41: =VALUE(LEFT($A41,FIND(".",$A41)-1)) -> 5 | J41: =IF(AND($C41<>"",$D41="Yes"),COUNTIFS($D$8:$D41,"Yes",$C$8:$C41,"<>"),"") -> 1
A42: 5.4 | B42: =INDEX(Scoring!$B$23:$B$29,$I42)&"" -> People and Skills | C42: Reviewers have capacity around reporting deadlines. | G42: =IF($C42="",IF(OR($E42<>"",$F42<>""),"Criterion missing",""),IF(AND($E42<>"",$E42<>"N/A",OR(NOT(ISNUMBER($E42)),$E42<0,$E42>3)),"Invalid rating",IF(AND($D42="Yes",$E42="N/A"),"Must-meet cannot be N/A",IF(AND(ISNUMBER($E42),$E42>=2,$E42<=3,TRIM($F42)=""),"Evidence required","")))) | H42: =IF($C42="","",IF(COUNTIFS('Action Plan'!$B$8:$B$57,$A42,'Action Plan'!$F$8:$F$57,"<>",'Action Plan'!$I$8:$I$57,"<>Complete")=0,"",COUNTIFS('Action Plan'!$B$8:$B$57,$A42,'Action Plan'!$F$8:$F$57,"<>",'Action Plan'!$I$8:$I$57,"<>Complete"))) | I42: =VALUE(LEFT($A42,FIND(".",$A42)-1)) -> 5 | J42: =IF(AND($C42<>"",$D42="Yes"),COUNTIFS($D$8:$D42,"Yes",$C$8:$C42,"<>"),"")
...

Sheet Use Case Register
A1: USE CASE REGISTER
A3: Organization | C3: =IF(Dashboard!$D$5="","",Dashboard!$D$5)
A4: Assessment Date | C4: =IF(Dashboard!$S$5="","",Dashboard!$S$5)
A6: USE CASES
A7: Ref | B7: Use Case | C7: Use Case Owner | D7: Value | E7: Baseline | F7: Data Quality | G7: Permissions | H7: Integration | I7: Roles Assigned | J7: Output Testing | K7: Cost and Capacity | L7: Pilot Plan | M7: Readiness | N7: Recommendation | O7: Decision | P7: Decision Check | Q7: Priority Score | R7: Open Actions
A8: UC-01 | M8: =IF(OR($B8="",COUNTA($E8:$L8)=0),"",(COUNTIF($E8:$L8,"Met")+0.5*COUNTIF($E8:$L8,"Partial"))/8) | N8: =IF($B8="","",IF(COUNTA($E8:$L8)<8,"Incomplete",IF(AND(COUNTIF($E8:$L8,"Met")=8,Dashboard!$R$10="Met"),"Ready for Pilot","Preparation Required"))) | P8: =IF(OR($B8="",$O8<>"Proceed to Pilot"),"",IF($N8="Preparation Required","Gaps open",IF($N8="Incomplete","Checks incomplete",""))) | Q8: =IF(OR($B8="",$N8="Incomplete",NOT(ISNUMBER($D8))),"",ROUND($D8*$M8*20,0)) | R8: =IF($B8="","",IF(COUNTIFS('Action Plan'!$B$8:$B$57,$A8,'Action Plan'!$F$8:$F$57,"<>",'Action Plan'!$I$8:$I$57,"<>Complete")=0,"",COUNTIFS('Action Plan'!$B$8:$B$57,$A8,'Action Plan'!$F$8:$F$57,"<>",'Action Plan'!$I$8:$I$57,"<>Complete"))) | S8: =IF(ISNUMBER($Q8),$Q8+(100-ROW())/10000,"")
A9: UC-02 | M9: =IF(OR($B9="",COUNTA($E9:$L9)=0),"",(COUNTIF($E9:$L9,"Met")+0.5*COUNTIF($E9:$L9,"Partial"))/8) | N9: =IF($B9="","",IF(COUNTA($E9:$L9)<8,"Incomplete",IF(AND(COUNTIF($E9:$L9,"Met")=8,Dashboard!$R$10="Met"),"Ready for Pilot","Preparation Required"))) | P9: =IF(OR($B9="",$O9<>"Proceed to Pilot"),"",IF($N9="Preparation Required","Gaps open",IF($N9="Incomplete","Checks incomplete",""))) | Q9: =IF(OR($B9="",$N9="Incomplete",NOT(ISNUMBER($D9))),"",ROUND($D9*$M9*20,0)) | R9: =IF($B9="","",IF(COUNTIFS('Action Plan'!$B$8:$B$57,$A9,'Action Plan'!$F$8:$F$57,"<>",'Action Plan'!$I$8:$I$57,"<>Complete")=0,"",COUNTIFS('Action Plan'!$B$8:$B$57,$A9,'Action Plan'!$F$8:$F$57,"<>",'Action Plan'!$I$8:$I$57,"<>Complete"))) | S9: =IF(ISNUMBER($Q9),$Q9+(100-ROW())/10000,"")
A10: UC-03 | M10: =IF(OR($B10="",COUNTA($E10:$L10)=0),"",(COUNTIF($E10:$L10,"Met")+0.5*COUNTIF($E10:$L10,"Partial"))/8) | N10: =IF($B10="","",IF(COUNTA($E10:$L10)<8,"Incomplete",IF(AND(COUNTIF($E10:$L10,"Met")=8,Dashboard!$R$10="Met"),"Ready for Pilot","Preparation Required"))) | P10: =IF(OR($B10="",$O10<>"Proceed to Pilot"),"",IF($N10="Preparation Required","Gaps open",IF($N10="Incomplete","Checks incomplete",""))) | Q10: =IF(OR($B10="",$N10="Incomplete",NOT(ISNUMBER($D10))),"",ROUND($D10*$M10*20,0)) | R10: =IF($B10="","",IF(COUNTIFS('Action Plan'!$B$8:$B$57,$A10,'Action Plan'!$F$8:$F$57,"<>",'Action Plan'!$I$8:$I$57,"<>Complete")=0,"",COUNTIFS('Action Plan'!$B$8:$B$57,$A10,'Action Plan'!$F$8:$F$57,"<>",'Action Plan'!$I$8:$I$57,"<>Complete"))) | S10: =IF(ISNUMBER($Q10),$Q10+(100-ROW())/10000,"")
A11: UC-04 | M11: =IF(OR($B11="",COUNTA($E11:$L11)=0),"",(COUNTIF($E11:$L11,"Met")+0.5*COUNTIF($E11:$L11,"Partial"))/8) | N11: =IF($B11="","",IF(COUNTA($E11:$L11)<8,"Incomplete",IF(AND(COUNTIF($E11:$L11,"Met")=8,Dashboard!$R$10="Met"),"Ready for Pilot","Preparation Required"))) | P11: =IF(OR($B11="",$O11<>"Proceed to Pilot"),"",IF($N11="Preparation Required","Gaps open",IF($N11="Incomplete","Checks incomplete",""))) | Q11: =IF(OR($B11="",$N11="Incomplete",NOT(ISNUMBER($D11))),"",ROUND($D11*$M11*20,0)) | R11: =IF($B11="","",IF(COUNTIFS('Action Plan'!$B$8:$B$57,$A11,'Action Plan'!$F$8:$F$57,"<>",'Action Plan'!$I$8:$I$57,"<>Complete")=0,"",COUNTIFS('Action Plan'!$B$8:$B$57,$A11,'Action Plan'!$F$8:$F$57,"<>",'Action Plan'!$I$8:$I$57,"<>Complete"))) | S11: =IF(ISNUMBER($Q11),$Q11+(100-ROW())/10000,"")
A12: UC-05 | M12: =IF(OR($B12="",COUNTA($E12:$L12)=0),"",(COUNTIF($E12:$L12,"Met")+0.5*COUNTIF($E12:$L12,"Partial"))/8) | N12: =IF($B12="","",IF(COUNTA($E12:$L12)<8,"Incomplete",IF(AND(COUNTIF($E12:$L12,"Met")=8,Dashboard!$R$10="Met"),"Ready for Pilot","Preparation Required"))) | P12: =IF(OR($B12="",$O12<>"Proceed to Pilot"),"",IF($N12="Preparation Required","Gaps open",IF($N12="Incomplete","Checks incomplete",""))) | Q12: =IF(OR($B12="",$N12="Incomplete",NOT(ISNUMBER($D12))),"",ROUND($D12*$M12*20,0)) | R12: =IF($B12="","",IF(COUNTIFS('Action Plan'!$B$8:$B$57,$A12,'Action Plan'!$F$8:$F$57,"<>",'Action Plan'!$I$8:$I$57,"<>Complete")=0,"",COUNTIFS('Action Plan'!$B$8:$B$57,$A12,'Action Plan'!$F$8:$F$57,"<>",'Action Plan'!$I$8:$I$57,"<>Complete"))) | S12: =IF(ISNUMBER($Q12),$Q12+(100-ROW())/10000,"")
A13: UC-06 | M13: =IF(OR($B13="",COUNTA($E13:$L13)=0),"",(COUNTIF($E13:$L13,"Met")+0.5*COUNTIF($E13:$L13,"Partial"))/8) | N13: =IF($B13="","",IF(COUNTA($E13:$L13)<8,"Incomplete",IF(AND(COUNTIF($E13:$L13,"Met")=8,Dashboard!$R$10="Met"),"Ready for Pilot","Preparation Required"))) | P13: =IF(OR($B13="",$O13<>"Proceed to Pilot"),"",IF($N13="Preparation Required","Gaps open",IF($N13="Incomplete","Checks incomplete",""))) | Q13: =IF(OR($B13="",$N13="Incomplete",NOT(ISNUMBER($D13))),"",ROUND($D13*$M13*20,0)) | R13: =IF($B13="","",IF(COUNTIFS('Action Plan'!$B$8:$B$57,$A13,'Action Plan'!$F$8:$F$57,"<>",'Action Plan'!$I$8:$I$57,"<>Complete")=0,"",COUNTIFS('Action Plan'!$B$8:$B$57,$A13,'Action Plan'!$F$8:$F$57,"<>",'Action Plan'!$I$8:$I$57,"<>Complete"))) | S13: =IF(ISNUMBER($Q13),$Q13+(100-ROW())/10000,"")
A14: UC-07 | M14: =IF(OR($B14="",COUNTA($E14:$L14)=0),"",(COUNTIF($E14:$L14,"Met")+0.5*COUNTIF($E14:$L14,"Partial"))/8) | N14: =IF($B14="","",IF(COUNTA($E14:$L14)<8,"Incomplete",IF(AND(COUNTIF($E14:$L14,"Met")=8,Dashboard!$R$10="Met"),"Ready for Pilot","Preparation Required"))) | P14: =IF(OR($B14="",$O14<>"Proceed to Pilot"),"",IF($N14="Preparation Required","Gaps open",IF($N14="Incomplete","Checks incomplete",""))) | Q14: =IF(OR($B14="",$N14="Incomplete",NOT(ISNUMBER($D14))),"",ROUND($D14*$M14*20,0)) | R14: =IF($B14="","",IF(COUNTIFS('Action Plan'!$B$8:$B$57,$A14,'Action Plan'!$F$8:$F$57,"<>",'Action Plan'!$I$8:$I$57,"<>Complete")=0,"",COUNTIFS('Action Plan'!$B$8:$B$57,$A14,'Action Plan'!$F$8:$F$57,"<>",'Action Plan'!$I$8:$I$57,"<>Complete"))) | S14: =IF(ISNUMBER($Q14),$Q14+(100-ROW())/10000,"")
A15: UC-08 | M15: =IF(OR($B15="",COUNTA($E15:$L15)=0),"",(COUNTIF($E15:$L15,"Met")+0.5*COUNTIF($E15:$L15,"Partial"))/8) | N15: =IF($B15="","",IF(COUNTA($E15:$L15)<8,"Incomplete",IF(AND(COUNTIF($E15:$L15,"Met")=8,Dashboard!$R$10="Met"),"Ready for Pilot","Preparation Required"))) | P15: =IF(OR($B15="",$O15<>"Proceed to Pilot"),"",IF($N15="Preparation Required","Gaps open",IF($N15="Incomplete","Checks incomplete",""))) | Q15: =IF(OR($B15="",$N15="Incomplete",NOT(ISNUMBER($D15))),"",ROUND($D15*$M15*20,0)) | R15: =IF($B15="","",IF(COUNTIFS('Action Plan'!$B$8:$B$57,$A15,'Action Plan'!$F$8:$F$57,"<>",'Action Plan'!$I$8:$I$57,"<>Complete")=0,"",COUNTIFS('Action Plan'!$B$8:$B$57,$A15,'Action Plan'!$F$8:$F$57,"<>",'Action Plan'!$I$8:$I$57,"<>Complete"))) | S15: =IF(ISNUMBER($Q15),$Q15+(100-ROW())/10000,"")
A16: UC-09 | M16: =IF(OR($B16="",COUNTA($E16:$L16)=0),"",(COUNTIF($E16:$L16,"Met")+0.5*COUNTIF($E16:$L16,"Partial"))/8) | N16: =IF($B16="","",IF(COUNTA($E16:$L16)<8,"Incomplete",IF(AND(COUNTIF($E16:$L16,"Met")=8,Dashboard!$R$10="Met"),"Ready for Pilot","Preparation Required"))) | P16: =IF(OR($B16="",$O16<>"Proceed to Pilot"),"",IF($N16="Preparation Required","Gaps open",IF($N16="Incomplete","Checks incomplete",""))) | Q16: =IF(OR($B16="",$N16="Incomplete",NOT(ISNUMBER($D16))),"",ROUND($D16*$M16*20,0)) | R16: =IF($B16="","",IF(COUNTIFS('Action Plan'!$B$8:$B$57,$A16,'Action Plan'!$F$8:$F$57,"<>",'Action Plan'!$I$8:$I$57,"<>Complete")=0,"",COUNTIFS('Action Plan'!$B$8:$B$57,$A16,'Action Plan'!$F$8:$F$57,"<>",'Action Plan'!$I$8:$I$57,"<>Complete"))) | S16: =IF(ISNUMBER($Q16),$Q16+(100-ROW())/10000,"")
A17: UC-10 | M17: =IF(OR($B17="",COUNTA($E17:$L17)=0),"",(COUNTIF($E17:$L17,"Met")+0.5*COUNTIF($E17:$L17,"Partial"))/8) | N17: =IF($B17="","",IF(COUNTA($E17:$L17)<8,"Incomplete",IF(AND(COUNTIF($E17:$L17,"Met")=8,Dashboard!$R$10="Met"),"Ready for Pilot","Preparation Required"))) | P17: =IF(OR($B17="",$O17<>"Proceed to Pilot"),"",IF($N17="Preparation Required","Gaps open",IF($N17="Incomplete","Checks incomplete",""))) | Q17: =IF(OR($B17="",$N17="Incomplete",NOT(ISNUMBER($D17))),"",ROUND($D17*$M17*20,0)) | R17: =IF($B17="","",IF(COUNTIFS('Action Plan'!$B$8:$B$57,$A17,'Action Plan'!$F$8:$F$57,"<>",'Action Plan'!$I$8:$I$57,"<>Complete")=0,"",COUNTIFS('Action Plan'!$B$8:$B$57,$A17,'Action Plan'!$F$8:$F$57,"<>",'Action Plan'!$I$8:$I$57,"<>Complete"))) | S17: =IF(ISNUMBER($Q17),$Q17+(100-ROW())/10000,"")
A18: UC-11 | M18: =IF(OR($B18="",COUNTA($E18:$L18)=0),"",(COUNTIF($E18:$L18,"Met")+0.5*COUNTIF($E18:$L18,"Partial"))/8) | N18: =IF($B18="","",IF(COUNTA($E18:$L18)<8,"Incomplete",IF(AND(COUNTIF($E18:$L18,"Met")=8,Dashboard!$R$10="Met"),"Ready for Pilot","Preparation Required"))) | P18: =IF(OR($B18="",$O18<>"Proceed to Pilot"),"",IF($N18="Preparation Required","Gaps open",IF($N18="Incomplete","Checks incomplete",""))) | Q18: =IF(OR($B18="",$N18="Incomplete",NOT(ISNUMBER($D18))),"",ROUND($D18*$M18*20,0)) | R18: =IF($B18="","",IF(COUNTIFS('Action Plan'!$B$8:$B$57,$A18,'Action Plan'!$F$8:$F$57,"<>",'Action Plan'!$I$8:$I$57,"<>Complete")=0,"",COUNTIFS('Action Plan'!$B$8:$B$57,$A18,'Action Plan'!$F$8:$F$57,"<>",'Action Plan'!$I$8:$I$57,"<>Complete"))) | S18: =IF(ISNUMBER($Q18),$Q18+(100-ROW())/10000,"")
A19: UC-12 | M19: =IF(OR($B19="",COUNTA($E19:$L19)=0),"",(COUNTIF($E19:$L19,"Met")+0.5*COUNTIF($E19:$L19,"Partial"))/8) | N19: =IF($B19="","",IF(COUNTA($E19:$L19)<8,"Incomplete",IF(AND(COUNTIF($E19:$L19,"Met")=8,Dashboard!$R$10="Met"),"Ready for Pilot","Preparation Required"))) | P19: =IF(OR($B19="",$O19<>"Proceed to Pilot"),"",IF($N19="Preparation Required","Gaps open",IF($N19="Incomplete","Checks incomplete",""))) | Q19: =IF(OR($B19="",$N19="Incomplete",NOT(ISNUMBER($D19))),"",ROUND($D19*$M19*20,0)) | R19: =IF($B19="","",IF(COUNTIFS('Action Plan'!$B$8:$B$57,$A19,'Action Plan'!$F$8:$F$57,"<>",'Action Plan'!$I$8:$I$57,"<>Complete")=0,"",COUNTIFS('Action Plan'!$B$8:$B$57,$A19,'Action Plan'!$F$8:$F$57,"<>",'Action Plan'!$I$8:$I$57,"<>Complete"))) | S19: =IF(ISNUMBER($Q19),$Q19+(100-ROW())/10000,"")
... A27: UC-20 | M27: =IF(OR($B27="",COUNTA($E27:$L27)=0),"",(COUNTIF($E27:$L27,"Met")+0.5*COUNTIF($E27:$L27,"Partial"))/8) | N27: =IF($B27="","",IF(COUNTA($E27:$L27)<8,"Incomplete",IF(AND(COUNTIF($E27:$L27,"Met")=8,Dashboard!$R$10="Met"),"Ready for Pilot","Preparation Required"))) | P27: =IF(OR($B27="",$O27<>"Proceed to Pilot"),"",IF($N27="Preparation Required","Gaps open",IF($N27="Incomplete","Checks incomplete",""))) | Q27: =IF(OR($B27="",$N27="Incomplete",NOT(ISNUMBER($D27))),"",ROUND($D27*$M27*20,0)) | R27: =IF($B27="","",IF(COUNTIFS('Action Plan'!$B$8:$B$57,$A27,'Action Plan'!$F$8:$F$57,"<>",'Action Plan'!$I$8:$I$57,"<>Complete")=0,"",COUNTIFS('Action Plan'!$B$8:$B$57,$A27,'Action Plan'!$F$8:$F$57,"<>",'Action Plan'!$I$8:$I$57,"<>Complete"))) | S27: =IF(ISNUMBER($Q27),$Q27+(100-ROW())/10000,"")
A28: Visit mastt.com

Sheet Action Plan
A1: ACTION PLAN
A3: Organization | D3: =IF(Dashboard!$D$5="","",Dashboard!$D$5)
A4: Assessment Date | D4: =IF(Dashboard!$S$5="","",Dashboard!$S$5)
A6: ACTIONS
A7: Ref | B7: Source | C7: Area | D7: Must-Meet | E7: Gap | F7: Action | G7: Owner | H7: Due Date | I7: Status | J7: Days Overdue
A8: A-01 | C8: =IF($B8="","",IFERROR(INDEX('Readiness Checklist'!$B$8:$B$65,MATCH($B8&"",'Readiness Checklist'!$A$8:$A$65,0))&"",IFERROR(INDEX('Use Case Register'!$B$8:$B$27,MATCH($B8&"",'Use Case Register'!$A$8:$A$27,0))&"",""))) | D8: =IF($B8="","",IFERROR(IF(INDEX('Readiness Checklist'!$D$8:$D$65,MATCH($B8&"",'Readiness Checklist'!$A$8:$A$65,0))="Yes","Yes",""),"")) | J8: =IF(OR($F8="",$I8="Complete",$H8=""),"",IF(NOT(ISNUMBER($H8)),"Not a date",IF(TODAY()>$H8,TODAY()-$H8,"")))
A9: A-02 | C9: =IF($B9="","",IFERROR(INDEX('Readiness Checklist'!$B$8:$B$65,MATCH($B9&"",'Readiness Checklist'!$A$8:$A$65,0))&"",IFERROR(INDEX('Use Case Register'!$B$8:$B$27,MATCH($B9&"",'Use Case Register'!$A$8:$A$27,0))&"",""))) | D9: =IF($B9="","",IFERROR(IF(INDEX('Readiness Checklist'!$D$8:$D$65,MATCH($B9&"",'Readiness Checklist'!$A$8:$A$65,0))="Yes","Yes",""),"")) | J9: =IF(OR($F9="",$I9="Complete",$H9=""),"",IF(NOT(ISNUMBER($H9)),"Not a date",IF(TODAY()>$H9,TODAY()-$H9,"")))
