Workbook

Sheet __FDSCACHE__
B1: This sheet contains FactSet XML data for use with this workbook's =FDS codes. Modifying the worksheet's contents may damage the workbook's =FDS functionality.

Sheet Terms of Use and Important Info
A1: 29Metals
A2: Terms of Use and Important Information
A3: For period ending 30-Sep-2026
B7: DATASHEET TERMS OF USE AND IMPORTANT INFORMATION
C9: Persons accessing the accompanying Datasheets should read the important information set out below in full. By accessing the Datasheets, readers are acknowledging and accepting the limitations and other important information set out below.
B14: General Information Purposes
C16: These Datasheets are prepared for general informational purposes and are subject to change or update without notice. The information in these Datasheets should not be used for any purpose other than gaining general knowledge of the Company. The information in the Datasheets has been derived from quarterly reports released by 29Metals to the ASX announcements platform. The Datasheets should be considered in conjunction with, and not as a substitute for, 29Metals’ published quarterly reports. Users should refer to the source quarterly reports for related and contextual disclosures, including (without limitation) footnotes to reported data. Information presented is deemed representative at the time of its original release and, other than to the extent required by law, 29Metals does not accept any responsibility to update the information presented. Readers should be aware that there may be changes to historical information presented in the future due to adjustments in accounting and reporting policies and standards, and that past results or performance are no guarantee of future results or performance. Unless otherwise stated, all information in the Datasheets is unaudited. Certain figures, amounts, percentages, estimates, calculations of value and fractions presented are subject to the effect of rounding. Accordingly, the actual calculation of these figures may differ from the figures presented. The provision of the information in the Datasheets is not a recommendation to invest in 29Metals. The information presented does not purport to include all of the information that a person may require in order to decide whether to invest in 29Metals. Prospective investors must seek their own legal or other professional advice.
B45: Forward Looking Statements
C47: The Datasheets may contain forward-looking statements and comments about future events, including in relation to 29Metals’ businesses, plans and strategies, and expected trends in the industry in which 29Metals currently operates. Forward-looking statements can generally be identified by the use of words such as, “expect”, “anticipate”, “likely”, “intend”, “should”, “could”, “may”, “plan”, “propose”, “will”, “believe”, “forecast”, “estimate”, “target” and other similar expressions. Indications of, and guidance or outlook regarding, future performance are also forward-looking statements. Forward-looking statements involve inherent risks, assumptions and uncertainties, both general and specific, and there is a risk that such predictions, forecasts, projections and other forward-looking statements will not be achieved. A number of important factors could cause 29Metals’ actual results to differ materially from the plans, objectives, expectations, estimates, targets and intentions expressed in such forward-looking statements, and many of these factors are beyond 29Metals’ control. Forward-looking statements may prove to be incorrect, and circumstances may change, and the contents of the Datasheet may become outdated as a result. Forward looking statements are based on 29Metals’ good faith assumptions as to the financial, market, regulatory and other relevant environments that will exist and affect 29Metals’ business and operations in the future. 29Metals does not give any assurance that the assumptions will prove to be correct. There may be other factors that could cause actual results or events not to be as anticipated, many of which are beyond 29Metals’ reasonable control. Readers are cautioned not to place undue reliance on forward looking statements, particularly in the current economic climate with the significant volatility, uncertainty and disruption caused by the COVID-19 pandemic. Except as required by applicable laws, 29Metals does not undertake any obligation to publicly update or revise any forward-looking statements, to advise of any change in assumptions on which any such statement is based, or to publish prospective information in the future.
B81: Non-IFRS Information
C83: 29Metals’ results are reported under International Financial Reporting Standards (IFRS). The information presented includes non-IFRS financial information within the meaning of ASIC Regulatory Guide 230: ‘Disclosing non-IFRS financial information’. Such information includes: ‘Cu-eq’ (copper equivalent contained metal), ‘C1 Costs’ and ‘AISC’ (All-In Sustaining Costs). Non-IFRS financial information does not have a standardised meaning prescribed by IFRS and may be calculated differently by other companies. These non-IFRS financial information metrics are used by 29Metals to assess the underlying performance of the business. The non-IFRS information has not been subject to audit or review by 29Metals’external auditor. Non-IFRS financial information should be used in addition to, and not as a substitute for, information prepared in accordance with IFRS. Although 29Metals believes these non-IFRS financial information metrics provide useful information to investors and other market participants, readers are cautioned not to place undue reliance on any non-IFRS financial information presented.
B100: Legend
C102: Type | D102: Colour | E102: Example
C103: Input | D103: Blue | E103: 100
C104: Sheet reference | D104: Green | E104: 100
C105: Calculation | D105: Black | E105: 100

Sheet 29Metals_Group_Stats (Q)
A1: 29Metals
A2: 29Metals Group
A3: ='Terms of Use and Important Info'!$A$3 -> For period ending 30-Sep-2026
A4: Note: refer to Terms of Use and Important Information
C7: Period ended on | E7: 44286 | F7: =EOMONTH(E$7,3) -> 44377 | G7: =EOMONTH(F$7,3) -> 44469 | H7: =EOMONTH(G$7,3) -> 44561 | I7: =EOMONTH(H$7,3) -> 44651 | J7: =EOMONTH(I$7,3) -> 44742 | K7: =EOMONTH(J$7,3) -> 44834 | L7: =EOMONTH(K$7,3) -> 44926 | M7: =EOMONTH(L$7,3) -> 45016 | ... AA7: =EOMONTH(Z$7,3) -> 46295
C9: Conversions | D9: Unit
C10: AUD:USD | D10: FX | E10: 0.77267743 | F10: 0.77020836 | G10: 0.73452985 | H10: 0.72871716 | I10: 0.72456797 | J10: 0.7142192 | K10: 0.68324621 | L10: 0.65758533 | M10: 0.68360229 | N10: 0.66800996 | O10: 0.65484308 | P10: 0.65032576 | Q10: 0.65736071 | R10: 0.66 | S10: 0.67 | T10: 0.653 | U10: 0.62766781 | V10: 0.64 | W10: 0.65418364 | X10: 0.65667879 | Y10: 0.6955 | Z10: 0.7085 | AA10: 0.706
C12: Pounds per tonne | D12: 2204.623
B14: Executive Summary
C16: 29Metals Group | D16: Unit
C17: TRIFR | D17: mmhrs | E17: 8.7060205 | F17: 9.810551 | G17: 12.120011 | H17: 12.069848 | I17: 13.342319 | J17: 12.090765 | K17: 10.228083 | L17: 9.796411 | M17: 8.1429233 | N17: 8.9968589 | O17: 7.6602371 | P17: 6.5211879 | Q17: 6.6196657 | R17: 9.2061304 | S17: 10.515442 | T17: 9.9776978 | U17: 8.3121961 | V17: 6.743152 | W17: 5.8245756 | X17: 6.7175589 | Y17: 9.2967295 | Z17: 7.9766946 | AA17: 7.9452098
C18: LTIFR | D18: mmhrs | E18: 0.36275086 | F18: 0.72670748 | G18: 0.71294182 | H18: 0.68963353 | I18: 1.0263323 | J18: 1.0075638 | K18: 0.98981448 | L18: 1.9592822 | M18: 1.6285847 | N18: 1.7301652 | O18: 1.823866 | P18: 1.5343972 | Q18: 1.9469605 | R18: 2.3015326 | S18: 3.1156864 | T18: 2.3946475 | U18: 2.078049 | V18: 1.264341 | W18: 0 | X18: 0 | Y18: 0 | Z18: 0 | AA18: 0
C19: Copper produced | D19: Tonnes | E19: ='Golden_Grove_Stats (Q)'!E19+'Capricorn_Copper_Stats (Q)'!E19 -> 7204.6427 | F19: ='Golden_Grove_Stats (Q)'!F19+'Capricorn_Copper_Stats (Q)'!F19 -> 10330.067 | G19: ='Golden_Grove_Stats (Q)'!G19+'Capricorn_Copper_Stats (Q)'!G19 -> 10134.388 | H19: ='Golden_Grove_Stats (Q)'!H19+'Capricorn_Copper_Stats (Q)'!H19 -> 13025.574 | I19: ='Golden_Grove_Stats (Q)'!I19+'Capricorn_Copper_Stats (Q)'!I19 -> 9329.6629 | J19: ='Golden_Grove_Stats (Q)'!J19+'Capricorn_Copper_Stats (Q)'!J19 -> 11141.746 | K19: ='Golden_Grove_Stats (Q)'!K19+'Capricorn_Copper_Stats (Q)'!K19 -> 12287.602 | L19: ='Golden_Grove_Stats (Q)'!L19+'Capricorn_Copper_Stats (Q)'!L19 -> 8003.0919 | ... AA19: ='Golden_Grove_Stats (Q)'!AA19+'Capricorn_Copper_Stats (Q)'!AA19 -> 4208.0423
C20: Zinc produced | D20: Tonnes | E20: ='Golden_Grove_Stats (Q)'!E20+'Capricorn_Copper_Stats (Q)'!E20 -> 7719.8725 | F20: ='Golden_Grove_Stats (Q)'!F20+'Capricorn_Copper_Stats (Q)'!F20 -> 12391.769 | G20: ='Golden_Grove_Stats (Q)'!G20+'Capricorn_Copper_Stats (Q)'!G20 -> 15518.177 | H20: ='Golden_Grove_Stats (Q)'!H20+'Capricorn_Copper_Stats (Q)'!H20 -> 12126.132 | I20: ='Golden_Grove_Stats (Q)'!I20+'Capricorn_Copper_Stats (Q)'!I20 -> 12235.414 | J20: ='Golden_Grove_Stats (Q)'!J20+'Capricorn_Copper_Stats (Q)'!J20 -> 10787.344 | K20: ='Golden_Grove_Stats (Q)'!K20+'Capricorn_Copper_Stats (Q)'!K20 -> 12514.157 | L20: ='Golden_Grove_Stats (Q)'!L20+'Capricorn_Copper_Stats (Q)'!L20 -> 22038.668 | ... AA20: ='Golden_Grove_Stats (Q)'!AA20+'Capricorn_Copper_Stats (Q)'!AA20 -> 1992.3335
C21: Gold produced | D21: Ounces | E21: ='Golden_Grove_Stats (Q)'!E21+'Capricorn_Copper_Stats (Q)'!E21 -> 5093.2999 | F21: ='Golden_Grove_Stats (Q)'!F21+'Capricorn_Copper_Stats (Q)'!F21 -> 12926.631 | G21: ='Golden_Grove_Stats (Q)'!G21+'Capricorn_Copper_Stats (Q)'!G21 -> 9035.0881 | H21: ='Golden_Grove_Stats (Q)'!H21+'Capricorn_Copper_Stats (Q)'!H21 -> 8794.9776 | I21: ='Golden_Grove_Stats (Q)'!I21+'Capricorn_Copper_Stats (Q)'!I21 -> 5054.7706 | J21: ='Golden_Grove_Stats (Q)'!J21+'Capricorn_Copper_Stats (Q)'!J21 -> 8167.2096 | K21: ='Golden_Grove_Stats (Q)'!K21+'Capricorn_Copper_Stats (Q)'!K21 -> 5234.2369 | L21: ='Golden_Grove_Stats (Q)'!L21+'Capricorn_Copper_Stats (Q)'!L21 -> 8116.4539 | ... AA21: ='Golden_Grove_Stats (Q)'!AA21+'Capricorn_Copper_Stats (Q)'!AA21 -> 2111.7478
C22: Silver produced | D22: Ounces | E22: ='Golden_Grove_Stats (Q)'!E22+'Capricorn_Copper_Stats (Q)'!E22 -> 237027.27 | F22: ='Golden_Grove_Stats (Q)'!F22+'Capricorn_Copper_Stats (Q)'!F22 -> 586203.13 | G22: ='Golden_Grove_Stats (Q)'!G22+'Capricorn_Copper_Stats (Q)'!G22 -> 411471.9 | H22: ='Golden_Grove_Stats (Q)'!H22+'Capricorn_Copper_Stats (Q)'!H22 -> 531490.62 | I22: ='Golden_Grove_Stats (Q)'!I22+'Capricorn_Copper_Stats (Q)'!I22 -> 339473.55 | J22: ='Golden_Grove_Stats (Q)'!J22+'Capricorn_Copper_Stats (Q)'!J22 -> 340174.06 | K22: ='Golden_Grove_Stats (Q)'!K22+'Capricorn_Copper_Stats (Q)'!K22 -> 342911.43 | L22: ='Golden_Grove_Stats (Q)'!L22+'Capricorn_Copper_Stats (Q)'!L22 -> 532113.66 | ... AA22: ='Golden_Grove_Stats (Q)'!AA22+'Capricorn_Copper_Stats (Q)'!AA22 -> 93100.023
C23: Lead produced | D23: Tonnes | E23: ='Golden_Grove_Stats (Q)'!E23+'Capricorn_Copper_Stats (Q)'!E23 -> 211.26686 | F23: ='Golden_Grove_Stats (Q)'!F23+'Capricorn_Copper_Stats (Q)'!F23 -> 652.19173 | G23: ='Golden_Grove_Stats (Q)'!G23+'Capricorn_Copper_Stats (Q)'!G23 -> 810.2558 | H23: ='Golden_Grove_Stats (Q)'!H23+'Capricorn_Copper_Stats (Q)'!H23 -> 774.65863 | I23: ='Golden_Grove_Stats (Q)'!I23+'Capricorn_Copper_Stats (Q)'!I23 -> 466.5772 | J23: ='Golden_Grove_Stats (Q)'!J23+'Capricorn_Copper_Stats (Q)'!J23 -> 592.9948 | K23: ='Golden_Grove_Stats (Q)'!K23+'Capricorn_Copper_Stats (Q)'!K23 -> 631.8523 | L23: ='Golden_Grove_Stats (Q)'!L23+'Capricorn_Copper_Stats (Q)'!L23 -> 1073.412 | ... AA23: ='Golden_Grove_Stats (Q)'!AA23+'Capricorn_Copper_Stats (Q)'!AA23 -> 24.184834
C24: Payable copper sold | D24: Mlbs | E24: =E70 -> 15.231507 | F24: =F70 -> 18.569292 | G24: =G70 -> 22.413115 | H24: =H70 -> 25.85106 | I24: =I70 -> 21.425212 | J24: =J70 -> 21.184189 | K24: =K70 -> 26.428209 | L24: =L70 -> 15.611136 | ... AA24: =AA70 -> 8.1415383
C25: Site Costs | D25: $m | E25: =SUM(E62:E64) -> 105.54226 | F25: =SUM(F62:F64) -> 108.73167 | G25: =SUM(G62:G64) -> 112.72069 | H25: =SUM(H62:H64) -> 120.1203 | I25: =SUM(I62:I64) -> 116.20727 | J25: =SUM(J62:J64) -> 121.45347 | K25: =SUM(K62:K64) -> 128.98051 | L25: =SUM(L62:L64) -> 144.04442 | ... AA25: =SUM(AA62:AA64) -> 108.1525
C26: C1 Costs | D26: $m | E26: =E69 -> 72.891518 | F26: =F69 -> 44.265738 | G26: =G69 -> 55.34908 | H26: =H69 -> 59.071226 | I26: =I69 -> 66.785969 | J26: =J69 -> 74.347221 | K26: =K69 -> 92.705682 | L26: =L69 -> 65.590164 | ... Q26: =Q69 -> 111.93823 | R26: N/a | S26: N/a | T26: N/a | U26: N/a | V26: N/a | W26: N/a | X26: N/a | Y26: N/a | Z26: N/a | AA26: N/a
C27: C1 Costs | D27: US$/lb Cu sold | E27: =E72 -> 3.6977057 | F27: =F72 -> 1.8360335 | G27: =G72 -> 1.813918 | H27: =H72 -> 1.6651625 | I27: =I72 -> 2.2585995 | J27: =J72 -> 2.5065964 | K27: =K72 -> 2.396712 | L27: =L72 -> 2.7628437 | ... Q27: =Q72 -> 4.8553743 | R27: N/a | S27: N/a | T27: N/a | U27: N/a | V27: N/a | W27: N/a | X27: N/a | Y27: N/a | Z27: N/a | AA27: N/a
C28: Capital | D28: $m | E28: =SUM(E76:E77,E82:E83) -> 21.485186 | F28: =SUM(F76:F77,F82:F83) -> 22.515696 | G28: =SUM(G76:G77,G82:G83) -> 29.673632 | H28: =SUM(H76:H77,H82:H83) -> 37.206687 | I28: =SUM(I76:I77,I82:I83) -> 28.974842 | J28: =SUM(J76:J77,J82:J83) -> 25.418073 | K28: =SUM(K76:K77,K82:K83) -> 29.956069 | L28: =SUM(L76:L77,L82:L83) -> 27.184255 | ... Q28: =SUM(Q76:Q77,Q82:Q83) -> 19.852959 | R28: N/a | S28: N/a | T28: N/a | U28: N/a | V28: N/a | W28: N/a | X28: N/a | Y28: N/a | Z28: N/a | AA28: N/a
C29: AISC | D29: $m | E29: =E78 -> 99.231458 | F29: =F78 -> 73.844428 | G29: =G78 -> 92.121415 | H29: =H78 -> 107.41682 | I29: =I78 -> 104.41908 | J29: =J78 -> 106.03482 | K29: =K78 -> 130.06698 | L29: =L78 -> 103.10759 | ... Q29: =Q78 -> 139.20783 | R29: N/a | S29: N/a | T29: N/a | U29: N/a | V29: N/a | W29: N/a | X29: N/a | Y29: N/a | Z29: N/a | AA29: N/a
C30: AISC | D30: US$/lb Cu sold | E30: =E81 -> 5.0339015 | F30: =F81 -> 3.0628844 | G30: =G81 -> 3.0190329 | H30: =H81 -> 3.0279796 | I30: =I81 -> 3.531294 | J30: =J81 -> 3.574935 | K30: =K81 -> 3.3626105 | L30: =L81 -> 4.3431842 | ... Q30: =Q81 -> 6.038206 | R30: N/a | S30: N/a | T30: N/a | U30: N/a | V30: N/a | W30: N/a | X30: N/a | Y30: N/a | Z30: N/a | AA30: N/a
C31: Recovery costs during partial operations | D31: $m | M31: ='Capricorn_Copper_Stats (Q)'!M74 -> 8.8511279 | N31: ='Capricorn_Copper_Stats (Q)'!N74 -> 25.36093 | O31: ='Capricorn_Copper_Stats (Q)'!O74 -> 12.616035 | P31: ='Capricorn_Copper_Stats (Q)'!P74 -> 14.111606 | Q31: ='Capricorn_Copper_Stats (Q)'!Q74 -> 10.426114
C32: Suspension period Site operating costs | D32: $m | R32: ='Capricorn_Copper_Stats (Q)'!R75 -> 17.838775 | S32: ='Capricorn_Copper_Stats (Q)'!S75 -> 10.385415 | T32: ='Capricorn_Copper_Stats (Q)'!T75 -> 10.464117 | U32: ='Capricorn_Copper_Stats (Q)'!U75 -> 10.867244 | V32: ='Capricorn_Copper_Stats (Q)'!V75 -> 7.9966248 | W32: ='Capricorn_Copper_Stats (Q)'!W75 -> 7.7536014 | X32: ='Capricorn_Copper_Stats (Q)'!X75 -> 8.0111259 | Y32: ='Capricorn_Copper_Stats (Q)'!Y75 -> 8.3469375 | ... AA32: ='Capricorn_Copper_Stats (Q)'!AA75 -> 6.6437092
C33: Suspension period capital | D33: $m | R33: ='Capricorn_Copper_Stats (Q)'!R76 -> 13.822471 | S33: ='Capricorn_Copper_Stats (Q)'!S76 -> 8.5433517 | T33: ='Capricorn_Copper_Stats (Q)'!T76 -> 4.4809224 | U33: ='Capricorn_Copper_Stats (Q)'!U76 -> 0.80033928 | V33: ='Capricorn_Copper_Stats (Q)'!V76 -> 1.0844432 | W33: ='Capricorn_Copper_Stats (Q)'!W76 -> 0.98707147 | X33: ='Capricorn_Copper_Stats (Q)'!X76 -> 1.5873407 | Y33: ='Capricorn_Copper_Stats (Q)'!Y76 -> 0.29025607 | ... AA33: ='Capricorn_Copper_Stats (Q)'!AA76 -> 3.0500945
B35: APPENDIX 2: UNIT COSTS
C37: Other (Corporate, exploration and Redhill) | D37: Unit
C38: Mining (excl. CapDev) | D38: $m
C39: Processing | D39: $m
C40: G&A (Redhill) | D40: $m | E40: 0.082912086 | F40: 0.048668065 | G40: 0.10306805 | H40: 0.17916209 | I40: 0.33685381 | J40: 0.3360747 | K40: 0.22139896 | L40: 0.21567391 | M40: 0.23639297 | N40: 0.48469815 | O40: 0.18281775 | P40: 0.20730647 | Q40: 0.20181026 | R40: 0.11866666 | S40: 0.1370931 | T40: 0.11838391 | U40: 0.68057693 | V40: 0.12338922 | W40: 0.14970585 | X40: 0.14796615 | Y40: 0.56114221 | Z40: 0.14659914 | AA40: 0.20486774
C41: Concentrate transport | D41: $m
C42: TCRC's | D42: $m
C43: Stockpile movements | D43: $m
C44: By-products | D44: $m
C45: C1 Costs | D45: $m
C46: Payable copper sold | D46: Mlbs
C47: C1 Costs | D47: A$/lb
C48: C1 Costs | D48: US$/lb
...

Sheet Golden_Grove_Stats (Q)
A1: 29Metals
A2: Golden Grove
A3: ='Terms of Use and Important Info'!$A$3 -> For period ending 30-Sep-2026
A4: Note: refer to Terms of Use and Important Information
C7: Description | E7: 44286 | F7: =EOMONTH(E$7,3) -> 44377 | G7: =EOMONTH(F$7,3) -> 44469 | H7: =EOMONTH(G$7,3) -> 44561 | I7: =EOMONTH(H$7,3) -> 44651 | J7: =EOMONTH(I$7,3) -> 44742 | K7: =EOMONTH(J$7,3) -> 44834 | L7: =EOMONTH(K$7,3) -> 44926 | M7: =EOMONTH(L$7,3) -> 45016 | ... AA7: =EOMONTH(Z$7,3) -> 46295
C9: Conversions | D9: Unit
C10: AUD:USD | D10: FX | E10: ='29Metals_Group_Stats (Q)'!E10 -> 0.77267743 | F10: ='29Metals_Group_Stats (Q)'!F10 -> 0.77020836 | G10: ='29Metals_Group_Stats (Q)'!G10 -> 0.73452985 | H10: ='29Metals_Group_Stats (Q)'!H10 -> 0.72871716 | I10: ='29Metals_Group_Stats (Q)'!I10 -> 0.72456797 | J10: ='29Metals_Group_Stats (Q)'!J10 -> 0.7142192 | K10: ='29Metals_Group_Stats (Q)'!K10 -> 0.68324621 | L10: ='29Metals_Group_Stats (Q)'!L10 -> 0.65758533 | ... AA10: ='29Metals_Group_Stats (Q)'!AA10 -> 0.706
C12: Pounds per tonne | D12: ='29Metals_Group_Stats (Q)'!D12 -> 2204.623
B14: Executive Summary
C16: Golden Grove | D16: Unit
C17: TRIFR | D17: mmhrs | E17: 8.6804284 | F17: 8.86002 | G17: 12.20259 | H17: 11.520434 | I17: 14.001131 | J17: 13.986131 | K17: 10.352683 | L17: 11.302403 | M17: 9.440689 | N17: 9.9094097 | O17: 9.098083 | P17: 7.117617 | Q17: 7.1822391 | R17: 10.278262 | S17: 11.591103 | T17: 11.113918 | U17: 8.7879168 | V17: 6.7289964 | W17: 6.0333589 | X17: 6.9674629 | Y17: 9.781828 | Z17: 8.7902896 | AA17: 8.7609847
C18: LTIFR | D18: mmhrs | E18: 0 | F18: 0 | G18: 0 | H18: 0 | I18: 0.56004525 | J18: 0.55944525 | K18: 0.54487806 | L18: 1.614629 | M18: 1.0489654 | N18: 1.5646436 | O18: 2.1407254 | P18: 1.642527 | Q18: 1.6574398 | R18: 1.6228835 | S18: 2.1074732 | T18: 1.5155342 | U18: 1.4646528 | V18: 0.9612852 | W18: 0 | X18: 0 | Y18: 0 | Z18: 0 | AA18: 0
C19: Copper produced | D19: Tonnes | E19: 2799.441 | F19: 4628.407 | G19: 3280.146 | H19: 5307.3455 | I19: 4099.1469 | J19: 5533.4337 | K19: 4618.1221 | L19: 2687.2176 | M19: 3184.5069 | N19: 4216.4125 | O19: 5523.6281 | P19: 5171.0661 | Q19: 5771.4633 | R19: 6414.5471 | S19: 4367.0145 | T19: 5318.4664 | U19: 4083.6264 | V19: 5568.6754 | W19: 5750.433 | X19: 6856.2168 | Y19: 6431.4433 | Z19: 4762.1312 | AA19: 4208.0423
C20: Zinc produced | D20: Tonnes | E20: 7719.8725 | F20: 12391.769 | G20: 15518.177 | H20: 12126.132 | I20: 12235.414 | J20: 10787.344 | K20: 12514.157 | L20: 22038.668 | M20: 8686.338 | N20: 13477.35 | O20: 8607.0605 | P20: 20729.148 | Q20: 4696.7947 | R20: 15286.947 | S20: 19117.216 | T20: 17555.472 | U20: 17017.631 | V20: 12251.355 | W20: 1981.9933 | X20: 3418.382 | Y20: 78.460421 | Z20: 3113.2798 | AA20: 1992.3335
C21: Gold produced | D21: Ounces | E21: 5093.2999 | F21: 12926.631 | G21: 9035.0881 | H21: 8794.9776 | I21: 5054.7706 | J21: 8167.2096 | K21: 5234.2369 | L21: 8116.4539 | M21: 3040.9193 | N21: 2805.6924 | O21: 4280.7178 | P21: 3871.8967 | Q21: 2786.8502 | R21: 6367.2691 | S21: 6069.5712 | T21: 6149.502 | U21: 4970.5867 | V21: 5117.8496 | W21: 1992.3418 | X21: 3040.607 | Y21: 1123.5811 | Z21: 4744.7016 | AA21: 2111.7478
C22: Silver produced | D22: Ounces | E22: 188214.46 | F22: 510048.18 | G22: 339152.03 | H22: 458924.68 | I22: 288335.01 | J22: 285820.41 | K22: 268419.83 | L22: 478027.91 | M22: 171830.48 | N22: 213978.17 | O22: 196885.52 | P22: 192201.85 | Q22: 128343.83 | R22: 265442.77 | S22: 187751.99 | T22: 240605.44 | U22: 227161.52 | V22: 223353 | W22: 99786.539 | X22: 195788.71 | Y22: 105683.85 | Z22: 194925.99 | AA22: 93100.023
C23: Lead produced | D23: Tonnes | E23: 211.26686 | F23: 652.19173 | G23: 810.2558 | H23: 774.65863 | I23: 466.5772 | J23: 592.9948 | K23: 631.8523 | L23: 1073.412 | M23: 526.75043 | N23: 319.36516 | O23: 124.26874 | P23: 196.41235 | Q23: 72.567177 | R23: 121.69714 | S23: 371.20565 | T23: 347.28139 | U23: 213.11664 | V23: 225.7541 | W23: 60.763645 | X23: 68.733301 | Y23: 2.5129199 | Z23: 0 | AA23: 24.184834
C24: Payable copper sold | D24: Mlbs | E24: =E84 -> 5.5249073 | F24: =F84 -> 8.2304567 | G24: =G84 -> 7.1284324 | H24: =H84 -> 11.139873 | I24: =I84 -> 8.205146 | J24: =J84 -> 10.947086 | K24: =K84 -> 10.31355 | L24: =L84 -> 4.2209514 | ... AA24: =AA84 -> 8.1415383
C25: Site costs | D25: $m | E25: =SUM(E76:E78) -> 66.695678 | F25: =SUM(F76:F78) -> 67.593023 | G25: =SUM(G76:G78) -> 71.181929 | H25: =SUM(H76:H78) -> 73.680001 | I25: =SUM(I76:I78) -> 72.051763 | J25: =SUM(J76:J78) -> 73.989946 | K25: =SUM(K76:K78) -> 81.808118 | L25: =SUM(L76:L78) -> 93.123808 | ... AA25: =SUM(AA76:AA78) -> 107.94763
C26: C1 costs | D26: $m | E26: =E83 -> 27.44858 | F26: =F83 -> 3.3963429 | G26: =G83 -> 4.8755083 | H26: =H83 -> 9.1216721 | I26: =I83 -> 10.502003 | J26: =J83 -> 29.153329 | K26: =K83 -> 32.994904 | L26: =L83 -> 5.8551262 | ... AA26: =AA83 -> 60.397189
C27: C1 costs | D27: US$/lb Cu sold | E27: =E86 -> 3.8387791 | F27: =F86 -> 0.31783068 | G27: =G86 -> 0.50238343 | H27: =H86 -> 0.59669611 | I27: =I86 -> 0.92739543 | J27: =J86 -> 1.9020465 | K27: =K86 -> 2.1858276 | L27: =L86 -> 0.91217471 | ... AA27: =AA86 -> 5.2373906
C28: Capital | D28: $m | E28: =SUM(E90:E91,E96) -> 12.70031 | F28: =SUM(F90:F91,F96) -> 15.725293 | G28: =SUM(G90:G91,G96) -> 18.07027 | H28: =SUM(H90:H91,H96) -> 25.230954 | I28: =SUM(I90:I91,I96) -> 13.89782 | J28: =SUM(J90:J91,J96) -> 13.715659 | K28: =SUM(K90:K91,K96) -> 16.786468 | L28: =SUM(L90:L91,L96) -> 15.36841 | ... AA28: =SUM(AA90:AA91,AA96) -> 41.021939
C29: AISC | D29: $m | E29: =E92 -> 41.088091 | F29: =F92 -> 21.152647 | G29: =G92 -> 25.062033 | H29: =H92 -> 36.332766 | I29: =I92 -> 26.845447 | J29: =J92 -> 44.017102 | K29: =K92 -> 51.929032 | L29: =L92 -> 25.257381 | ... AA29: =AA92 -> 79.592799
C30: AISC | D30: US$/lb Cu sold | E30: =E95 -> 5.746312 | F30: =F95 -> 1.9794704 | G30: =G95 -> 2.5824488 | H30: =H95 -> 2.3767156 | I30: =I95 -> 2.3706283 | J30: =J95 -> 2.8718015 | K30: =K95 -> 3.4401649 | L30: =L95 -> 3.9348673 | ... AA30: =AA95 -> 6.9019532
B32: APPENDIX 1: PRODUCTION STATS
C34: Golden Grove | D34: Unit
C35: Ore mined | D35: kt | E35: 357.86213 | F35: 423.27507 | G35: 359.8922 | H35: 384.04102 | I35: 398.75426 | J35: 361.08492 | K35: 371.73939 | L35: 390.19925 | M35: 354.93269 | N35: 350.699 | O35: 420.923 | P35: 397.329 | Q35: 357.9257 | R35: 352.3382 | S35: 347.146 | T35: 416.837 | U35: 402.0678 | V35: 333.719 | W35: 344.203 | X35: 397.153 | Y35: 290.3826 | Z35: 298.93811 | AA35: 351.443
C36: Ore milled | D36: kt | E36: 278.39664 | F36: 369.33488 | G36: 391.93003 | H36: 365.24749 | I36: 393.84188 | J36: 387.21456 | K36: 335.54349 | L36: 430.57428 | M36: 315.067 | N36: 387.314 | O36: 419.538 | P36: 418.428 | Q36: 350.622 | R36: 385.2766 | S36: 355.151 | T36: 389.73 | U36: 342.6696 | V36: 385.496 | W36: 329.541 | X36: 391.307 | Y36: 305.38042 | Z36: 362.86532 | AA36: 301.48644
D37: kt, Cu ore | M37: 178.91511 | N37: 188.61728 | O37: 243.22772 | P37: 204.23034 | Q37: 257.14204 | R37: 117.73963 | S37: 129.14426 | T37: 128.89324 | U37: 153.17857 | V37: 209.09226 | W37: 294.99191 | X37: 311.38458 | Y37: 300.95445 | Z37: 291.00928 | AA37: 262.58358
D38: Kt, Zn ore | M38: 136.15119 | N38: 198.69721 | O38: 176.31023 | P38: 213.01498 | Q38: 93.479713 | R38: 267.53547 | S38: 226.00773 | T38: 260.83654 | U38: 189.3116 | V38: 176.40404 | W38: 34.54868 | X38: 79.923313 | Y38: 4.4259751 | Z38: 71.856036 | AA38: 38.902863
C39: Milled grade | D39: Copper (%) | E39: 0.011736173 | F39: 0.014442795 | G39: 0.0099250691 | H39: 0.01668667 | I39: 0.01247184 | J39: 0.016552822 | K39: 0.015485913 | L39: 0.0080854306 | M39: 0.011933659 | N39: 0.012448319 | O39: 0.015165766 | P39: 0.014573609 | Q39: 0.018739802 | R39: 0.019419083 | S39: 0.014475505 | T39: 0.015591739 | U39: 0.014133605 | V39: 0.017099151 | W39: 0.0195931 | X39: 0.01953168 | Y39: 0.022666573 | Z39: 0.014649225 | AA39: 0.015771306
D40: Zinc (%) | E40: 0.033087522 | F40: 0.039912478 | G40: 0.045648078 | H40: 0.03913528 | I40: 0.037519267 | J40: 0.033750623 | K40: 0.042806102 | L40: 0.057988053 | M40: 0.033691002 | N40: 0.039435041 | O40: 0.026613844 | P40: 0.055879573 | Q40: 0.018544154 | R40: 0.04808807 | S40: 0.063087321 | T40: 0.052187939 | U40: 0.056206024 | V40: 0.03998131 | W40: 0.010644587 | X40: 0.01399049 | Y40: 0.0041938959 | Z40: 0.014079885 | AA40: 0.010136407
D41: Gold (g/t) | E41: 0.89733074 | F41: 1.4221783 | G41: 0.99664582 | H41: 1.0216251 | I41: 0.73284204 | J41: 1.0722037 | K41: 0.72416627 | L41: 0.85141037 | M41: 0.49494109 | N41: 0.34080255 | O41: 0.50579691 | P41: 0.47937868 | Q41: 0.36816904 | R41: 0.84381628 | S41: 0.79927368 | T41: 0.77614226 | U41: 0.80452215 | V41: 0.88665081 | W41: 0.72224145 | X41: 0.41561877 | Y41: 0.27280279 | Z41: 0.72236948 | AA41: 0.43125352
D42: Silver (g/t) | E42: 28.88605 | F42: 53.289304 | G42: 36.342141 | H42: 49.523412 | I42: 33.4375 | J42: 33.072914 | K42: 34.338212 | L42: 47.095789 | M42: 26.440196 | N42: 24.909912 | O42: 21.905221 | P42: 21.27298 | Q42: 18.755822 | R42: 30.893612 | S42: 23.819155 | T42: 27.378021 | U42: 30.405178 | V42: 28.072099 | W42: 16.131435 | X42: 23.986808 | Y42: 16.647119 | Z42: 25.188872 | AA42: 17.855437
C43: Recovery | D43: Copper (%) | E43: 0.85680372 | F43: 0.86768075 | G43: 0.84323981 | H43: 0.87080408 | I43: 0.83452827 | J43: 0.86331837 | K43: 0.88875269 | L43: 0.77188212 | M43: 0.84696726 | N43: 0.87451781 | O43: 0.86813812 | P43: 0.85039657 | Q43: 0.87837931 | R43: 0.85736618 | S43: 0.84944774 | T43: 0.87524224 | U43: 0.8436163 | V43: 0.84480629 | W43: 0.89061186 | X43: 0.89707001 | Y43: 0.92914052 | Z43: 0.89586228 | AA43: 0.88500284
D44: Zinc (%) | E44: 0.83807405 | F44: 0.84062883 | G44: 0.86738053 | H44: 0.84833345 | I44: 0.82802301 | J44: 0.82543152 | K44: 0.87126095 | L44: 0.88266947 | M44: 0.81831562 | N44: 0.8823857 | O44: 0.77086088 | P44: 0.88907195 | Q44: 0.72236334 | R44: 0.82511117 | S44: 0.85323429 | T44: 0.86313508 | U44: 0.88403232 | V44: 0.79488975 | W44: 0.56502081 | X44: 0.62440885 | Y44: N/a | Z44: 0.60935951 | AA44: 0.65194386
D45: Gold (%) | E45: 0.63415024 | F45: 0.76545542 | G45: 0.71943561 | H45: 0.7331028 | I45: 0.54472601 | J45: 0.61186224 | K45: 0.67000239 | L45: 0.68863268 | M45: 0.60653848 | N45: 0.66112322 | O45: 0.62744854 | P45: 0.60209152 | Q45: 0.67148521 | R45: 0.60917673 | S45: 0.66505441 | T45: 0.63233026 | U45: 0.56108736 | V45: 0.46571864 | W45: 0.26036431 | X45: 0.5815077 | Y45: 0.41949171 | Z45: 0.56300596 | AA45: 0.50518513
D46: Silver (%) | E46: 0.72796463 | F46: 0.8060459 | G46: 0.74060103 | H46: 0.78913726 | I46: 0.68100548 | J46: 0.69418947 | K46: 0.72459975 | L46: 0.73321513 | M46: 0.64156772 | N46: 0.68983063 | O46: 0.66635216 | P46: 0.6735141 | Q46: 0.60702837 | R46: 0.69364973 | S46: 0.69032385 | T46: 0.70137249 | U46: 0.67849716 | V46: 0.64195654 | W46: 0.58384691 | X46: 0.64879204 | Y46: 0.64660234 | Z46: 0.66332217 | AA46: 0.53792343
C47: Cu concentrate produced | D47: dmt | E47: 13945.041 | F47: 25154.631 | G47: 17175.787 | H47: 27592.161 | I47: 20851.034 | J47: 28219.035 | K47: 22673.721 | L47: 12979.279 | M47: 16274.573 | N47: 22069.651 | O47: 27532.974 | P47: 25452.656 | Q47: 29521.219 | R47: 33607.005 | S47: 22475.218 | T47: 27430.262 | U47: 19739.9 | V47: 28263.431 | W47: 29393.231 | X47: 35504.959 | Y47: 33392.598 | Z47: 24566.193 | AA47: 21754.74
D48: Cu grade (%) | E48: 0.18737392 | F48: 0.18122495 | G48: 0.18311065 | H48: 0.19118438 | I48: 0.19356148 | J48: 0.1950821 | K48: 0.20033636 | L48: 0.19442795 | M48: 0.19109931 | N48: 0.18870871 | O48: 0.19965227 | P48: 0.2017047 | Q48: 0.19395211 | R48: 0.18975143 | S48: 0.19244539 | T48: 0.1915482 | U48: 0.20438818 | V48: 0.19240436 | W48: 0.19523479 | X48: 0.19257078 | Y48: 0.19252238 | Z48: 0.19384897 | AA48: 0.19299684
...

Sheet Capricorn_Copper_Stats (Q)
A1: 29Metals
A2: Capricorn Copper
A3: ='Terms of Use and Important Info'!$A$3 -> For period ending 30-Sep-2026
A4: Note: refer to Terms of Use and Important Information
C7: Description | E7: 44286 | F7: =EOMONTH(E$7,3) -> 44377 | G7: =EOMONTH(F$7,3) -> 44469 | H7: =EOMONTH(G$7,3) -> 44561 | I7: =EOMONTH(H$7,3) -> 44651 | J7: =EOMONTH(I$7,3) -> 44742 | K7: =EOMONTH(J$7,3) -> 44834 | L7: =EOMONTH(K$7,3) -> 44926 | M7: =EOMONTH(L$7,3) -> 45016 | ... AA7: =EOMONTH(Z$7,3) -> 46295
C9: Conversions | D9: Unit
C10: AUD:USD | D10: FX | E10: ='29Metals_Group_Stats (Q)'!E10 -> 0.77267743 | F10: ='29Metals_Group_Stats (Q)'!F10 -> 0.77020836 | G10: ='29Metals_Group_Stats (Q)'!G10 -> 0.73452985 | H10: ='29Metals_Group_Stats (Q)'!H10 -> 0.72871716 | I10: ='29Metals_Group_Stats (Q)'!I10 -> 0.72456797 | J10: ='29Metals_Group_Stats (Q)'!J10 -> 0.7142192 | K10: ='29Metals_Group_Stats (Q)'!K10 -> 0.68324621 | L10: ='29Metals_Group_Stats (Q)'!L10 -> 0.65758533 | ... AA10: ='29Metals_Group_Stats (Q)'!AA10 -> 0.706
C12: Pounds per tonne | D12: ='29Metals_Group_Stats (Q)'!D12 -> 2204.623
B14: Executive Summary
C16: Capricorn Copper | D16: Unit
C17: TRIFR | D17: mmhrs | E17: 8.7576602 | F17: 11.641862 | G17: 12.045508 | H17: 13.139371 | I17: 12.529579 | J17: 8.6763981 | K17: 9.6015195 | L17: 7.0027276 | M17: 5.4894986 | N17: 7.7476137 | O17: 4.975867 | P17: 5.6226446 | Q17: 5.8050013 | R17: 7.2836501 | S17: 8.4060032 | T17: 6.6911712 | U17: 7.2151113 | V17: 9.4522604 | W17: 5.9424203 | X17: 6.74247 | Y17: 7.1970613 | Z17: 0 | AA17: 0
C18: LTIFR | D18: mmhrs | E18: 1.0947075 | F18: 2.1167023 | G18: 2.0075847 | H18: 1.877053 | I18: 1.7899398 | J18: 0.86763981 | K18: 0.87286541 | L18: 1.7506819 | M18: 1.8298329 | N18: 2.2136039 | O18: 1.2439668 | P18: 1.4056612 | Q18: 2.9025006 | R18: 4.3701901 | S18: 6.7248026 | T18: 6.6911712 | U18: 7.2151113 | V18: 4.7261302 | W18: 0 | X18: 0 | Y18: 0 | Z18: 0 | AA18: 0
C19: Copper produced | D19: Tonnes | E19: 4405.2018 | F19: 5701.6598 | G19: 6854.242 | H19: 7718.2286 | I19: 5230.516 | J19: 5608.3124 | K19: 7669.4803 | L19: 5315.8743 | M19: 2640.2861 | N19: 0 | O19: 1115.3289 | P19: 2370.8952 | Q19: 1252.8037 | R19: 749.74182 | S19: 0 | T19: 0 | U19: 0 | V19: 0 | W19: 0 | X19: 0 | Y19: 0 | Z19: 0 | AA19: 0
C20: Zinc produced | D20: Tonnes | E20: 0 | F20: 0 | G20: 0 | H20: 0 | I20: 0 | J20: 0 | K20: 0 | L20: 0 | M20: 0 | N20: 0 | O20: 0 | P20: 0 | Q20: 0 | R20: 0 | S20: 0 | T20: 0 | U20: 0 | V20: 0 | W20: 0 | X20: 0 | Y20: 0 | Z20: 0 | AA20: 0
C21: Gold produced | D21: Ounces | E21: 0 | F21: 0 | G21: 0 | H21: 0 | I21: 0 | J21: 0 | K21: 0 | L21: 0 | M21: 0 | N21: 0 | O21: 0 | P21: 0 | Q21: 0 | R21: 0 | S21: 0 | T21: 0 | U21: 0 | V21: 0 | W21: 0 | X21: 0 | Y21: 0 | Z21: 0 | AA21: 0
C22: Silver produced | D22: Ounces | E22: 48812.819 | F22: 76154.951 | G22: 72319.868 | H22: 72565.936 | I22: 51138.541 | J22: 54353.654 | K22: 74491.603 | L22: 54085.749 | M22: 19557.163 | N22: 0 | O22: 6253.241 | P22: 10015.361 | Q22: 5411.2994 | R22: 2315.4234 | S22: 0 | T22: 0 | U22: 0 | V22: 0 | W22: 0 | X22: 0 | Y22: 0 | Z22: 0 | AA22: 0
C23: Lead produced | D23: Tonnes | E23: 0 | F23: 0 | G23: 0 | H23: 0 | I23: 0 | J23: 0 | K23: 0 | L23: 0 | M23: 0 | N23: 0 | O23: 0 | P23: 0 | Q23: 0 | R23: 0 | S23: 0 | T23: 0 | U23: 0 | V23: 0 | W23: 0 | X23: 0 | Y23: 0 | Z23: 0 | AA23: 0
C24: Payable copper sold | D24: Mlbs | E24: =E61 -> 9.7066002 | F24: =F61 -> 10.338835 | G24: =G61 -> 15.284682 | H24: =H61 -> 14.711187 | I24: =I61 -> 13.220066 | J24: =J61 -> 10.237103 | K24: =K61 -> 16.114659 | L24: =L61 -> 11.390185 | ... AA24: =AA61 -> 0
C25: Site costs | D25: $m | E25: =SUM(E53:E55) -> 38.763675 | F25: =SUM(F53:F55) -> 41.089975 | G25: =SUM(G53:G55) -> 41.435689 | H25: =SUM(H53:H55) -> 46.261138 | I25: =SUM(I53:I55) -> 43.818649 | J25: =SUM(J53:J55) -> 47.127447 | K25: =SUM(K53:K55) -> 46.950992 | L25: =SUM(L53:L55) -> 50.704934 | ... Q25: =SUM(Q53:Q55) -> 32.438457 | R25: N/a | S25: N/a | T25: N/a | U25: N/a | V25: N/a | W25: N/a | X25: N/a | Y25: N/a | Z25: N/a | AA25: N/a
C26: C1 costs | D26: $m | E26: =E64 -> 45.360026 | F26: =F64 -> 40.820727 | G26: =G64 -> 50.370503 | H26: =H64 -> 49.770392 | I26: =I64 -> 55.947112 | J26: =J64 -> 44.857817 | K26: =K64 -> 59.489379 | L26: =L64 -> 59.519363 | ... Q26: =Q64 -> 33.909262 | R26: N/a | S26: N/a | T26: N/a | U26: N/a | V26: N/a | W26: N/a | X26: N/a | Y26: N/a | Z26: N/a | AA26: N/a
C27: C1 costs | D27: US$/lb Cu sold | E27: =E63 -> 3.6108079 | F27: =F63 -> 3.0410065 | G27: =G63 -> 2.4206351 | H27: =H63 -> 2.4653714 | I27: =I63 -> 3.0663603 | J27: =J63 -> 3.129627 | K27: =K63 -> 2.5222931 | L27: =L63 -> 3.4362095 | ... Q27: =Q63 -> 8.8021485 | R27: N/a | S27: N/a | T27: N/a | U27: N/a | V27: N/a | W27: N/a | X27: N/a | Y27: N/a | Z27: N/a | AA27: N/a
C28: Capital | D28: $m | E28: =SUM(E67:E68,E73) -> 6.3100471 | F28: =SUM(F67:F68,F73) -> 4.7694626 | G28: =SUM(G67:G68,G73) -> 8.7809047 | H28: =SUM(H67:H68,H73) -> 11.014986 | I28: =SUM(I67:I68,I73) -> 12.377599 | J28: =SUM(J67:J68,J73) -> 8.6387061 | K28: =SUM(K67:K68,K73) -> 10.294124 | L28: =SUM(L67:L68,L73) -> 9.6253483 | ... AA28: =SUM(AA67:AA68,AA73) -> 0
C29: AISC | D29: $m | E29: =E69 -> 53.959445 | F29: =F69 -> 48.542103 | G29: =G69 -> 62.798802 | H29: =H69 -> 64.689413 | I29: =I69 -> 71.930862 | J29: =J69 -> 56.271101 | K29: =K69 -> 72.715876 | L29: =L69 -> 71.439581 | ... Q29: =Q69 -> 41.112022 | R29: N/a | S29: N/a | T29: N/a | U29: N/a | V29: N/a | W29: N/a | X29: N/a | Y29: N/a | Z29: N/a | AA29: N/a
C30: AISC | D30: US$/lb Cu sold | E30: =E72 -> 4.2953501 | F30: =F72 -> 3.6162229 | G30: =G72 -> 3.0178969 | H30: =H72 -> 3.2043836 | I30: =I72 -> 3.9424008 | J30: =J72 -> 3.9259057 | K30: =K72 -> 3.083084 | L30: =L72 -> 4.124395 | ... Q30: =Q72 -> 10.671837 | R30: N/a | S30: N/a | T30: N/a | U30: N/a | V30: N/a | W30: N/a | X30: N/a | Y30: N/a | Z30: N/a | AA30: N/a
C31: Recovery costs during partial operations | D31: $m | M31: 8.8511279 | N31: 25.36093 | O31: 12.616035 | P31: 14.111606 | Q31: 10.426114
C32: Suspension period Site operating costs | D32: $m | R32: =R75 -> 17.838775 | S32: =S75 -> 10.385415 | T32: =T75 -> 10.464117 | U32: =U75 -> 10.867244 | V32: =V75 -> 7.9966248 | W32: =W75 -> 7.7536014 | X32: =X75 -> 8.0111259 | Y32: =Y75 -> 8.3469375 | ... AA32: =AA75 -> 6.6437092
C33: Suspension period capital | D33: $m | R33: =R76 -> 13.822471 | S33: =S76 -> 8.5433517 | T33: =T76 -> 4.4809224 | U33: =U76 -> 0.80033928 | V33: =V76 -> 1.0844432 | W33: =W76 -> 0.98707147 | X33: =X76 -> 1.5873407 | Y33: =Y76 -> 0.29025607 | ... AA33: =AA76 -> 3.0500945
B36: APPENDIX 1: PRODUCTION STATS
C38: Capricorn Copper | D38: Unit
C39: Ore mined | D39: kt | E39: 415.28614 | F39: 394.98705 | G39: 490.94834 | H39: 470.84204 | I39: 419.22015 | J39: 465.04716 | K39: 429.19588 | L39: 400.1021 | M39: 234.33559 | N39: 0 | O39: 100.03486 | P39: 156.82873 | Q39: 161.46433 | R39: 0 | S39: 0 | T39: 0 | U39: 0 | V39: 0 | W39: 0 | X39: 0 | Y39: 0 | Z39: 0 | AA39: 0
C40: Ore milled | D40: kt | E40: 411.88856 | F40: 429.5505 | G40: 424.59081 | H40: 437.4259 | I40: 417.26293 | J40: 412.04264 | K40: 492.71165 | L40: 409.08498 | M40: 192.67694 | N40: 0 | O40: 85.092454 | P40: 179.84287 | Q40: 93.702628 | R40: 64.444213 | S40: 0 | T40: 0 | U40: 0 | V40: 0 | W40: 0 | X40: 0 | Y40: 0 | Z40: 0 | AA40: 0
C41: Milled grade | D41: Copper (%) | E41: 0.013374691 | F41: 0.01564634 | G41: 0.018219324 | H41: 0.01986547 | I41: 0.014356937 | J41: 0.015744296 | K41: 0.018237345 | L41: 0.015787626 | M41: 0.016606711 | N41: 0 | O41: 0.01625746 | P41: 0.016936702 | Q41: 0.017341521 | R41: 0.014590207 | S41: 0 | T41: 0 | U41: 0 | V41: 0 | W41: 0 | X41: 0 | Y41: 0 | Z41: 0 | AA41: 0
C42: Recovery | D42: Copper (%) | E42: 0.79965438 | F42: 0.84834854 | G42: 0.88604664 | H42: 0.88820724 | I42: 0.87311798 | J42: 0.8645036 | K42: 0.85351566 | L42: 0.82308432 | M42: 0.825159 | N42: 0 | O42: 0.8062305 | P42: 0.77837752 | Q42: 0.7709817 | R42: 0.7973819 | S42: 0 | T42: 0 | U42: 0 | V42: 0 | W42: 0 | X42: 0 | Y42: 0 | Z42: 0 | AA42: 0
C43: Cu concentrate produced | D43: dmt | E43: 19683.589 | F43: 25159.629 | G43: 27235.602 | H43: 32643.7 | I43: 22512.021 | J43: 24235.081 | K43: 31038.893 | L43: 23357.675 | M43: 12637.314 | N43: 0 | O43: 5167.8916 | P43: 10985.415 | Q43: 6029.1749 | R43: 3794.9028 | S43: 0 | T43: 0 | U43: 0 | V43: 0 | W43: 0 | X43: 0 | Y43: 0 | Z43: 0 | AA43: 0
D44: Cu grade (%) | E44: 0.22380074 | F44: 0.22661939 | G44: 0.25166479 | H44: 0.23643853 | I44: 0.23234325 | J44: 0.23141299 | K44: 0.24709259 | L44: 0.22758576 | M44: 0.20892778 | N44: 0 | O44: 0.21581894 | P44: 0.21582209 | Q44: 0.20779023 | R44: 0.19756549 | S44: 0 | T44: 0 | U44: 0 | V44: 0 | W44: 0 | X44: 0 | Y44: 0 | Z44: 0 | AA44: 0
D45: Copper (t) | E45: 4405.2018 | F45: 5701.6598 | G45: 6854.242 | H45: 7718.2286 | I45: 5230.516 | J45: 5608.3124 | K45: 7669.4803 | L45: 5315.8743 | M45: 2640.2861 | N45: 0 | O45: 1115.3289 | P45: 2370.8952 | Q45: 1252.8037 | R45: 749.74182 | S45: 0 | T45: 0 | U45: 0 | V45: 0 | W45: 0 | X45: 0 | Y45: 0 | Z45: 0 | AA45: 0
D46: Silver (oz) | E46: 48812.819 | F46: 76154.951 | G46: 72319.868 | H46: 72565.936 | I46: 51138.541 | J46: 54353.654 | K46: 74491.603 | L46: 54085.749 | M46: 19557.163 | N46: 0 | O46: 6253.241 | P46: 10015.361 | Q46: 5411.2994 | R46: 2315.4234 | S46: 0 | T46: 0 | U46: 0 | V46: 0 | W46: 0 | X46: 0 | Y46: 0 | Z46: 0 | AA46: 0
C47: Payable metal sold | D47: Copper (t) | E47: 4402.839 | F47: 4689.616 | G47: 6933.014 | H47: 6672.881 | I47: 5996.52 | J47: 4643.471 | K47: 7309.485 | L47: 5166.5 | M47: 3036.555 | N47: -36.969 | O47: 709.239 | P47: 2388.562 | Q47: 1148.68 | R47: 759.196 | S47: 0 | T47: 0 | U47: 0 | V47: 0 | W47: 0 | X47: 0 | Y47: 0 | Z47: 0 | AA47: 0
D48: Silver (oz) | E48: 41455.374 | F48: 58382.259 | G48: 70761.488 | H48: 58188.151 | I48: 42371.778 | J48: 43485.142 | K48: 68517.852 | L48: 44700.769 | M48: 21448.774 | N48: -142.474 | O48: 4455.112 | P48: 0 | Q48: 1454.622 | R48: 0 | S48: 0 | T48: 0 | U48: 0 | V48: 0 | W48: 0 | X48: 0 | Y48: 0 | Z48: 0 | AA48: 0
B50: APPENDIX 2: UNIT COSTS
...
