Workbook
Name ADMINISTRAÇÃO: #REF!
Name ADS: #REF!
Name AGRONOMIA: #REF!
Name ARQUITETURA: #REF!
Name BIOMEDICINA: #REF!
Name CIÊNCIAS_CONTÁBEIS: #REF!
Name DIREITO: #REF!
Name EDUCAÇÃO_FÍSICA: #REF!
Name ENFERMAGEM: #REF!
Name ENGENHARIA_CIVIL: #REF!
Name ESTÉTICA_2.5_ANOS: #REF!
Name ESTÉTICA_2_ANOS: #REF!
Name ESTÉTICA_3_ANOS: #REF!
Name FARMÁCIA: #REF!
Name FISIOTERAPIA: #REF!
Name FONOAUDIOLOGIA: #REF!
Name NUTRIÇÃO: #REF!
Name PSICOLOGIA: #REF!
Name PUBLICIDADE_E_PROPAGANDA: #REF!
Name SISTEMAS_DE_INFORMAÇÃO: #REF!
Name VETERINÁRIA: #REF!

Sheet Cursos
B2: Curso | E2: PARÂMETRO DE CRÉDITOS | H2: TIPIFICAÇÕES
B3: Selecione o curso | E3: 16.5 | H3: ON.A
B4: ADMINISTRAÇÃO | H4: ON.S
B5: AGRONOMIA | H5: PR
B6: ANÁLISE E DESENVOLVIMENTO DE SISTEMAS | H6: HB
B7: ARQUITETURA E URBANISMO | H7: EXT
B8: BIOMEDICINA | H8: EST
B9: CIÊNCIA DE DADOS | H9: TCC
B10: CIÊNCIAS CONTÁBEIS | H10: ACC
B11: CIÊNCIAS ECONÔMICAS
B12: DESENVOLVIMENTO FULL STACK
B13: DIREITO
B14: EDUCAÇÃO_FÍSICA
B15: ENFERMAGEM
B16: ENGENHARIA CIVIL
B17: ENGENHARIA DE PRODUÇÃO
B18: ESTÉTICA E COSMÉTICA
B19: FARMÁCIA
B20: FISIOTERAPIA
B21: FONOAUDIOLOGIA
B22: GESTÃO COMERCIAL
... B33: SISTEMAS DE INFORMAÇÃO

Sheet Frame 1
I2: CURSO: | J2: RADIOLOGIA
E4: Gabarito | G4: =G56 -> 2600
E5: Estágio | G5: =K56 -> 488 | Q5: Se for todos os alunos do periodo, preencher como "GERAL"
E6: ACC | G6: =G53 -> 74
B8: CURSO | C8: PERÍODOS | D8: ORDEM | E8: NOME DISCIPLINA | F8: REDUZIDO | G8: CH TOTAL | H8: TIPO COMPONENTE | I8: CH TEÓRICA | J8: CH PRÁTICA | K8: CH ESTÁGIO | L8: CH EXTENSÃO | M8: CH ONLINE | N8: TIPIFICAÇÃO | O8: CRÉDITOS | P8: DIAS PRESENCIAL | Q8: ALUNOS POR TURMA OU GRUPOS | R8: TIPO DE OFERTA | S8: CRÉDITOS PAGO PROFESSOR | T8: CRÉDITOS PAGOS ON.S | U8: CRÉDITOS PAGO TUTOR | V8: CRÉDITOS OFF | W8: HABILITAÇÃO | X8: PRESENCIAL | Y8: DIAS DE PRESENCIAL MOD.: PRESENCIAL | Z8: SEMI | AA8: DIAS DE PRESENCIAL MOD.: SEMI | AB8: 100%
B9: =$J$2 -> RADIOLOGIA | C9: 1º | D9: 1 | E9: Marketing Pessoal e Profissional | F9: MPP | G9: =SUM(TB_Radiologia1[[#This Row],[CH TEÓRICA]:[CH ONLINE]]) -> 66 | H9: institucional | I9: 0 | J9: 0 | K9: 0 | L9: 0 | M9: 66 | N9: ON.A | O9: =ROUNDUP(TB_Radiologia1[[#This Row],[CH TOTAL]]/Cursos!$E$3,0) -> 4 | P9: {=IF(AND(TB_Radiologia1[[#This Row],[TIPIFICAÇÃO]]="TCC",TB_Radiologia1[[#This Row],[TIPO DE OFERTA]]="PRESENCIAL"),SUM(TB_Radiologia1[[#This Row],[CH TEÓRICA]:[CH PRÁTICA]]/66),IF(TB_Radiologia1[[#This Row],[TIPIFICAÇÃO]]="EST",1,IF(AND(IF(OR(TB_Radiologia1[[#This Row],[TIPIFICAÇÃO]]="HB",TB_Radiologia1[[#This Row],[TIPIFICAÇÃO]]="PR"),SUM(TB_Radiologia1[[#This Row],[CH TEÓRICA]:[CH PRÁTICA]])/66,IF(TB_Radiologia1[[#This Row],[TIPIFICAÇÃO]]="EXT",0.5,0))>0.6,IF(OR(TB_Radiologia1[[#This Row],[TIPIFICAÇÃO]]="HB",TB_Radiologia1[[#This Row],[TIPIFICAÇÃO]]="PR"),SUM(TB_Radiologia1[[#This Row],[CH TEÓRICA]:[CH PRÁTICA]])/66,IF(TB_Radiologia1[[#This Row],[TIPIFICAÇÃO]]="EXT",0.5,0))<0.8),1,IF(OR(TB_Radiologia1[[#This Row],[TIPIFICAÇÃO]]="HB",TB_Radiologia1[[#This Row],[TIPIFICAÇÃO]]="PR"),SUM(TB_Radiologia1[[#This Row],[CH TEÓRICA]:[CH PRÁTICA]])/66,IF(TB_Radiologia1[[#This Row],[TIPIFICAÇÃO]]="EXT",0.5,0)))))} -> 0 | R9: PRESENCIAL | S9: {=ROUNDUP(IFERROR(_xlfn.IFS(TB_Radiologia1[[#This Row],[TIPIFICAÇÃO]]="ON.A",0,AND(TB_Radiologia1[[#This Row],[TIPIFICAÇÃO]]="EST",TB_Radiologia1[[#This Row],[TIPO DE OFERTA]]="PRESENCIAL"),0,AND(TB_Radiologia1[[#This Row],[TIPIFICAÇÃO]]="PR",OR(TB_Radiologia1[[#This Row],[TIPO DE OFERTA]]="PRESENCIAL",TB_Radiologia1[[#This Row],[TIPO DE OFERTA]]="SEMI-PRESENCIAL")),TB_Radiologia1[[#This Row],[CH TEÓRICA]]+TB_Radiologia1[[#This Row],[CH PRÁTICA]],AND(TB_Radiologia1[[#This Row],[TIPIFICAÇÃO]]="HB",TB_Radiologia1[[#This Row],[TIPO DE OFERTA]]="PRESENCIAL"),TB_Radiologia1[[#This Row],[CH TEÓRICA]]+TB_Radiologia1[[#This Row],[CH PRÁTICA]],AND(TB_Radiologia1[[#This Row],[TIPIFICAÇÃO]]="EXT",OR(TB_Radiologia1[[#This Row],[TIPO DE OFERTA]]="PRESENCIAL",TB_Radiologia1[[#This Row],[TIPO DE OFERTA]]="SEMI-PRESENCIAL")),33,AND(TB_Radiologia1[[#This Row],[TIPIFICAÇÃO]]="TCC",TB_Radiologia1[[#This Row],[TIPO DE OFERTA]]="PRESENCIAL"),SUM(TB_Radiologia1[[#This Row],[CH TEÓRICA]],TB_Radiologia1[[#This Row],[CH PRÁTICA]]))/Cursos!$E$3,0),0)} -> 0 | T9: =IF(TB_Radiologia1[[#This Row],[TIPIFICAÇÃO]]="ON.S",ROUNDUP(TB_Radiologia1[[#This Row],[CH TEÓRICA]]/Cursos!$E$3,0),0) -> 0 | U9: {=IFERROR(_xlfn.IFS(TB_Radiologia1[[#This Row],[TIPIFICAÇÃO]]="ON.A",1,TB_Radiologia1[[#This Row],[TIPIFICAÇÃO]]="PR",0,TB_Radiologia1[[#This Row],[TIPIFICAÇÃO]]="HB",0,AND(TB_Radiologia1[[#This Row],[TIPIFICAÇÃO]]="EXT",OR(TB_Radiologia1[[#This Row],[TIPO DE OFERTA]]="SEMI-PRESENCIAL",TB_Radiologia1[[#This Row],[TIPO DE OFERTA]]="EAD 100%")),1),0)} -> 1 | V9: {=ROUNDUP(IFERROR(_xlfn.IFS(TB_Radiologia1[[#This Row],[TIPIFICAÇÃO]]="ON.A",0,TB_Radiologia1[[#This Row],[TIPIFICAÇÃO]]="PR",0,TB_Radiologia1[[#This Row],[TIPIFICAÇÃO]]="HB",TB_Radiologia1[[#This Row],[CH ONLINE]],TB_Radiologia1[[#This Row],[TIPIFICAÇÃO]]="ON.S",0,AND(TB_Radiologia1[[#This Row],[TIPIFICAÇÃO]]="EXT",TB_Radiologia1[[#This Row],[TIPO DE OFERTA]]="PRESENCIAL"),TB_Radiologia1[[#This Row],[CRÉDITOS]]-TB_Radiologia1[[#This Row],[CRÉDITOS PAGO PROFESSOR]])/Cursos!$E$3,0),0)} -> 0 | W9: BACHARELADO
B10: =$J$2 -> RADIOLOGIA | C10: 1º | D10: 2 | E10: Fundamentos Matemáticos | F10: FM | G10: =SUM(TB_Radiologia1[[#This Row],[CH TEÓRICA]:[CH ONLINE]]) -> 33 | H10: Específica | I10: 33 | J10: 0 | K10: 0 | L10: 0 | M10: 0 | N10: PR | O10: =ROUNDUP(TB_Radiologia1[[#This Row],[CH TOTAL]]/Cursos!$E$3,0) -> 2 | P10: {=IF(AND(TB_Radiologia1[[#This Row],[TIPIFICAÇÃO]]="TCC",TB_Radiologia1[[#This Row],[TIPO DE OFERTA]]="PRESENCIAL"),SUM(TB_Radiologia1[[#This Row],[CH TEÓRICA]:[CH PRÁTICA]]/66),IF(TB_Radiologia1[[#This Row],[TIPIFICAÇÃO]]="EST",1,IF(AND(IF(OR(TB_Radiologia1[[#This Row],[TIPIFICAÇÃO]]="HB",TB_Radiologia1[[#This Row],[TIPIFICAÇÃO]]="PR"),SUM(TB_Radiologia1[[#This Row],[CH TEÓRICA]:[CH PRÁTICA]])/66,IF(TB_Radiologia1[[#This Row],[TIPIFICAÇÃO]]="EXT",0.5,0))>0.6,IF(OR(TB_Radiologia1[[#This Row],[TIPIFICAÇÃO]]="HB",TB_Radiologia1[[#This Row],[TIPIFICAÇÃO]]="PR"),SUM(TB_Radiologia1[[#This Row],[CH TEÓRICA]:[CH PRÁTICA]])/66,IF(TB_Radiologia1[[#This Row],[TIPIFICAÇÃO]]="EXT",0.5,0))<0.8),1,IF(OR(TB_Radiologia1[[#This Row],[TIPIFICAÇÃO]]="HB",TB_Radiologia1[[#This Row],[TIPIFICAÇÃO]]="PR"),SUM(TB_Radiologia1[[#This Row],[CH TEÓRICA]:[CH PRÁTICA]])/66,IF(TB_Radiologia1[[#This Row],[TIPIFICAÇÃO]]="EXT",0.5,0)))))} -> 0.5 | R10: PRESENCIAL | S10: {=ROUNDUP(IFERROR(_xlfn.IFS(TB_Radiologia1[[#This Row],[TIPIFICAÇÃO]]="ON.A",0,AND(TB_Radiologia1[[#This Row],[TIPIFICAÇÃO]]="EST",TB_Radiologia1[[#This Row],[TIPO DE OFERTA]]="PRESENCIAL"),0,AND(TB_Radiologia1[[#This Row],[TIPIFICAÇÃO]]="PR",OR(TB_Radiologia1[[#This Row],[TIPO DE OFERTA]]="PRESENCIAL",TB_Radiologia1[[#This Row],[TIPO DE OFERTA]]="SEMI-PRESENCIAL")),TB_Radiologia1[[#This Row],[CH TEÓRICA]]+TB_Radiologia1[[#This Row],[CH PRÁTICA]],AND(TB_Radiologia1[[#This Row],[TIPIFICAÇÃO]]="HB",TB_Radiologia1[[#This Row],[TIPO DE OFERTA]]="PRESENCIAL"),TB_Radiologia1[[#This Row],[CH TEÓRICA]]+TB_Radiologia1[[#This Row],[CH PRÁTICA]],AND(TB_Radiologia1[[#This Row],[TIPIFICAÇÃO]]="EXT",OR(TB_Radiologia1[[#This Row],[TIPO DE OFERTA]]="PRESENCIAL",TB_Radiologia1[[#This Row],[TIPO DE OFERTA]]="SEMI-PRESENCIAL")),33,AND(TB_Radiologia1[[#This Row],[TIPIFICAÇÃO]]="TCC",TB_Radiologia1[[#This Row],[TIPO DE OFERTA]]="PRESENCIAL"),SUM(TB_Radiologia1[[#This Row],[CH TEÓRICA]],TB_Radiologia1[[#This Row],[CH PRÁTICA]]))/Cursos!$E$3,0),0)} -> 2 | T10: =IF(TB_Radiologia1[[#This Row],[TIPIFICAÇÃO]]="ON.S",ROUNDUP(TB_Radiologia1[[#This Row],[CH TEÓRICA]]/Cursos!$E$3,0),0) -> 0 | U10: {=IFERROR(_xlfn.IFS(TB_Radiologia1[[#This Row],[TIPIFICAÇÃO]]="ON.A",1,TB_Radiologia1[[#This Row],[TIPIFICAÇÃO]]="PR",0,TB_Radiologia1[[#This Row],[TIPIFICAÇÃO]]="HB",0,AND(TB_Radiologia1[[#This Row],[TIPIFICAÇÃO]]="EXT",OR(TB_Radiologia1[[#This Row],[TIPO DE OFERTA]]="SEMI-PRESENCIAL",TB_Radiologia1[[#This Row],[TIPO DE OFERTA]]="EAD 100%")),1),0)} -> 0 | V10: {=ROUNDUP(IFERROR(_xlfn.IFS(TB_Radiologia1[[#This Row],[TIPIFICAÇÃO]]="ON.A",0,TB_Radiologia1[[#This Row],[TIPIFICAÇÃO]]="PR",0,TB_Radiologia1[[#This Row],[TIPIFICAÇÃO]]="HB",TB_Radiologia1[[#This Row],[CH ONLINE]],TB_Radiologia1[[#This Row],[TIPIFICAÇÃO]]="ON.S",0,AND(TB_Radiologia1[[#This Row],[TIPIFICAÇÃO]]="EXT",TB_Radiologia1[[#This Row],[TIPO DE OFERTA]]="PRESENCIAL"),TB_Radiologia1[[#This Row],[CRÉDITOS]]-TB_Radiologia1[[#This Row],[CRÉDITOS PAGO PROFESSOR]])/Cursos!$E$3,0),0)} -> 0 | W10: BACHARELADO
B11: =$J$2 -> RADIOLOGIA | C11: 1º | D11: 3 | E11: Ética e Bioética em Saúde | F11: EBIOSA | G11: =SUM(TB_Radiologia1[[#This Row],[CH TEÓRICA]:[CH ONLINE]]) -> 33 | H11: Comum de Área | I11: 0 | J11: 0 | K11: 0 | L11: 0 | M11: 33 | N11: ON.A | O11: =ROUNDUP(TB_Radiologia1[[#This Row],[CH TOTAL]]/Cursos!$E$3,0) -> 2 | P11: {=IF(AND(TB_Radiologia1[[#This Row],[TIPIFICAÇÃO]]="TCC",TB_Radiologia1[[#This Row],[TIPO DE OFERTA]]="PRESENCIAL"),SUM(TB_Radiologia1[[#This Row],[CH TEÓRICA]:[CH PRÁTICA]]/66),IF(TB_Radiologia1[[#This Row],[TIPIFICAÇÃO]]="EST",1,IF(AND(IF(OR(TB_Radiologia1[[#This Row],[TIPIFICAÇÃO]]="HB",TB_Radiologia1[[#This Row],[TIPIFICAÇÃO]]="PR"),SUM(TB_Radiologia1[[#This Row],[CH TEÓRICA]:[CH PRÁTICA]])/66,IF(TB_Radiologia1[[#This Row],[TIPIFICAÇÃO]]="EXT",0.5,0))>0.6,IF(OR(TB_Radiologia1[[#This Row],[TIPIFICAÇÃO]]="HB",TB_Radiologia1[[#This Row],[TIPIFICAÇÃO]]="PR"),SUM(TB_Radiologia1[[#This Row],[CH TEÓRICA]:[CH PRÁTICA]])/66,IF(TB_Radiologia1[[#This Row],[TIPIFICAÇÃO]]="EXT",0.5,0))<0.8),1,IF(OR(TB_Radiologia1[[#This Row],[TIPIFICAÇÃO]]="HB",TB_Radiologia1[[#This Row],[TIPIFICAÇÃO]]="PR"),SUM(TB_Radiologia1[[#This Row],[CH TEÓRICA]:[CH PRÁTICA]])/66,IF(TB_Radiologia1[[#This Row],[TIPIFICAÇÃO]]="EXT",0.5,0)))))} -> 0 | R11: PRESENCIAL | S11: {=ROUNDUP(IFERROR(_xlfn.IFS(TB_Radiologia1[[#This Row],[TIPIFICAÇÃO]]="ON.A",0,AND(TB_Radiologia1[[#This Row],[TIPIFICAÇÃO]]="EST",TB_Radiologia1[[#This Row],[TIPO DE OFERTA]]="PRESENCIAL"),0,AND(TB_Radiologia1[[#This Row],[TIPIFICAÇÃO]]="PR",OR(TB_Radiologia1[[#This Row],[TIPO DE OFERTA]]="PRESENCIAL",TB_Radiologia1[[#This Row],[TIPO DE OFERTA]]="SEMI-PRESENCIAL")),TB_Radiologia1[[#This Row],[CH TEÓRICA]]+TB_Radiologia1[[#This Row],[CH PRÁTICA]],AND(TB_Radiologia1[[#This Row],[TIPIFICAÇÃO]]="HB",TB_Radiologia1[[#This Row],[TIPO DE OFERTA]]="PRESENCIAL"),TB_Radiologia1[[#This Row],[CH TEÓRICA]]+TB_Radiologia1[[#This Row],[CH PRÁTICA]],AND(TB_Radiologia1[[#This Row],[TIPIFICAÇÃO]]="EXT",OR(TB_Radiologia1[[#This Row],[TIPO DE OFERTA]]="PRESENCIAL",TB_Radiologia1[[#This Row],[TIPO DE OFERTA]]="SEMI-PRESENCIAL")),33,AND(TB_Radiologia1[[#This Row],[TIPIFICAÇÃO]]="TCC",TB_Radiologia1[[#This Row],[TIPO DE OFERTA]]="PRESENCIAL"),SUM(TB_Radiologia1[[#This Row],[CH TEÓRICA]],TB_Radiologia1[[#This Row],[CH PRÁTICA]]))/Cursos!$E$3,0),0)} -> 0 | T11: =IF(TB_Radiologia1[[#This Row],[TIPIFICAÇÃO]]="ON.S",ROUNDUP(TB_Radiologia1[[#This Row],[CH TEÓRICA]]/Cursos!$E$3,0),0) -> 0 | U11: {=IFERROR(_xlfn.IFS(TB_Radiologia1[[#This Row],[TIPIFICAÇÃO]]="ON.A",1,TB_Radiologia1[[#This Row],[TIPIFICAÇÃO]]="PR",0,TB_Radiologia1[[#This Row],[TIPIFICAÇÃO]]="HB",0,AND(TB_Radiologia1[[#This Row],[TIPIFICAÇÃO]]="EXT",OR(TB_Radiologia1[[#This Row],[TIPO DE OFERTA]]="SEMI-PRESENCIAL",TB_Radiologia1[[#This Row],[TIPO DE OFERTA]]="EAD 100%")),1),0)} -> 1 | V11: {=ROUNDUP(IFERROR(_xlfn.IFS(TB_Radiologia1[[#This Row],[TIPIFICAÇÃO]]="ON.A",0,TB_Radiologia1[[#This Row],[TIPIFICAÇÃO]]="PR",0,TB_Radiologia1[[#This Row],[TIPIFICAÇÃO]]="HB",TB_Radiologia1[[#This Row],[CH ONLINE]],TB_Radiologia1[[#This Row],[TIPIFICAÇÃO]]="ON.S",0,AND(TB_Radiologia1[[#This Row],[TIPIFICAÇÃO]]="EXT",TB_Radiologia1[[#This Row],[TIPO DE OFERTA]]="PRESENCIAL"),TB_Radiologia1[[#This Row],[CRÉDITOS]]-TB_Radiologia1[[#This Row],[CRÉDITOS PAGO PROFESSOR]])/Cursos!$E$3,0),0)} -> 0 | W11: BACHARELADO
B12: =$J$2 -> RADIOLOGIA | C12: 1º | D12: 4 | E12: Psicologia em Saúde | F12: PSI SAUDE | G12: =SUM(TB_Radiologia1[[#This Row],[CH TEÓRICA]:[CH ONLINE]]) -> 33 | H12: Comum de Área | I12: 0 | J12: 0 | K12: 0 | L12: 0 | M12: 33 | N12: ON.A | O12: =ROUNDUP(TB_Radiologia1[[#This Row],[CH TOTAL]]/Cursos!$E$3,0) -> 2 | P12: {=IF(AND(TB_Radiologia1[[#This Row],[TIPIFICAÇÃO]]="TCC",TB_Radiologia1[[#This Row],[TIPO DE OFERTA]]="PRESENCIAL"),SUM(TB_Radiologia1[[#This Row],[CH TEÓRICA]:[CH PRÁTICA]]/66),IF(TB_Radiologia1[[#This Row],[TIPIFICAÇÃO]]="EST",1,IF(AND(IF(OR(TB_Radiologia1[[#This Row],[TIPIFICAÇÃO]]="HB",TB_Radiologia1[[#This Row],[TIPIFICAÇÃO]]="PR"),SUM(TB_Radiologia1[[#This Row],[CH TEÓRICA]:[CH PRÁTICA]])/66,IF(TB_Radiologia1[[#This Row],[TIPIFICAÇÃO]]="EXT",0.5,0))>0.6,IF(OR(TB_Radiologia1[[#This Row],[TIPIFICAÇÃO]]="HB",TB_Radiologia1[[#This Row],[TIPIFICAÇÃO]]="PR"),SUM(TB_Radiologia1[[#This Row],[CH TEÓRICA]:[CH PRÁTICA]])/66,IF(TB_Radiologia1[[#This Row],[TIPIFICAÇÃO]]="EXT",0.5,0))<0.8),1,IF(OR(TB_Radiologia1[[#This Row],[TIPIFICAÇÃO]]="HB",TB_Radiologia1[[#This Row],[TIPIFICAÇÃO]]="PR"),SUM(TB_Radiologia1[[#This Row],[CH TEÓRICA]:[CH PRÁTICA]])/66,IF(TB_Radiologia1[[#This Row],[TIPIFICAÇÃO]]="EXT",0.5,0)))))} -> 0 | R12: PRESENCIAL | S12: {=ROUNDUP(IFERROR(_xlfn.IFS(TB_Radiologia1[[#This Row],[TIPIFICAÇÃO]]="ON.A",0,AND(TB_Radiologia1[[#This Row],[TIPIFICAÇÃO]]="EST",TB_Radiologia1[[#This Row],[TIPO DE OFERTA]]="PRESENCIAL"),0,AND(TB_Radiologia1[[#This Row],[TIPIFICAÇÃO]]="PR",OR(TB_Radiologia1[[#This Row],[TIPO DE OFERTA]]="PRESENCIAL",TB_Radiologia1[[#This Row],[TIPO DE OFERTA]]="SEMI-PRESENCIAL")),TB_Radiologia1[[#This Row],[CH TEÓRICA]]+TB_Radiologia1[[#This Row],[CH PRÁTICA]],AND(TB_Radiologia1[[#This Row],[TIPIFICAÇÃO]]="HB",TB_Radiologia1[[#This Row],[TIPO DE OFERTA]]="PRESENCIAL"),TB_Radiologia1[[#This Row],[CH TEÓRICA]]+TB_Radiologia1[[#This Row],[CH PRÁTICA]],AND(TB_Radiologia1[[#This Row],[TIPIFICAÇÃO]]="EXT",OR(TB_Radiologia1[[#This Row],[TIPO DE OFERTA]]="PRESENCIAL",TB_Radiologia1[[#This Row],[TIPO DE OFERTA]]="SEMI-PRESENCIAL")),33,AND(TB_Radiologia1[[#This Row],[TIPIFICAÇÃO]]="TCC",TB_Radiologia1[[#This Row],[TIPO DE OFERTA]]="PRESENCIAL"),SUM(TB_Radiologia1[[#This Row],[CH TEÓRICA]],TB_Radiologia1[[#This Row],[CH PRÁTICA]]))/Cursos!$E$3,0),0)} -> 0 | T12: =IF(TB_Radiologia1[[#This Row],[TIPIFICAÇÃO]]="ON.S",ROUNDUP(TB_Radiologia1[[#This Row],[CH TEÓRICA]]/Cursos!$E$3,0),0) -> 0 | U12: {=IFERROR(_xlfn.IFS(TB_Radiologia1[[#This Row],[TIPIFICAÇÃO]]="ON.A",1,TB_Radiologia1[[#This Row],[TIPIFICAÇÃO]]="PR",0,TB_Radiologia1[[#This Row],[TIPIFICAÇÃO]]="HB",0,AND(TB_Radiologia1[[#This Row],[TIPIFICAÇÃO]]="EXT",OR(TB_Radiologia1[[#This Row],[TIPO DE OFERTA]]="SEMI-PRESENCIAL",TB_Radiologia1[[#This Row],[TIPO DE OFERTA]]="EAD 100%")),1),0)} -> 1 | V12: {=ROUNDUP(IFERROR(_xlfn.IFS(TB_Radiologia1[[#This Row],[TIPIFICAÇÃO]]="ON.A",0,TB_Radiologia1[[#This Row],[TIPIFICAÇÃO]]="PR",0,TB_Radiologia1[[#This Row],[TIPIFICAÇÃO]]="HB",TB_Radiologia1[[#This Row],[CH ONLINE]],TB_Radiologia1[[#This Row],[TIPIFICAÇÃO]]="ON.S",0,AND(TB_Radiologia1[[#This Row],[TIPIFICAÇÃO]]="EXT",TB_Radiologia1[[#This Row],[TIPO DE OFERTA]]="PRESENCIAL"),TB_Radiologia1[[#This Row],[CRÉDITOS]]-TB_Radiologia1[[#This Row],[CRÉDITOS PAGO PROFESSOR]])/Cursos!$E$3,0),0)} -> 0 | W12: BACHARELADO
B13: =$J$2 -> RADIOLOGIA | C13: 1º | D13: 5 | E13: Fundamentos da Radiologia | F13: FR | G13: =SUM(TB_Radiologia1[[#This Row],[CH TEÓRICA]:[CH ONLINE]]) -> 49 | H13: Específica | I13: 49 | J13: 0 | K13: 0 | L13: 0 | M13: 0 | N13: PR | O13: =ROUNDUP(TB_Radiologia1[[#This Row],[CH TOTAL]]/Cursos!$E$3,0) -> 3 | P13: {=IF(AND(TB_Radiologia1[[#This Row],[TIPIFICAÇÃO]]="TCC",TB_Radiologia1[[#This Row],[TIPO DE OFERTA]]="PRESENCIAL"),SUM(TB_Radiologia1[[#This Row],[CH TEÓRICA]:[CH PRÁTICA]]/66),IF(TB_Radiologia1[[#This Row],[TIPIFICAÇÃO]]="EST",1,IF(AND(IF(OR(TB_Radiologia1[[#This Row],[TIPIFICAÇÃO]]="HB",TB_Radiologia1[[#This Row],[TIPIFICAÇÃO]]="PR"),SUM(TB_Radiologia1[[#This Row],[CH TEÓRICA]:[CH PRÁTICA]])/66,IF(TB_Radiologia1[[#This Row],[TIPIFICAÇÃO]]="EXT",0.5,0))>0.6,IF(OR(TB_Radiologia1[[#This Row],[TIPIFICAÇÃO]]="HB",TB_Radiologia1[[#This Row],[TIPIFICAÇÃO]]="PR"),SUM(TB_Radiologia1[[#This Row],[CH TEÓRICA]:[CH PRÁTICA]])/66,IF(TB_Radiologia1[[#This Row],[TIPIFICAÇÃO]]="EXT",0.5,0))<0.8),1,IF(OR(TB_Radiologia1[[#This Row],[TIPIFICAÇÃO]]="HB",TB_Radiologia1[[#This Row],[TIPIFICAÇÃO]]="PR"),SUM(TB_Radiologia1[[#This Row],[CH TEÓRICA]:[CH PRÁTICA]])/66,IF(TB_Radiologia1[[#This Row],[TIPIFICAÇÃO]]="EXT",0.5,0)))))} -> 1 | R13: PRESENCIAL | S13: {=ROUNDUP(IFERROR(_xlfn.IFS(TB_Radiologia1[[#This Row],[TIPIFICAÇÃO]]="ON.A",0,AND(TB_Radiologia1[[#This Row],[TIPIFICAÇÃO]]="EST",TB_Radiologia1[[#This Row],[TIPO DE OFERTA]]="PRESENCIAL"),0,AND(TB_Radiologia1[[#This Row],[TIPIFICAÇÃO]]="PR",OR(TB_Radiologia1[[#This Row],[TIPO DE OFERTA]]="PRESENCIAL",TB_Radiologia1[[#This Row],[TIPO DE OFERTA]]="SEMI-PRESENCIAL")),TB_Radiologia1[[#This Row],[CH TEÓRICA]]+TB_Radiologia1[[#This Row],[CH PRÁTICA]],AND(TB_Radiologia1[[#This Row],[TIPIFICAÇÃO]]="HB",TB_Radiologia1[[#This Row],[TIPO DE OFERTA]]="PRESENCIAL"),TB_Radiologia1[[#This Row],[CH TEÓRICA]]+TB_Radiologia1[[#This Row],[CH PRÁTICA]],AND(TB_Radiologia1[[#This Row],[TIPIFICAÇÃO]]="EXT",OR(TB_Radiologia1[[#This Row],[TIPO DE OFERTA]]="PRESENCIAL",TB_Radiologia1[[#This Row],[TIPO DE OFERTA]]="SEMI-PRESENCIAL")),33,AND(TB_Radiologia1[[#This Row],[TIPIFICAÇÃO]]="TCC",TB_Radiologia1[[#This Row],[TIPO DE OFERTA]]="PRESENCIAL"),SUM(TB_Radiologia1[[#This Row],[CH TEÓRICA]],TB_Radiologia1[[#This Row],[CH PRÁTICA]]))/Cursos!$E$3,0),0)} -> 3 | T13: =IF(TB_Radiologia1[[#This Row],[TIPIFICAÇÃO]]="ON.S",ROUNDUP(TB_Radiologia1[[#This Row],[CH TEÓRICA]]/Cursos!$E$3,0),0) -> 0 | U13: {=IFERROR(_xlfn.IFS(TB_Radiologia1[[#This Row],[TIPIFICAÇÃO]]="ON.A",1,TB_Radiologia1[[#This Row],[TIPIFICAÇÃO]]="PR",0,TB_Radiologia1[[#This Row],[TIPIFICAÇÃO]]="HB",0,AND(TB_Radiologia1[[#This Row],[TIPIFICAÇÃO]]="EXT",OR(TB_Radiologia1[[#This Row],[TIPO DE OFERTA]]="SEMI-PRESENCIAL",TB_Radiologia1[[#This Row],[TIPO DE OFERTA]]="EAD 100%")),1),0)} -> 0 | V13: {=ROUNDUP(IFERROR(_xlfn.IFS(TB_Radiologia1[[#This Row],[TIPIFICAÇÃO]]="ON.A",0,TB_Radiologia1[[#This Row],[TIPIFICAÇÃO]]="PR",0,TB_Radiologia1[[#This Row],[TIPIFICAÇÃO]]="HB",TB_Radiologia1[[#This Row],[CH ONLINE]],TB_Radiologia1[[#This Row],[TIPIFICAÇÃO]]="ON.S",0,AND(TB_Radiologia1[[#This Row],[TIPIFICAÇÃO]]="EXT",TB_Radiologia1[[#This Row],[TIPO DE OFERTA]]="PRESENCIAL"),TB_Radiologia1[[#This Row],[CRÉDITOS]]-TB_Radiologia1[[#This Row],[CRÉDITOS PAGO PROFESSOR]])/Cursos!$E$3,0),0)} -> 0 | W13: BACHARELADO
B14: =$J$2 -> RADIOLOGIA | C14: 1º | D14: 6 | E14: Projeto de extensão I | F14: PE I | G14: =SUM(TB_Radiologia1[[#This Row],[CH TEÓRICA]:[CH ONLINE]]) -> 80 | H14: Extensão | I14: 0 | J14: 0 | K14: 0 | L14: 80 | M14: 0 | N14: EXT | O14: =ROUNDUP(TB_Radiologia1[[#This Row],[CH TOTAL]]/Cursos!$E$3,0) -> 5 | P14: {=IF(AND(TB_Radiologia1[[#This Row],[TIPIFICAÇÃO]]="TCC",TB_Radiologia1[[#This Row],[TIPO DE OFERTA]]="PRESENCIAL"),SUM(TB_Radiologia1[[#This Row],[CH TEÓRICA]:[CH PRÁTICA]]/66),IF(TB_Radiologia1[[#This Row],[TIPIFICAÇÃO]]="EST",1,IF(AND(IF(OR(TB_Radiologia1[[#This Row],[TIPIFICAÇÃO]]="HB",TB_Radiologia1[[#This Row],[TIPIFICAÇÃO]]="PR"),SUM(TB_Radiologia1[[#This Row],[CH TEÓRICA]:[CH PRÁTICA]])/66,IF(TB_Radiologia1[[#This Row],[TIPIFICAÇÃO]]="EXT",0.5,0))>0.6,IF(OR(TB_Radiologia1[[#This Row],[TIPIFICAÇÃO]]="HB",TB_Radiologia1[[#This Row],[TIPIFICAÇÃO]]="PR"),SUM(TB_Radiologia1[[#This Row],[CH TEÓRICA]:[CH PRÁTICA]])/66,IF(TB_Radiologia1[[#This Row],[TIPIFICAÇÃO]]="EXT",0.5,0))<0.8),1,IF(OR(TB_Radiologia1[[#This Row],[TIPIFICAÇÃO]]="HB",TB_Radiologia1[[#This Row],[TIPIFICAÇÃO]]="PR"),SUM(TB_Radiologia1[[#This Row],[CH TEÓRICA]:[CH PRÁTICA]])/66,IF(TB_Radiologia1[[#This Row],[TIPIFICAÇÃO]]="EXT",0.5,0)))))} -> 0.5 | S14: {=ROUNDUP(IFERROR(_xlfn.IFS(TB_Radiologia1[[#This Row],[TIPIFICAÇÃO]]="ON.A",0,AND(TB_Radiologia1[[#This Row],[TIPIFICAÇÃO]]="EST",TB_Radiologia1[[#This Row],[TIPO DE OFERTA]]="PRESENCIAL"),0,AND(TB_Radiologia1[[#This Row],[TIPIFICAÇÃO]]="PR",OR(TB_Radiologia1[[#This Row],[TIPO DE OFERTA]]="PRESENCIAL",TB_Radiologia1[[#This Row],[TIPO DE OFERTA]]="SEMI-PRESENCIAL")),TB_Radiologia1[[#This Row],[CH TEÓRICA]]+TB_Radiologia1[[#This Row],[CH PRÁTICA]],AND(TB_Radiologia1[[#This Row],[TIPIFICAÇÃO]]="HB",TB_Radiologia1[[#This Row],[TIPO DE OFERTA]]="PRESENCIAL"),TB_Radiologia1[[#This Row],[CH TEÓRICA]]+TB_Radiologia1[[#This Row],[CH PRÁTICA]],AND(TB_Radiologia1[[#This Row],[TIPIFICAÇÃO]]="EXT",OR(TB_Radiologia1[[#This Row],[TIPO DE OFERTA]]="PRESENCIAL",TB_Radiologia1[[#This Row],[TIPO DE OFERTA]]="SEMI-PRESENCIAL")),33,AND(TB_Radiologia1[[#This Row],[TIPIFICAÇÃO]]="TCC",TB_Radiologia1[[#This Row],[TIPO DE OFERTA]]="PRESENCIAL"),SUM(TB_Radiologia1[[#This Row],[CH TEÓRICA]],TB_Radiologia1[[#This Row],[CH PRÁTICA]]))/Cursos!$E$3,0),0)} -> 0 | T14: =IF(TB_Radiologia1[[#This Row],[TIPIFICAÇÃO]]="ON.S",ROUNDUP(TB_Radiologia1[[#This Row],[CH TEÓRICA]]/Cursos!$E$3,0),0) -> 0 | U14: {=IFERROR(_xlfn.IFS(TB_Radiologia1[[#This Row],[TIPIFICAÇÃO]]="ON.A",1,TB_Radiologia1[[#This Row],[TIPIFICAÇÃO]]="PR",0,TB_Radiologia1[[#This Row],[TIPIFICAÇÃO]]="HB",0,AND(TB_Radiologia1[[#This Row],[TIPIFICAÇÃO]]="EXT",OR(TB_Radiologia1[[#This Row],[TIPO DE OFERTA]]="SEMI-PRESENCIAL",TB_Radiologia1[[#This Row],[TIPO DE OFERTA]]="EAD 100%")),1),0)} -> 0 | V14: {=ROUNDUP(IFERROR(_xlfn.IFS(TB_Radiologia1[[#This Row],[TIPIFICAÇÃO]]="ON.A",0,TB_Radiologia1[[#This Row],[TIPIFICAÇÃO]]="PR",0,TB_Radiologia1[[#This Row],[TIPIFICAÇÃO]]="HB",TB_Radiologia1[[#This Row],[CH ONLINE]],TB_Radiologia1[[#This Row],[TIPIFICAÇÃO]]="ON.S",0,AND(TB_Radiologia1[[#This Row],[TIPIFICAÇÃO]]="EXT",TB_Radiologia1[[#This Row],[TIPO DE OFERTA]]="PRESENCIAL"),TB_Radiologia1[[#This Row],[CRÉDITOS]]-TB_Radiologia1[[#This Row],[CRÉDITOS PAGO PROFESSOR]])/Cursos!$E$3,0),0)} -> 0
B15: =$J$2 -> RADIOLOGIA | C15: 1º | D15: 7 | E15: Metodologia Cientifica | F15: MC | G15: =SUM(TB_Radiologia1[[#This Row],[CH TEÓRICA]:[CH ONLINE]]) -> 66 | H15: Institucional | I15: 0 | J15: 0 | K15: 0 | L15: 0 | M15: 66 | N15: ON.A | O15: =ROUNDUP(TB_Radiologia1[[#This Row],[CH TOTAL]]/Cursos!$E$3,0) -> 4 | P15: {=IF(AND(TB_Radiologia1[[#This Row],[TIPIFICAÇÃO]]="TCC",TB_Radiologia1[[#This Row],[TIPO DE OFERTA]]="PRESENCIAL"),SUM(TB_Radiologia1[[#This Row],[CH TEÓRICA]:[CH PRÁTICA]]/66),IF(TB_Radiologia1[[#This Row],[TIPIFICAÇÃO]]="EST",1,IF(AND(IF(OR(TB_Radiologia1[[#This Row],[TIPIFICAÇÃO]]="HB",TB_Radiologia1[[#This Row],[TIPIFICAÇÃO]]="PR"),SUM(TB_Radiologia1[[#This Row],[CH TEÓRICA]:[CH PRÁTICA]])/66,IF(TB_Radiologia1[[#This Row],[TIPIFICAÇÃO]]="EXT",0.5,0))>0.6,IF(OR(TB_Radiologia1[[#This Row],[TIPIFICAÇÃO]]="HB",TB_Radiologia1[[#This Row],[TIPIFICAÇÃO]]="PR"),SUM(TB_Radiologia1[[#This Row],[CH TEÓRICA]:[CH PRÁTICA]])/66,IF(TB_Radiologia1[[#This Row],[TIPIFICAÇÃO]]="EXT",0.5,0))<0.8),1,IF(OR(TB_Radiologia1[[#This Row],[TIPIFICAÇÃO]]="HB",TB_Radiologia1[[#This Row],[TIPIFICAÇÃO]]="PR"),SUM(TB_Radiologia1[[#This Row],[CH TEÓRICA]:[CH PRÁTICA]])/66,IF(TB_Radiologia1[[#This Row],[TIPIFICAÇÃO]]="EXT",0.5,0)))))} -> 0 | S15: {=ROUNDUP(IFERROR(_xlfn.IFS(TB_Radiologia1[[#This Row],[TIPIFICAÇÃO]]="ON.A",0,AND(TB_Radiologia1[[#This Row],[TIPIFICAÇÃO]]="EST",TB_Radiologia1[[#This Row],[TIPO DE OFERTA]]="PRESENCIAL"),0,AND(TB_Radiologia1[[#This Row],[TIPIFICAÇÃO]]="PR",OR(TB_Radiologia1[[#This Row],[TIPO DE OFERTA]]="PRESENCIAL",TB_Radiologia1[[#This Row],[TIPO DE OFERTA]]="SEMI-PRESENCIAL")),TB_Radiologia1[[#This Row],[CH TEÓRICA]]+TB_Radiologia1[[#This Row],[CH PRÁTICA]],AND(TB_Radiologia1[[#This Row],[TIPIFICAÇÃO]]="HB",TB_Radiologia1[[#This Row],[TIPO DE OFERTA]]="PRESENCIAL"),TB_Radiologia1[[#This Row],[CH TEÓRICA]]+TB_Radiologia1[[#This Row],[CH PRÁTICA]],AND(TB_Radiologia1[[#This Row],[TIPIFICAÇÃO]]="EXT",OR(TB_Radiologia1[[#This Row],[TIPO DE OFERTA]]="PRESENCIAL",TB_Radiologia1[[#This Row],[TIPO DE OFERTA]]="SEMI-PRESENCIAL")),33,AND(TB_Radiologia1[[#This Row],[TIPIFICAÇÃO]]="TCC",TB_Radiologia1[[#This Row],[TIPO DE OFERTA]]="PRESENCIAL"),SUM(TB_Radiologia1[[#This Row],[CH TEÓRICA]],TB_Radiologia1[[#This Row],[CH PRÁTICA]]))/Cursos!$E$3,0),0)} -> 0 | T15: =IF(TB_Radiologia1[[#This Row],[TIPIFICAÇÃO]]="ON.S",ROUNDUP(TB_Radiologia1[[#This Row],[CH TEÓRICA]]/Cursos!$E$3,0),0) -> 0 | U15: {=IFERROR(_xlfn.IFS(TB_Radiologia1[[#This Row],[TIPIFICAÇÃO]]="ON.A",1,TB_Radiologia1[[#This Row],[TIPIFICAÇÃO]]="PR",0,TB_Radiologia1[[#This Row],[TIPIFICAÇÃO]]="HB",0,AND(TB_Radiologia1[[#This Row],[TIPIFICAÇÃO]]="EXT",OR(TB_Radiologia1[[#This Row],[TIPO DE OFERTA]]="SEMI-PRESENCIAL",TB_Radiologia1[[#This Row],[TIPO DE OFERTA]]="EAD 100%")),1),0)} -> 1 | V15: {=ROUNDUP(IFERROR(_xlfn.IFS(TB_Radiologia1[[#This Row],[TIPIFICAÇÃO]]="ON.A",0,TB_Radiologia1[[#This Row],[TIPIFICAÇÃO]]="PR",0,TB_Radiologia1[[#This Row],[TIPIFICAÇÃO]]="HB",TB_Radiologia1[[#This Row],[CH ONLINE]],TB_Radiologia1[[#This Row],[TIPIFICAÇÃO]]="ON.S",0,AND(TB_Radiologia1[[#This Row],[TIPIFICAÇÃO]]="EXT",TB_Radiologia1[[#This Row],[TIPO DE OFERTA]]="PRESENCIAL"),TB_Radiologia1[[#This Row],[CRÉDITOS]]-TB_Radiologia1[[#This Row],[CRÉDITOS PAGO PROFESSOR]])/Cursos!$E$3,0),0)} -> 0
B16: =$J$2 -> RADIOLOGIA | C16: 1º | D16: 8 | E16: Direito e Legislação em Radiologia | F16: DLR | G16: =SUM(TB_Radiologia1[[#This Row],[CH TEÓRICA]:[CH ONLINE]]) -> 33 | H16: Específica | I16: 33 | J16: 0 | K16: 0 | L16: 0 | M16: 0 | N16: HB | O16: =ROUNDUP(TB_Radiologia1[[#This Row],[CH TOTAL]]/Cursos!$E$3,0) -> 2 | P16: {=IF(AND(TB_Radiologia1[[#This Row],[TIPIFICAÇÃO]]="TCC",TB_Radiologia1[[#This Row],[TIPO DE OFERTA]]="PRESENCIAL"),SUM(TB_Radiologia1[[#This Row],[CH TEÓRICA]:[CH PRÁTICA]]/66),IF(TB_Radiologia1[[#This Row],[TIPIFICAÇÃO]]="EST",1,IF(AND(IF(OR(TB_Radiologia1[[#This Row],[TIPIFICAÇÃO]]="HB",TB_Radiologia1[[#This Row],[TIPIFICAÇÃO]]="PR"),SUM(TB_Radiologia1[[#This Row],[CH TEÓRICA]:[CH PRÁTICA]])/66,IF(TB_Radiologia1[[#This Row],[TIPIFICAÇÃO]]="EXT",0.5,0))>0.6,IF(OR(TB_Radiologia1[[#This Row],[TIPIFICAÇÃO]]="HB",TB_Radiologia1[[#This Row],[TIPIFICAÇÃO]]="PR"),SUM(TB_Radiologia1[[#This Row],[CH TEÓRICA]:[CH PRÁTICA]])/66,IF(TB_Radiologia1[[#This Row],[TIPIFICAÇÃO]]="EXT",0.5,0))<0.8),1,IF(OR(TB_Radiologia1[[#This Row],[TIPIFICAÇÃO]]="HB",TB_Radiologia1[[#This Row],[TIPIFICAÇÃO]]="PR"),SUM(TB_Radiologia1[[#This Row],[CH TEÓRICA]:[CH PRÁTICA]])/66,IF(TB_Radiologia1[[#This Row],[TIPIFICAÇÃO]]="EXT",0.5,0)))))} -> 0.5 | R16: PRESENCIAL | S16: {=ROUNDUP(IFERROR(_xlfn.IFS(TB_Radiologia1[[#This Row],[TIPIFICAÇÃO]]="ON.A",0,AND(TB_Radiologia1[[#This Row],[TIPIFICAÇÃO]]="EST",TB_Radiologia1[[#This Row],[TIPO DE OFERTA]]="PRESENCIAL"),0,AND(TB_Radiologia1[[#This Row],[TIPIFICAÇÃO]]="PR",OR(TB_Radiologia1[[#This Row],[TIPO DE OFERTA]]="PRESENCIAL",TB_Radiologia1[[#This Row],[TIPO DE OFERTA]]="SEMI-PRESENCIAL")),TB_Radiologia1[[#This Row],[CH TEÓRICA]]+TB_Radiologia1[[#This Row],[CH PRÁTICA]],AND(TB_Radiologia1[[#This Row],[TIPIFICAÇÃO]]="HB",TB_Radiologia1[[#This Row],[TIPO DE OFERTA]]="PRESENCIAL"),TB_Radiologia1[[#This Row],[CH TEÓRICA]]+TB_Radiologia1[[#This Row],[CH PRÁTICA]],AND(TB_Radiologia1[[#This Row],[TIPIFICAÇÃO]]="EXT",OR(TB_Radiologia1[[#This Row],[TIPO DE OFERTA]]="PRESENCIAL",TB_Radiologia1[[#This Row],[TIPO DE OFERTA]]="SEMI-PRESENCIAL")),33,AND(TB_Radiologia1[[#This Row],[TIPIFICAÇÃO]]="TCC",TB_Radiologia1[[#This Row],[TIPO DE OFERTA]]="PRESENCIAL"),SUM(TB_Radiologia1[[#This Row],[CH TEÓRICA]],TB_Radiologia1[[#This Row],[CH PRÁTICA]]))/Cursos!$E$3,0),0)} -> 2 | T16: =IF(TB_Radiologia1[[#This Row],[TIPIFICAÇÃO]]="ON.S",ROUNDUP(TB_Radiologia1[[#This Row],[CH TEÓRICA]]/Cursos!$E$3,0),0) -> 0 | U16: {=IFERROR(_xlfn.IFS(TB_Radiologia1[[#This Row],[TIPIFICAÇÃO]]="ON.A",1,TB_Radiologia1[[#This Row],[TIPIFICAÇÃO]]="PR",0,TB_Radiologia1[[#This Row],[TIPIFICAÇÃO]]="HB",0,AND(TB_Radiologia1[[#This Row],[TIPIFICAÇÃO]]="EXT",OR(TB_Radiologia1[[#This Row],[TIPO DE OFERTA]]="SEMI-PRESENCIAL",TB_Radiologia1[[#This Row],[TIPO DE OFERTA]]="EAD 100%")),1),0)} -> 0 | V16: {=ROUNDUP(IFERROR(_xlfn.IFS(TB_Radiologia1[[#This Row],[TIPIFICAÇÃO]]="ON.A",0,TB_Radiologia1[[#This Row],[TIPIFICAÇÃO]]="PR",0,TB_Radiologia1[[#This Row],[TIPIFICAÇÃO]]="HB",TB_Radiologia1[[#This Row],[CH ONLINE]],TB_Radiologia1[[#This Row],[TIPIFICAÇÃO]]="ON.S",0,AND(TB_Radiologia1[[#This Row],[TIPIFICAÇÃO]]="EXT",TB_Radiologia1[[#This Row],[TIPO DE OFERTA]]="PRESENCIAL"),TB_Radiologia1[[#This Row],[CRÉDITOS]]-TB_Radiologia1[[#This Row],[CRÉDITOS PAGO PROFESSOR]])/Cursos!$E$3,0),0)} -> 0 | W16: BACHARELADO
C17: Subtotal | G17: =SUBTOTAL(9,G9:G16) -> 393 | I17: =SUBTOTAL(9,I9:I16) -> 115 | J17: =SUBTOTAL(9,J9:J16) -> 0 | K17: =SUBTOTAL(9,K9:K16) -> 0 | L17: =SUBTOTAL(9,L9:L16) -> 80 | M17: =SUBTOTAL(9,M9:M16) -> 198 | O17: =SUBTOTAL(9,O9:O16) -> 24 | P17: =SUBTOTAL(9,P9:P16) -> 2.5 | R17: PRESENCIAL | S17: {=ROUNDUP(IFERROR(_xlfn.IFS(TB_Radiologia1[[#This Row],[TIPIFICAÇÃO]]="ON.A",0,AND(TB_Radiologia1[[#This Row],[TIPIFICAÇÃO]]="EST",TB_Radiologia1[[#This Row],[TIPO DE OFERTA]]="PRESENCIAL"),0,AND(TB_Radiologia1[[#This Row],[TIPIFICAÇÃO]]="PR",OR(TB_Radiologia1[[#This Row],[TIPO DE OFERTA]]="PRESENCIAL",TB_Radiologia1[[#This Row],[TIPO DE OFERTA]]="SEMI-PRESENCIAL")),TB_Radiologia1[[#This Row],[CH TEÓRICA]]+TB_Radiologia1[[#This Row],[CH PRÁTICA]],AND(TB_Radiologia1[[#This Row],[TIPIFICAÇÃO]]="HB",TB_Radiologia1[[#This Row],[TIPO DE OFERTA]]="PRESENCIAL"),TB_Radiologia1[[#This Row],[CH TEÓRICA]]+TB_Radiologia1[[#This Row],[CH PRÁTICA]],AND(TB_Radiologia1[[#This Row],[TIPIFICAÇÃO]]="EXT",OR(TB_Radiologia1[[#This Row],[TIPO DE OFERTA]]="PRESENCIAL",TB_Radiologia1[[#This Row],[TIPO DE OFERTA]]="SEMI-PRESENCIAL")),33,AND(TB_Radiologia1[[#This Row],[TIPIFICAÇÃO]]="TCC",TB_Radiologia1[[#This Row],[TIPO DE OFERTA]]="PRESENCIAL"),SUM(TB_Radiologia1[[#This Row],[CH TEÓRICA]],TB_Radiologia1[[#This Row],[CH PRÁTICA]]))/Cursos!$E$3,0),0)} -> 0 | T17: =IF(TB_Radiologia1[[#This Row],[TIPIFICAÇÃO]]="ON.S",ROUNDUP(TB_Radiologia1[[#This Row],[CH TEÓRICA]]/Cursos!$E$3,0),0) -> 0 | U17: {=IFERROR(_xlfn.IFS(TB_Radiologia1[[#This Row],[TIPIFICAÇÃO]]="ON.A",1,TB_Radiologia1[[#This Row],[TIPIFICAÇÃO]]="PR",0,TB_Radiologia1[[#This Row],[TIPIFICAÇÃO]]="HB",0,AND(TB_Radiologia1[[#This Row],[TIPIFICAÇÃO]]="EXT",OR(TB_Radiologia1[[#This Row],[TIPO DE OFERTA]]="SEMI-PRESENCIAL",TB_Radiologia1[[#This Row],[TIPO DE OFERTA]]="EAD 100%")),1),0)} -> 0 | V17: {=ROUNDUP(IFERROR(_xlfn.IFS(TB_Radiologia1[[#This Row],[TIPIFICAÇÃO]]="ON.A",0,TB_Radiologia1[[#This Row],[TIPIFICAÇÃO]]="PR",0,TB_Radiologia1[[#This Row],[TIPIFICAÇÃO]]="HB",TB_Radiologia1[[#This Row],[CH ONLINE]],TB_Radiologia1[[#This Row],[TIPIFICAÇÃO]]="ON.S",0,AND(TB_Radiologia1[[#This Row],[TIPIFICAÇÃO]]="EXT",TB_Radiologia1[[#This Row],[TIPO DE OFERTA]]="PRESENCIAL"),TB_Radiologia1[[#This Row],[CRÉDITOS]]-TB_Radiologia1[[#This Row],[CRÉDITOS PAGO PROFESSOR]])/Cursos!$E$3,0),0)} -> 0 | W17: BACHARELADO
B18: =$J$2 -> RADIOLOGIA | C18: 2º | D18: 1 | E18: Introdução às Técnicas Radiológicas | F18: ITR | G18: =SUM(TB_Radiologia1[[#This Row],[CH TEÓRICA]:[CH ONLINE]]) -> 66 | H18: Específica | I18: 33 | J18: 33 | K18: 0 | L18: 0 | M18: 0 | N18: PR | O18: =ROUNDUP(TB_Radiologia1[[#This Row],[CH TOTAL]]/Cursos!$E$3,0) -> 4 | P18: {=IF(AND(TB_Radiologia1[[#This Row],[TIPIFICAÇÃO]]="TCC",TB_Radiologia1[[#This Row],[TIPO DE OFERTA]]="PRESENCIAL"),SUM(TB_Radiologia1[[#This Row],[CH TEÓRICA]:[CH PRÁTICA]]/66),IF(TB_Radiologia1[[#This Row],[TIPIFICAÇÃO]]="EST",1,IF(AND(IF(OR(TB_Radiologia1[[#This Row],[TIPIFICAÇÃO]]="HB",TB_Radiologia1[[#This Row],[TIPIFICAÇÃO]]="PR"),SUM(TB_Radiologia1[[#This Row],[CH TEÓRICA]:[CH PRÁTICA]])/66,IF(TB_Radiologia1[[#This Row],[TIPIFICAÇÃO]]="EXT",0.5,0))>0.6,IF(OR(TB_Radiologia1[[#This Row],[TIPIFICAÇÃO]]="HB",TB_Radiologia1[[#This Row],[TIPIFICAÇÃO]]="PR"),SUM(TB_Radiologia1[[#This Row],[CH TEÓRICA]:[CH PRÁTICA]])/66,IF(TB_Radiologia1[[#This Row],[TIPIFICAÇÃO]]="EXT",0.5,0))<0.8),1,IF(OR(TB_Radiologia1[[#This Row],[TIPIFICAÇÃO]]="HB",TB_Radiologia1[[#This Row],[TIPIFICAÇÃO]]="PR"),SUM(TB_Radiologia1[[#This Row],[CH TEÓRICA]:[CH PRÁTICA]])/66,IF(TB_Radiologia1[[#This Row],[TIPIFICAÇÃO]]="EXT",0.5,0)))))} -> 1 | R18: PRESENCIAL | S18: {=ROUNDUP(IFERROR(_xlfn.IFS(TB_Radiologia1[[#This Row],[TIPIFICAÇÃO]]="ON.A",0,AND(TB_Radiologia1[[#This Row],[TIPIFICAÇÃO]]="EST",TB_Radiologia1[[#This Row],[TIPO DE OFERTA]]="PRESENCIAL"),0,AND(TB_Radiologia1[[#This Row],[TIPIFICAÇÃO]]="PR",OR(TB_Radiologia1[[#This Row],[TIPO DE OFERTA]]="PRESENCIAL",TB_Radiologia1[[#This Row],[TIPO DE OFERTA]]="SEMI-PRESENCIAL")),TB_Radiologia1[[#This Row],[CH TEÓRICA]]+TB_Radiologia1[[#This Row],[CH PRÁTICA]],AND(TB_Radiologia1[[#This Row],[TIPIFICAÇÃO]]="HB",TB_Radiologia1[[#This Row],[TIPO DE OFERTA]]="PRESENCIAL"),TB_Radiologia1[[#This Row],[CH TEÓRICA]]+TB_Radiologia1[[#This Row],[CH PRÁTICA]],AND(TB_Radiologia1[[#This Row],[TIPIFICAÇÃO]]="EXT",OR(TB_Radiologia1[[#This Row],[TIPO DE OFERTA]]="PRESENCIAL",TB_Radiologia1[[#This Row],[TIPO DE OFERTA]]="SEMI-PRESENCIAL")),33,AND(TB_Radiologia1[[#This Row],[TIPIFICAÇÃO]]="TCC",TB_Radiologia1[[#This Row],[TIPO DE OFERTA]]="PRESENCIAL"),SUM(TB_Radiologia1[[#This Row],[CH TEÓRICA]],TB_Radiologia1[[#This Row],[CH PRÁTICA]]))/Cursos!$E$3,0),0)} -> 4 | T18: =IF(TB_Radiologia1[[#This Row],[TIPIFICAÇÃO]]="ON.S",ROUNDUP(TB_Radiologia1[[#This Row],[CH TEÓRICA]]/Cursos!$E$3,0),0) -> 0 | U18: {=IFERROR(_xlfn.IFS(TB_Radiologia1[[#This Row],[TIPIFICAÇÃO]]="ON.A",1,TB_Radiologia1[[#This Row],[TIPIFICAÇÃO]]="PR",0,TB_Radiologia1[[#This Row],[TIPIFICAÇÃO]]="HB",0,AND(TB_Radiologia1[[#This Row],[TIPIFICAÇÃO]]="EXT",OR(TB_Radiologia1[[#This Row],[TIPO DE OFERTA]]="SEMI-PRESENCIAL",TB_Radiologia1[[#This Row],[TIPO DE OFERTA]]="EAD 100%")),1),0)} -> 0 | V18: {=ROUNDUP(IFERROR(_xlfn.IFS(TB_Radiologia1[[#This Row],[TIPIFICAÇÃO]]="ON.A",0,TB_Radiologia1[[#This Row],[TIPIFICAÇÃO]]="PR",0,TB_Radiologia1[[#This Row],[TIPIFICAÇÃO]]="HB",TB_Radiologia1[[#This Row],[CH ONLINE]],TB_Radiologia1[[#This Row],[TIPIFICAÇÃO]]="ON.S",0,AND(TB_Radiologia1[[#This Row],[TIPIFICAÇÃO]]="EXT",TB_Radiologia1[[#This Row],[TIPO DE OFERTA]]="PRESENCIAL"),TB_Radiologia1[[#This Row],[CRÉDITOS]]-TB_Radiologia1[[#This Row],[CRÉDITOS PAGO PROFESSOR]])/Cursos!$E$3,0),0)} -> 0 | W18: BACHARELADO
B19: =$J$2 -> RADIOLOGIA | C19: 2º | D19: 2 | E19: Introdução à Anatomia e fisiologia aplicada à radiologia | F19: IAFAR | G19: =SUM(TB_Radiologia1[[#This Row],[CH TEÓRICA]:[CH ONLINE]]) -> 99 | H19: Específica | I19: 33 | J19: 33 | K19: 0 | L19: 0 | M19: 33 | N19: HB | O19: =ROUNDUP(TB_Radiologia1[[#This Row],[CH TOTAL]]/Cursos!$E$3,0) -> 6 | P19: {=IF(AND(TB_Radiologia1[[#This Row],[TIPIFICAÇÃO]]="TCC",TB_Radiologia1[[#This Row],[TIPO DE OFERTA]]="PRESENCIAL"),SUM(TB_Radiologia1[[#This Row],[CH TEÓRICA]:[CH PRÁTICA]]/66),IF(TB_Radiologia1[[#This Row],[TIPIFICAÇÃO]]="EST",1,IF(AND(IF(OR(TB_Radiologia1[[#This Row],[TIPIFICAÇÃO]]="HB",TB_Radiologia1[[#This Row],[TIPIFICAÇÃO]]="PR"),SUM(TB_Radiologia1[[#This Row],[CH TEÓRICA]:[CH PRÁTICA]])/66,IF(TB_Radiologia1[[#This Row],[TIPIFICAÇÃO]]="EXT",0.5,0))>0.6,IF(OR(TB_Radiologia1[[#This Row],[TIPIFICAÇÃO]]="HB",TB_Radiologia1[[#This Row],[TIPIFICAÇÃO]]="PR"),SUM(TB_Radiologia1[[#This Row],[CH TEÓRICA]:[CH PRÁTICA]])/66,IF(TB_Radiologia1[[#This Row],[TIPIFICAÇÃO]]="EXT",0.5,0))<0.8),1,IF(OR(TB_Radiologia1[[#This Row],[TIPIFICAÇÃO]]="HB",TB_Radiologia1[[#This Row],[TIPIFICAÇÃO]]="PR"),SUM(TB_Radiologia1[[#This Row],[CH TEÓRICA]:[CH PRÁTICA]])/66,IF(TB_Radiologia1[[#This Row],[TIPIFICAÇÃO]]="EXT",0.5,0)))))} -> 1 | R19: PRESENCIAL | S19: {=ROUNDUP(IFERROR(_xlfn.IFS(TB_Radiologia1[[#This Row],[TIPIFICAÇÃO]]="ON.A",0,AND(TB_Radiologia1[[#This Row],[TIPIFICAÇÃO]]="EST",TB_Radiologia1[[#This Row],[TIPO DE OFERTA]]="PRESENCIAL"),0,AND(TB_Radiologia1[[#This Row],[TIPIFICAÇÃO]]="PR",OR(TB_Radiologia1[[#This Row],[TIPO DE OFERTA]]="PRESENCIAL",TB_Radiologia1[[#This Row],[TIPO DE OFERTA]]="SEMI-PRESENCIAL")),TB_Radiologia1[[#This Row],[CH TEÓRICA]]+TB_Radiologia1[[#This Row],[CH PRÁTICA]],AND(TB_Radiologia1[[#This Row],[TIPIFICAÇÃO]]="HB",TB_Radiologia1[[#This Row],[TIPO DE OFERTA]]="PRESENCIAL"),TB_Radiologia1[[#This Row],[CH TEÓRICA]]+TB_Radiologia1[[#This Row],[CH PRÁTICA]],AND(TB_Radiologia1[[#This Row],[TIPIFICAÇÃO]]="EXT",OR(TB_Radiologia1[[#This Row],[TIPO DE OFERTA]]="PRESENCIAL",TB_Radiologia1[[#This Row],[TIPO DE OFERTA]]="SEMI-PRESENCIAL")),33,AND(TB_Radiologia1[[#This Row],[TIPIFICAÇÃO]]="TCC",TB_Radiologia1[[#This Row],[TIPO DE OFERTA]]="PRESENCIAL"),SUM(TB_Radiologia1[[#This Row],[CH TEÓRICA]],TB_Radiologia1[[#This Row],[CH PRÁTICA]]))/Cursos!$E$3,0),0)} -> 4 | T19: =IF(TB_Radiologia1[[#This Row],[TIPIFICAÇÃO]]="ON.S",ROUNDUP(TB_Radiologia1[[#This Row],[CH TEÓRICA]]/Cursos!$E$3,0),0) -> 0 | U19: {=IFERROR(_xlfn.IFS(TB_Radiologia1[[#This Row],[TIPIFICAÇÃO]]="ON.A",1,TB_Radiologia1[[#This Row],[TIPIFICAÇÃO]]="PR",0,TB_Radiologia1[[#This Row],[TIPIFICAÇÃO]]="HB",0,AND(TB_Radiologia1[[#This Row],[TIPIFICAÇÃO]]="EXT",OR(TB_Radiologia1[[#This Row],[TIPO DE OFERTA]]="SEMI-PRESENCIAL",TB_Radiologia1[[#This Row],[TIPO DE OFERTA]]="EAD 100%")),1),0)} -> 0 | V19: {=ROUNDUP(IFERROR(_xlfn.IFS(TB_Radiologia1[[#This Row],[TIPIFICAÇÃO]]="ON.A",0,TB_Radiologia1[[#This Row],[TIPIFICAÇÃO]]="PR",0,TB_Radiologia1[[#This Row],[TIPIFICAÇÃO]]="HB",TB_Radiologia1[[#This Row],[CH ONLINE]],TB_Radiologia1[[#This Row],[TIPIFICAÇÃO]]="ON.S",0,AND(TB_Radiologia1[[#This Row],[TIPIFICAÇÃO]]="EXT",TB_Radiologia1[[#This Row],[TIPO DE OFERTA]]="PRESENCIAL"),TB_Radiologia1[[#This Row],[CRÉDITOS]]-TB_Radiologia1[[#This Row],[CRÉDITOS PAGO PROFESSOR]])/Cursos!$E$3,0),0)} -> 2 | W19: BACHARELADO
B20: =$J$2 -> RADIOLOGIA | C20: 2º | D20: 3 | E20: Física aplicada à radiologia | F20: FAR | G20: =SUM(TB_Radiologia1[[#This Row],[CH TEÓRICA]:[CH ONLINE]]) -> 33 | H20: Específica | I20: 33 | J20: 0 | K20: 0 | L20: 0 | M20: 0 | N20: PR | O20: =ROUNDUP(TB_Radiologia1[[#This Row],[CH TOTAL]]/Cursos!$E$3,0) -> 2 | P20: {=IF(AND(TB_Radiologia1[[#This Row],[TIPIFICAÇÃO]]="TCC",TB_Radiologia1[[#This Row],[TIPO DE OFERTA]]="PRESENCIAL"),SUM(TB_Radiologia1[[#This Row],[CH TEÓRICA]:[CH PRÁTICA]]/66),IF(TB_Radiologia1[[#This Row],[TIPIFICAÇÃO]]="EST",1,IF(AND(IF(OR(TB_Radiologia1[[#This Row],[TIPIFICAÇÃO]]="HB",TB_Radiologia1[[#This Row],[TIPIFICAÇÃO]]="PR"),SUM(TB_Radiologia1[[#This Row],[CH TEÓRICA]:[CH PRÁTICA]])/66,IF(TB_Radiologia1[[#This Row],[TIPIFICAÇÃO]]="EXT",0.5,0))>0.6,IF(OR(TB_Radiologia1[[#This Row],[TIPIFICAÇÃO]]="HB",TB_Radiologia1[[#This Row],[TIPIFICAÇÃO]]="PR"),SUM(TB_Radiologia1[[#This Row],[CH TEÓRICA]:[CH PRÁTICA]])/66,IF(TB_Radiologia1[[#This Row],[TIPIFICAÇÃO]]="EXT",0.5,0))<0.8),1,IF(OR(TB_Radiologia1[[#This Row],[TIPIFICAÇÃO]]="HB",TB_Radiologia1[[#This Row],[TIPIFICAÇÃO]]="PR"),SUM(TB_Radiologia1[[#This Row],[CH TEÓRICA]:[CH PRÁTICA]])/66,IF(TB_Radiologia1[[#This Row],[TIPIFICAÇÃO]]="EXT",0.5,0)))))} -> 0.5 | R20: PRESENCIAL | S20: {=ROUNDUP(IFERROR(_xlfn.IFS(TB_Radiologia1[[#This Row],[TIPIFICAÇÃO]]="ON.A",0,AND(TB_Radiologia1[[#This Row],[TIPIFICAÇÃO]]="EST",TB_Radiologia1[[#This Row],[TIPO DE OFERTA]]="PRESENCIAL"),0,AND(TB_Radiologia1[[#This Row],[TIPIFICAÇÃO]]="PR",OR(TB_Radiologia1[[#This Row],[TIPO DE OFERTA]]="PRESENCIAL",TB_Radiologia1[[#This Row],[TIPO DE OFERTA]]="SEMI-PRESENCIAL")),TB_Radiologia1[[#This Row],[CH TEÓRICA]]+TB_Radiologia1[[#This Row],[CH PRÁTICA]],AND(TB_Radiologia1[[#This Row],[TIPIFICAÇÃO]]="HB",TB_Radiologia1[[#This Row],[TIPO DE OFERTA]]="PRESENCIAL"),TB_Radiologia1[[#This Row],[CH TEÓRICA]]+TB_Radiologia1[[#This Row],[CH PRÁTICA]],AND(TB_Radiologia1[[#This Row],[TIPIFICAÇÃO]]="EXT",OR(TB_Radiologia1[[#This Row],[TIPO DE OFERTA]]="PRESENCIAL",TB_Radiologia1[[#This Row],[TIPO DE OFERTA]]="SEMI-PRESENCIAL")),33,AND(TB_Radiologia1[[#This Row],[TIPIFICAÇÃO]]="TCC",TB_Radiologia1[[#This Row],[TIPO DE OFERTA]]="PRESENCIAL"),SUM(TB_Radiologia1[[#This Row],[CH TEÓRICA]],TB_Radiologia1[[#This Row],[CH PRÁTICA]]))/Cursos!$E$3,0),0)} -> 2 | T20: =IF(TB_Radiologia1[[#This Row],[TIPIFICAÇÃO]]="ON.S",ROUNDUP(TB_Radiologia1[[#This Row],[CH TEÓRICA]]/Cursos!$E$3,0),0) -> 0 | U20: {=IFERROR(_xlfn.IFS(TB_Radiologia1[[#This Row],[TIPIFICAÇÃO]]="ON.A",1,TB_Radiologia1[[#This Row],[TIPIFICAÇÃO]]="PR",0,TB_Radiologia1[[#This Row],[TIPIFICAÇÃO]]="HB",0,AND(TB_Radiologia1[[#This Row],[TIPIFICAÇÃO]]="EXT",OR(TB_Radiologia1[[#This Row],[TIPO DE OFERTA]]="SEMI-PRESENCIAL",TB_Radiologia1[[#This Row],[TIPO DE OFERTA]]="EAD 100%")),1),0)} -> 0 | V20: {=ROUNDUP(IFERROR(_xlfn.IFS(TB_Radiologia1[[#This Row],[TIPIFICAÇÃO]]="ON.A",0,TB_Radiologia1[[#This Row],[TIPIFICAÇÃO]]="PR",0,TB_Radiologia1[[#This Row],[TIPIFICAÇÃO]]="HB",TB_Radiologia1[[#This Row],[CH ONLINE]],TB_Radiologia1[[#This Row],[TIPIFICAÇÃO]]="ON.S",0,AND(TB_Radiologia1[[#This Row],[TIPIFICAÇÃO]]="EXT",TB_Radiologia1[[#This Row],[TIPO DE OFERTA]]="PRESENCIAL"),TB_Radiologia1[[#This Row],[CRÉDITOS]]-TB_Radiologia1[[#This Row],[CRÉDITOS PAGO PROFESSOR]])/Cursos!$E$3,0),0)} -> 0 | W20: BACHARELADO
B21: =$J$2 -> RADIOLOGIA | C21: 2º | D21: 4 | E21: Tecnolocias, IA e Inovação Profissional em Saúde | F21: TIIPS | G21: =SUM(TB_Radiologia1[[#This Row],[CH TEÓRICA]:[CH ONLINE]]) -> 49 | H21: institucional | I21: 0 | J21: 0 | K21: 0 | L21: 0 | M21: 49 | N21: ON.A | O21: =ROUNDUP(TB_Radiologia1[[#This Row],[CH TOTAL]]/Cursos!$E$3,0) -> 3 | P21: {=IF(AND(TB_Radiologia1[[#This Row],[TIPIFICAÇÃO]]="TCC",TB_Radiologia1[[#This Row],[TIPO DE OFERTA]]="PRESENCIAL"),SUM(TB_Radiologia1[[#This Row],[CH TEÓRICA]:[CH PRÁTICA]]/66),IF(TB_Radiologia1[[#This Row],[TIPIFICAÇÃO]]="EST",1,IF(AND(IF(OR(TB_Radiologia1[[#This Row],[TIPIFICAÇÃO]]="HB",TB_Radiologia1[[#This Row],[TIPIFICAÇÃO]]="PR"),SUM(TB_Radiologia1[[#This Row],[CH TEÓRICA]:[CH PRÁTICA]])/66,IF(TB_Radiologia1[[#This Row],[TIPIFICAÇÃO]]="EXT",0.5,0))>0.6,IF(OR(TB_Radiologia1[[#This Row],[TIPIFICAÇÃO]]="HB",TB_Radiologia1[[#This Row],[TIPIFICAÇÃO]]="PR"),SUM(TB_Radiologia1[[#This Row],[CH TEÓRICA]:[CH PRÁTICA]])/66,IF(TB_Radiologia1[[#This Row],[TIPIFICAÇÃO]]="EXT",0.5,0))<0.8),1,IF(OR(TB_Radiologia1[[#This Row],[TIPIFICAÇÃO]]="HB",TB_Radiologia1[[#This Row],[TIPIFICAÇÃO]]="PR"),SUM(TB_Radiologia1[[#This Row],[CH TEÓRICA]:[CH PRÁTICA]])/66,IF(TB_Radiologia1[[#This Row],[TIPIFICAÇÃO]]="EXT",0.5,0)))))} -> 0 | R21: PRESENCIAL | S21: {=ROUNDUP(IFERROR(_xlfn.IFS(TB_Radiologia1[[#This Row],[TIPIFICAÇÃO]]="ON.A",0,AND(TB_Radiologia1[[#This Row],[TIPIFICAÇÃO]]="EST",TB_Radiologia1[[#This Row],[TIPO DE OFERTA]]="PRESENCIAL"),0,AND(TB_Radiologia1[[#This Row],[TIPIFICAÇÃO]]="PR",OR(TB_Radiologia1[[#This Row],[TIPO DE OFERTA]]="PRESENCIAL",TB_Radiologia1[[#This Row],[TIPO DE OFERTA]]="SEMI-PRESENCIAL")),TB_Radiologia1[[#This Row],[CH TEÓRICA]]+TB_Radiologia1[[#This Row],[CH PRÁTICA]],AND(TB_Radiologia1[[#This Row],[TIPIFICAÇÃO]]="HB",TB_Radiologia1[[#This Row],[TIPO DE OFERTA]]="PRESENCIAL"),TB_Radiologia1[[#This Row],[CH TEÓRICA]]+TB_Radiologia1[[#This Row],[CH PRÁTICA]],AND(TB_Radiologia1[[#This Row],[TIPIFICAÇÃO]]="EXT",OR(TB_Radiologia1[[#This Row],[TIPO DE OFERTA]]="PRESENCIAL",TB_Radiologia1[[#This Row],[TIPO DE OFERTA]]="SEMI-PRESENCIAL")),33,AND(TB_Radiologia1[[#This Row],[TIPIFICAÇÃO]]="TCC",TB_Radiologia1[[#This Row],[TIPO DE OFERTA]]="PRESENCIAL"),SUM(TB_Radiologia1[[#This Row],[CH TEÓRICA]],TB_Radiologia1[[#This Row],[CH PRÁTICA]]))/Cursos!$E$3,0),0)} -> 0 | T21: =IF(TB_Radiologia1[[#This Row],[TIPIFICAÇÃO]]="ON.S",ROUNDUP(TB_Radiologia1[[#This Row],[CH TEÓRICA]]/Cursos!$E$3,0),0) -> 0 | U21: {=IFERROR(_xlfn.IFS(TB_Radiologia1[[#This Row],[TIPIFICAÇÃO]]="ON.A",1,TB_Radiologia1[[#This Row],[TIPIFICAÇÃO]]="PR",0,TB_Radiologia1[[#This Row],[TIPIFICAÇÃO]]="HB",0,AND(TB_Radiologia1[[#This Row],[TIPIFICAÇÃO]]="EXT",OR(TB_Radiologia1[[#This Row],[TIPO DE OFERTA]]="SEMI-PRESENCIAL",TB_Radiologia1[[#This Row],[TIPO DE OFERTA]]="EAD 100%")),1),0)} -> 1 | V21: {=ROUNDUP(IFERROR(_xlfn.IFS(TB_Radiologia1[[#This Row],[TIPIFICAÇÃO]]="ON.A",0,TB_Radiologia1[[#This Row],[TIPIFICAÇÃO]]="PR",0,TB_Radiologia1[[#This Row],[TIPIFICAÇÃO]]="HB",TB_Radiologia1[[#This Row],[CH ONLINE]],TB_Radiologia1[[#This Row],[TIPIFICAÇÃO]]="ON.S",0,AND(TB_Radiologia1[[#This Row],[TIPIFICAÇÃO]]="EXT",TB_Radiologia1[[#This Row],[TIPO DE OFERTA]]="PRESENCIAL"),TB_Radiologia1[[#This Row],[CRÉDITOS]]-TB_Radiologia1[[#This Row],[CRÉDITOS PAGO PROFESSOR]])/Cursos!$E$3,0),0)} -> 0 | W21: BACHARELADO
B22: =$J$2 -> RADIOLOGIA | C22: 2º | D22: 5 | E22: Atenção Primária à Saúde | F22: APS | G22: =SUM(TB_Radiologia1[[#This Row],[CH TEÓRICA]:[CH ONLINE]]) -> 66 | H22: Comum de Área | I22: 0 | J22: 0 | K22: 0 | L22: 0 | M22: 66 | N22: ON.A | O22: =ROUNDUP(TB_Radiologia1[[#This Row],[CH TOTAL]]/Cursos!$E$3,0) -> 4 | P22: {=IF(AND(TB_Radiologia1[[#This Row],[TIPIFICAÇÃO]]="TCC",TB_Radiologia1[[#This Row],[TIPO DE OFERTA]]="PRESENCIAL"),SUM(TB_Radiologia1[[#This Row],[CH TEÓRICA]:[CH PRÁTICA]]/66),IF(TB_Radiologia1[[#This Row],[TIPIFICAÇÃO]]="EST",1,IF(AND(IF(OR(TB_Radiologia1[[#This Row],[TIPIFICAÇÃO]]="HB",TB_Radiologia1[[#This Row],[TIPIFICAÇÃO]]="PR"),SUM(TB_Radiologia1[[#This Row],[CH TEÓRICA]:[CH PRÁTICA]])/66,IF(TB_Radiologia1[[#This Row],[TIPIFICAÇÃO]]="EXT",0.5,0))>0.6,IF(OR(TB_Radiologia1[[#This Row],[TIPIFICAÇÃO]]="HB",TB_Radiologia1[[#This Row],[TIPIFICAÇÃO]]="PR"),SUM(TB_Radiologia1[[#This Row],[CH TEÓRICA]:[CH PRÁTICA]])/66,IF(TB_Radiologia1[[#This Row],[TIPIFICAÇÃO]]="EXT",0.5,0))<0.8),1,IF(OR(TB_Radiologia1[[#This Row],[TIPIFICAÇÃO]]="HB",TB_Radiologia1[[#This Row],[TIPIFICAÇÃO]]="PR"),SUM(TB_Radiologia1[[#This Row],[CH TEÓRICA]:[CH PRÁTICA]])/66,IF(TB_Radiologia1[[#This Row],[TIPIFICAÇÃO]]="EXT",0.5,0)))))} -> 0 | R22: PRESENCIAL | S22: {=ROUNDUP(IFERROR(_xlfn.IFS(TB_Radiologia1[[#This Row],[TIPIFICAÇÃO]]="ON.A",0,AND(TB_Radiologia1[[#This Row],[TIPIFICAÇÃO]]="EST",TB_Radiologia1[[#This Row],[TIPO DE OFERTA]]="PRESENCIAL"),0,AND(TB_Radiologia1[[#This Row],[TIPIFICAÇÃO]]="PR",OR(TB_Radiologia1[[#This Row],[TIPO DE OFERTA]]="PRESENCIAL",TB_Radiologia1[[#This Row],[TIPO DE OFERTA]]="SEMI-PRESENCIAL")),TB_Radiologia1[[#This Row],[CH TEÓRICA]]+TB_Radiologia1[[#This Row],[CH PRÁTICA]],AND(TB_Radiologia1[[#This Row],[TIPIFICAÇÃO]]="HB",TB_Radiologia1[[#This Row],[TIPO DE OFERTA]]="PRESENCIAL"),TB_Radiologia1[[#This Row],[CH TEÓRICA]]+TB_Radiologia1[[#This Row],[CH PRÁTICA]],AND(TB_Radiologia1[[#This Row],[TIPIFICAÇÃO]]="EXT",OR(TB_Radiologia1[[#This Row],[TIPO DE OFERTA]]="PRESENCIAL",TB_Radiologia1[[#This Row],[TIPO DE OFERTA]]="SEMI-PRESENCIAL")),33,AND(TB_Radiologia1[[#This Row],[TIPIFICAÇÃO]]="TCC",TB_Radiologia1[[#This Row],[TIPO DE OFERTA]]="PRESENCIAL"),SUM(TB_Radiologia1[[#This Row],[CH TEÓRICA]],TB_Radiologia1[[#This Row],[CH PRÁTICA]]))/Cursos!$E$3,0),0)} -> 0 | T22: =IF(TB_Radiologia1[[#This Row],[TIPIFICAÇÃO]]="ON.S",ROUNDUP(TB_Radiologia1[[#This Row],[CH TEÓRICA]]/Cursos!$E$3,0),0) -> 0 | U22: {=IFERROR(_xlfn.IFS(TB_Radiologia1[[#This Row],[TIPIFICAÇÃO]]="ON.A",1,TB_Radiologia1[[#This Row],[TIPIFICAÇÃO]]="PR",0,TB_Radiologia1[[#This Row],[TIPIFICAÇÃO]]="HB",0,AND(TB_Radiologia1[[#This Row],[TIPIFICAÇÃO]]="EXT",OR(TB_Radiologia1[[#This Row],[TIPO DE OFERTA]]="SEMI-PRESENCIAL",TB_Radiologia1[[#This Row],[TIPO DE OFERTA]]="EAD 100%")),1),0)} -> 1 | V22: {=ROUNDUP(IFERROR(_xlfn.IFS(TB_Radiologia1[[#This Row],[TIPIFICAÇÃO]]="ON.A",0,TB_Radiologia1[[#This Row],[TIPIFICAÇÃO]]="PR",0,TB_Radiologia1[[#This Row],[TIPIFICAÇÃO]]="HB",TB_Radiologia1[[#This Row],[CH ONLINE]],TB_Radiologia1[[#This Row],[TIPIFICAÇÃO]]="ON.S",0,AND(TB_Radiologia1[[#This Row],[TIPIFICAÇÃO]]="EXT",TB_Radiologia1[[#This Row],[TIPO DE OFERTA]]="PRESENCIAL"),TB_Radiologia1[[#This Row],[CRÉDITOS]]-TB_Radiologia1[[#This Row],[CRÉDITOS PAGO PROFESSOR]])/Cursos!$E$3,0),0)} -> 0 | W22: BACHARELADO
B23: =$J$2 -> RADIOLOGIA | C23: 2º | D23: 6 | E23: Radiologia Veterinária | F23: RV | G23: =SUM(TB_Radiologia1[[#This Row],[CH TEÓRICA]:[CH ONLINE]]) -> 66 | H23: Específica | I23: 33 | J23: 33 | K23: 0 | L23: 0 | M23: 0 | N23: PR | O23: =ROUNDUP(TB_Radiologia1[[#This Row],[CH TOTAL]]/Cursos!$E$3,0) -> 4 | P23: {=IF(AND(TB_Radiologia1[[#This Row],[TIPIFICAÇÃO]]="TCC",TB_Radiologia1[[#This Row],[TIPO DE OFERTA]]="PRESENCIAL"),SUM(TB_Radiologia1[[#This Row],[CH TEÓRICA]:[CH PRÁTICA]]/66),IF(TB_Radiologia1[[#This Row],[TIPIFICAÇÃO]]="EST",1,IF(AND(IF(OR(TB_Radiologia1[[#This Row],[TIPIFICAÇÃO]]="HB",TB_Radiologia1[[#This Row],[TIPIFICAÇÃO]]="PR"),SUM(TB_Radiologia1[[#This Row],[CH TEÓRICA]:[CH PRÁTICA]])/66,IF(TB_Radiologia1[[#This Row],[TIPIFICAÇÃO]]="EXT",0.5,0))>0.6,IF(OR(TB_Radiologia1[[#This Row],[TIPIFICAÇÃO]]="HB",TB_Radiologia1[[#This Row],[TIPIFICAÇÃO]]="PR"),SUM(TB_Radiologia1[[#This Row],[CH TEÓRICA]:[CH PRÁTICA]])/66,IF(TB_Radiologia1[[#This Row],[TIPIFICAÇÃO]]="EXT",0.5,0))<0.8),1,IF(OR(TB_Radiologia1[[#This Row],[TIPIFICAÇÃO]]="HB",TB_Radiologia1[[#This Row],[TIPIFICAÇÃO]]="PR"),SUM(TB_Radiologia1[[#This Row],[CH TEÓRICA]:[CH PRÁTICA]])/66,IF(TB_Radiologia1[[#This Row],[TIPIFICAÇÃO]]="EXT",0.5,0)))))} -> 1 | R23: PRESENCIAL | S23: {=ROUNDUP(IFERROR(_xlfn.IFS(TB_Radiologia1[[#This Row],[TIPIFICAÇÃO]]="ON.A",0,AND(TB_Radiologia1[[#This Row],[TIPIFICAÇÃO]]="EST",TB_Radiologia1[[#This Row],[TIPO DE OFERTA]]="PRESENCIAL"),0,AND(TB_Radiologia1[[#This Row],[TIPIFICAÇÃO]]="PR",OR(TB_Radiologia1[[#This Row],[TIPO DE OFERTA]]="PRESENCIAL",TB_Radiologia1[[#This Row],[TIPO DE OFERTA]]="SEMI-PRESENCIAL")),TB_Radiologia1[[#This Row],[CH TEÓRICA]]+TB_Radiologia1[[#This Row],[CH PRÁTICA]],AND(TB_Radiologia1[[#This Row],[TIPIFICAÇÃO]]="HB",TB_Radiologia1[[#This Row],[TIPO DE OFERTA]]="PRESENCIAL"),TB_Radiologia1[[#This Row],[CH TEÓRICA]]+TB_Radiologia1[[#This Row],[CH PRÁTICA]],AND(TB_Radiologia1[[#This Row],[TIPIFICAÇÃO]]="EXT",OR(TB_Radiologia1[[#This Row],[TIPO DE OFERTA]]="PRESENCIAL",TB_Radiologia1[[#This Row],[TIPO DE OFERTA]]="SEMI-PRESENCIAL")),33,AND(TB_Radiologia1[[#This Row],[TIPIFICAÇÃO]]="TCC",TB_Radiologia1[[#This Row],[TIPO DE OFERTA]]="PRESENCIAL"),SUM(TB_Radiologia1[[#This Row],[CH TEÓRICA]],TB_Radiologia1[[#This Row],[CH PRÁTICA]]))/Cursos!$E$3,0),0)} -> 4 | T23: =IF(TB_Radiologia1[[#This Row],[TIPIFICAÇÃO]]="ON.S",ROUNDUP(TB_Radiologia1[[#This Row],[CH TEÓRICA]]/Cursos!$E$3,0),0) -> 0 | U23: {=IFERROR(_xlfn.IFS(TB_Radiologia1[[#This Row],[TIPIFICAÇÃO]]="ON.A",1,TB_Radiologia1[[#This Row],[TIPIFICAÇÃO]]="PR",0,TB_Radiologia1[[#This Row],[TIPIFICAÇÃO]]="HB",0,AND(TB_Radiologia1[[#This Row],[TIPIFICAÇÃO]]="EXT",OR(TB_Radiologia1[[#This Row],[TIPO DE OFERTA]]="SEMI-PRESENCIAL",TB_Radiologia1[[#This Row],[TIPO DE OFERTA]]="EAD 100%")),1),0)} -> 0 | V23: {=ROUNDUP(IFERROR(_xlfn.IFS(TB_Radiologia1[[#This Row],[TIPIFICAÇÃO]]="ON.A",0,TB_Radiologia1[[#This Row],[TIPIFICAÇÃO]]="PR",0,TB_Radiologia1[[#This Row],[TIPIFICAÇÃO]]="HB",TB_Radiologia1[[#This Row],[CH ONLINE]],TB_Radiologia1[[#This Row],[TIPIFICAÇÃO]]="ON.S",0,AND(TB_Radiologia1[[#This Row],[TIPIFICAÇÃO]]="EXT",TB_Radiologia1[[#This Row],[TIPO DE OFERTA]]="PRESENCIAL"),TB_Radiologia1[[#This Row],[CRÉDITOS]]-TB_Radiologia1[[#This Row],[CRÉDITOS PAGO PROFESSOR]])/Cursos!$E$3,0),0)} -> 0 | W23: BACHARELADO
B24: =$J$2 -> RADIOLOGIA | C24: 2º | D24: 7 | E24: Radiologia Forense | F24: RF | G24: =SUM(TB_Radiologia1[[#This Row],[CH TEÓRICA]:[CH ONLINE]]) -> 33 | H24: Específica | I24: 33 | J24: 0 | K24: 0 | L24: 0 | M24: 0 | N24: PR | O24: =ROUNDUP(TB_Radiologia1[[#This Row],[CH TOTAL]]/Cursos!$E$3,0) -> 2 | P24: {=IF(AND(TB_Radiologia1[[#This Row],[TIPIFICAÇÃO]]="TCC",TB_Radiologia1[[#This Row],[TIPO DE OFERTA]]="PRESENCIAL"),SUM(TB_Radiologia1[[#This Row],[CH TEÓRICA]:[CH PRÁTICA]]/66),IF(TB_Radiologia1[[#This Row],[TIPIFICAÇÃO]]="EST",1,IF(AND(IF(OR(TB_Radiologia1[[#This Row],[TIPIFICAÇÃO]]="HB",TB_Radiologia1[[#This Row],[TIPIFICAÇÃO]]="PR"),SUM(TB_Radiologia1[[#This Row],[CH TEÓRICA]:[CH PRÁTICA]])/66,IF(TB_Radiologia1[[#This Row],[TIPIFICAÇÃO]]="EXT",0.5,0))>0.6,IF(OR(TB_Radiologia1[[#This Row],[TIPIFICAÇÃO]]="HB",TB_Radiologia1[[#This Row],[TIPIFICAÇÃO]]="PR"),SUM(TB_Radiologia1[[#This Row],[CH TEÓRICA]:[CH PRÁTICA]])/66,IF(TB_Radiologia1[[#This Row],[TIPIFICAÇÃO]]="EXT",0.5,0))<0.8),1,IF(OR(TB_Radiologia1[[#This Row],[TIPIFICAÇÃO]]="HB",TB_Radiologia1[[#This Row],[TIPIFICAÇÃO]]="PR"),SUM(TB_Radiologia1[[#This Row],[CH TEÓRICA]:[CH PRÁTICA]])/66,IF(TB_Radiologia1[[#This Row],[TIPIFICAÇÃO]]="EXT",0.5,0)))))} -> 0.5 | R24: PRESENCIAL | S24: {=ROUNDUP(IFERROR(_xlfn.IFS(TB_Radiologia1[[#This Row],[TIPIFICAÇÃO]]="ON.A",0,AND(TB_Radiologia1[[#This Row],[TIPIFICAÇÃO]]="EST",TB_Radiologia1[[#This Row],[TIPO DE OFERTA]]="PRESENCIAL"),0,AND(TB_Radiologia1[[#This Row],[TIPIFICAÇÃO]]="PR",OR(TB_Radiologia1[[#This Row],[TIPO DE OFERTA]]="PRESENCIAL",TB_Radiologia1[[#This Row],[TIPO DE OFERTA]]="SEMI-PRESENCIAL")),TB_Radiologia1[[#This Row],[CH TEÓRICA]]+TB_Radiologia1[[#This Row],[CH PRÁTICA]],AND(TB_Radiologia1[[#This Row],[TIPIFICAÇÃO]]="HB",TB_Radiologia1[[#This Row],[TIPO DE OFERTA]]="PRESENCIAL"),TB_Radiologia1[[#This Row],[CH TEÓRICA]]+TB_Radiologia1[[#This Row],[CH PRÁTICA]],AND(TB_Radiologia1[[#This Row],[TIPIFICAÇÃO]]="EXT",OR(TB_Radiologia1[[#This Row],[TIPO DE OFERTA]]="PRESENCIAL",TB_Radiologia1[[#This Row],[TIPO DE OFERTA]]="SEMI-PRESENCIAL")),33,AND(TB_Radiologia1[[#This Row],[TIPIFICAÇÃO]]="TCC",TB_Radiologia1[[#This Row],[TIPO DE OFERTA]]="PRESENCIAL"),SUM(TB_Radiologia1[[#This Row],[CH TEÓRICA]],TB_Radiologia1[[#This Row],[CH PRÁTICA]]))/Cursos!$E$3,0),0)} -> 2 | T24: =IF(TB_Radiologia1[[#This Row],[TIPIFICAÇÃO]]="ON.S",ROUNDUP(TB_Radiologia1[[#This Row],[CH TEÓRICA]]/Cursos!$E$3,0),0) -> 0 | U24: {=IFERROR(_xlfn.IFS(TB_Radiologia1[[#This Row],[TIPIFICAÇÃO]]="ON.A",1,TB_Radiologia1[[#This Row],[TIPIFICAÇÃO]]="PR",0,TB_Radiologia1[[#This Row],[TIPIFICAÇÃO]]="HB",0,AND(TB_Radiologia1[[#This Row],[TIPIFICAÇÃO]]="EXT",OR(TB_Radiologia1[[#This Row],[TIPO DE OFERTA]]="SEMI-PRESENCIAL",TB_Radiologia1[[#This Row],[TIPO DE OFERTA]]="EAD 100%")),1),0)} -> 0 | V24: {=ROUNDUP(IFERROR(_xlfn.IFS(TB_Radiologia1[[#This Row],[TIPIFICAÇÃO]]="ON.A",0,TB_Radiologia1[[#This Row],[TIPIFICAÇÃO]]="PR",0,TB_Radiologia1[[#This Row],[TIPIFICAÇÃO]]="HB",TB_Radiologia1[[#This Row],[CH ONLINE]],TB_Radiologia1[[#This Row],[TIPIFICAÇÃO]]="ON.S",0,AND(TB_Radiologia1[[#This Row],[TIPIFICAÇÃO]]="EXT",TB_Radiologia1[[#This Row],[TIPO DE OFERTA]]="PRESENCIAL"),TB_Radiologia1[[#This Row],[CRÉDITOS]]-TB_Radiologia1[[#This Row],[CRÉDITOS PAGO PROFESSOR]])/Cursos!$E$3,0),0)} -> 0 | W24: BACHARELADO
B25: =$J$2 -> RADIOLOGIA | C25: Subtotal | G25: =SUBTOTAL(9,G18:G24) -> 412 | I25: =SUBTOTAL(9,I18:I24) -> 165 | J25: =SUBTOTAL(9,J18:J24) -> 99 | K25: =SUBTOTAL(9,K18:K24) -> 0 | L25: =SUBTOTAL(9,L18:L24) -> 0 | M25: =SUBTOTAL(9,M18:M24) -> 148 | O25: =SUBTOTAL(9,O18:O24) -> 25 | P25: =SUBTOTAL(9,P18:P24) -> 4 | R25: PRESENCIAL | S25: {=ROUNDUP(IFERROR(_xlfn.IFS(TB_Radiologia1[[#This Row],[TIPIFICAÇÃO]]="ON.A",0,AND(TB_Radiologia1[[#This Row],[TIPIFICAÇÃO]]="EST",TB_Radiologia1[[#This Row],[TIPO DE OFERTA]]="PRESENCIAL"),0,AND(TB_Radiologia1[[#This Row],[TIPIFICAÇÃO]]="PR",OR(TB_Radiologia1[[#This Row],[TIPO DE OFERTA]]="PRESENCIAL",TB_Radiologia1[[#This Row],[TIPO DE OFERTA]]="SEMI-PRESENCIAL")),TB_Radiologia1[[#This Row],[CH TEÓRICA]]+TB_Radiologia1[[#This Row],[CH PRÁTICA]],AND(TB_Radiologia1[[#This Row],[TIPIFICAÇÃO]]="HB",TB_Radiologia1[[#This Row],[TIPO DE OFERTA]]="PRESENCIAL"),TB_Radiologia1[[#This Row],[CH TEÓRICA]]+TB_Radiologia1[[#This Row],[CH PRÁTICA]],AND(TB_Radiologia1[[#This Row],[TIPIFICAÇÃO]]="EXT",OR(TB_Radiologia1[[#This Row],[TIPO DE OFERTA]]="PRESENCIAL",TB_Radiologia1[[#This Row],[TIPO DE OFERTA]]="SEMI-PRESENCIAL")),33,AND(TB_Radiologia1[[#This Row],[TIPIFICAÇÃO]]="TCC",TB_Radiologia1[[#This Row],[TIPO DE OFERTA]]="PRESENCIAL"),SUM(TB_Radiologia1[[#This Row],[CH TEÓRICA]],TB_Radiologia1[[#This Row],[CH PRÁTICA]]))/Cursos!$E$3,0),0)} -> 0 | T25: =IF(TB_Radiologia1[[#This Row],[TIPIFICAÇÃO]]="ON.S",ROUNDUP(TB_Radiologia1[[#This Row],[CH TEÓRICA]]/Cursos!$E$3,0),0) -> 0 | U25: {=IFERROR(_xlfn.IFS(TB_Radiologia1[[#This Row],[TIPIFICAÇÃO]]="ON.A",1,TB_Radiologia1[[#This Row],[TIPIFICAÇÃO]]="PR",0,TB_Radiologia1[[#This Row],[TIPIFICAÇÃO]]="HB",0,AND(TB_Radiologia1[[#This Row],[TIPIFICAÇÃO]]="EXT",OR(TB_Radiologia1[[#This Row],[TIPO DE OFERTA]]="SEMI-PRESENCIAL",TB_Radiologia1[[#This Row],[TIPO DE OFERTA]]="EAD 100%")),1),0)} -> 0 | V25: {=ROUNDUP(IFERROR(_xlfn.IFS(TB_Radiologia1[[#This Row],[TIPIFICAÇÃO]]="ON.A",0,TB_Radiologia1[[#This Row],[TIPIFICAÇÃO]]="PR",0,TB_Radiologia1[[#This Row],[TIPIFICAÇÃO]]="HB",TB_Radiologia1[[#This Row],[CH ONLINE]],TB_Radiologia1[[#This Row],[TIPIFICAÇÃO]]="ON.S",0,AND(TB_Radiologia1[[#This Row],[TIPIFICAÇÃO]]="EXT",TB_Radiologia1[[#This Row],[TIPO DE OFERTA]]="PRESENCIAL"),TB_Radiologia1[[#This Row],[CRÉDITOS]]-TB_Radiologia1[[#This Row],[CRÉDITOS PAGO PROFESSOR]])/Cursos!$E$3,0),0)} -> 0 | W25: BACHARELADO
B26: =$J$2 -> RADIOLOGIA | C26: 3º | D26: 1 | E26: Humanidades em Ação: Diversidade, Cidadania e Meio Ambiente | F26: HUMAÇAO | G26: =SUM(TB_Radiologia1[[#This Row],[CH TEÓRICA]:[CH ONLINE]]) -> 66 | H26: Institucional | I26: 0 | J26: 0 | K26: 0 | L26: 0 | M26: 66 | N26: ON.A | O26: =ROUNDUP(TB_Radiologia1[[#This Row],[CH TOTAL]]/Cursos!$E$3,0) -> 4 | P26: {=IF(AND(TB_Radiologia1[[#This Row],[TIPIFICAÇÃO]]="TCC",TB_Radiologia1[[#This Row],[TIPO DE OFERTA]]="PRESENCIAL"),SUM(TB_Radiologia1[[#This Row],[CH TEÓRICA]:[CH PRÁTICA]]/66),IF(TB_Radiologia1[[#This Row],[TIPIFICAÇÃO]]="EST",1,IF(AND(IF(OR(TB_Radiologia1[[#This Row],[TIPIFICAÇÃO]]="HB",TB_Radiologia1[[#This Row],[TIPIFICAÇÃO]]="PR"),SUM(TB_Radiologia1[[#This Row],[CH TEÓRICA]:[CH PRÁTICA]])/66,IF(TB_Radiologia1[[#This Row],[TIPIFICAÇÃO]]="EXT",0.5,0))>0.6,IF(OR(TB_Radiologia1[[#This Row],[TIPIFICAÇÃO]]="HB",TB_Radiologia1[[#This Row],[TIPIFICAÇÃO]]="PR"),SUM(TB_Radiologia1[[#This Row],[CH TEÓRICA]:[CH PRÁTICA]])/66,IF(TB_Radiologia1[[#This Row],[TIPIFICAÇÃO]]="EXT",0.5,0))<0.8),1,IF(OR(TB_Radiologia1[[#This Row],[TIPIFICAÇÃO]]="HB",TB_Radiologia1[[#This Row],[TIPIFICAÇÃO]]="PR"),SUM(TB_Radiologia1[[#This Row],[CH TEÓRICA]:[CH PRÁTICA]])/66,IF(TB_Radiologia1[[#This Row],[TIPIFICAÇÃO]]="EXT",0.5,0)))))} -> 0 | R26: PRESENCIAL | S26: {=ROUNDUP(IFERROR(_xlfn.IFS(TB_Radiologia1[[#This Row],[TIPIFICAÇÃO]]="ON.A",0,AND(TB_Radiologia1[[#This Row],[TIPIFICAÇÃO]]="EST",TB_Radiologia1[[#This Row],[TIPO DE OFERTA]]="PRESENCIAL"),0,AND(TB_Radiologia1[[#This Row],[TIPIFICAÇÃO]]="PR",OR(TB_Radiologia1[[#This Row],[TIPO DE OFERTA]]="PRESENCIAL",TB_Radiologia1[[#This Row],[TIPO DE OFERTA]]="SEMI-PRESENCIAL")),TB_Radiologia1[[#This Row],[CH TEÓRICA]]+TB_Radiologia1[[#This Row],[CH PRÁTICA]],AND(TB_Radiologia1[[#This Row],[TIPIFICAÇÃO]]="HB",TB_Radiologia1[[#This Row],[TIPO DE OFERTA]]="PRESENCIAL"),TB_Radiologia1[[#This Row],[CH TEÓRICA]]+TB_Radiologia1[[#This Row],[CH PRÁTICA]],AND(TB_Radiologia1[[#This Row],[TIPIFICAÇÃO]]="EXT",OR(TB_Radiologia1[[#This Row],[TIPO DE OFERTA]]="PRESENCIAL",TB_Radiologia1[[#This Row],[TIPO DE OFERTA]]="SEMI-PRESENCIAL")),33,AND(TB_Radiologia1[[#This Row],[TIPIFICAÇÃO]]="TCC",TB_Radiologia1[[#This Row],[TIPO DE OFERTA]]="PRESENCIAL"),SUM(TB_Radiologia1[[#This Row],[CH TEÓRICA]],TB_Radiologia1[[#This Row],[CH PRÁTICA]]))/Cursos!$E$3,0),0)} -> 0 | T26: =IF(TB_Radiologia1[[#This Row],[TIPIFICAÇÃO]]="ON.S",ROUNDUP(TB_Radiologia1[[#This Row],[CH TEÓRICA]]/Cursos!$E$3,0),0) -> 0 | U26: {=IFERROR(_xlfn.IFS(TB_Radiologia1[[#This Row],[TIPIFICAÇÃO]]="ON.A",1,TB_Radiologia1[[#This Row],[TIPIFICAÇÃO]]="PR",0,TB_Radiologia1[[#This Row],[TIPIFICAÇÃO]]="HB",0,AND(TB_Radiologia1[[#This Row],[TIPIFICAÇÃO]]="EXT",OR(TB_Radiologia1[[#This Row],[TIPO DE OFERTA]]="SEMI-PRESENCIAL",TB_Radiologia1[[#This Row],[TIPO DE OFERTA]]="EAD 100%")),1),0)} -> 1 | V26: {=ROUNDUP(IFERROR(_xlfn.IFS(TB_Radiologia1[[#This Row],[TIPIFICAÇÃO]]="ON.A",0,TB_Radiologia1[[#This Row],[TIPIFICAÇÃO]]="PR",0,TB_Radiologia1[[#This Row],[TIPIFICAÇÃO]]="HB",TB_Radiologia1[[#This Row],[CH ONLINE]],TB_Radiologia1[[#This Row],[TIPIFICAÇÃO]]="ON.S",0,AND(TB_Radiologia1[[#This Row],[TIPIFICAÇÃO]]="EXT",TB_Radiologia1[[#This Row],[TIPO DE OFERTA]]="PRESENCIAL"),TB_Radiologia1[[#This Row],[CRÉDITOS]]-TB_Radiologia1[[#This Row],[CRÉDITOS PAGO PROFESSOR]])/Cursos!$E$3,0),0)} -> 0 | W26: BACHARELADO
B27: =$J$2 -> RADIOLOGIA | C27: 3º | D27: 2 | E27: Exames Contrastados e Farmacologia | F27: ECF | G27: =SUM(TB_Radiologia1[[#This Row],[CH TEÓRICA]:[CH ONLINE]]) -> 66 | H27: Específica | I27: 33 | J27: 0 | K27: 0 | L27: 0 | M27: 33 | N27: HB | O27: =ROUNDUP(TB_Radiologia1[[#This Row],[CH TOTAL]]/Cursos!$E$3,0) -> 4 | P27: {=IF(AND(TB_Radiologia1[[#This Row],[TIPIFICAÇÃO]]="TCC",TB_Radiologia1[[#This Row],[TIPO DE OFERTA]]="PRESENCIAL"),SUM(TB_Radiologia1[[#This Row],[CH TEÓRICA]:[CH PRÁTICA]]/66),IF(TB_Radiologia1[[#This Row],[TIPIFICAÇÃO]]="EST",1,IF(AND(IF(OR(TB_Radiologia1[[#This Row],[TIPIFICAÇÃO]]="HB",TB_Radiologia1[[#This Row],[TIPIFICAÇÃO]]="PR"),SUM(TB_Radiologia1[[#This Row],[CH TEÓRICA]:[CH PRÁTICA]])/66,IF(TB_Radiologia1[[#This Row],[TIPIFICAÇÃO]]="EXT",0.5,0))>0.6,IF(OR(TB_Radiologia1[[#This Row],[TIPIFICAÇÃO]]="HB",TB_Radiologia1[[#This Row],[TIPIFICAÇÃO]]="PR"),SUM(TB_Radiologia1[[#This Row],[CH TEÓRICA]:[CH PRÁTICA]])/66,IF(TB_Radiologia1[[#This Row],[TIPIFICAÇÃO]]="EXT",0.5,0))<0.8),1,IF(OR(TB_Radiologia1[[#This Row],[TIPIFICAÇÃO]]="HB",TB_Radiologia1[[#This Row],[TIPIFICAÇÃO]]="PR"),SUM(TB_Radiologia1[[#This Row],[CH TEÓRICA]:[CH PRÁTICA]])/66,IF(TB_Radiologia1[[#This Row],[TIPIFICAÇÃO]]="EXT",0.5,0)))))} -> 0.5 | R27: PRESENCIAL | S27: {=ROUNDUP(IFERROR(_xlfn.IFS(TB_Radiologia1[[#This Row],[TIPIFICAÇÃO]]="ON.A",0,AND(TB_Radiologia1[[#This Row],[TIPIFICAÇÃO]]="EST",TB_Radiologia1[[#This Row],[TIPO DE OFERTA]]="PRESENCIAL"),0,AND(TB_Radiologia1[[#This Row],[TIPIFICAÇÃO]]="PR",OR(TB_Radiologia1[[#This Row],[TIPO DE OFERTA]]="PRESENCIAL",TB_Radiologia1[[#This Row],[TIPO DE OFERTA]]="SEMI-PRESENCIAL")),TB_Radiologia1[[#This Row],[CH TEÓRICA]]+TB_Radiologia1[[#This Row],[CH PRÁTICA]],AND(TB_Radiologia1[[#This Row],[TIPIFICAÇÃO]]="HB",TB_Radiologia1[[#This Row],[TIPO DE OFERTA]]="PRESENCIAL"),TB_Radiologia1[[#This Row],[CH TEÓRICA]]+TB_Radiologia1[[#This Row],[CH PRÁTICA]],AND(TB_Radiologia1[[#This Row],[TIPIFICAÇÃO]]="EXT",OR(TB_Radiologia1[[#This Row],[TIPO DE OFERTA]]="PRESENCIAL",TB_Radiologia1[[#This Row],[TIPO DE OFERTA]]="SEMI-PRESENCIAL")),33,AND(TB_Radiologia1[[#This Row],[TIPIFICAÇÃO]]="TCC",TB_Radiologia1[[#This Row],[TIPO DE OFERTA]]="PRESENCIAL"),SUM(TB_Radiologia1[[#This Row],[CH TEÓRICA]],TB_Radiologia1[[#This Row],[CH PRÁTICA]]))/Cursos!$E$3,0),0)} -> 2 | T27: =IF(TB_Radiologia1[[#This Row],[TIPIFICAÇÃO]]="ON.S",ROUNDUP(TB_Radiologia1[[#This Row],[CH TEÓRICA]]/Cursos!$E$3,0),0) -> 0 | U27: {=IFERROR(_xlfn.IFS(TB_Radiologia1[[#This Row],[TIPIFICAÇÃO]]="ON.A",1,TB_Radiologia1[[#This Row],[TIPIFICAÇÃO]]="PR",0,TB_Radiologia1[[#This Row],[TIPIFICAÇÃO]]="HB",0,AND(TB_Radiologia1[[#This Row],[TIPIFICAÇÃO]]="EXT",OR(TB_Radiologia1[[#This Row],[TIPO DE OFERTA]]="SEMI-PRESENCIAL",TB_Radiologia1[[#This Row],[TIPO DE OFERTA]]="EAD 100%")),1),0)} -> 0 | V27: {=ROUNDUP(IFERROR(_xlfn.IFS(TB_Radiologia1[[#This Row],[TIPIFICAÇÃO]]="ON.A",0,TB_Radiologia1[[#This Row],[TIPIFICAÇÃO]]="PR",0,TB_Radiologia1[[#This Row],[TIPIFICAÇÃO]]="HB",TB_Radiologia1[[#This Row],[CH ONLINE]],TB_Radiologia1[[#This Row],[TIPIFICAÇÃO]]="ON.S",0,AND(TB_Radiologia1[[#This Row],[TIPIFICAÇÃO]]="EXT",TB_Radiologia1[[#This Row],[TIPO DE OFERTA]]="PRESENCIAL"),TB_Radiologia1[[#This Row],[CRÉDITOS]]-TB_Radiologia1[[#This Row],[CRÉDITOS PAGO PROFESSOR]])/Cursos!$E$3,0),0)} -> 2 | W27: BACHARELADO
B28: =$J$2 -> RADIOLOGIA | C28: 3º | D28: 3 | E28: Anatomia e fisiologia aplicada à radiologia | F28: AFAR | G28: =SUM(TB_Radiologia1[[#This Row],[CH TEÓRICA]:[CH ONLINE]]) -> 33 | H28: Específica | I28: 33 | J28: 0 | K28: 0 | L28: 0 | M28: 0 | N28: PR | O28: =ROUNDUP(TB_Radiologia1[[#This Row],[CH TOTAL]]/Cursos!$E$3,0) -> 2 | P28: {=IF(AND(TB_Radiologia1[[#This Row],[TIPIFICAÇÃO]]="TCC",TB_Radiologia1[[#This Row],[TIPO DE OFERTA]]="PRESENCIAL"),SUM(TB_Radiologia1[[#This Row],[CH TEÓRICA]:[CH PRÁTICA]]/66),IF(TB_Radiologia1[[#This Row],[TIPIFICAÇÃO]]="EST",1,IF(AND(IF(OR(TB_Radiologia1[[#This Row],[TIPIFICAÇÃO]]="HB",TB_Radiologia1[[#This Row],[TIPIFICAÇÃO]]="PR"),SUM(TB_Radiologia1[[#This Row],[CH TEÓRICA]:[CH PRÁTICA]])/66,IF(TB_Radiologia1[[#This Row],[TIPIFICAÇÃO]]="EXT",0.5,0))>0.6,IF(OR(TB_Radiologia1[[#This Row],[TIPIFICAÇÃO]]="HB",TB_Radiologia1[[#This Row],[TIPIFICAÇÃO]]="PR"),SUM(TB_Radiologia1[[#This Row],[CH TEÓRICA]:[CH PRÁTICA]])/66,IF(TB_Radiologia1[[#This Row],[TIPIFICAÇÃO]]="EXT",0.5,0))<0.8),1,IF(OR(TB_Radiologia1[[#This Row],[TIPIFICAÇÃO]]="HB",TB_Radiologia1[[#This Row],[TIPIFICAÇÃO]]="PR"),SUM(TB_Radiologia1[[#This Row],[CH TEÓRICA]:[CH PRÁTICA]])/66,IF(TB_Radiologia1[[#This Row],[TIPIFICAÇÃO]]="EXT",0.5,0)))))} -> 0.5 | R28: PRESENCIAL | S28: {=ROUNDUP(IFERROR(_xlfn.IFS(TB_Radiologia1[[#This Row],[TIPIFICAÇÃO]]="ON.A",0,AND(TB_Radiologia1[[#This Row],[TIPIFICAÇÃO]]="EST",TB_Radiologia1[[#This Row],[TIPO DE OFERTA]]="PRESENCIAL"),0,AND(TB_Radiologia1[[#This Row],[TIPIFICAÇÃO]]="PR",OR(TB_Radiologia1[[#This Row],[TIPO DE OFERTA]]="PRESENCIAL",TB_Radiologia1[[#This Row],[TIPO DE OFERTA]]="SEMI-PRESENCIAL")),TB_Radiologia1[[#This Row],[CH TEÓRICA]]+TB_Radiologia1[[#This Row],[CH PRÁTICA]],AND(TB_Radiologia1[[#This Row],[TIPIFICAÇÃO]]="HB",TB_Radiologia1[[#This Row],[TIPO DE OFERTA]]="PRESENCIAL"),TB_Radiologia1[[#This Row],[CH TEÓRICA]]+TB_Radiologia1[[#This Row],[CH PRÁTICA]],AND(TB_Radiologia1[[#This Row],[TIPIFICAÇÃO]]="EXT",OR(TB_Radiologia1[[#This Row],[TIPO DE OFERTA]]="PRESENCIAL",TB_Radiologia1[[#This Row],[TIPO DE OFERTA]]="SEMI-PRESENCIAL")),33,AND(TB_Radiologia1[[#This Row],[TIPIFICAÇÃO]]="TCC",TB_Radiologia1[[#This Row],[TIPO DE OFERTA]]="PRESENCIAL"),SUM(TB_Radiologia1[[#This Row],[CH TEÓRICA]],TB_Radiologia1[[#This Row],[CH PRÁTICA]]))/Cursos!$E$3,0),0)} -> 2 | T28: =IF(TB_Radiologia1[[#This Row],[TIPIFICAÇÃO]]="ON.S",ROUNDUP(TB_Radiologia1[[#This Row],[CH TEÓRICA]]/Cursos!$E$3,0),0) -> 0 | U28: {=IFERROR(_xlfn.IFS(TB_Radiologia1[[#This Row],[TIPIFICAÇÃO]]="ON.A",1,TB_Radiologia1[[#This Row],[TIPIFICAÇÃO]]="PR",0,TB_Radiologia1[[#This Row],[TIPIFICAÇÃO]]="HB",0,AND(TB_Radiologia1[[#This Row],[TIPIFICAÇÃO]]="EXT",OR(TB_Radiologia1[[#This Row],[TIPO DE OFERTA]]="SEMI-PRESENCIAL",TB_Radiologia1[[#This Row],[TIPO DE OFERTA]]="EAD 100%")),1),0)} -> 0 | V28: {=ROUNDUP(IFERROR(_xlfn.IFS(TB_Radiologia1[[#This Row],[TIPIFICAÇÃO]]="ON.A",0,TB_Radiologia1[[#This Row],[TIPIFICAÇÃO]]="PR",0,TB_Radiologia1[[#This Row],[TIPIFICAÇÃO]]="HB",TB_Radiologia1[[#This Row],[CH ONLINE]],TB_Radiologia1[[#This Row],[TIPIFICAÇÃO]]="ON.S",0,AND(TB_Radiologia1[[#This Row],[TIPIFICAÇÃO]]="EXT",TB_Radiologia1[[#This Row],[TIPO DE OFERTA]]="PRESENCIAL"),TB_Radiologia1[[#This Row],[CRÉDITOS]]-TB_Radiologia1[[#This Row],[CRÉDITOS PAGO PROFESSOR]])/Cursos!$E$3,0),0)} -> 0 | W28: BACHARELADO
B29: =$J$2 -> RADIOLOGIA | C29: 3º | D29: 4 | E29: Tecnologia em Mamografia e Densitometria óssea | F29: TMDO | G29: =SUM(TB_Radiologia1[[#This Row],[CH TEÓRICA]:[CH ONLINE]]) -> 49 | H29: Específica | I29: 33 | J29: 16 | K29: 0 | L29: 0 | M29: 0 | N29: PR | O29: =ROUNDUP(TB_Radiologia1[[#This Row],[CH TOTAL]]/Cursos!$E$3,0) -> 3 | P29: {=IF(AND(TB_Radiologia1[[#This Row],[TIPIFICAÇÃO]]="TCC",TB_Radiologia1[[#This Row],[TIPO DE OFERTA]]="PRESENCIAL"),SUM(TB_Radiologia1[[#This Row],[CH TEÓRICA]:[CH PRÁTICA]]/66),IF(TB_Radiologia1[[#This Row],[TIPIFICAÇÃO]]="EST",1,IF(AND(IF(OR(TB_Radiologia1[[#This Row],[TIPIFICAÇÃO]]="HB",TB_Radiologia1[[#This Row],[TIPIFICAÇÃO]]="PR"),SUM(TB_Radiologia1[[#This Row],[CH TEÓRICA]:[CH PRÁTICA]])/66,IF(TB_Radiologia1[[#This Row],[TIPIFICAÇÃO]]="EXT",0.5,0))>0.6,IF(OR(TB_Radiologia1[[#This Row],[TIPIFICAÇÃO]]="HB",TB_Radiologia1[[#This Row],[TIPIFICAÇÃO]]="PR"),SUM(TB_Radiologia1[[#This Row],[CH TEÓRICA]:[CH PRÁTICA]])/66,IF(TB_Radiologia1[[#This Row],[TIPIFICAÇÃO]]="EXT",0.5,0))<0.8),1,IF(OR(TB_Radiologia1[[#This Row],[TIPIFICAÇÃO]]="HB",TB_Radiologia1[[#This Row],[TIPIFICAÇÃO]]="PR"),SUM(TB_Radiologia1[[#This Row],[CH TEÓRICA]:[CH PRÁTICA]])/66,IF(TB_Radiologia1[[#This Row],[TIPIFICAÇÃO]]="EXT",0.5,0)))))} -> 1 | R29: PRESENCIAL | S29: {=ROUNDUP(IFERROR(_xlfn.IFS(TB_Radiologia1[[#This Row],[TIPIFICAÇÃO]]="ON.A",0,AND(TB_Radiologia1[[#This Row],[TIPIFICAÇÃO]]="EST",TB_Radiologia1[[#This Row],[TIPO DE OFERTA]]="PRESENCIAL"),0,AND(TB_Radiologia1[[#This Row],[TIPIFICAÇÃO]]="PR",OR(TB_Radiologia1[[#This Row],[TIPO DE OFERTA]]="PRESENCIAL",TB_Radiologia1[[#This Row],[TIPO DE OFERTA]]="SEMI-PRESENCIAL")),TB_Radiologia1[[#This Row],[CH TEÓRICA]]+TB_Radiologia1[[#This Row],[CH PRÁTICA]],AND(TB_Radiologia1[[#This Row],[TIPIFICAÇÃO]]="HB",TB_Radiologia1[[#This Row],[TIPO DE OFERTA]]="PRESENCIAL"),TB_Radiologia1[[#This Row],[CH TEÓRICA]]+TB_Radiologia1[[#This Row],[CH PRÁTICA]],AND(TB_Radiologia1[[#This Row],[TIPIFICAÇÃO]]="EXT",OR(TB_Radiologia1[[#This Row],[TIPO DE OFERTA]]="PRESENCIAL",TB_Radiologia1[[#This Row],[TIPO DE OFERTA]]="SEMI-PRESENCIAL")),33,AND(TB_Radiologia1[[#This Row],[TIPIFICAÇÃO]]="TCC",TB_Radiologia1[[#This Row],[TIPO DE OFERTA]]="PRESENCIAL"),SUM(TB_Radiologia1[[#This Row],[CH TEÓRICA]],TB_Radiologia1[[#This Row],[CH PRÁTICA]]))/Cursos!$E$3,0),0)} -> 3 | T29: =IF(TB_Radiologia1[[#This Row],[TIPIFICAÇÃO]]="ON.S",ROUNDUP(TB_Radiologia1[[#This Row],[CH TEÓRICA]]/Cursos!$E$3,0),0) -> 0 | U29: {=IFERROR(_xlfn.IFS(TB_Radiologia1[[#This Row],[TIPIFICAÇÃO]]="ON.A",1,TB_Radiologia1[[#This Row],[TIPIFICAÇÃO]]="PR",0,TB_Radiologia1[[#This Row],[TIPIFICAÇÃO]]="HB",0,AND(TB_Radiologia1[[#This Row],[TIPIFICAÇÃO]]="EXT",OR(TB_Radiologia1[[#This Row],[TIPO DE OFERTA]]="SEMI-PRESENCIAL",TB_Radiologia1[[#This Row],[TIPO DE OFERTA]]="EAD 100%")),1),0)} -> 0 | V29: {=ROUNDUP(IFERROR(_xlfn.IFS(TB_Radiologia1[[#This Row],[TIPIFICAÇÃO]]="ON.A",0,TB_Radiologia1[[#This Row],[TIPIFICAÇÃO]]="PR",0,TB_Radiologia1[[#This Row],[TIPIFICAÇÃO]]="HB",TB_Radiologia1[[#This Row],[CH ONLINE]],TB_Radiologia1[[#This Row],[TIPIFICAÇÃO]]="ON.S",0,AND(TB_Radiologia1[[#This Row],[TIPIFICAÇÃO]]="EXT",TB_Radiologia1[[#This Row],[TIPO DE OFERTA]]="PRESENCIAL"),TB_Radiologia1[[#This Row],[CRÉDITOS]]-TB_Radiologia1[[#This Row],[CRÉDITOS PAGO PROFESSOR]])/Cursos!$E$3,0),0)} -> 0 | W29: BACHARELADO
B30: =$J$2 -> RADIOLOGIA | C30: 3º | D30: 5 | E30: Técnicas para incidências radiológicas | F30: TIR | G30: =SUM(TB_Radiologia1[[#This Row],[CH TEÓRICA]:[CH ONLINE]]) -> 66 | H30: Específica | I30: 33 | J30: 33 | K30: 0 | L30: 0 | M30: 0 | N30: PR | O30: =ROUNDUP(TB_Radiologia1[[#This Row],[CH TOTAL]]/Cursos!$E$3,0) -> 4 | P30: {=IF(AND(TB_Radiologia1[[#This Row],[TIPIFICAÇÃO]]="TCC",TB_Radiologia1[[#This Row],[TIPO DE OFERTA]]="PRESENCIAL"),SUM(TB_Radiologia1[[#This Row],[CH TEÓRICA]:[CH PRÁTICA]]/66),IF(TB_Radiologia1[[#This Row],[TIPIFICAÇÃO]]="EST",1,IF(AND(IF(OR(TB_Radiologia1[[#This Row],[TIPIFICAÇÃO]]="HB",TB_Radiologia1[[#This Row],[TIPIFICAÇÃO]]="PR"),SUM(TB_Radiologia1[[#This Row],[CH TEÓRICA]:[CH PRÁTICA]])/66,IF(TB_Radiologia1[[#This Row],[TIPIFICAÇÃO]]="EXT",0.5,0))>0.6,IF(OR(TB_Radiologia1[[#This Row],[TIPIFICAÇÃO]]="HB",TB_Radiologia1[[#This Row],[TIPIFICAÇÃO]]="PR"),SUM(TB_Radiologia1[[#This Row],[CH TEÓRICA]:[CH PRÁTICA]])/66,IF(TB_Radiologia1[[#This Row],[TIPIFICAÇÃO]]="EXT",0.5,0))<0.8),1,IF(OR(TB_Radiologia1[[#This Row],[TIPIFICAÇÃO]]="HB",TB_Radiologia1[[#This Row],[TIPIFICAÇÃO]]="PR"),SUM(TB_Radiologia1[[#This Row],[CH TEÓRICA]:[CH PRÁTICA]])/66,IF(TB_Radiologia1[[#This Row],[TIPIFICAÇÃO]]="EXT",0.5,0)))))} -> 1 | R30: PRESENCIAL | S30: {=ROUNDUP(IFERROR(_xlfn.IFS(TB_Radiologia1[[#This Row],[TIPIFICAÇÃO]]="ON.A",0,AND(TB_Radiologia1[[#This Row],[TIPIFICAÇÃO]]="EST",TB_Radiologia1[[#This Row],[TIPO DE OFERTA]]="PRESENCIAL"),0,AND(TB_Radiologia1[[#This Row],[TIPIFICAÇÃO]]="PR",OR(TB_Radiologia1[[#This Row],[TIPO DE OFERTA]]="PRESENCIAL",TB_Radiologia1[[#This Row],[TIPO DE OFERTA]]="SEMI-PRESENCIAL")),TB_Radiologia1[[#This Row],[CH TEÓRICA]]+TB_Radiologia1[[#This Row],[CH PRÁTICA]],AND(TB_Radiologia1[[#This Row],[TIPIFICAÇÃO]]="HB",TB_Radiologia1[[#This Row],[TIPO DE OFERTA]]="PRESENCIAL"),TB_Radiologia1[[#This Row],[CH TEÓRICA]]+TB_Radiologia1[[#This Row],[CH PRÁTICA]],AND(TB_Radiologia1[[#This Row],[TIPIFICAÇÃO]]="EXT",OR(TB_Radiologia1[[#This Row],[TIPO DE OFERTA]]="PRESENCIAL",TB_Radiologia1[[#This Row],[TIPO DE OFERTA]]="SEMI-PRESENCIAL")),33,AND(TB_Radiologia1[[#This Row],[TIPIFICAÇÃO]]="TCC",TB_Radiologia1[[#This Row],[TIPO DE OFERTA]]="PRESENCIAL"),SUM(TB_Radiologia1[[#This Row],[CH TEÓRICA]],TB_Radiologia1[[#This Row],[CH PRÁTICA]]))/Cursos!$E$3,0),0)} -> 4 | T30: =IF(TB_Radiologia1[[#This Row],[TIPIFICAÇÃO]]="ON.S",ROUNDUP(TB_Radiologia1[[#This Row],[CH TEÓRICA]]/Cursos!$E$3,0),0) -> 0 | U30: {=IFERROR(_xlfn.IFS(TB_Radiologia1[[#This Row],[TIPIFICAÇÃO]]="ON.A",1,TB_Radiologia1[[#This Row],[TIPIFICAÇÃO]]="PR",0,TB_Radiologia1[[#This Row],[TIPIFICAÇÃO]]="HB",0,AND(TB_Radiologia1[[#This Row],[TIPIFICAÇÃO]]="EXT",OR(TB_Radiologia1[[#This Row],[TIPO DE OFERTA]]="SEMI-PRESENCIAL",TB_Radiologia1[[#This Row],[TIPO DE OFERTA]]="EAD 100%")),1),0)} -> 0 | V30: {=ROUNDUP(IFERROR(_xlfn.IFS(TB_Radiologia1[[#This Row],[TIPIFICAÇÃO]]="ON.A",0,TB_Radiologia1[[#This Row],[TIPIFICAÇÃO]]="PR",0,TB_Radiologia1[[#This Row],[TIPIFICAÇÃO]]="HB",TB_Radiologia1[[#This Row],[CH ONLINE]],TB_Radiologia1[[#This Row],[TIPIFICAÇÃO]]="ON.S",0,AND(TB_Radiologia1[[#This Row],[TIPIFICAÇÃO]]="EXT",TB_Radiologia1[[#This Row],[TIPO DE OFERTA]]="PRESENCIAL"),TB_Radiologia1[[#This Row],[CRÉDITOS]]-TB_Radiologia1[[#This Row],[CRÉDITOS PAGO PROFESSOR]])/Cursos!$E$3,0),0)} -> 0 | W30: BACHARELADO
B31: =$J$2 -> RADIOLOGIA | C31: 3º | D31: 6 | E31: Projeto de Extensão II | F31: PE II | G31: =SUM(TB_Radiologia1[[#This Row],[CH TEÓRICA]:[CH ONLINE]]) -> 90 | H31: Extensão | I31: 0 | J31: 0 | K31: 0 | L31: 90 | M31: 0 | N31: EXT | O31: =ROUNDUP(TB_Radiologia1[[#This Row],[CH TOTAL]]/Cursos!$E$3,0) -> 6 | P31: {=IF(AND(TB_Radiologia1[[#This Row],[TIPIFICAÇÃO]]="TCC",TB_Radiologia1[[#This Row],[TIPO DE OFERTA]]="PRESENCIAL"),SUM(TB_Radiologia1[[#This Row],[CH TEÓRICA]:[CH PRÁTICA]]/66),IF(TB_Radiologia1[[#This Row],[TIPIFICAÇÃO]]="EST",1,IF(AND(IF(OR(TB_Radiologia1[[#This Row],[TIPIFICAÇÃO]]="HB",TB_Radiologia1[[#This Row],[TIPIFICAÇÃO]]="PR"),SUM(TB_Radiologia1[[#This Row],[CH TEÓRICA]:[CH PRÁTICA]])/66,IF(TB_Radiologia1[[#This Row],[TIPIFICAÇÃO]]="EXT",0.5,0))>0.6,IF(OR(TB_Radiologia1[[#This Row],[TIPIFICAÇÃO]]="HB",TB_Radiologia1[[#This Row],[TIPIFICAÇÃO]]="PR"),SUM(TB_Radiologia1[[#This Row],[CH TEÓRICA]:[CH PRÁTICA]])/66,IF(TB_Radiologia1[[#This Row],[TIPIFICAÇÃO]]="EXT",0.5,0))<0.8),1,IF(OR(TB_Radiologia1[[#This Row],[TIPIFICAÇÃO]]="HB",TB_Radiologia1[[#This Row],[TIPIFICAÇÃO]]="PR"),SUM(TB_Radiologia1[[#This Row],[CH TEÓRICA]:[CH PRÁTICA]])/66,IF(TB_Radiologia1[[#This Row],[TIPIFICAÇÃO]]="EXT",0.5,0)))))} -> 0.5 | R31: PRESENCIAL | S31: {=ROUNDUP(IFERROR(_xlfn.IFS(TB_Radiologia1[[#This Row],[TIPIFICAÇÃO]]="ON.A",0,AND(TB_Radiologia1[[#This Row],[TIPIFICAÇÃO]]="EST",TB_Radiologia1[[#This Row],[TIPO DE OFERTA]]="PRESENCIAL"),0,AND(TB_Radiologia1[[#This Row],[TIPIFICAÇÃO]]="PR",OR(TB_Radiologia1[[#This Row],[TIPO DE OFERTA]]="PRESENCIAL",TB_Radiologia1[[#This Row],[TIPO DE OFERTA]]="SEMI-PRESENCIAL")),TB_Radiologia1[[#This Row],[CH TEÓRICA]]+TB_Radiologia1[[#This Row],[CH PRÁTICA]],AND(TB_Radiologia1[[#This Row],[TIPIFICAÇÃO]]="HB",TB_Radiologia1[[#This Row],[TIPO DE OFERTA]]="PRESENCIAL"),TB_Radiologia1[[#This Row],[CH TEÓRICA]]+TB_Radiologia1[[#This Row],[CH PRÁTICA]],AND(TB_Radiologia1[[#This Row],[TIPIFICAÇÃO]]="EXT",OR(TB_Radiologia1[[#This Row],[TIPO DE OFERTA]]="PRESENCIAL",TB_Radiologia1[[#This Row],[TIPO DE OFERTA]]="SEMI-PRESENCIAL")),33,AND(TB_Radiologia1[[#This Row],[TIPIFICAÇÃO]]="TCC",TB_Radiologia1[[#This Row],[TIPO DE OFERTA]]="PRESENCIAL"),SUM(TB_Radiologia1[[#This Row],[CH TEÓRICA]],TB_Radiologia1[[#This Row],[CH PRÁTICA]]))/Cursos!$E$3,0),0)} -> 2 | T31: =IF(TB_Radiologia1[[#This Row],[TIPIFICAÇÃO]]="ON.S",ROUNDUP(TB_Radiologia1[[#This Row],[CH TEÓRICA]]/Cursos!$E$3,0),0) -> 0 | U31: {=IFERROR(_xlfn.IFS(TB_Radiologia1[[#This Row],[TIPIFICAÇÃO]]="ON.A",1,TB_Radiologia1[[#This Row],[TIPIFICAÇÃO]]="PR",0,TB_Radiologia1[[#This Row],[TIPIFICAÇÃO]]="HB",0,AND(TB_Radiologia1[[#This Row],[TIPIFICAÇÃO]]="EXT",OR(TB_Radiologia1[[#This Row],[TIPO DE OFERTA]]="SEMI-PRESENCIAL",TB_Radiologia1[[#This Row],[TIPO DE OFERTA]]="EAD 100%")),1),0)} -> 0 | V31: {=ROUNDUP(IFERROR(_xlfn.IFS(TB_Radiologia1[[#This Row],[TIPIFICAÇÃO]]="ON.A",0,TB_Radiologia1[[#This Row],[TIPIFICAÇÃO]]="PR",0,TB_Radiologia1[[#This Row],[TIPIFICAÇÃO]]="HB",TB_Radiologia1[[#This Row],[CH ONLINE]],TB_Radiologia1[[#This Row],[TIPIFICAÇÃO]]="ON.S",0,AND(TB_Radiologia1[[#This Row],[TIPIFICAÇÃO]]="EXT",TB_Radiologia1[[#This Row],[TIPO DE OFERTA]]="PRESENCIAL"),TB_Radiologia1[[#This Row],[CRÉDITOS]]-TB_Radiologia1[[#This Row],[CRÉDITOS PAGO PROFESSOR]])/Cursos!$E$3,0),0)} -> 1 | W31: BACHARELADO
B32: =$J$2 -> RADIOLOGIA | C32: Subtotal | G32: =SUBTOTAL(9,G26:G31) -> 370 | I32: =SUBTOTAL(9,I26:I31) -> 132 | J32: =SUBTOTAL(9,J26:J31) -> 49 | K32: =SUBTOTAL(9,K26:K31) -> 0 | L32: =SUBTOTAL(9,L26:L31) -> 90 | M32: =SUBTOTAL(9,M26:M31) -> 99 | O32: =SUBTOTAL(9,O26:O31) -> 23 | P32: =SUBTOTAL(9,P26:P31) -> 3.5 | R32: PRESENCIAL | S32: {=ROUNDUP(IFERROR(_xlfn.IFS(TB_Radiologia1[[#This Row],[TIPIFICAÇÃO]]="ON.A",0,AND(TB_Radiologia1[[#This Row],[TIPIFICAÇÃO]]="EST",TB_Radiologia1[[#This Row],[TIPO DE OFERTA]]="PRESENCIAL"),0,AND(TB_Radiologia1[[#This Row],[TIPIFICAÇÃO]]="PR",OR(TB_Radiologia1[[#This Row],[TIPO DE OFERTA]]="PRESENCIAL",TB_Radiologia1[[#This Row],[TIPO DE OFERTA]]="SEMI-PRESENCIAL")),TB_Radiologia1[[#This Row],[CH TEÓRICA]]+TB_Radiologia1[[#This Row],[CH PRÁTICA]],AND(TB_Radiologia1[[#This Row],[TIPIFICAÇÃO]]="HB",TB_Radiologia1[[#This Row],[TIPO DE OFERTA]]="PRESENCIAL"),TB_Radiologia1[[#This Row],[CH TEÓRICA]]+TB_Radiologia1[[#This Row],[CH PRÁTICA]],AND(TB_Radiologia1[[#This Row],[TIPIFICAÇÃO]]="EXT",OR(TB_Radiologia1[[#This Row],[TIPO DE OFERTA]]="PRESENCIAL",TB_Radiologia1[[#This Row],[TIPO DE OFERTA]]="SEMI-PRESENCIAL")),33,AND(TB_Radiologia1[[#This Row],[TIPIFICAÇÃO]]="TCC",TB_Radiologia1[[#This Row],[TIPO DE OFERTA]]="PRESENCIAL"),SUM(TB_Radiologia1[[#This Row],[CH TEÓRICA]],TB_Radiologia1[[#This Row],[CH PRÁTICA]]))/Cursos!$E$3,0),0)} -> 0 | T32: =IF(TB_Radiologia1[[#This Row],[TIPIFICAÇÃO]]="ON.S",ROUNDUP(TB_Radiologia1[[#This Row],[CH TEÓRICA]]/Cursos!$E$3,0),0) -> 0 | U32: {=IFERROR(_xlfn.IFS(TB_Radiologia1[[#This Row],[TIPIFICAÇÃO]]="ON.A",1,TB_Radiologia1[[#This Row],[TIPIFICAÇÃO]]="PR",0,TB_Radiologia1[[#This Row],[TIPIFICAÇÃO]]="HB",0,AND(TB_Radiologia1[[#This Row],[TIPIFICAÇÃO]]="EXT",OR(TB_Radiologia1[[#This Row],[TIPO DE OFERTA]]="SEMI-PRESENCIAL",TB_Radiologia1[[#This Row],[TIPO DE OFERTA]]="EAD 100%")),1),0)} -> 0 | V32: {=ROUNDUP(IFERROR(_xlfn.IFS(TB_Radiologia1[[#This Row],[TIPIFICAÇÃO]]="ON.A",0,TB_Radiologia1[[#This Row],[TIPIFICAÇÃO]]="PR",0,TB_Radiologia1[[#This Row],[TIPIFICAÇÃO]]="HB",TB_Radiologia1[[#This Row],[CH ONLINE]],TB_Radiologia1[[#This Row],[TIPIFICAÇÃO]]="ON.S",0,AND(TB_Radiologia1[[#This Row],[TIPIFICAÇÃO]]="EXT",TB_Radiologia1[[#This Row],[TIPO DE OFERTA]]="PRESENCIAL"),TB_Radiologia1[[#This Row],[CRÉDITOS]]-TB_Radiologia1[[#This Row],[CRÉDITOS PAGO PROFESSOR]])/Cursos!$E$3,0),0)} -> 0 | W32: BACHARELADO
B33: =$J$2 -> RADIOLOGIA | C33: 4º | D33: 1 | E33: Radioproteção e Dosimetria | F33: RD | G33: =SUM(TB_Radiologia1[[#This Row],[CH TEÓRICA]:[CH ONLINE]]) -> 66 | H33: Específica | I33: 33 | J33: 33 | K33: 0 | L33: 0 | M33: 0 | N33: PR | O33: =ROUNDUP(TB_Radiologia1[[#This Row],[CH TOTAL]]/Cursos!$E$3,0) -> 4 | P33: {=IF(AND(TB_Radiologia1[[#This Row],[TIPIFICAÇÃO]]="TCC",TB_Radiologia1[[#This Row],[TIPO DE OFERTA]]="PRESENCIAL"),SUM(TB_Radiologia1[[#This Row],[CH TEÓRICA]:[CH PRÁTICA]]/66),IF(TB_Radiologia1[[#This Row],[TIPIFICAÇÃO]]="EST",1,IF(AND(IF(OR(TB_Radiologia1[[#This Row],[TIPIFICAÇÃO]]="HB",TB_Radiologia1[[#This Row],[TIPIFICAÇÃO]]="PR"),SUM(TB_Radiologia1[[#This Row],[CH TEÓRICA]:[CH PRÁTICA]])/66,IF(TB_Radiologia1[[#This Row],[TIPIFICAÇÃO]]="EXT",0.5,0))>0.6,IF(OR(TB_Radiologia1[[#This Row],[TIPIFICAÇÃO]]="HB",TB_Radiologia1[[#This Row],[TIPIFICAÇÃO]]="PR"),SUM(TB_Radiologia1[[#This Row],[CH TEÓRICA]:[CH PRÁTICA]])/66,IF(TB_Radiologia1[[#This Row],[TIPIFICAÇÃO]]="EXT",0.5,0))<0.8),1,IF(OR(TB_Radiologia1[[#This Row],[TIPIFICAÇÃO]]="HB",TB_Radiologia1[[#This Row],[TIPIFICAÇÃO]]="PR"),SUM(TB_Radiologia1[[#This Row],[CH TEÓRICA]:[CH PRÁTICA]])/66,IF(TB_Radiologia1[[#This Row],[TIPIFICAÇÃO]]="EXT",0.5,0)))))} -> 1 | R33: PRESENCIAL | S33: {=ROUNDUP(IFERROR(_xlfn.IFS(TB_Radiologia1[[#This Row],[TIPIFICAÇÃO]]="ON.A",0,AND(TB_Radiologia1[[#This Row],[TIPIFICAÇÃO]]="EST",TB_Radiologia1[[#This Row],[TIPO DE OFERTA]]="PRESENCIAL"),0,AND(TB_Radiologia1[[#This Row],[TIPIFICAÇÃO]]="PR",OR(TB_Radiologia1[[#This Row],[TIPO DE OFERTA]]="PRESENCIAL",TB_Radiologia1[[#This Row],[TIPO DE OFERTA]]="SEMI-PRESENCIAL")),TB_Radiologia1[[#This Row],[CH TEÓRICA]]+TB_Radiologia1[[#This Row],[CH PRÁTICA]],AND(TB_Radiologia1[[#This Row],[TIPIFICAÇÃO]]="HB",TB_Radiologia1[[#This Row],[TIPO DE OFERTA]]="PRESENCIAL"),TB_Radiologia1[[#This Row],[CH TEÓRICA]]+TB_Radiologia1[[#This Row],[CH PRÁTICA]],AND(TB_Radiologia1[[#This Row],[TIPIFICAÇÃO]]="EXT",OR(TB_Radiologia1[[#This Row],[TIPO DE OFERTA]]="PRESENCIAL",TB_Radiologia1[[#This Row],[TIPO DE OFERTA]]="SEMI-PRESENCIAL")),33,AND(TB_Radiologia1[[#This Row],[TIPIFICAÇÃO]]="TCC",TB_Radiologia1[[#This Row],[TIPO DE OFERTA]]="PRESENCIAL"),SUM(TB_Radiologia1[[#This Row],[CH TEÓRICA]],TB_Radiologia1[[#This Row],[CH PRÁTICA]]))/Cursos!$E$3,0),0)} -> 4 | T33: =IF(TB_Radiologia1[[#This Row],[TIPIFICAÇÃO]]="ON.S",ROUNDUP(TB_Radiologia1[[#This Row],[CH TEÓRICA]]/Cursos!$E$3,0),0) -> 0 | U33: {=IFERROR(_xlfn.IFS(TB_Radiologia1[[#This Row],[TIPIFICAÇÃO]]="ON.A",1,TB_Radiologia1[[#This Row],[TIPIFICAÇÃO]]="PR",0,TB_Radiologia1[[#This Row],[TIPIFICAÇÃO]]="HB",0,AND(TB_Radiologia1[[#This Row],[TIPIFICAÇÃO]]="EXT",OR(TB_Radiologia1[[#This Row],[TIPO DE OFERTA]]="SEMI-PRESENCIAL",TB_Radiologia1[[#This Row],[TIPO DE OFERTA]]="EAD 100%")),1),0)} -> 0 | V33: {=ROUNDUP(IFERROR(_xlfn.IFS(TB_Radiologia1[[#This Row],[TIPIFICAÇÃO]]="ON.A",0,TB_Radiologia1[[#This Row],[TIPIFICAÇÃO]]="PR",0,TB_Radiologia1[[#This Row],[TIPIFICAÇÃO]]="HB",TB_Radiologia1[[#This Row],[CH ONLINE]],TB_Radiologia1[[#This Row],[TIPIFICAÇÃO]]="ON.S",0,AND(TB_Radiologia1[[#This Row],[TIPIFICAÇÃO]]="EXT",TB_Radiologia1[[#This Row],[TIPO DE OFERTA]]="PRESENCIAL"),TB_Radiologia1[[#This Row],[CRÉDITOS]]-TB_Radiologia1[[#This Row],[CRÉDITOS PAGO PROFESSOR]])/Cursos!$E$3,0),0)} -> 0 | W33: BACHARELADO
B34: =$J$2 -> RADIOLOGIA | C34: 4º | D34: 2 | E34: Tecnologia em Radiologia Industrial | F34: TRI | G34: =SUM(TB_Radiologia1[[#This Row],[CH TEÓRICA]:[CH ONLINE]]) -> 66 | H34: Específica | I34: 66 | J34: 0 | K34: 0 | L34: 0 | M34: 0 | N34: PR | O34: =ROUNDUP(TB_Radiologia1[[#This Row],[CH TOTAL]]/Cursos!$E$3,0) -> 4 | P34: {=IF(AND(TB_Radiologia1[[#This Row],[TIPIFICAÇÃO]]="TCC",TB_Radiologia1[[#This Row],[TIPO DE OFERTA]]="PRESENCIAL"),SUM(TB_Radiologia1[[#This Row],[CH TEÓRICA]:[CH PRÁTICA]]/66),IF(TB_Radiologia1[[#This Row],[TIPIFICAÇÃO]]="EST",1,IF(AND(IF(OR(TB_Radiologia1[[#This Row],[TIPIFICAÇÃO]]="HB",TB_Radiologia1[[#This Row],[TIPIFICAÇÃO]]="PR"),SUM(TB_Radiologia1[[#This Row],[CH TEÓRICA]:[CH PRÁTICA]])/66,IF(TB_Radiologia1[[#This Row],[TIPIFICAÇÃO]]="EXT",0.5,0))>0.6,IF(OR(TB_Radiologia1[[#This Row],[TIPIFICAÇÃO]]="HB",TB_Radiologia1[[#This Row],[TIPIFICAÇÃO]]="PR"),SUM(TB_Radiologia1[[#This Row],[CH TEÓRICA]:[CH PRÁTICA]])/66,IF(TB_Radiologia1[[#This Row],[TIPIFICAÇÃO]]="EXT",0.5,0))<0.8),1,IF(OR(TB_Radiologia1[[#This Row],[TIPIFICAÇÃO]]="HB",TB_Radiologia1[[#This Row],[TIPIFICAÇÃO]]="PR"),SUM(TB_Radiologia1[[#This Row],[CH TEÓRICA]:[CH PRÁTICA]])/66,IF(TB_Radiologia1[[#This Row],[TIPIFICAÇÃO]]="EXT",0.5,0)))))} -> 1 | R34: PRESENCIAL | S34: {=ROUNDUP(IFERROR(_xlfn.IFS(TB_Radiologia1[[#This Row],[TIPIFICAÇÃO]]="ON.A",0,AND(TB_Radiologia1[[#This Row],[TIPIFICAÇÃO]]="EST",TB_Radiologia1[[#This Row],[TIPO DE OFERTA]]="PRESENCIAL"),0,AND(TB_Radiologia1[[#This Row],[TIPIFICAÇÃO]]="PR",OR(TB_Radiologia1[[#This Row],[TIPO DE OFERTA]]="PRESENCIAL",TB_Radiologia1[[#This Row],[TIPO DE OFERTA]]="SEMI-PRESENCIAL")),TB_Radiologia1[[#This Row],[CH TEÓRICA]]+TB_Radiologia1[[#This Row],[CH PRÁTICA]],AND(TB_Radiologia1[[#This Row],[TIPIFICAÇÃO]]="HB",TB_Radiologia1[[#This Row],[TIPO DE OFERTA]]="PRESENCIAL"),TB_Radiologia1[[#This Row],[CH TEÓRICA]]+TB_Radiologia1[[#This Row],[CH PRÁTICA]],AND(TB_Radiologia1[[#This Row],[TIPIFICAÇÃO]]="EXT",OR(TB_Radiologia1[[#This Row],[TIPO DE OFERTA]]="PRESENCIAL",TB_Radiologia1[[#This Row],[TIPO DE OFERTA]]="SEMI-PRESENCIAL")),33,AND(TB_Radiologia1[[#This Row],[TIPIFICAÇÃO]]="TCC",TB_Radiologia1[[#This Row],[TIPO DE OFERTA]]="PRESENCIAL"),SUM(TB_Radiologia1[[#This Row],[CH TEÓRICA]],TB_Radiologia1[[#This Row],[CH PRÁTICA]]))/Cursos!$E$3,0),0)} -> 4 | T34: =IF(TB_Radiologia1[[#This Row],[TIPIFICAÇÃO]]="ON.S",ROUNDUP(TB_Radiologia1[[#This Row],[CH TEÓRICA]]/Cursos!$E$3,0),0) -> 0 | U34: {=IFERROR(_xlfn.IFS(TB_Radiologia1[[#This Row],[TIPIFICAÇÃO]]="ON.A",1,TB_Radiologia1[[#This Row],[TIPIFICAÇÃO]]="PR",0,TB_Radiologia1[[#This Row],[TIPIFICAÇÃO]]="HB",0,AND(TB_Radiologia1[[#This Row],[TIPIFICAÇÃO]]="EXT",OR(TB_Radiologia1[[#This Row],[TIPO DE OFERTA]]="SEMI-PRESENCIAL",TB_Radiologia1[[#This Row],[TIPO DE OFERTA]]="EAD 100%")),1),0)} -> 0 | V34: {=ROUNDUP(IFERROR(_xlfn.IFS(TB_Radiologia1[[#This Row],[TIPIFICAÇÃO]]="ON.A",0,TB_Radiologia1[[#This Row],[TIPIFICAÇÃO]]="PR",0,TB_Radiologia1[[#This Row],[TIPIFICAÇÃO]]="HB",TB_Radiologia1[[#This Row],[CH ONLINE]],TB_Radiologia1[[#This Row],[TIPIFICAÇÃO]]="ON.S",0,AND(TB_Radiologia1[[#This Row],[TIPIFICAÇÃO]]="EXT",TB_Radiologia1[[#This Row],[TIPO DE OFERTA]]="PRESENCIAL"),TB_Radiologia1[[#This Row],[CRÉDITOS]]-TB_Radiologia1[[#This Row],[CRÉDITOS PAGO PROFESSOR]])/Cursos!$E$3,0),0)} -> 0 | W34: BACHARELADO
B35: =$J$2 -> RADIOLOGIA | C35: 4º | D35: 3 | E35: Garantia da qualidade em diagnóstico por imagem | F35: GQDI | G35: =SUM(TB_Radiologia1[[#This Row],[CH TEÓRICA]:[CH ONLINE]]) -> 49 | H35: Específica | I35: 49 | J35: 0 | K35: 0 | L35: 0 | M35: 0 | N35: PR | O35: =ROUNDUP(TB_Radiologia1[[#This Row],[CH TOTAL]]/Cursos!$E$3,0) -> 3 | P35: {=IF(AND(TB_Radiologia1[[#This Row],[TIPIFICAÇÃO]]="TCC",TB_Radiologia1[[#This Row],[TIPO DE OFERTA]]="PRESENCIAL"),SUM(TB_Radiologia1[[#This Row],[CH TEÓRICA]:[CH PRÁTICA]]/66),IF(TB_Radiologia1[[#This Row],[TIPIFICAÇÃO]]="EST",1,IF(AND(IF(OR(TB_Radiologia1[[#This Row],[TIPIFICAÇÃO]]="HB",TB_Radiologia1[[#This Row],[TIPIFICAÇÃO]]="PR"),SUM(TB_Radiologia1[[#This Row],[CH TEÓRICA]:[CH PRÁTICA]])/66,IF(TB_Radiologia1[[#This Row],[TIPIFICAÇÃO]]="EXT",0.5,0))>0.6,IF(OR(TB_Radiologia1[[#This Row],[TIPIFICAÇÃO]]="HB",TB_Radiologia1[[#This Row],[TIPIFICAÇÃO]]="PR"),SUM(TB_Radiologia1[[#This Row],[CH TEÓRICA]:[CH PRÁTICA]])/66,IF(TB_Radiologia1[[#This Row],[TIPIFICAÇÃO]]="EXT",0.5,0))<0.8),1,IF(OR(TB_Radiologia1[[#This Row],[TIPIFICAÇÃO]]="HB",TB_Radiologia1[[#This Row],[TIPIFICAÇÃO]]="PR"),SUM(TB_Radiologia1[[#This Row],[CH TEÓRICA]:[CH PRÁTICA]])/66,IF(TB_Radiologia1[[#This Row],[TIPIFICAÇÃO]]="EXT",0.5,0)))))} -> 1 | R35: PRESENCIAL | S35: {=ROUNDUP(IFERROR(_xlfn.IFS(TB_Radiologia1[[#This Row],[TIPIFICAÇÃO]]="ON.A",0,AND(TB_Radiologia1[[#This Row],[TIPIFICAÇÃO]]="EST",TB_Radiologia1[[#This Row],[TIPO DE OFERTA]]="PRESENCIAL"),0,AND(TB_Radiologia1[[#This Row],[TIPIFICAÇÃO]]="PR",OR(TB_Radiologia1[[#This Row],[TIPO DE OFERTA]]="PRESENCIAL",TB_Radiologia1[[#This Row],[TIPO DE OFERTA]]="SEMI-PRESENCIAL")),TB_Radiologia1[[#This Row],[CH TEÓRICA]]+TB_Radiologia1[[#This Row],[CH PRÁTICA]],AND(TB_Radiologia1[[#This Row],[TIPIFICAÇÃO]]="HB",TB_Radiologia1[[#This Row],[TIPO DE OFERTA]]="PRESENCIAL"),TB_Radiologia1[[#This Row],[CH TEÓRICA]]+TB_Radiologia1[[#This Row],[CH PRÁTICA]],AND(TB_Radiologia1[[#This Row],[TIPIFICAÇÃO]]="EXT",OR(TB_Radiologia1[[#This Row],[TIPO DE OFERTA]]="PRESENCIAL",TB_Radiologia1[[#This Row],[TIPO DE OFERTA]]="SEMI-PRESENCIAL")),33,AND(TB_Radiologia1[[#This Row],[TIPIFICAÇÃO]]="TCC",TB_Radiologia1[[#This Row],[TIPO DE OFERTA]]="PRESENCIAL"),SUM(TB_Radiologia1[[#This Row],[CH TEÓRICA]],TB_Radiologia1[[#This Row],[CH PRÁTICA]]))/Cursos!$E$3,0),0)} -> 3 | T35: =IF(TB_Radiologia1[[#This Row],[TIPIFICAÇÃO]]="ON.S",ROUNDUP(TB_Radiologia1[[#This Row],[CH TEÓRICA]]/Cursos!$E$3,0),0) -> 0 | U35: {=IFERROR(_xlfn.IFS(TB_Radiologia1[[#This Row],[TIPIFICAÇÃO]]="ON.A",1,TB_Radiologia1[[#This Row],[TIPIFICAÇÃO]]="PR",0,TB_Radiologia1[[#This Row],[TIPIFICAÇÃO]]="HB",0,AND(TB_Radiologia1[[#This Row],[TIPIFICAÇÃO]]="EXT",OR(TB_Radiologia1[[#This Row],[TIPO DE OFERTA]]="SEMI-PRESENCIAL",TB_Radiologia1[[#This Row],[TIPO DE OFERTA]]="EAD 100%")),1),0)} -> 0 | V35: {=ROUNDUP(IFERROR(_xlfn.IFS(TB_Radiologia1[[#This Row],[TIPIFICAÇÃO]]="ON.A",0,TB_Radiologia1[[#This Row],[TIPIFICAÇÃO]]="PR",0,TB_Radiologia1[[#This Row],[TIPIFICAÇÃO]]="HB",TB_Radiologia1[[#This Row],[CH ONLINE]],TB_Radiologia1[[#This Row],[TIPIFICAÇÃO]]="ON.S",0,AND(TB_Radiologia1[[#This Row],[TIPIFICAÇÃO]]="EXT",TB_Radiologia1[[#This Row],[TIPO DE OFERTA]]="PRESENCIAL"),TB_Radiologia1[[#This Row],[CRÉDITOS]]-TB_Radiologia1[[#This Row],[CRÉDITOS PAGO PROFESSOR]])/Cursos!$E$3,0),0)} -> 0 | W35: BACHARELADO
B36: =$J$2 -> RADIOLOGIA | C36: 4º | D36: 4 | E36: Gestão e Empreendedorismo | F36: GE | G36: =SUM(TB_Radiologia1[[#This Row],[CH TEÓRICA]:[CH ONLINE]]) -> 66 | H36: Institucional | I36: 0 | J36: 0 | K36: 0 | L36: 0 | M36: 66 | N36: ON.A | O36: =ROUNDUP(TB_Radiologia1[[#This Row],[CH TOTAL]]/Cursos!$E$3,0) -> 4 | P36: {=IF(AND(TB_Radiologia1[[#This Row],[TIPIFICAÇÃO]]="TCC",TB_Radiologia1[[#This Row],[TIPO DE OFERTA]]="PRESENCIAL"),SUM(TB_Radiologia1[[#This Row],[CH TEÓRICA]:[CH PRÁTICA]]/66),IF(TB_Radiologia1[[#This Row],[TIPIFICAÇÃO]]="EST",1,IF(AND(IF(OR(TB_Radiologia1[[#This Row],[TIPIFICAÇÃO]]="HB",TB_Radiologia1[[#This Row],[TIPIFICAÇÃO]]="PR"),SUM(TB_Radiologia1[[#This Row],[CH TEÓRICA]:[CH PRÁTICA]])/66,IF(TB_Radiologia1[[#This Row],[TIPIFICAÇÃO]]="EXT",0.5,0))>0.6,IF(OR(TB_Radiologia1[[#This Row],[TIPIFICAÇÃO]]="HB",TB_Radiologia1[[#This Row],[TIPIFICAÇÃO]]="PR"),SUM(TB_Radiologia1[[#This Row],[CH TEÓRICA]:[CH PRÁTICA]])/66,IF(TB_Radiologia1[[#This Row],[TIPIFICAÇÃO]]="EXT",0.5,0))<0.8),1,IF(OR(TB_Radiologia1[[#This Row],[TIPIFICAÇÃO]]="HB",TB_Radiologia1[[#This Row],[TIPIFICAÇÃO]]="PR"),SUM(TB_Radiologia1[[#This Row],[CH TEÓRICA]:[CH PRÁTICA]])/66,IF(TB_Radiologia1[[#This Row],[TIPIFICAÇÃO]]="EXT",0.5,0)))))} -> 0 | R36: PRESENCIAL | S36: {=ROUNDUP(IFERROR(_xlfn.IFS(TB_Radiologia1[[#This Row],[TIPIFICAÇÃO]]="ON.A",0,AND(TB_Radiologia1[[#This Row],[TIPIFICAÇÃO]]="EST",TB_Radiologia1[[#This Row],[TIPO DE OFERTA]]="PRESENCIAL"),0,AND(TB_Radiologia1[[#This Row],[TIPIFICAÇÃO]]="PR",OR(TB_Radiologia1[[#This Row],[TIPO DE OFERTA]]="PRESENCIAL",TB_Radiologia1[[#This Row],[TIPO DE OFERTA]]="SEMI-PRESENCIAL")),TB_Radiologia1[[#This Row],[CH TEÓRICA]]+TB_Radiologia1[[#This Row],[CH PRÁTICA]],AND(TB_Radiologia1[[#This Row],[TIPIFICAÇÃO]]="HB",TB_Radiologia1[[#This Row],[TIPO DE OFERTA]]="PRESENCIAL"),TB_Radiologia1[[#This Row],[CH TEÓRICA]]+TB_Radiologia1[[#This Row],[CH PRÁTICA]],AND(TB_Radiologia1[[#This Row],[TIPIFICAÇÃO]]="EXT",OR(TB_Radiologia1[[#This Row],[TIPO DE OFERTA]]="PRESENCIAL",TB_Radiologia1[[#This Row],[TIPO DE OFERTA]]="SEMI-PRESENCIAL")),33,AND(TB_Radiologia1[[#This Row],[TIPIFICAÇÃO]]="TCC",TB_Radiologia1[[#This Row],[TIPO DE OFERTA]]="PRESENCIAL"),SUM(TB_Radiologia1[[#This Row],[CH TEÓRICA]],TB_Radiologia1[[#This Row],[CH PRÁTICA]]))/Cursos!$E$3,0),0)} -> 0 | T36: =IF(TB_Radiologia1[[#This Row],[TIPIFICAÇÃO]]="ON.S",ROUNDUP(TB_Radiologia1[[#This Row],[CH TEÓRICA]]/Cursos!$E$3,0),0) -> 0 | U36: {=IFERROR(_xlfn.IFS(TB_Radiologia1[[#This Row],[TIPIFICAÇÃO]]="ON.A",1,TB_Radiologia1[[#This Row],[TIPIFICAÇÃO]]="PR",0,TB_Radiologia1[[#This Row],[TIPIFICAÇÃO]]="HB",0,AND(TB_Radiologia1[[#This Row],[TIPIFICAÇÃO]]="EXT",OR(TB_Radiologia1[[#This Row],[TIPO DE OFERTA]]="SEMI-PRESENCIAL",TB_Radiologia1[[#This Row],[TIPO DE OFERTA]]="EAD 100%")),1),0)} -> 1 | V36: {=ROUNDUP(IFERROR(_xlfn.IFS(TB_Radiologia1[[#This Row],[TIPIFICAÇÃO]]="ON.A",0,TB_Radiologia1[[#This Row],[TIPIFICAÇÃO]]="PR",0,TB_Radiologia1[[#This Row],[TIPIFICAÇÃO]]="HB",TB_Radiologia1[[#This Row],[CH ONLINE]],TB_Radiologia1[[#This Row],[TIPIFICAÇÃO]]="ON.S",0,AND(TB_Radiologia1[[#This Row],[TIPIFICAÇÃO]]="EXT",TB_Radiologia1[[#This Row],[TIPO DE OFERTA]]="PRESENCIAL"),TB_Radiologia1[[#This Row],[CRÉDITOS]]-TB_Radiologia1[[#This Row],[CRÉDITOS PAGO PROFESSOR]])/Cursos!$E$3,0),0)} -> 0 | W36: BACHARELADO
B37: =$J$2 -> RADIOLOGIA | C37: 4º | D37: 5 | E37: Radiologia Odontológica | F37: RO | G37: =SUM(TB_Radiologia1[[#This Row],[CH TEÓRICA]:[CH ONLINE]]) -> 33 | H37: Específica | I37: 33 | J37: 0 | K37: 0 | L37: 0 | M37: 0 | N37: PR | O37: =ROUNDUP(TB_Radiologia1[[#This Row],[CH TOTAL]]/Cursos!$E$3,0) -> 2 | P37: {=IF(AND(TB_Radiologia1[[#This Row],[TIPIFICAÇÃO]]="TCC",TB_Radiologia1[[#This Row],[TIPO DE OFERTA]]="PRESENCIAL"),SUM(TB_Radiologia1[[#This Row],[CH TEÓRICA]:[CH PRÁTICA]]/66),IF(TB_Radiologia1[[#This Row],[TIPIFICAÇÃO]]="EST",1,IF(AND(IF(OR(TB_Radiologia1[[#This Row],[TIPIFICAÇÃO]]="HB",TB_Radiologia1[[#This Row],[TIPIFICAÇÃO]]="PR"),SUM(TB_Radiologia1[[#This Row],[CH TEÓRICA]:[CH PRÁTICA]])/66,IF(TB_Radiologia1[[#This Row],[TIPIFICAÇÃO]]="EXT",0.5,0))>0.6,IF(OR(TB_Radiologia1[[#This Row],[TIPIFICAÇÃO]]="HB",TB_Radiologia1[[#This Row],[TIPIFICAÇÃO]]="PR"),SUM(TB_Radiologia1[[#This Row],[CH TEÓRICA]:[CH PRÁTICA]])/66,IF(TB_Radiologia1[[#This Row],[TIPIFICAÇÃO]]="EXT",0.5,0))<0.8),1,IF(OR(TB_Radiologia1[[#This Row],[TIPIFICAÇÃO]]="HB",TB_Radiologia1[[#This Row],[TIPIFICAÇÃO]]="PR"),SUM(TB_Radiologia1[[#This Row],[CH TEÓRICA]:[CH PRÁTICA]])/66,IF(TB_Radiologia1[[#This Row],[TIPIFICAÇÃO]]="EXT",0.5,0)))))} -> 0.5 | R37: PRESENCIAL | S37: {=ROUNDUP(IFERROR(_xlfn.IFS(TB_Radiologia1[[#This Row],[TIPIFICAÇÃO]]="ON.A",0,AND(TB_Radiologia1[[#This Row],[TIPIFICAÇÃO]]="EST",TB_Radiologia1[[#This Row],[TIPO DE OFERTA]]="PRESENCIAL"),0,AND(TB_Radiologia1[[#This Row],[TIPIFICAÇÃO]]="PR",OR(TB_Radiologia1[[#This Row],[TIPO DE OFERTA]]="PRESENCIAL",TB_Radiologia1[[#This Row],[TIPO DE OFERTA]]="SEMI-PRESENCIAL")),TB_Radiologia1[[#This Row],[CH TEÓRICA]]+TB_Radiologia1[[#This Row],[CH PRÁTICA]],AND(TB_Radiologia1[[#This Row],[TIPIFICAÇÃO]]="HB",TB_Radiologia1[[#This Row],[TIPO DE OFERTA]]="PRESENCIAL"),TB_Radiologia1[[#This Row],[CH TEÓRICA]]+TB_Radiologia1[[#This Row],[CH PRÁTICA]],AND(TB_Radiologia1[[#This Row],[TIPIFICAÇÃO]]="EXT",OR(TB_Radiologia1[[#This Row],[TIPO DE OFERTA]]="PRESENCIAL",TB_Radiologia1[[#This Row],[TIPO DE OFERTA]]="SEMI-PRESENCIAL")),33,AND(TB_Radiologia1[[#This Row],[TIPIFICAÇÃO]]="TCC",TB_Radiologia1[[#This Row],[TIPO DE OFERTA]]="PRESENCIAL"),SUM(TB_Radiologia1[[#This Row],[CH TEÓRICA]],TB_Radiologia1[[#This Row],[CH PRÁTICA]]))/Cursos!$E$3,0),0)} -> 2 | T37: =IF(TB_Radiologia1[[#This Row],[TIPIFICAÇÃO]]="ON.S",ROUNDUP(TB_Radiologia1[[#This Row],[CH TEÓRICA]]/Cursos!$E$3,0),0) -> 0 | U37: {=IFERROR(_xlfn.IFS(TB_Radiologia1[[#This Row],[TIPIFICAÇÃO]]="ON.A",1,TB_Radiologia1[[#This Row],[TIPIFICAÇÃO]]="PR",0,TB_Radiologia1[[#This Row],[TIPIFICAÇÃO]]="HB",0,AND(TB_Radiologia1[[#This Row],[TIPIFICAÇÃO]]="EXT",OR(TB_Radiologia1[[#This Row],[TIPO DE OFERTA]]="SEMI-PRESENCIAL",TB_Radiologia1[[#This Row],[TIPO DE OFERTA]]="EAD 100%")),1),0)} -> 0 | V37: {=ROUNDUP(IFERROR(_xlfn.IFS(TB_Radiologia1[[#This Row],[TIPIFICAÇÃO]]="ON.A",0,TB_Radiologia1[[#This Row],[TIPIFICAÇÃO]]="PR",0,TB_Radiologia1[[#This Row],[TIPIFICAÇÃO]]="HB",TB_Radiologia1[[#This Row],[CH ONLINE]],TB_Radiologia1[[#This Row],[TIPIFICAÇÃO]]="ON.S",0,AND(TB_Radiologia1[[#This Row],[TIPIFICAÇÃO]]="EXT",TB_Radiologia1[[#This Row],[TIPO DE OFERTA]]="PRESENCIAL"),TB_Radiologia1[[#This Row],[CRÉDITOS]]-TB_Radiologia1[[#This Row],[CRÉDITOS PAGO PROFESSOR]])/Cursos!$E$3,0),0)} -> 0 | W37: BACHARELADO
B38: =$J$2 -> RADIOLOGIA | C38: 4º | D38: 6 | E38: Projeto de Extensão III | F38: PE III | G38: =SUM(TB_Radiologia1[[#This Row],[CH TEÓRICA]:[CH ONLINE]]) -> 90 | H38: Extensão | I38: 0 | J38: 0 | K38: 0 | L38: 90 | M38: 0 | N38: EXT | O38: =ROUNDUP(TB_Radiologia1[[#This Row],[CH TOTAL]]/Cursos!$E$3,0) -> 6 | P38: {=IF(AND(TB_Radiologia1[[#This Row],[TIPIFICAÇÃO]]="TCC",TB_Radiologia1[[#This Row],[TIPO DE OFERTA]]="PRESENCIAL"),SUM(TB_Radiologia1[[#This Row],[CH TEÓRICA]:[CH PRÁTICA]]/66),IF(TB_Radiologia1[[#This Row],[TIPIFICAÇÃO]]="EST",1,IF(AND(IF(OR(TB_Radiologia1[[#This Row],[TIPIFICAÇÃO]]="HB",TB_Radiologia1[[#This Row],[TIPIFICAÇÃO]]="PR"),SUM(TB_Radiologia1[[#This Row],[CH TEÓRICA]:[CH PRÁTICA]])/66,IF(TB_Radiologia1[[#This Row],[TIPIFICAÇÃO]]="EXT",0.5,0))>0.6,IF(OR(TB_Radiologia1[[#This Row],[TIPIFICAÇÃO]]="HB",TB_Radiologia1[[#This Row],[TIPIFICAÇÃO]]="PR"),SUM(TB_Radiologia1[[#This Row],[CH TEÓRICA]:[CH PRÁTICA]])/66,IF(TB_Radiologia1[[#This Row],[TIPIFICAÇÃO]]="EXT",0.5,0))<0.8),1,IF(OR(TB_Radiologia1[[#This Row],[TIPIFICAÇÃO]]="HB",TB_Radiologia1[[#This Row],[TIPIFICAÇÃO]]="PR"),SUM(TB_Radiologia1[[#This Row],[CH TEÓRICA]:[CH PRÁTICA]])/66,IF(TB_Radiologia1[[#This Row],[TIPIFICAÇÃO]]="EXT",0.5,0)))))} -> 0.5 | R38: PRESENCIAL | S38: {=ROUNDUP(IFERROR(_xlfn.IFS(TB_Radiologia1[[#This Row],[TIPIFICAÇÃO]]="ON.A",0,AND(TB_Radiologia1[[#This Row],[TIPIFICAÇÃO]]="EST",TB_Radiologia1[[#This Row],[TIPO DE OFERTA]]="PRESENCIAL"),0,AND(TB_Radiologia1[[#This Row],[TIPIFICAÇÃO]]="PR",OR(TB_Radiologia1[[#This Row],[TIPO DE OFERTA]]="PRESENCIAL",TB_Radiologia1[[#This Row],[TIPO DE OFERTA]]="SEMI-PRESENCIAL")),TB_Radiologia1[[#This Row],[CH TEÓRICA]]+TB_Radiologia1[[#This Row],[CH PRÁTICA]],AND(TB_Radiologia1[[#This Row],[TIPIFICAÇÃO]]="HB",TB_Radiologia1[[#This Row],[TIPO DE OFERTA]]="PRESENCIAL"),TB_Radiologia1[[#This Row],[CH TEÓRICA]]+TB_Radiologia1[[#This Row],[CH PRÁTICA]],AND(TB_Radiologia1[[#This Row],[TIPIFICAÇÃO]]="EXT",OR(TB_Radiologia1[[#This Row],[TIPO DE OFERTA]]="PRESENCIAL",TB_Radiologia1[[#This Row],[TIPO DE OFERTA]]="SEMI-PRESENCIAL")),33,AND(TB_Radiologia1[[#This Row],[TIPIFICAÇÃO]]="TCC",TB_Radiologia1[[#This Row],[TIPO DE OFERTA]]="PRESENCIAL"),SUM(TB_Radiologia1[[#This Row],[CH TEÓRICA]],TB_Radiologia1[[#This Row],[CH PRÁTICA]]))/Cursos!$E$3,0),0)} -> 2 | T38: =IF(TB_Radiologia1[[#This Row],[TIPIFICAÇÃO]]="ON.S",ROUNDUP(TB_Radiologia1[[#This Row],[CH TEÓRICA]]/Cursos!$E$3,0),0) -> 0 | U38: {=IFERROR(_xlfn.IFS(TB_Radiologia1[[#This Row],[TIPIFICAÇÃO]]="ON.A",1,TB_Radiologia1[[#This Row],[TIPIFICAÇÃO]]="PR",0,TB_Radiologia1[[#This Row],[TIPIFICAÇÃO]]="HB",0,AND(TB_Radiologia1[[#This Row],[TIPIFICAÇÃO]]="EXT",OR(TB_Radiologia1[[#This Row],[TIPO DE OFERTA]]="SEMI-PRESENCIAL",TB_Radiologia1[[#This Row],[TIPO DE OFERTA]]="EAD 100%")),1),0)} -> 0 | V38: {=ROUNDUP(IFERROR(_xlfn.IFS(TB_Radiologia1[[#This Row],[TIPIFICAÇÃO]]="ON.A",0,TB_Radiologia1[[#This Row],[TIPIFICAÇÃO]]="PR",0,TB_Radiologia1[[#This Row],[TIPIFICAÇÃO]]="HB",TB_Radiologia1[[#This Row],[CH ONLINE]],TB_Radiologia1[[#This Row],[TIPIFICAÇÃO]]="ON.S",0,AND(TB_Radiologia1[[#This Row],[TIPIFICAÇÃO]]="EXT",TB_Radiologia1[[#This Row],[TIPO DE OFERTA]]="PRESENCIAL"),TB_Radiologia1[[#This Row],[CRÉDITOS]]-TB_Radiologia1[[#This Row],[CRÉDITOS PAGO PROFESSOR]])/Cursos!$E$3,0),0)} -> 1 | W38: BACHARELADO
B39: =$J$2 -> RADIOLOGIA | C39: 4º | D39: 7 | E39: Tópicos Especiais – Novas Tecnologias em Diagnóstico por Imagem | F39: TENTDI | G39: =SUM(TB_Radiologia1[[#This Row],[CH TEÓRICA]:[CH ONLINE]]) -> 49 | H39: Específica | I39: 49 | J39: 0 | K39: 0 | L39: 0 | M39: 0 | N39: PR | O39: =ROUNDUP(TB_Radiologia1[[#This Row],[CH TOTAL]]/Cursos!$E$3,0) -> 3 | P39: {=IF(AND(TB_Radiologia1[[#This Row],[TIPIFICAÇÃO]]="TCC",TB_Radiologia1[[#This Row],[TIPO DE OFERTA]]="PRESENCIAL"),SUM(TB_Radiologia1[[#This Row],[CH TEÓRICA]:[CH PRÁTICA]]/66),IF(TB_Radiologia1[[#This Row],[TIPIFICAÇÃO]]="EST",1,IF(AND(IF(OR(TB_Radiologia1[[#This Row],[TIPIFICAÇÃO]]="HB",TB_Radiologia1[[#This Row],[TIPIFICAÇÃO]]="PR"),SUM(TB_Radiologia1[[#This Row],[CH TEÓRICA]:[CH PRÁTICA]])/66,IF(TB_Radiologia1[[#This Row],[TIPIFICAÇÃO]]="EXT",0.5,0))>0.6,IF(OR(TB_Radiologia1[[#This Row],[TIPIFICAÇÃO]]="HB",TB_Radiologia1[[#This Row],[TIPIFICAÇÃO]]="PR"),SUM(TB_Radiologia1[[#This Row],[CH TEÓRICA]:[CH PRÁTICA]])/66,IF(TB_Radiologia1[[#This Row],[TIPIFICAÇÃO]]="EXT",0.5,0))<0.8),1,IF(OR(TB_Radiologia1[[#This Row],[TIPIFICAÇÃO]]="HB",TB_Radiologia1[[#This Row],[TIPIFICAÇÃO]]="PR"),SUM(TB_Radiologia1[[#This Row],[CH TEÓRICA]:[CH PRÁTICA]])/66,IF(TB_Radiologia1[[#This Row],[TIPIFICAÇÃO]]="EXT",0.5,0)))))} -> 1 | R39: PRESENCIAL | S39: {=ROUNDUP(IFERROR(_xlfn.IFS(TB_Radiologia1[[#This Row],[TIPIFICAÇÃO]]="ON.A",0,AND(TB_Radiologia1[[#This Row],[TIPIFICAÇÃO]]="EST",TB_Radiologia1[[#This Row],[TIPO DE OFERTA]]="PRESENCIAL"),0,AND(TB_Radiologia1[[#This Row],[TIPIFICAÇÃO]]="PR",OR(TB_Radiologia1[[#This Row],[TIPO DE OFERTA]]="PRESENCIAL",TB_Radiologia1[[#This Row],[TIPO DE OFERTA]]="SEMI-PRESENCIAL")),TB_Radiologia1[[#This Row],[CH TEÓRICA]]+TB_Radiologia1[[#This Row],[CH PRÁTICA]],AND(TB_Radiologia1[[#This Row],[TIPIFICAÇÃO]]="HB",TB_Radiologia1[[#This Row],[TIPO DE OFERTA]]="PRESENCIAL"),TB_Radiologia1[[#This Row],[CH TEÓRICA]]+TB_Radiologia1[[#This Row],[CH PRÁTICA]],AND(TB_Radiologia1[[#This Row],[TIPIFICAÇÃO]]="EXT",OR(TB_Radiologia1[[#This Row],[TIPO DE OFERTA]]="PRESENCIAL",TB_Radiologia1[[#This Row],[TIPO DE OFERTA]]="SEMI-PRESENCIAL")),33,AND(TB_Radiologia1[[#This Row],[TIPIFICAÇÃO]]="TCC",TB_Radiologia1[[#This Row],[TIPO DE OFERTA]]="PRESENCIAL"),SUM(TB_Radiologia1[[#This Row],[CH TEÓRICA]],TB_Radiologia1[[#This Row],[CH PRÁTICA]]))/Cursos!$E$3,0),0)} -> 3 | T39: =IF(TB_Radiologia1[[#This Row],[TIPIFICAÇÃO]]="ON.S",ROUNDUP(TB_Radiologia1[[#This Row],[CH TEÓRICA]]/Cursos!$E$3,0),0) -> 0 | U39: {=IFERROR(_xlfn.IFS(TB_Radiologia1[[#This Row],[TIPIFICAÇÃO]]="ON.A",1,TB_Radiologia1[[#This Row],[TIPIFICAÇÃO]]="PR",0,TB_Radiologia1[[#This Row],[TIPIFICAÇÃO]]="HB",0,AND(TB_Radiologia1[[#This Row],[TIPIFICAÇÃO]]="EXT",OR(TB_Radiologia1[[#This Row],[TIPO DE OFERTA]]="SEMI-PRESENCIAL",TB_Radiologia1[[#This Row],[TIPO DE OFERTA]]="EAD 100%")),1),0)} -> 0 | V39: {=ROUNDUP(IFERROR(_xlfn.IFS(TB_Radiologia1[[#This Row],[TIPIFICAÇÃO]]="ON.A",0,TB_Radiologia1[[#This Row],[TIPIFICAÇÃO]]="PR",0,TB_Radiologia1[[#This Row],[TIPIFICAÇÃO]]="HB",TB_Radiologia1[[#This Row],[CH ONLINE]],TB_Radiologia1[[#This Row],[TIPIFICAÇÃO]]="ON.S",0,AND(TB_Radiologia1[[#This Row],[TIPIFICAÇÃO]]="EXT",TB_Radiologia1[[#This Row],[TIPO DE OFERTA]]="PRESENCIAL"),TB_Radiologia1[[#This Row],[CRÉDITOS]]-TB_Radiologia1[[#This Row],[CRÉDITOS PAGO PROFESSOR]])/Cursos!$E$3,0),0)} -> 0 | W39: BACHARELADO
B40: =$J$2 -> RADIOLOGIA | C40: Subtotal | G40: =SUBTOTAL(9,G33:G39) -> 419 | I40: =SUBTOTAL(9,I33:I39) -> 230 | J40: =SUBTOTAL(9,J33:J39) -> 33 | K40: =SUBTOTAL(9,K33:K39) -> 0 | L40: =SUBTOTAL(9,L33:L39) -> 90 | M40: =SUBTOTAL(9,M33:M39) -> 66 | O40: =SUBTOTAL(9,O33:O39) -> 26 | P40: =SUBTOTAL(9,P33:P39) -> 5 | R40: PRESENCIAL | S40: {=ROUNDUP(IFERROR(_xlfn.IFS(TB_Radiologia1[[#This Row],[TIPIFICAÇÃO]]="ON.A",0,AND(TB_Radiologia1[[#This Row],[TIPIFICAÇÃO]]="EST",TB_Radiologia1[[#This Row],[TIPO DE OFERTA]]="PRESENCIAL"),0,AND(TB_Radiologia1[[#This Row],[TIPIFICAÇÃO]]="PR",OR(TB_Radiologia1[[#This Row],[TIPO DE OFERTA]]="PRESENCIAL",TB_Radiologia1[[#This Row],[TIPO DE OFERTA]]="SEMI-PRESENCIAL")),TB_Radiologia1[[#This Row],[CH TEÓRICA]]+TB_Radiologia1[[#This Row],[CH PRÁTICA]],AND(TB_Radiologia1[[#This Row],[TIPIFICAÇÃO]]="HB",TB_Radiologia1[[#This Row],[TIPO DE OFERTA]]="PRESENCIAL"),TB_Radiologia1[[#This Row],[CH TEÓRICA]]+TB_Radiologia1[[#This Row],[CH PRÁTICA]],AND(TB_Radiologia1[[#This Row],[TIPIFICAÇÃO]]="EXT",OR(TB_Radiologia1[[#This Row],[TIPO DE OFERTA]]="PRESENCIAL",TB_Radiologia1[[#This Row],[TIPO DE OFERTA]]="SEMI-PRESENCIAL")),33,AND(TB_Radiologia1[[#This Row],[TIPIFICAÇÃO]]="TCC",TB_Radiologia1[[#This Row],[TIPO DE OFERTA]]="PRESENCIAL"),SUM(TB_Radiologia1[[#This Row],[CH TEÓRICA]],TB_Radiologia1[[#This Row],[CH PRÁTICA]]))/Cursos!$E$3,0),0)} -> 0 | T40: =IF(TB_Radiologia1[[#This Row],[TIPIFICAÇÃO]]="ON.S",ROUNDUP(TB_Radiologia1[[#This Row],[CH TEÓRICA]]/Cursos!$E$3,0),0) -> 0 | U40: {=IFERROR(_xlfn.IFS(TB_Radiologia1[[#This Row],[TIPIFICAÇÃO]]="ON.A",1,TB_Radiologia1[[#This Row],[TIPIFICAÇÃO]]="PR",0,TB_Radiologia1[[#This Row],[TIPIFICAÇÃO]]="HB",0,AND(TB_Radiologia1[[#This Row],[TIPIFICAÇÃO]]="EXT",OR(TB_Radiologia1[[#This Row],[TIPO DE OFERTA]]="SEMI-PRESENCIAL",TB_Radiologia1[[#This Row],[TIPO DE OFERTA]]="EAD 100%")),1),0)} -> 0 | V40: {=ROUNDUP(IFERROR(_xlfn.IFS(TB_Radiologia1[[#This Row],[TIPIFICAÇÃO]]="ON.A",0,TB_Radiologia1[[#This Row],[TIPIFICAÇÃO]]="PR",0,TB_Radiologia1[[#This Row],[TIPIFICAÇÃO]]="HB",TB_Radiologia1[[#This Row],[CH ONLINE]],TB_Radiologia1[[#This Row],[TIPIFICAÇÃO]]="ON.S",0,AND(TB_Radiologia1[[#This Row],[TIPIFICAÇÃO]]="EXT",TB_Radiologia1[[#This Row],[TIPO DE OFERTA]]="PRESENCIAL"),TB_Radiologia1[[#This Row],[CRÉDITOS]]-TB_Radiologia1[[#This Row],[CRÉDITOS PAGO PROFESSOR]])/Cursos!$E$3,0),0)} -> 0 | W40: BACHARELADO
B41: =$J$2 -> RADIOLOGIA | C41: 5º | D41: 1 | E41: Tecnologia em Tomografia Computadorizada | F41: TTC | G41: =SUM(TB_Radiologia1[[#This Row],[CH TEÓRICA]:[CH ONLINE]]) -> 66 | H41: Específica | I41: 33 | J41: 33 | K41: 0 | L41: 0 | M41: 0 | N41: PR | O41: =ROUNDUP(TB_Radiologia1[[#This Row],[CH TOTAL]]/Cursos!$E$3,0) -> 4 | P41: {=IF(AND(TB_Radiologia1[[#This Row],[TIPIFICAÇÃO]]="TCC",TB_Radiologia1[[#This Row],[TIPO DE OFERTA]]="PRESENCIAL"),SUM(TB_Radiologia1[[#This Row],[CH TEÓRICA]:[CH PRÁTICA]]/66),IF(TB_Radiologia1[[#This Row],[TIPIFICAÇÃO]]="EST",1,IF(AND(IF(OR(TB_Radiologia1[[#This Row],[TIPIFICAÇÃO]]="HB",TB_Radiologia1[[#This Row],[TIPIFICAÇÃO]]="PR"),SUM(TB_Radiologia1[[#This Row],[CH TEÓRICA]:[CH PRÁTICA]])/66,IF(TB_Radiologia1[[#This Row],[TIPIFICAÇÃO]]="EXT",0.5,0))>0.6,IF(OR(TB_Radiologia1[[#This Row],[TIPIFICAÇÃO]]="HB",TB_Radiologia1[[#This Row],[TIPIFICAÇÃO]]="PR"),SUM(TB_Radiologia1[[#This Row],[CH TEÓRICA]:[CH PRÁTICA]])/66,IF(TB_Radiologia1[[#This Row],[TIPIFICAÇÃO]]="EXT",0.5,0))<0.8),1,IF(OR(TB_Radiologia1[[#This Row],[TIPIFICAÇÃO]]="HB",TB_Radiologia1[[#This Row],[TIPIFICAÇÃO]]="PR"),SUM(TB_Radiologia1[[#This Row],[CH TEÓRICA]:[CH PRÁTICA]])/66,IF(TB_Radiologia1[[#This Row],[TIPIFICAÇÃO]]="EXT",0.5,0)))))} -> 1 | R41: PRESENCIAL | S41: {=ROUNDUP(IFERROR(_xlfn.IFS(TB_Radiologia1[[#This Row],[TIPIFICAÇÃO]]="ON.A",0,AND(TB_Radiologia1[[#This Row],[TIPIFICAÇÃO]]="EST",TB_Radiologia1[[#This Row],[TIPO DE OFERTA]]="PRESENCIAL"),0,AND(TB_Radiologia1[[#This Row],[TIPIFICAÇÃO]]="PR",OR(TB_Radiologia1[[#This Row],[TIPO DE OFERTA]]="PRESENCIAL",TB_Radiologia1[[#This Row],[TIPO DE OFERTA]]="SEMI-PRESENCIAL")),TB_Radiologia1[[#This Row],[CH TEÓRICA]]+TB_Radiologia1[[#This Row],[CH PRÁTICA]],AND(TB_Radiologia1[[#This Row],[TIPIFICAÇÃO]]="HB",TB_Radiologia1[[#This Row],[TIPO DE OFERTA]]="PRESENCIAL"),TB_Radiologia1[[#This Row],[CH TEÓRICA]]+TB_Radiologia1[[#This Row],[CH PRÁTICA]],AND(TB_Radiologia1[[#This Row],[TIPIFICAÇÃO]]="EXT",OR(TB_Radiologia1[[#This Row],[TIPO DE OFERTA]]="PRESENCIAL",TB_Radiologia1[[#This Row],[TIPO DE OFERTA]]="SEMI-PRESENCIAL")),33,AND(TB_Radiologia1[[#This Row],[TIPIFICAÇÃO]]="TCC",TB_Radiologia1[[#This Row],[TIPO DE OFERTA]]="PRESENCIAL"),SUM(TB_Radiologia1[[#This Row],[CH TEÓRICA]],TB_Radiologia1[[#This Row],[CH PRÁTICA]]))/Cursos!$E$3,0),0)} -> 4 | T41: =IF(TB_Radiologia1[[#This Row],[TIPIFICAÇÃO]]="ON.S",ROUNDUP(TB_Radiologia1[[#This Row],[CH TEÓRICA]]/Cursos!$E$3,0),0) -> 0 | U41: {=IFERROR(_xlfn.IFS(TB_Radiologia1[[#This Row],[TIPIFICAÇÃO]]="ON.A",1,TB_Radiologia1[[#This Row],[TIPIFICAÇÃO]]="PR",0,TB_Radiologia1[[#This Row],[TIPIFICAÇÃO]]="HB",0,AND(TB_Radiologia1[[#This Row],[TIPIFICAÇÃO]]="EXT",OR(TB_Radiologia1[[#This Row],[TIPO DE OFERTA]]="SEMI-PRESENCIAL",TB_Radiologia1[[#This Row],[TIPO DE OFERTA]]="EAD 100%")),1),0)} -> 0 | V41: {=ROUNDUP(IFERROR(_xlfn.IFS(TB_Radiologia1[[#This Row],[TIPIFICAÇÃO]]="ON.A",0,TB_Radiologia1[[#This Row],[TIPIFICAÇÃO]]="PR",0,TB_Radiologia1[[#This Row],[TIPIFICAÇÃO]]="HB",TB_Radiologia1[[#This Row],[CH ONLINE]],TB_Radiologia1[[#This Row],[TIPIFICAÇÃO]]="ON.S",0,AND(TB_Radiologia1[[#This Row],[TIPIFICAÇÃO]]="EXT",TB_Radiologia1[[#This Row],[TIPO DE OFERTA]]="PRESENCIAL"),TB_Radiologia1[[#This Row],[CRÉDITOS]]-TB_Radiologia1[[#This Row],[CRÉDITOS PAGO PROFESSOR]])/Cursos!$E$3,0),0)} -> 0 | W41: BACHARELADO
B42: =$J$2 -> RADIOLOGIA | C42: 5º | D42: 2 | E42: Imaginologia e Anatomia Radiológica | F42: IAR | G42: =SUM(TB_Radiologia1[[#This Row],[CH TEÓRICA]:[CH ONLINE]]) -> 66 | H42: Específica | I42: 33 | J42: 33 | K42: 0 | L42: 0 | M42: 0 | N42: PR | O42: =ROUNDUP(TB_Radiologia1[[#This Row],[CH TOTAL]]/Cursos!$E$3,0) -> 4 | P42: {=IF(AND(TB_Radiologia1[[#This Row],[TIPIFICAÇÃO]]="TCC",TB_Radiologia1[[#This Row],[TIPO DE OFERTA]]="PRESENCIAL"),SUM(TB_Radiologia1[[#This Row],[CH TEÓRICA]:[CH PRÁTICA]]/66),IF(TB_Radiologia1[[#This Row],[TIPIFICAÇÃO]]="EST",1,IF(AND(IF(OR(TB_Radiologia1[[#This Row],[TIPIFICAÇÃO]]="HB",TB_Radiologia1[[#This Row],[TIPIFICAÇÃO]]="PR"),SUM(TB_Radiologia1[[#This Row],[CH TEÓRICA]:[CH PRÁTICA]])/66,IF(TB_Radiologia1[[#This Row],[TIPIFICAÇÃO]]="EXT",0.5,0))>0.6,IF(OR(TB_Radiologia1[[#This Row],[TIPIFICAÇÃO]]="HB",TB_Radiologia1[[#This Row],[TIPIFICAÇÃO]]="PR"),SUM(TB_Radiologia1[[#This Row],[CH TEÓRICA]:[CH PRÁTICA]])/66,IF(TB_Radiologia1[[#This Row],[TIPIFICAÇÃO]]="EXT",0.5,0))<0.8),1,IF(OR(TB_Radiologia1[[#This Row],[TIPIFICAÇÃO]]="HB",TB_Radiologia1[[#This Row],[TIPIFICAÇÃO]]="PR"),SUM(TB_Radiologia1[[#This Row],[CH TEÓRICA]:[CH PRÁTICA]])/66,IF(TB_Radiologia1[[#This Row],[TIPIFICAÇÃO]]="EXT",0.5,0)))))} -> 1 | R42: PRESENCIAL | S42: {=ROUNDUP(IFERROR(_xlfn.IFS(TB_Radiologia1[[#This Row],[TIPIFICAÇÃO]]="ON.A",0,AND(TB_Radiologia1[[#This Row],[TIPIFICAÇÃO]]="EST",TB_Radiologia1[[#This Row],[TIPO DE OFERTA]]="PRESENCIAL"),0,AND(TB_Radiologia1[[#This Row],[TIPIFICAÇÃO]]="PR",OR(TB_Radiologia1[[#This Row],[TIPO DE OFERTA]]="PRESENCIAL",TB_Radiologia1[[#This Row],[TIPO DE OFERTA]]="SEMI-PRESENCIAL")),TB_Radiologia1[[#This Row],[CH TEÓRICA]]+TB_Radiologia1[[#This Row],[CH PRÁTICA]],AND(TB_Radiologia1[[#This Row],[TIPIFICAÇÃO]]="HB",TB_Radiologia1[[#This Row],[TIPO DE OFERTA]]="PRESENCIAL"),TB_Radiologia1[[#This Row],[CH TEÓRICA]]+TB_Radiologia1[[#This Row],[CH PRÁTICA]],AND(TB_Radiologia1[[#This Row],[TIPIFICAÇÃO]]="EXT",OR(TB_Radiologia1[[#This Row],[TIPO DE OFERTA]]="PRESENCIAL",TB_Radiologia1[[#This Row],[TIPO DE OFERTA]]="SEMI-PRESENCIAL")),33,AND(TB_Radiologia1[[#This Row],[TIPIFICAÇÃO]]="TCC",TB_Radiologia1[[#This Row],[TIPO DE OFERTA]]="PRESENCIAL"),SUM(TB_Radiologia1[[#This Row],[CH TEÓRICA]],TB_Radiologia1[[#This Row],[CH PRÁTICA]]))/Cursos!$E$3,0),0)} -> 4 | T42: =IF(TB_Radiologia1[[#This Row],[TIPIFICAÇÃO]]="ON.S",ROUNDUP(TB_Radiologia1[[#This Row],[CH TEÓRICA]]/Cursos!$E$3,0),0) -> 0 | U42: {=IFERROR(_xlfn.IFS(TB_Radiologia1[[#This Row],[TIPIFICAÇÃO]]="ON.A",1,TB_Radiologia1[[#This Row],[TIPIFICAÇÃO]]="PR",0,TB_Radiologia1[[#This Row],[TIPIFICAÇÃO]]="HB",0,AND(TB_Radiologia1[[#This Row],[TIPIFICAÇÃO]]="EXT",OR(TB_Radiologia1[[#This Row],[TIPO DE OFERTA]]="SEMI-PRESENCIAL",TB_Radiologia1[[#This Row],[TIPO DE OFERTA]]="EAD 100%")),1),0)} -> 0 | V42: {=ROUNDUP(IFERROR(_xlfn.IFS(TB_Radiologia1[[#This Row],[TIPIFICAÇÃO]]="ON.A",0,TB_Radiologia1[[#This Row],[TIPIFICAÇÃO]]="PR",0,TB_Radiologia1[[#This Row],[TIPIFICAÇÃO]]="HB",TB_Radiologia1[[#This Row],[CH ONLINE]],TB_Radiologia1[[#This Row],[TIPIFICAÇÃO]]="ON.S",0,AND(TB_Radiologia1[[#This Row],[TIPIFICAÇÃO]]="EXT",TB_Radiologia1[[#This Row],[TIPO DE OFERTA]]="PRESENCIAL"),TB_Radiologia1[[#This Row],[CRÉDITOS]]-TB_Radiologia1[[#This Row],[CRÉDITOS PAGO PROFESSOR]])/Cursos!$E$3,0),0)} -> 0 | W42: BACHARELADO
B43: =$J$2 -> RADIOLOGIA | C43: 5º | D43: 3 | E43: Anatomia Patológica | F43: AP | G43: =SUM(TB_Radiologia1[[#This Row],[CH TEÓRICA]:[CH ONLINE]]) -> 49 | H43: Específica | I43: 33 | J43: 16 | K43: 0 | L43: 0 | M43: 0 | N43: PR | O43: =ROUNDUP(TB_Radiologia1[[#This Row],[CH TOTAL]]/Cursos!$E$3,0) -> 3 | P43: {=IF(AND(TB_Radiologia1[[#This Row],[TIPIFICAÇÃO]]="TCC",TB_Radiologia1[[#This Row],[TIPO DE OFERTA]]="PRESENCIAL"),SUM(TB_Radiologia1[[#This Row],[CH TEÓRICA]:[CH PRÁTICA]]/66),IF(TB_Radiologia1[[#This Row],[TIPIFICAÇÃO]]="EST",1,IF(AND(IF(OR(TB_Radiologia1[[#This Row],[TIPIFICAÇÃO]]="HB",TB_Radiologia1[[#This Row],[TIPIFICAÇÃO]]="PR"),SUM(TB_Radiologia1[[#This Row],[CH TEÓRICA]:[CH PRÁTICA]])/66,IF(TB_Radiologia1[[#This Row],[TIPIFICAÇÃO]]="EXT",0.5,0))>0.6,IF(OR(TB_Radiologia1[[#This Row],[TIPIFICAÇÃO]]="HB",TB_Radiologia1[[#This Row],[TIPIFICAÇÃO]]="PR"),SUM(TB_Radiologia1[[#This Row],[CH TEÓRICA]:[CH PRÁTICA]])/66,IF(TB_Radiologia1[[#This Row],[TIPIFICAÇÃO]]="EXT",0.5,0))<0.8),1,IF(OR(TB_Radiologia1[[#This Row],[TIPIFICAÇÃO]]="HB",TB_Radiologia1[[#This Row],[TIPIFICAÇÃO]]="PR"),SUM(TB_Radiologia1[[#This Row],[CH TEÓRICA]:[CH PRÁTICA]])/66,IF(TB_Radiologia1[[#This Row],[TIPIFICAÇÃO]]="EXT",0.5,0)))))} -> 1 | R43: PRESENCIAL | S43: {=ROUNDUP(IFERROR(_xlfn.IFS(TB_Radiologia1[[#This Row],[TIPIFICAÇÃO]]="ON.A",0,AND(TB_Radiologia1[[#This Row],[TIPIFICAÇÃO]]="EST",TB_Radiologia1[[#This Row],[TIPO DE OFERTA]]="PRESENCIAL"),0,AND(TB_Radiologia1[[#This Row],[TIPIFICAÇÃO]]="PR",OR(TB_Radiologia1[[#This Row],[TIPO DE OFERTA]]="PRESENCIAL",TB_Radiologia1[[#This Row],[TIPO DE OFERTA]]="SEMI-PRESENCIAL")),TB_Radiologia1[[#This Row],[CH TEÓRICA]]+TB_Radiologia1[[#This Row],[CH PRÁTICA]],AND(TB_Radiologia1[[#This Row],[TIPIFICAÇÃO]]="HB",TB_Radiologia1[[#This Row],[TIPO DE OFERTA]]="PRESENCIAL"),TB_Radiologia1[[#This Row],[CH TEÓRICA]]+TB_Radiologia1[[#This Row],[CH PRÁTICA]],AND(TB_Radiologia1[[#This Row],[TIPIFICAÇÃO]]="EXT",OR(TB_Radiologia1[[#This Row],[TIPO DE OFERTA]]="PRESENCIAL",TB_Radiologia1[[#This Row],[TIPO DE OFERTA]]="SEMI-PRESENCIAL")),33,AND(TB_Radiologia1[[#This Row],[TIPIFICAÇÃO]]="TCC",TB_Radiologia1[[#This Row],[TIPO DE OFERTA]]="PRESENCIAL"),SUM(TB_Radiologia1[[#This Row],[CH TEÓRICA]],TB_Radiologia1[[#This Row],[CH PRÁTICA]]))/Cursos!$E$3,0),0)} -> 3 | T43: =IF(TB_Radiologia1[[#This Row],[TIPIFICAÇÃO]]="ON.S",ROUNDUP(TB_Radiologia1[[#This Row],[CH TEÓRICA]]/Cursos!$E$3,0),0) -> 0 | U43: {=IFERROR(_xlfn.IFS(TB_Radiologia1[[#This Row],[TIPIFICAÇÃO]]="ON.A",1,TB_Radiologia1[[#This Row],[TIPIFICAÇÃO]]="PR",0,TB_Radiologia1[[#This Row],[TIPIFICAÇÃO]]="HB",0,AND(TB_Radiologia1[[#This Row],[TIPIFICAÇÃO]]="EXT",OR(TB_Radiologia1[[#This Row],[TIPO DE OFERTA]]="SEMI-PRESENCIAL",TB_Radiologia1[[#This Row],[TIPO DE OFERTA]]="EAD 100%")),1),0)} -> 0 | V43: {=ROUNDUP(IFERROR(_xlfn.IFS(TB_Radiologia1[[#This Row],[TIPIFICAÇÃO]]="ON.A",0,TB_Radiologia1[[#This Row],[TIPIFICAÇÃO]]="PR",0,TB_Radiologia1[[#This Row],[TIPIFICAÇÃO]]="HB",TB_Radiologia1[[#This Row],[CH ONLINE]],TB_Radiologia1[[#This Row],[TIPIFICAÇÃO]]="ON.S",0,AND(TB_Radiologia1[[#This Row],[TIPIFICAÇÃO]]="EXT",TB_Radiologia1[[#This Row],[TIPO DE OFERTA]]="PRESENCIAL"),TB_Radiologia1[[#This Row],[CRÉDITOS]]-TB_Radiologia1[[#This Row],[CRÉDITOS PAGO PROFESSOR]])/Cursos!$E$3,0),0)} -> 0 | W43: BACHARELADO
B44: =$J$2 -> RADIOLOGIA | C44: 5º | D44: 4 | E44: Radiologia Digital | F44: RD | G44: =SUM(TB_Radiologia1[[#This Row],[CH TEÓRICA]:[CH ONLINE]]) -> 49 | H44: Específica | I44: 49 | J44: 0 | K44: 0 | L44: 0 | M44: 0 | N44: PR | O44: =ROUNDUP(TB_Radiologia1[[#This Row],[CH TOTAL]]/Cursos!$E$3,0) -> 3 | P44: {=IF(AND(TB_Radiologia1[[#This Row],[TIPIFICAÇÃO]]="TCC",TB_Radiologia1[[#This Row],[TIPO DE OFERTA]]="PRESENCIAL"),SUM(TB_Radiologia1[[#This Row],[CH TEÓRICA]:[CH PRÁTICA]]/66),IF(TB_Radiologia1[[#This Row],[TIPIFICAÇÃO]]="EST",1,IF(AND(IF(OR(TB_Radiologia1[[#This Row],[TIPIFICAÇÃO]]="HB",TB_Radiologia1[[#This Row],[TIPIFICAÇÃO]]="PR"),SUM(TB_Radiologia1[[#This Row],[CH TEÓRICA]:[CH PRÁTICA]])/66,IF(TB_Radiologia1[[#This Row],[TIPIFICAÇÃO]]="EXT",0.5,0))>0.6,IF(OR(TB_Radiologia1[[#This Row],[TIPIFICAÇÃO]]="HB",TB_Radiologia1[[#This Row],[TIPIFICAÇÃO]]="PR"),SUM(TB_Radiologia1[[#This Row],[CH TEÓRICA]:[CH PRÁTICA]])/66,IF(TB_Radiologia1[[#This Row],[TIPIFICAÇÃO]]="EXT",0.5,0))<0.8),1,IF(OR(TB_Radiologia1[[#This Row],[TIPIFICAÇÃO]]="HB",TB_Radiologia1[[#This Row],[TIPIFICAÇÃO]]="PR"),SUM(TB_Radiologia1[[#This Row],[CH TEÓRICA]:[CH PRÁTICA]])/66,IF(TB_Radiologia1[[#This Row],[TIPIFICAÇÃO]]="EXT",0.5,0)))))} -> 1 | R44: PRESENCIAL | S44: {=ROUNDUP(IFERROR(_xlfn.IFS(TB_Radiologia1[[#This Row],[TIPIFICAÇÃO]]="ON.A",0,AND(TB_Radiologia1[[#This Row],[TIPIFICAÇÃO]]="EST",TB_Radiologia1[[#This Row],[TIPO DE OFERTA]]="PRESENCIAL"),0,AND(TB_Radiologia1[[#This Row],[TIPIFICAÇÃO]]="PR",OR(TB_Radiologia1[[#This Row],[TIPO DE OFERTA]]="PRESENCIAL",TB_Radiologia1[[#This Row],[TIPO DE OFERTA]]="SEMI-PRESENCIAL")),TB_Radiologia1[[#This Row],[CH TEÓRICA]]+TB_Radiologia1[[#This Row],[CH PRÁTICA]],AND(TB_Radiologia1[[#This Row],[TIPIFICAÇÃO]]="HB",TB_Radiologia1[[#This Row],[TIPO DE OFERTA]]="PRESENCIAL"),TB_Radiologia1[[#This Row],[CH TEÓRICA]]+TB_Radiologia1[[#This Row],[CH PRÁTICA]],AND(TB_Radiologia1[[#This Row],[TIPIFICAÇÃO]]="EXT",OR(TB_Radiologia1[[#This Row],[TIPO DE OFERTA]]="PRESENCIAL",TB_Radiologia1[[#This Row],[TIPO DE OFERTA]]="SEMI-PRESENCIAL")),33,AND(TB_Radiologia1[[#This Row],[TIPIFICAÇÃO]]="TCC",TB_Radiologia1[[#This Row],[TIPO DE OFERTA]]="PRESENCIAL"),SUM(TB_Radiologia1[[#This Row],[CH TEÓRICA]],TB_Radiologia1[[#This Row],[CH PRÁTICA]]))/Cursos!$E$3,0),0)} -> 3 | T44: =IF(TB_Radiologia1[[#This Row],[TIPIFICAÇÃO]]="ON.S",ROUNDUP(TB_Radiologia1[[#This Row],[CH TEÓRICA]]/Cursos!$E$3,0),0) -> 0 | U44: {=IFERROR(_xlfn.IFS(TB_Radiologia1[[#This Row],[TIPIFICAÇÃO]]="ON.A",1,TB_Radiologia1[[#This Row],[TIPIFICAÇÃO]]="PR",0,TB_Radiologia1[[#This Row],[TIPIFICAÇÃO]]="HB",0,AND(TB_Radiologia1[[#This Row],[TIPIFICAÇÃO]]="EXT",OR(TB_Radiologia1[[#This Row],[TIPO DE OFERTA]]="SEMI-PRESENCIAL",TB_Radiologia1[[#This Row],[TIPO DE OFERTA]]="EAD 100%")),1),0)} -> 0 | V44: {=ROUNDUP(IFERROR(_xlfn.IFS(TB_Radiologia1[[#This Row],[TIPIFICAÇÃO]]="ON.A",0,TB_Radiologia1[[#This Row],[TIPIFICAÇÃO]]="PR",0,TB_Radiologia1[[#This Row],[TIPIFICAÇÃO]]="HB",TB_Radiologia1[[#This Row],[CH ONLINE]],TB_Radiologia1[[#This Row],[TIPIFICAÇÃO]]="ON.S",0,AND(TB_Radiologia1[[#This Row],[TIPIFICAÇÃO]]="EXT",TB_Radiologia1[[#This Row],[TIPO DE OFERTA]]="PRESENCIAL"),TB_Radiologia1[[#This Row],[CRÉDITOS]]-TB_Radiologia1[[#This Row],[CRÉDITOS PAGO PROFESSOR]])/Cursos!$E$3,0),0)} -> 0 | W44: BACHARELADO
B45: =$J$2 -> RADIOLOGIA | C45: 5º | D45: 5 | E45: Estágio Supervisionado I | F45: EST I | G45: =SUM(TB_Radiologia1[[#This Row],[CH TEÓRICA]:[CH ONLINE]]) -> 244 | H45: Estágio | I45: 0 | J45: 0 | K45: 244 | L45: 0 | M45: 0 | N45: EST | O45: =ROUNDUP(TB_Radiologia1[[#This Row],[CH TOTAL]]/Cursos!$E$3,0) -> 15 | P45: {=IF(AND(TB_Radiologia1[[#This Row],[TIPIFICAÇÃO]]="TCC",TB_Radiologia1[[#This Row],[TIPO DE OFERTA]]="PRESENCIAL"),SUM(TB_Radiologia1[[#This Row],[CH TEÓRICA]:[CH PRÁTICA]]/66),IF(TB_Radiologia1[[#This Row],[TIPIFICAÇÃO]]="EST",1,IF(AND(IF(OR(TB_Radiologia1[[#This Row],[TIPIFICAÇÃO]]="HB",TB_Radiologia1[[#This Row],[TIPIFICAÇÃO]]="PR"),SUM(TB_Radiologia1[[#This Row],[CH TEÓRICA]:[CH PRÁTICA]])/66,IF(TB_Radiologia1[[#This Row],[TIPIFICAÇÃO]]="EXT",0.5,0))>0.6,IF(OR(TB_Radiologia1[[#This Row],[TIPIFICAÇÃO]]="HB",TB_Radiologia1[[#This Row],[TIPIFICAÇÃO]]="PR"),SUM(TB_Radiologia1[[#This Row],[CH TEÓRICA]:[CH PRÁTICA]])/66,IF(TB_Radiologia1[[#This Row],[TIPIFICAÇÃO]]="EXT",0.5,0))<0.8),1,IF(OR(TB_Radiologia1[[#This Row],[TIPIFICAÇÃO]]="HB",TB_Radiologia1[[#This Row],[TIPIFICAÇÃO]]="PR"),SUM(TB_Radiologia1[[#This Row],[CH TEÓRICA]:[CH PRÁTICA]])/66,IF(TB_Radiologia1[[#This Row],[TIPIFICAÇÃO]]="EXT",0.5,0)))))} -> 1 | R45: PRESENCIAL | S45: {=ROUNDUP(IFERROR(_xlfn.IFS(TB_Radiologia1[[#This Row],[TIPIFICAÇÃO]]="ON.A",0,AND(TB_Radiologia1[[#This Row],[TIPIFICAÇÃO]]="EST",TB_Radiologia1[[#This Row],[TIPO DE OFERTA]]="PRESENCIAL"),0,AND(TB_Radiologia1[[#This Row],[TIPIFICAÇÃO]]="PR",OR(TB_Radiologia1[[#This Row],[TIPO DE OFERTA]]="PRESENCIAL",TB_Radiologia1[[#This Row],[TIPO DE OFERTA]]="SEMI-PRESENCIAL")),TB_Radiologia1[[#This Row],[CH TEÓRICA]]+TB_Radiologia1[[#This Row],[CH PRÁTICA]],AND(TB_Radiologia1[[#This Row],[TIPIFICAÇÃO]]="HB",TB_Radiologia1[[#This Row],[TIPO DE OFERTA]]="PRESENCIAL"),TB_Radiologia1[[#This Row],[CH TEÓRICA]]+TB_Radiologia1[[#This Row],[CH PRÁTICA]],AND(TB_Radiologia1[[#This Row],[TIPIFICAÇÃO]]="EXT",OR(TB_Radiologia1[[#This Row],[TIPO DE OFERTA]]="PRESENCIAL",TB_Radiologia1[[#This Row],[TIPO DE OFERTA]]="SEMI-PRESENCIAL")),33,AND(TB_Radiologia1[[#This Row],[TIPIFICAÇÃO]]="TCC",TB_Radiologia1[[#This Row],[TIPO DE OFERTA]]="PRESENCIAL"),SUM(TB_Radiologia1[[#This Row],[CH TEÓRICA]],TB_Radiologia1[[#This Row],[CH PRÁTICA]]))/Cursos!$E$3,0),0)} -> 0 | T45: =IF(TB_Radiologia1[[#This Row],[TIPIFICAÇÃO]]="ON.S",ROUNDUP(TB_Radiologia1[[#This Row],[CH TEÓRICA]]/Cursos!$E$3,0),0) -> 0 | U45: {=IFERROR(_xlfn.IFS(TB_Radiologia1[[#This Row],[TIPIFICAÇÃO]]="ON.A",1,TB_Radiologia1[[#This Row],[TIPIFICAÇÃO]]="PR",0,TB_Radiologia1[[#This Row],[TIPIFICAÇÃO]]="HB",0,AND(TB_Radiologia1[[#This Row],[TIPIFICAÇÃO]]="EXT",OR(TB_Radiologia1[[#This Row],[TIPO DE OFERTA]]="SEMI-PRESENCIAL",TB_Radiologia1[[#This Row],[TIPO DE OFERTA]]="EAD 100%")),1),0)} -> 0 | V45: {=ROUNDUP(IFERROR(_xlfn.IFS(TB_Radiologia1[[#This Row],[TIPIFICAÇÃO]]="ON.A",0,TB_Radiologia1[[#This Row],[TIPIFICAÇÃO]]="PR",0,TB_Radiologia1[[#This Row],[TIPIFICAÇÃO]]="HB",TB_Radiologia1[[#This Row],[CH ONLINE]],TB_Radiologia1[[#This Row],[TIPIFICAÇÃO]]="ON.S",0,AND(TB_Radiologia1[[#This Row],[TIPIFICAÇÃO]]="EXT",TB_Radiologia1[[#This Row],[TIPO DE OFERTA]]="PRESENCIAL"),TB_Radiologia1[[#This Row],[CRÉDITOS]]-TB_Radiologia1[[#This Row],[CRÉDITOS PAGO PROFESSOR]])/Cursos!$E$3,0),0)} -> 0 | W45: BACHARELADO
B46: =$J$2 -> RADIOLOGIA | C46: Subtotal | G46: =SUBTOTAL(9,G41:G45) -> 474 | I46: =SUBTOTAL(9,I41:I45) -> 148 | J46: =SUBTOTAL(9,J41:J45) -> 82 | K46: =SUBTOTAL(9,K41:K45) -> 244 | L46: =SUBTOTAL(9,L41:L45) -> 0 | M46: =SUBTOTAL(9,M41:M45) -> 0 | O46: =SUBTOTAL(9,O41:O45) -> 29 | P46: =SUBTOTAL(9,P41:P45) -> 5 | R46: PRESENCIAL | S46: {=ROUNDUP(IFERROR(_xlfn.IFS(TB_Radiologia1[[#This Row],[TIPIFICAÇÃO]]="ON.A",0,AND(TB_Radiologia1[[#This Row],[TIPIFICAÇÃO]]="EST",TB_Radiologia1[[#This Row],[TIPO DE OFERTA]]="PRESENCIAL"),0,AND(TB_Radiologia1[[#This Row],[TIPIFICAÇÃO]]="PR",OR(TB_Radiologia1[[#This Row],[TIPO DE OFERTA]]="PRESENCIAL",TB_Radiologia1[[#This Row],[TIPO DE OFERTA]]="SEMI-PRESENCIAL")),TB_Radiologia1[[#This Row],[CH TEÓRICA]]+TB_Radiologia1[[#This Row],[CH PRÁTICA]],AND(TB_Radiologia1[[#This Row],[TIPIFICAÇÃO]]="HB",TB_Radiologia1[[#This Row],[TIPO DE OFERTA]]="PRESENCIAL"),TB_Radiologia1[[#This Row],[CH TEÓRICA]]+TB_Radiologia1[[#This Row],[CH PRÁTICA]],AND(TB_Radiologia1[[#This Row],[TIPIFICAÇÃO]]="EXT",OR(TB_Radiologia1[[#This Row],[TIPO DE OFERTA]]="PRESENCIAL",TB_Radiologia1[[#This Row],[TIPO DE OFERTA]]="SEMI-PRESENCIAL")),33,AND(TB_Radiologia1[[#This Row],[TIPIFICAÇÃO]]="TCC",TB_Radiologia1[[#This Row],[TIPO DE OFERTA]]="PRESENCIAL"),SUM(TB_Radiologia1[[#This Row],[CH TEÓRICA]],TB_Radiologia1[[#This Row],[CH PRÁTICA]]))/Cursos!$E$3,0),0)} -> 0 | T46: =IF(TB_Radiologia1[[#This Row],[TIPIFICAÇÃO]]="ON.S",ROUNDUP(TB_Radiologia1[[#This Row],[CH TEÓRICA]]/Cursos!$E$3,0),0) -> 0 | U46: {=IFERROR(_xlfn.IFS(TB_Radiologia1[[#This Row],[TIPIFICAÇÃO]]="ON.A",1,TB_Radiologia1[[#This Row],[TIPIFICAÇÃO]]="PR",0,TB_Radiologia1[[#This Row],[TIPIFICAÇÃO]]="HB",0,AND(TB_Radiologia1[[#This Row],[TIPIFICAÇÃO]]="EXT",OR(TB_Radiologia1[[#This Row],[TIPO DE OFERTA]]="SEMI-PRESENCIAL",TB_Radiologia1[[#This Row],[TIPO DE OFERTA]]="EAD 100%")),1),0)} -> 0 | V46: {=ROUNDUP(IFERROR(_xlfn.IFS(TB_Radiologia1[[#This Row],[TIPIFICAÇÃO]]="ON.A",0,TB_Radiologia1[[#This Row],[TIPIFICAÇÃO]]="PR",0,TB_Radiologia1[[#This Row],[TIPIFICAÇÃO]]="HB",TB_Radiologia1[[#This Row],[CH ONLINE]],TB_Radiologia1[[#This Row],[TIPIFICAÇÃO]]="ON.S",0,AND(TB_Radiologia1[[#This Row],[TIPIFICAÇÃO]]="EXT",TB_Radiologia1[[#This Row],[TIPO DE OFERTA]]="PRESENCIAL"),TB_Radiologia1[[#This Row],[CRÉDITOS]]-TB_Radiologia1[[#This Row],[CRÉDITOS PAGO PROFESSOR]])/Cursos!$E$3,0),0)} -> 0 | W46: BACHARELADO
B47: =$J$2 -> RADIOLOGIA | C47: 6º | D47: 1 | E47: Radioterapia | F47: RT | G47: =SUM(TB_Radiologia1[[#This Row],[CH TEÓRICA]:[CH ONLINE]]) -> 66 | H47: Específica | I47: 66 | J47: 0 | K47: 0 | L47: 0 | M47: 0 | N47: PR | O47: =ROUNDUP(TB_Radiologia1[[#This Row],[CH TOTAL]]/Cursos!$E$3,0) -> 4 | P47: {=IF(AND(TB_Radiologia1[[#This Row],[TIPIFICAÇÃO]]="TCC",TB_Radiologia1[[#This Row],[TIPO DE OFERTA]]="PRESENCIAL"),SUM(TB_Radiologia1[[#This Row],[CH TEÓRICA]:[CH PRÁTICA]]/66),IF(TB_Radiologia1[[#This Row],[TIPIFICAÇÃO]]="EST",1,IF(AND(IF(OR(TB_Radiologia1[[#This Row],[TIPIFICAÇÃO]]="HB",TB_Radiologia1[[#This Row],[TIPIFICAÇÃO]]="PR"),SUM(TB_Radiologia1[[#This Row],[CH TEÓRICA]:[CH PRÁTICA]])/66,IF(TB_Radiologia1[[#This Row],[TIPIFICAÇÃO]]="EXT",0.5,0))>0.6,IF(OR(TB_Radiologia1[[#This Row],[TIPIFICAÇÃO]]="HB",TB_Radiologia1[[#This Row],[TIPIFICAÇÃO]]="PR"),SUM(TB_Radiologia1[[#This Row],[CH TEÓRICA]:[CH PRÁTICA]])/66,IF(TB_Radiologia1[[#This Row],[TIPIFICAÇÃO]]="EXT",0.5,0))<0.8),1,IF(OR(TB_Radiologia1[[#This Row],[TIPIFICAÇÃO]]="HB",TB_Radiologia1[[#This Row],[TIPIFICAÇÃO]]="PR"),SUM(TB_Radiologia1[[#This Row],[CH TEÓRICA]:[CH PRÁTICA]])/66,IF(TB_Radiologia1[[#This Row],[TIPIFICAÇÃO]]="EXT",0.5,0)))))} -> 1 | R47: PRESENCIAL | S47: {=ROUNDUP(IFERROR(_xlfn.IFS(TB_Radiologia1[[#This Row],[TIPIFICAÇÃO]]="ON.A",0,AND(TB_Radiologia1[[#This Row],[TIPIFICAÇÃO]]="EST",TB_Radiologia1[[#This Row],[TIPO DE OFERTA]]="PRESENCIAL"),0,AND(TB_Radiologia1[[#This Row],[TIPIFICAÇÃO]]="PR",OR(TB_Radiologia1[[#This Row],[TIPO DE OFERTA]]="PRESENCIAL",TB_Radiologia1[[#This Row],[TIPO DE OFERTA]]="SEMI-PRESENCIAL")),TB_Radiologia1[[#This Row],[CH TEÓRICA]]+TB_Radiologia1[[#This Row],[CH PRÁTICA]],AND(TB_Radiologia1[[#This Row],[TIPIFICAÇÃO]]="HB",TB_Radiologia1[[#This Row],[TIPO DE OFERTA]]="PRESENCIAL"),TB_Radiologia1[[#This Row],[CH TEÓRICA]]+TB_Radiologia1[[#This Row],[CH PRÁTICA]],AND(TB_Radiologia1[[#This Row],[TIPIFICAÇÃO]]="EXT",OR(TB_Radiologia1[[#This Row],[TIPO DE OFERTA]]="PRESENCIAL",TB_Radiologia1[[#This Row],[TIPO DE OFERTA]]="SEMI-PRESENCIAL")),33,AND(TB_Radiologia1[[#This Row],[TIPIFICAÇÃO]]="TCC",TB_Radiologia1[[#This Row],[TIPO DE OFERTA]]="PRESENCIAL"),SUM(TB_Radiologia1[[#This Row],[CH TEÓRICA]],TB_Radiologia1[[#This Row],[CH PRÁTICA]]))/Cursos!$E$3,0),0)} -> 4 | T47: =IF(TB_Radiologia1[[#This Row],[TIPIFICAÇÃO]]="ON.S",ROUNDUP(TB_Radiologia1[[#This Row],[CH TEÓRICA]]/Cursos!$E$3,0),0) -> 0 | U47: {=IFERROR(_xlfn.IFS(TB_Radiologia1[[#This Row],[TIPIFICAÇÃO]]="ON.A",1,TB_Radiologia1[[#This Row],[TIPIFICAÇÃO]]="PR",0,TB_Radiologia1[[#This Row],[TIPIFICAÇÃO]]="HB",0,AND(TB_Radiologia1[[#This Row],[TIPIFICAÇÃO]]="EXT",OR(TB_Radiologia1[[#This Row],[TIPO DE OFERTA]]="SEMI-PRESENCIAL",TB_Radiologia1[[#This Row],[TIPO DE OFERTA]]="EAD 100%")),1),0)} -> 0 | V47: {=ROUNDUP(IFERROR(_xlfn.IFS(TB_Radiologia1[[#This Row],[TIPIFICAÇÃO]]="ON.A",0,TB_Radiologia1[[#This Row],[TIPIFICAÇÃO]]="PR",0,TB_Radiologia1[[#This Row],[TIPIFICAÇÃO]]="HB",TB_Radiologia1[[#This Row],[CH ONLINE]],TB_Radiologia1[[#This Row],[TIPIFICAÇÃO]]="ON.S",0,AND(TB_Radiologia1[[#This Row],[TIPIFICAÇÃO]]="EXT",TB_Radiologia1[[#This Row],[TIPO DE OFERTA]]="PRESENCIAL"),TB_Radiologia1[[#This Row],[CRÉDITOS]]-TB_Radiologia1[[#This Row],[CRÉDITOS PAGO PROFESSOR]])/Cursos!$E$3,0),0)} -> 0 | W47: BACHARELADO
B48: =$J$2 -> RADIOLOGIA | C48: 6º | D48: 2 | E48: Ressonância Magnética | F48: RM | G48: =SUM(TB_Radiologia1[[#This Row],[CH TEÓRICA]:[CH ONLINE]]) -> 49 | H48: Específica | I48: 33 | J48: 16 | K48: 0 | L48: 0 | M48: 0 | N48: PR | O48: =ROUNDUP(TB_Radiologia1[[#This Row],[CH TOTAL]]/Cursos!$E$3,0) -> 3 | P48: {=IF(AND(TB_Radiologia1[[#This Row],[TIPIFICAÇÃO]]="TCC",TB_Radiologia1[[#This Row],[TIPO DE OFERTA]]="PRESENCIAL"),SUM(TB_Radiologia1[[#This Row],[CH TEÓRICA]:[CH PRÁTICA]]/66),IF(TB_Radiologia1[[#This Row],[TIPIFICAÇÃO]]="EST",1,IF(AND(IF(OR(TB_Radiologia1[[#This Row],[TIPIFICAÇÃO]]="HB",TB_Radiologia1[[#This Row],[TIPIFICAÇÃO]]="PR"),SUM(TB_Radiologia1[[#This Row],[CH TEÓRICA]:[CH PRÁTICA]])/66,IF(TB_Radiologia1[[#This Row],[TIPIFICAÇÃO]]="EXT",0.5,0))>0.6,IF(OR(TB_Radiologia1[[#This Row],[TIPIFICAÇÃO]]="HB",TB_Radiologia1[[#This Row],[TIPIFICAÇÃO]]="PR"),SUM(TB_Radiologia1[[#This Row],[CH TEÓRICA]:[CH PRÁTICA]])/66,IF(TB_Radiologia1[[#This Row],[TIPIFICAÇÃO]]="EXT",0.5,0))<0.8),1,IF(OR(TB_Radiologia1[[#This Row],[TIPIFICAÇÃO]]="HB",TB_Radiologia1[[#This Row],[TIPIFICAÇÃO]]="PR"),SUM(TB_Radiologia1[[#This Row],[CH TEÓRICA]:[CH PRÁTICA]])/66,IF(TB_Radiologia1[[#This Row],[TIPIFICAÇÃO]]="EXT",0.5,0)))))} -> 1 | R48: PRESENCIAL | S48: {=ROUNDUP(IFERROR(_xlfn.IFS(TB_Radiologia1[[#This Row],[TIPIFICAÇÃO]]="ON.A",0,AND(TB_Radiologia1[[#This Row],[TIPIFICAÇÃO]]="EST",TB_Radiologia1[[#This Row],[TIPO DE OFERTA]]="PRESENCIAL"),0,AND(TB_Radiologia1[[#This Row],[TIPIFICAÇÃO]]="PR",OR(TB_Radiologia1[[#This Row],[TIPO DE OFERTA]]="PRESENCIAL",TB_Radiologia1[[#This Row],[TIPO DE OFERTA]]="SEMI-PRESENCIAL")),TB_Radiologia1[[#This Row],[CH TEÓRICA]]+TB_Radiologia1[[#This Row],[CH PRÁTICA]],AND(TB_Radiologia1[[#This Row],[TIPIFICAÇÃO]]="HB",TB_Radiologia1[[#This Row],[TIPO DE OFERTA]]="PRESENCIAL"),TB_Radiologia1[[#This Row],[CH TEÓRICA]]+TB_Radiologia1[[#This Row],[CH PRÁTICA]],AND(TB_Radiologia1[[#This Row],[TIPIFICAÇÃO]]="EXT",OR(TB_Radiologia1[[#This Row],[TIPO DE OFERTA]]="PRESENCIAL",TB_Radiologia1[[#This Row],[TIPO DE OFERTA]]="SEMI-PRESENCIAL")),33,AND(TB_Radiologia1[[#This Row],[TIPIFICAÇÃO]]="TCC",TB_Radiologia1[[#This Row],[TIPO DE OFERTA]]="PRESENCIAL"),SUM(TB_Radiologia1[[#This Row],[CH TEÓRICA]],TB_Radiologia1[[#This Row],[CH PRÁTICA]]))/Cursos!$E$3,0),0)} -> 3 | T48: =IF(TB_Radiologia1[[#This Row],[TIPIFICAÇÃO]]="ON.S",ROUNDUP(TB_Radiologia1[[#This Row],[CH TEÓRICA]]/Cursos!$E$3,0),0) -> 0 | U48: {=IFERROR(_xlfn.IFS(TB_Radiologia1[[#This Row],[TIPIFICAÇÃO]]="ON.A",1,TB_Radiologia1[[#This Row],[TIPIFICAÇÃO]]="PR",0,TB_Radiologia1[[#This Row],[TIPIFICAÇÃO]]="HB",0,AND(TB_Radiologia1[[#This Row],[TIPIFICAÇÃO]]="EXT",OR(TB_Radiologia1[[#This Row],[TIPO DE OFERTA]]="SEMI-PRESENCIAL",TB_Radiologia1[[#This Row],[TIPO DE OFERTA]]="EAD 100%")),1),0)} -> 0 | V48: {=ROUNDUP(IFERROR(_xlfn.IFS(TB_Radiologia1[[#This Row],[TIPIFICAÇÃO]]="ON.A",0,TB_Radiologia1[[#This Row],[TIPIFICAÇÃO]]="PR",0,TB_Radiologia1[[#This Row],[TIPIFICAÇÃO]]="HB",TB_Radiologia1[[#This Row],[CH ONLINE]],TB_Radiologia1[[#This Row],[TIPIFICAÇÃO]]="ON.S",0,AND(TB_Radiologia1[[#This Row],[TIPIFICAÇÃO]]="EXT",TB_Radiologia1[[#This Row],[TIPO DE OFERTA]]="PRESENCIAL"),TB_Radiologia1[[#This Row],[CRÉDITOS]]-TB_Radiologia1[[#This Row],[CRÉDITOS PAGO PROFESSOR]])/Cursos!$E$3,0),0)} -> 0 | W48: BACHARELADO
B49: =$J$2 -> RADIOLOGIA | C49: 6º | D49: 3 | E49: Radiologia Intervencionista | F49: RI | G49: =SUM(TB_Radiologia1[[#This Row],[CH TEÓRICA]:[CH ONLINE]]) -> 33 | H49: Específica | I49: 33 | J49: 0 | K49: 0 | L49: 0 | M49: 0 | N49: PR | O49: =ROUNDUP(TB_Radiologia1[[#This Row],[CH TOTAL]]/Cursos!$E$3,0) -> 2 | P49: {=IF(AND(TB_Radiologia1[[#This Row],[TIPIFICAÇÃO]]="TCC",TB_Radiologia1[[#This Row],[TIPO DE OFERTA]]="PRESENCIAL"),SUM(TB_Radiologia1[[#This Row],[CH TEÓRICA]:[CH PRÁTICA]]/66),IF(TB_Radiologia1[[#This Row],[TIPIFICAÇÃO]]="EST",1,IF(AND(IF(OR(TB_Radiologia1[[#This Row],[TIPIFICAÇÃO]]="HB",TB_Radiologia1[[#This Row],[TIPIFICAÇÃO]]="PR"),SUM(TB_Radiologia1[[#This Row],[CH TEÓRICA]:[CH PRÁTICA]])/66,IF(TB_Radiologia1[[#This Row],[TIPIFICAÇÃO]]="EXT",0.5,0))>0.6,IF(OR(TB_Radiologia1[[#This Row],[TIPIFICAÇÃO]]="HB",TB_Radiologia1[[#This Row],[TIPIFICAÇÃO]]="PR"),SUM(TB_Radiologia1[[#This Row],[CH TEÓRICA]:[CH PRÁTICA]])/66,IF(TB_Radiologia1[[#This Row],[TIPIFICAÇÃO]]="EXT",0.5,0))<0.8),1,IF(OR(TB_Radiologia1[[#This Row],[TIPIFICAÇÃO]]="HB",TB_Radiologia1[[#This Row],[TIPIFICAÇÃO]]="PR"),SUM(TB_Radiologia1[[#This Row],[CH TEÓRICA]:[CH PRÁTICA]])/66,IF(TB_Radiologia1[[#This Row],[TIPIFICAÇÃO]]="EXT",0.5,0)))))} -> 0.5 | R49: PRESENCIAL | S49: {=ROUNDUP(IFERROR(_xlfn.IFS(TB_Radiologia1[[#This Row],[TIPIFICAÇÃO]]="ON.A",0,AND(TB_Radiologia1[[#This Row],[TIPIFICAÇÃO]]="EST",TB_Radiologia1[[#This Row],[TIPO DE OFERTA]]="PRESENCIAL"),0,AND(TB_Radiologia1[[#This Row],[TIPIFICAÇÃO]]="PR",OR(TB_Radiologia1[[#This Row],[TIPO DE OFERTA]]="PRESENCIAL",TB_Radiologia1[[#This Row],[TIPO DE OFERTA]]="SEMI-PRESENCIAL")),TB_Radiologia1[[#This Row],[CH TEÓRICA]]+TB_Radiologia1[[#This Row],[CH PRÁTICA]],AND(TB_Radiologia1[[#This Row],[TIPIFICAÇÃO]]="HB",TB_Radiologia1[[#This Row],[TIPO DE OFERTA]]="PRESENCIAL"),TB_Radiologia1[[#This Row],[CH TEÓRICA]]+TB_Radiologia1[[#This Row],[CH PRÁTICA]],AND(TB_Radiologia1[[#This Row],[TIPIFICAÇÃO]]="EXT",OR(TB_Radiologia1[[#This Row],[TIPO DE OFERTA]]="PRESENCIAL",TB_Radiologia1[[#This Row],[TIPO DE OFERTA]]="SEMI-PRESENCIAL")),33,AND(TB_Radiologia1[[#This Row],[TIPIFICAÇÃO]]="TCC",TB_Radiologia1[[#This Row],[TIPO DE OFERTA]]="PRESENCIAL"),SUM(TB_Radiologia1[[#This Row],[CH TEÓRICA]],TB_Radiologia1[[#This Row],[CH PRÁTICA]]))/Cursos!$E$3,0),0)} -> 2 | T49: =IF(TB_Radiologia1[[#This Row],[TIPIFICAÇÃO]]="ON.S",ROUNDUP(TB_Radiologia1[[#This Row],[CH TEÓRICA]]/Cursos!$E$3,0),0) -> 0 | U49: {=IFERROR(_xlfn.IFS(TB_Radiologia1[[#This Row],[TIPIFICAÇÃO]]="ON.A",1,TB_Radiologia1[[#This Row],[TIPIFICAÇÃO]]="PR",0,TB_Radiologia1[[#This Row],[TIPIFICAÇÃO]]="HB",0,AND(TB_Radiologia1[[#This Row],[TIPIFICAÇÃO]]="EXT",OR(TB_Radiologia1[[#This Row],[TIPO DE OFERTA]]="SEMI-PRESENCIAL",TB_Radiologia1[[#This Row],[TIPO DE OFERTA]]="EAD 100%")),1),0)} -> 0 | V49: {=ROUNDUP(IFERROR(_xlfn.IFS(TB_Radiologia1[[#This Row],[TIPIFICAÇÃO]]="ON.A",0,TB_Radiologia1[[#This Row],[TIPIFICAÇÃO]]="PR",0,TB_Radiologia1[[#This Row],[TIPIFICAÇÃO]]="HB",TB_Radiologia1[[#This Row],[CH ONLINE]],TB_Radiologia1[[#This Row],[TIPIFICAÇÃO]]="ON.S",0,AND(TB_Radiologia1[[#This Row],[TIPIFICAÇÃO]]="EXT",TB_Radiologia1[[#This Row],[TIPO DE OFERTA]]="PRESENCIAL"),TB_Radiologia1[[#This Row],[CRÉDITOS]]-TB_Radiologia1[[#This Row],[CRÉDITOS PAGO PROFESSOR]])/Cursos!$E$3,0),0)} -> 0 | W49: BACHARELADO
B50: =$J$2 -> RADIOLOGIA | C50: 6º | D50: 4 | E50: Tecnologia em Medicina Nuclear | F50: TMN | G50: =SUM(TB_Radiologia1[[#This Row],[CH TEÓRICA]:[CH ONLINE]]) -> 66 | H50: Específica | I50: 33 | J50: 33 | K50: 0 | L50: 0 | M50: 0 | N50: PR | O50: =ROUNDUP(TB_Radiologia1[[#This Row],[CH TOTAL]]/Cursos!$E$3,0) -> 4 | P50: {=IF(AND(TB_Radiologia1[[#This Row],[TIPIFICAÇÃO]]="TCC",TB_Radiologia1[[#This Row],[TIPO DE OFERTA]]="PRESENCIAL"),SUM(TB_Radiologia1[[#This Row],[CH TEÓRICA]:[CH PRÁTICA]]/66),IF(TB_Radiologia1[[#This Row],[TIPIFICAÇÃO]]="EST",1,IF(AND(IF(OR(TB_Radiologia1[[#This Row],[TIPIFICAÇÃO]]="HB",TB_Radiologia1[[#This Row],[TIPIFICAÇÃO]]="PR"),SUM(TB_Radiologia1[[#This Row],[CH TEÓRICA]:[CH PRÁTICA]])/66,IF(TB_Radiologia1[[#This Row],[TIPIFICAÇÃO]]="EXT",0.5,0))>0.6,IF(OR(TB_Radiologia1[[#This Row],[TIPIFICAÇÃO]]="HB",TB_Radiologia1[[#This Row],[TIPIFICAÇÃO]]="PR"),SUM(TB_Radiologia1[[#This Row],[CH TEÓRICA]:[CH PRÁTICA]])/66,IF(TB_Radiologia1[[#This Row],[TIPIFICAÇÃO]]="EXT",0.5,0))<0.8),1,IF(OR(TB_Radiologia1[[#This Row],[TIPIFICAÇÃO]]="HB",TB_Radiologia1[[#This Row],[TIPIFICAÇÃO]]="PR"),SUM(TB_Radiologia1[[#This Row],[CH TEÓRICA]:[CH PRÁTICA]])/66,IF(TB_Radiologia1[[#This Row],[TIPIFICAÇÃO]]="EXT",0.5,0)))))} -> 1 | R50: PRESENCIAL | S50: {=ROUNDUP(IFERROR(_xlfn.IFS(TB_Radiologia1[[#This Row],[TIPIFICAÇÃO]]="ON.A",0,AND(TB_Radiologia1[[#This Row],[TIPIFICAÇÃO]]="EST",TB_Radiologia1[[#This Row],[TIPO DE OFERTA]]="PRESENCIAL"),0,AND(TB_Radiologia1[[#This Row],[TIPIFICAÇÃO]]="PR",OR(TB_Radiologia1[[#This Row],[TIPO DE OFERTA]]="PRESENCIAL",TB_Radiologia1[[#This Row],[TIPO DE OFERTA]]="SEMI-PRESENCIAL")),TB_Radiologia1[[#This Row],[CH TEÓRICA]]+TB_Radiologia1[[#This Row],[CH PRÁTICA]],AND(TB_Radiologia1[[#This Row],[TIPIFICAÇÃO]]="HB",TB_Radiologia1[[#This Row],[TIPO DE OFERTA]]="PRESENCIAL"),TB_Radiologia1[[#This Row],[CH TEÓRICA]]+TB_Radiologia1[[#This Row],[CH PRÁTICA]],AND(TB_Radiologia1[[#This Row],[TIPIFICAÇÃO]]="EXT",OR(TB_Radiologia1[[#This Row],[TIPO DE OFERTA]]="PRESENCIAL",TB_Radiologia1[[#This Row],[TIPO DE OFERTA]]="SEMI-PRESENCIAL")),33,AND(TB_Radiologia1[[#This Row],[TIPIFICAÇÃO]]="TCC",TB_Radiologia1[[#This Row],[TIPO DE OFERTA]]="PRESENCIAL"),SUM(TB_Radiologia1[[#This Row],[CH TEÓRICA]],TB_Radiologia1[[#This Row],[CH PRÁTICA]]))/Cursos!$E$3,0),0)} -> 4 | T50: =IF(TB_Radiologia1[[#This Row],[TIPIFICAÇÃO]]="ON.S",ROUNDUP(TB_Radiologia1[[#This Row],[CH TEÓRICA]]/Cursos!$E$3,0),0) -> 0 | U50: {=IFERROR(_xlfn.IFS(TB_Radiologia1[[#This Row],[TIPIFICAÇÃO]]="ON.A",1,TB_Radiologia1[[#This Row],[TIPIFICAÇÃO]]="PR",0,TB_Radiologia1[[#This Row],[TIPIFICAÇÃO]]="HB",0,AND(TB_Radiologia1[[#This Row],[TIPIFICAÇÃO]]="EXT",OR(TB_Radiologia1[[#This Row],[TIPO DE OFERTA]]="SEMI-PRESENCIAL",TB_Radiologia1[[#This Row],[TIPO DE OFERTA]]="EAD 100%")),1),0)} -> 0 | V50: {=ROUNDUP(IFERROR(_xlfn.IFS(TB_Radiologia1[[#This Row],[TIPIFICAÇÃO]]="ON.A",0,TB_Radiologia1[[#This Row],[TIPIFICAÇÃO]]="PR",0,TB_Radiologia1[[#This Row],[TIPIFICAÇÃO]]="HB",TB_Radiologia1[[#This Row],[CH ONLINE]],TB_Radiologia1[[#This Row],[TIPIFICAÇÃO]]="ON.S",0,AND(TB_Radiologia1[[#This Row],[TIPIFICAÇÃO]]="EXT",TB_Radiologia1[[#This Row],[TIPO DE OFERTA]]="PRESENCIAL"),TB_Radiologia1[[#This Row],[CRÉDITOS]]-TB_Radiologia1[[#This Row],[CRÉDITOS PAGO PROFESSOR]])/Cursos!$E$3,0),0)} -> 0 | W50: BACHARELADO
B51: =$J$2 -> RADIOLOGIA | C51: 6º | D51: 5 | E51: Estágio Supervisionado II | F51: EST II | G51: =SUM(TB_Radiologia1[[#This Row],[CH TEÓRICA]:[CH ONLINE]]) -> 244 | H51: Estágio | I51: 0 | J51: 0 | K51: 244 | L51: 0 | M51: 0 | N51: EST | O51: =ROUNDUP(TB_Radiologia1[[#This Row],[CH TOTAL]]/Cursos!$E$3,0) -> 15 | P51: {=IF(AND(TB_Radiologia1[[#This Row],[TIPIFICAÇÃO]]="TCC",TB_Radiologia1[[#This Row],[TIPO DE OFERTA]]="PRESENCIAL"),SUM(TB_Radiologia1[[#This Row],[CH TEÓRICA]:[CH PRÁTICA]]/66),IF(TB_Radiologia1[[#This Row],[TIPIFICAÇÃO]]="EST",1,IF(AND(IF(OR(TB_Radiologia1[[#This Row],[TIPIFICAÇÃO]]="HB",TB_Radiologia1[[#This Row],[TIPIFICAÇÃO]]="PR"),SUM(TB_Radiologia1[[#This Row],[CH TEÓRICA]:[CH PRÁTICA]])/66,IF(TB_Radiologia1[[#This Row],[TIPIFICAÇÃO]]="EXT",0.5,0))>0.6,IF(OR(TB_Radiologia1[[#This Row],[TIPIFICAÇÃO]]="HB",TB_Radiologia1[[#This Row],[TIPIFICAÇÃO]]="PR"),SUM(TB_Radiologia1[[#This Row],[CH TEÓRICA]:[CH PRÁTICA]])/66,IF(TB_Radiologia1[[#This Row],[TIPIFICAÇÃO]]="EXT",0.5,0))<0.8),1,IF(OR(TB_Radiologia1[[#This Row],[TIPIFICAÇÃO]]="HB",TB_Radiologia1[[#This Row],[TIPIFICAÇÃO]]="PR"),SUM(TB_Radiologia1[[#This Row],[CH TEÓRICA]:[CH PRÁTICA]])/66,IF(TB_Radiologia1[[#This Row],[TIPIFICAÇÃO]]="EXT",0.5,0)))))} -> 1 | R51: PRESENCIAL | S51: {=ROUNDUP(IFERROR(_xlfn.IFS(TB_Radiologia1[[#This Row],[TIPIFICAÇÃO]]="ON.A",0,AND(TB_Radiologia1[[#This Row],[TIPIFICAÇÃO]]="EST",TB_Radiologia1[[#This Row],[TIPO DE OFERTA]]="PRESENCIAL"),0,AND(TB_Radiologia1[[#This Row],[TIPIFICAÇÃO]]="PR",OR(TB_Radiologia1[[#This Row],[TIPO DE OFERTA]]="PRESENCIAL",TB_Radiologia1[[#This Row],[TIPO DE OFERTA]]="SEMI-PRESENCIAL")),TB_Radiologia1[[#This Row],[CH TEÓRICA]]+TB_Radiologia1[[#This Row],[CH PRÁTICA]],AND(TB_Radiologia1[[#This Row],[TIPIFICAÇÃO]]="HB",TB_Radiologia1[[#This Row],[TIPO DE OFERTA]]="PRESENCIAL"),TB_Radiologia1[[#This Row],[CH TEÓRICA]]+TB_Radiologia1[[#This Row],[CH PRÁTICA]],AND(TB_Radiologia1[[#This Row],[TIPIFICAÇÃO]]="EXT",OR(TB_Radiologia1[[#This Row],[TIPO DE OFERTA]]="PRESENCIAL",TB_Radiologia1[[#This Row],[TIPO DE OFERTA]]="SEMI-PRESENCIAL")),33,AND(TB_Radiologia1[[#This Row],[TIPIFICAÇÃO]]="TCC",TB_Radiologia1[[#This Row],[TIPO DE OFERTA]]="PRESENCIAL"),SUM(TB_Radiologia1[[#This Row],[CH TEÓRICA]],TB_Radiologia1[[#This Row],[CH PRÁTICA]]))/Cursos!$E$3,0),0)} -> 0 | T51: =IF(TB_Radiologia1[[#This Row],[TIPIFICAÇÃO]]="ON.S",ROUNDUP(TB_Radiologia1[[#This Row],[CH TEÓRICA]]/Cursos!$E$3,0),0) -> 0 | U51: {=IFERROR(_xlfn.IFS(TB_Radiologia1[[#This Row],[TIPIFICAÇÃO]]="ON.A",1,TB_Radiologia1[[#This Row],[TIPIFICAÇÃO]]="PR",0,TB_Radiologia1[[#This Row],[TIPIFICAÇÃO]]="HB",0,AND(TB_Radiologia1[[#This Row],[TIPIFICAÇÃO]]="EXT",OR(TB_Radiologia1[[#This Row],[TIPO DE OFERTA]]="SEMI-PRESENCIAL",TB_Radiologia1[[#This Row],[TIPO DE OFERTA]]="EAD 100%")),1),0)} -> 0 | V51: {=ROUNDUP(IFERROR(_xlfn.IFS(TB_Radiologia1[[#This Row],[TIPIFICAÇÃO]]="ON.A",0,TB_Radiologia1[[#This Row],[TIPIFICAÇÃO]]="PR",0,TB_Radiologia1[[#This Row],[TIPIFICAÇÃO]]="HB",TB_Radiologia1[[#This Row],[CH ONLINE]],TB_Radiologia1[[#This Row],[TIPIFICAÇÃO]]="ON.S",0,AND(TB_Radiologia1[[#This Row],[TIPIFICAÇÃO]]="EXT",TB_Radiologia1[[#This Row],[TIPO DE OFERTA]]="PRESENCIAL"),TB_Radiologia1[[#This Row],[CRÉDITOS]]-TB_Radiologia1[[#This Row],[CRÉDITOS PAGO PROFESSOR]])/Cursos!$E$3,0),0)} -> 0 | W51: BACHARELADO
B52: =$J$2 -> RADIOLOGIA | C52: Subtotal | G52: =SUBTOTAL(9,G47:G51) -> 458 | I52: =SUBTOTAL(9,I47:I51) -> 165 | J52: =SUBTOTAL(9,J47:J51) -> 49 | K52: =SUBTOTAL(9,K47:K51) -> 244 | L52: =SUBTOTAL(9,L47:L51) -> 0 | M52: =SUBTOTAL(9,M47:M51) -> 0 | O52: =SUBTOTAL(9,O47:O51) -> 28 | P52: =SUBTOTAL(9,P47:P51) -> 4.5 | R52: PRESENCIAL | S52: {=ROUNDUP(IFERROR(_xlfn.IFS(TB_Radiologia1[[#This Row],[TIPIFICAÇÃO]]="ON.A",0,AND(TB_Radiologia1[[#This Row],[TIPIFICAÇÃO]]="EST",TB_Radiologia1[[#This Row],[TIPO DE OFERTA]]="PRESENCIAL"),0,AND(TB_Radiologia1[[#This Row],[TIPIFICAÇÃO]]="PR",OR(TB_Radiologia1[[#This Row],[TIPO DE OFERTA]]="PRESENCIAL",TB_Radiologia1[[#This Row],[TIPO DE OFERTA]]="SEMI-PRESENCIAL")),TB_Radiologia1[[#This Row],[CH TEÓRICA]]+TB_Radiologia1[[#This Row],[CH PRÁTICA]],AND(TB_Radiologia1[[#This Row],[TIPIFICAÇÃO]]="HB",TB_Radiologia1[[#This Row],[TIPO DE OFERTA]]="PRESENCIAL"),TB_Radiologia1[[#This Row],[CH TEÓRICA]]+TB_Radiologia1[[#This Row],[CH PRÁTICA]],AND(TB_Radiologia1[[#This Row],[TIPIFICAÇÃO]]="EXT",OR(TB_Radiologia1[[#This Row],[TIPO DE OFERTA]]="PRESENCIAL",TB_Radiologia1[[#This Row],[TIPO DE OFERTA]]="SEMI-PRESENCIAL")),33,AND(TB_Radiologia1[[#This Row],[TIPIFICAÇÃO]]="TCC",TB_Radiologia1[[#This Row],[TIPO DE OFERTA]]="PRESENCIAL"),SUM(TB_Radiologia1[[#This Row],[CH TEÓRICA]],TB_Radiologia1[[#This Row],[CH PRÁTICA]]))/Cursos!$E$3,0),0)} -> 0 | T52: =IF(TB_Radiologia1[[#This Row],[TIPIFICAÇÃO]]="ON.S",ROUNDUP(TB_Radiologia1[[#This Row],[CH TEÓRICA]]/Cursos!$E$3,0),0) -> 0 | U52: {=IFERROR(_xlfn.IFS(TB_Radiologia1[[#This Row],[TIPIFICAÇÃO]]="ON.A",1,TB_Radiologia1[[#This Row],[TIPIFICAÇÃO]]="PR",0,TB_Radiologia1[[#This Row],[TIPIFICAÇÃO]]="HB",0,AND(TB_Radiologia1[[#This Row],[TIPIFICAÇÃO]]="EXT",OR(TB_Radiologia1[[#This Row],[TIPO DE OFERTA]]="SEMI-PRESENCIAL",TB_Radiologia1[[#This Row],[TIPO DE OFERTA]]="EAD 100%")),1),0)} -> 0 | V52: {=ROUNDUP(IFERROR(_xlfn.IFS(TB_Radiologia1[[#This Row],[TIPIFICAÇÃO]]="ON.A",0,TB_Radiologia1[[#This Row],[TIPIFICAÇÃO]]="PR",0,TB_Radiologia1[[#This Row],[TIPIFICAÇÃO]]="HB",TB_Radiologia1[[#This Row],[CH ONLINE]],TB_Radiologia1[[#This Row],[TIPIFICAÇÃO]]="ON.S",0,AND(TB_Radiologia1[[#This Row],[TIPIFICAÇÃO]]="EXT",TB_Radiologia1[[#This Row],[TIPO DE OFERTA]]="PRESENCIAL"),TB_Radiologia1[[#This Row],[CRÉDITOS]]-TB_Radiologia1[[#This Row],[CRÉDITOS PAGO PROFESSOR]])/Cursos!$E$3,0),0)} -> 0 | W52: BACHARELADO
B53: =$J$2 -> RADIOLOGIA | C53: ACC | E53: Atividades Complementares | F53: ACC | G53: 74 | H53: ACC | M53: 74 | N53: ACC | O53: =ROUNDUP(TB_Radiologia1[[#This Row],[CH TOTAL]]/Cursos!$E$3,0) -> 5 | R53: PRESENCIAL | S53: {=ROUNDUP(IFERROR(_xlfn.IFS(TB_Radiologia1[[#This Row],[TIPIFICAÇÃO]]="ON.A",0,AND(TB_Radiologia1[[#This Row],[TIPIFICAÇÃO]]="EST",TB_Radiologia1[[#This Row],[TIPO DE OFERTA]]="PRESENCIAL"),0,AND(TB_Radiologia1[[#This Row],[TIPIFICAÇÃO]]="PR",OR(TB_Radiologia1[[#This Row],[TIPO DE OFERTA]]="PRESENCIAL",TB_Radiologia1[[#This Row],[TIPO DE OFERTA]]="SEMI-PRESENCIAL")),TB_Radiologia1[[#This Row],[CH TEÓRICA]]+TB_Radiologia1[[#This Row],[CH PRÁTICA]],AND(TB_Radiologia1[[#This Row],[TIPIFICAÇÃO]]="HB",TB_Radiologia1[[#This Row],[TIPO DE OFERTA]]="PRESENCIAL"),TB_Radiologia1[[#This Row],[CH TEÓRICA]]+TB_Radiologia1[[#This Row],[CH PRÁTICA]],AND(TB_Radiologia1[[#This Row],[TIPIFICAÇÃO]]="EXT",OR(TB_Radiologia1[[#This Row],[TIPO DE OFERTA]]="PRESENCIAL",TB_Radiologia1[[#This Row],[TIPO DE OFERTA]]="SEMI-PRESENCIAL")),33,AND(TB_Radiologia1[[#This Row],[TIPIFICAÇÃO]]="TCC",TB_Radiologia1[[#This Row],[TIPO DE OFERTA]]="PRESENCIAL"),SUM(TB_Radiologia1[[#This Row],[CH TEÓRICA]],TB_Radiologia1[[#This Row],[CH PRÁTICA]]))/Cursos!$E$3,0),0)} -> 0 | T53: =IF(TB_Radiologia1[[#This Row],[TIPIFICAÇÃO]]="ON.S",ROUNDUP(TB_Radiologia1[[#This Row],[CH TEÓRICA]]/Cursos!$E$3,0),0) -> 0 | U53: {=IFERROR(_xlfn.IFS(TB_Radiologia1[[#This Row],[TIPIFICAÇÃO]]="ON.A",1,TB_Radiologia1[[#This Row],[TIPIFICAÇÃO]]="PR",0,TB_Radiologia1[[#This Row],[TIPIFICAÇÃO]]="HB",0,AND(TB_Radiologia1[[#This Row],[TIPIFICAÇÃO]]="EXT",OR(TB_Radiologia1[[#This Row],[TIPO DE OFERTA]]="SEMI-PRESENCIAL",TB_Radiologia1[[#This Row],[TIPO DE OFERTA]]="EAD 100%")),1),0)} -> 0 | V53: {=ROUNDUP(IFERROR(_xlfn.IFS(TB_Radiologia1[[#This Row],[TIPIFICAÇÃO]]="ON.A",0,TB_Radiologia1[[#This Row],[TIPIFICAÇÃO]]="PR",0,TB_Radiologia1[[#This Row],[TIPIFICAÇÃO]]="HB",TB_Radiologia1[[#This Row],[CH ONLINE]],TB_Radiologia1[[#This Row],[TIPIFICAÇÃO]]="ON.S",0,AND(TB_Radiologia1[[#This Row],[TIPIFICAÇÃO]]="EXT",TB_Radiologia1[[#This Row],[TIPO DE OFERTA]]="PRESENCIAL"),TB_Radiologia1[[#This Row],[CRÉDITOS]]-TB_Radiologia1[[#This Row],[CRÉDITOS PAGO PROFESSOR]])/Cursos!$E$3,0),0)} -> 0 | W53: BACHARELADO
E55: SUBTOTAIS | G55: =SUBTOTAL(9,TB_Radiologia1[CH TOTAL]) -> 2600 | I55: =SUBTOTAL(9,TB_Radiologia1[CH TEÓRICA]) -> 955 | J55: =SUBTOTAL(9,TB_Radiologia1[CH PRÁTICA]) -> 312 | K55: =SUBTOTAL(9,TB_Radiologia1[CH ESTÁGIO]) -> 488 | L55: =SUBTOTAL(9,TB_Radiologia1[CH EXTENSÃO]) -> 260 | M55: =SUBTOTAL(9,TB_Radiologia1[CH ONLINE]) -> 585 | O55: =SUBTOTAL(9,TB_Radiologia1[CRÉDITOS]) -> 160 | P55: =SUBTOTAL(9,TB_Radiologia1[DIAS PRESENCIAL]) -> 24.5 | S55: =SUBTOTAL(9,S9:S16,S18:S23,S24:S30,S31:S37,S41:S45,S47:S52,#REF!,#REF!,S53) -> #REF! | T55: =SUBTOTAL(9,T9:T16,T18:T23,T24:T30,T31:T37,T41:T45,T47:T52,#REF!,#REF!,T53) -> #REF! | U55: =SUBTOTAL(9,U9:U16,U18:U23,U24:U30,U31:U37,U41:U45,U47:U52,#REF!,#REF!,U53) -> #REF! | V55: =SUBTOTAL(9,V9:V16,V18:V23,V24:V30,V31:V37,V41:V45,V47:V52,#REF!,#REF!,V53) -> #REF!
E56: TOTAL | G56: =SUM(TB_Radiologia1[CH TOTAL])-SUM(G17,G25,G32,G40,G46,G52) -> 2600 | I56: =SUM(TB_Radiologia1[CH TEÓRICA])-SUM(I17,I25,I32,I40,I46,I52) -> 955 | J56: =SUM(TB_Radiologia1[CH PRÁTICA])-SUM(J17,J25,J32,J40,J46,J52) -> 312 | K56: =SUM(TB_Radiologia1[CH ESTÁGIO])-SUM(K17,K25,K32,K40,K46,K52) -> 488 | L56: =SUM(TB_Radiologia1[CH EXTENSÃO])-SUM(L17,L25,L32,L40,L46,L52) -> 260 | M56: =SUM(TB_Radiologia1[CH ONLINE])-SUM(M17,M25,M32,M40,M46,M52) -> 585 | O56: =SUM(TB_Radiologia1[CRÉDITOS])-SUM(O17,O25,O32,O40,O46,O52) -> 160 | P56: =SUM(TB_Radiologia1[DIAS PRESENCIAL])-SUM(P17,P25,P32,P40,P46,P52) -> 24.5
E57: HORA RELÓGIO | G57: =ROUND(G56*45/60,0) -> 1950 | I57: =ROUND(I56*45/60,0) -> 716 | J57: =ROUND(J56*45/60,0) -> 234 | K57: =ROUND(K56*45/60,0) -> 366 | L57: =ROUND(L56*45/60,0) -> 195 | M57: =ROUND(M56*45/60,0) -> 439 | O57: =ROUND(O56*45/60,0) -> 120 | S57: =ROUND(#REF!*50/60,0) -> #REF! | T57: =ROUND(#REF!*50/60,0) -> #REF! | U57: =ROUND(#REF!*50/60,0) -> #REF! | V57: =ROUND(#REF!*50/60,0) -> #REF!
H58: PERCENTUAIS | I58: =IFERROR(I56/$G$56,0) -> 0.36730769 | J58: =IFERROR(J56/$G$56,0) -> 0.12 | K58: =IFERROR(K56/$G$56,0) -> 0.18769231 | L58: =IFERROR(L56/$G$56,0) -> 0.1 | M58: =IFERROR(M56/$G$56,0) -> 0.225
E62: CH PRESENCIAL | G62: =SUM(I56:L56) -> 2015 | H62: =IFERROR(G62/G56,0) -> 0.775
E63: CH ONLINE | G63: =G56-G62 -> 585 | H63: =IFERROR(G63/G56,0) -> 0.225

Sheet Frame 2
I2: CURSO: | J2: RADIOLOGIA
E4: Gabarito | G4: =G50 -> 2600
E5: Estágio | G5: =K50 -> 488 | Q5: Se for todos os alunos do periodo, preencher como "GERAL"
E6: ACC | G6: =G47 -> 74
B8: CURSO | C8: PERÍODOS | D8: ORDEM | E8: NOME DISCIPLINA | F8: REDUZIDO | G8: CH TOTAL | H8: TIPO COMPONENTE | I8: CH TEÓRICA | J8: CH PRÁTICA | K8: CH ESTÁGIO | L8: CH EXTENSÃO | M8: CH ONLINE | N8: TIPIFICAÇÃO | O8: CRÉDITOS | P8: DIAS PRESENCIAL | Q8: ALUNOS POR TURMA OU GRUPOS | R8: TIPO DE OFERTA | S8: PRESENCIAL | T8: SÍNCRONO | U8: ASSÍNCRONO | V8: CRÉDITOS PAGO PROFESSOR | W8: CRÉDITOS PAGOS ON.S | X8: CRÉDITOS PAGO TUTOR | Y8: CRÉDITOS OFF | Z8: HABILITAÇÃO | AA8: PRESENCIAL2 | AB8: DIAS DE PRESENCIAL MOD.: PRESENCIAL | AC8: SEMI | AD8: DIAS DE PRESENCIAL MOD.: SEMI | AE8: 100%
B9: =$J$2 -> RADIOLOGIA | C9: 1º | D9: 1 | E9: Marketing Pessoal e Profissional | F9: MPP | G9: =SUM(TB_Radiologia2[[#This Row],[CH TEÓRICA]:[CH ONLINE]]) -> 66 | H9: institucional | I9: 0 | J9: 0 | K9: 0 | L9: 0 | M9: 66 | N9: ON.A | O9: =ROUNDUP(TB_Radiologia2[[#This Row],[CH TOTAL]]/Cursos!$E$3,0) -> 4 | P9: {=IF(AND(TB_Radiologia2[[#This Row],[TIPIFICAÇÃO]]="TCC",TB_Radiologia2[[#This Row],[TIPO DE OFERTA]]="PRESENCIAL"),SUM(TB_Radiologia2[[#This Row],[CH TEÓRICA]:[CH PRÁTICA]]/66),IF(TB_Radiologia2[[#This Row],[TIPIFICAÇÃO]]="EST",1,IF(AND(IF(OR(TB_Radiologia2[[#This Row],[TIPIFICAÇÃO]]="HB",TB_Radiologia2[[#This Row],[TIPIFICAÇÃO]]="PR"),SUM(TB_Radiologia2[[#This Row],[CH TEÓRICA]:[CH PRÁTICA]])/66,IF(TB_Radiologia2[[#This Row],[TIPIFICAÇÃO]]="EXT",0.5,0))>0.6,IF(OR(TB_Radiologia2[[#This Row],[TIPIFICAÇÃO]]="HB",TB_Radiologia2[[#This Row],[TIPIFICAÇÃO]]="PR"),SUM(TB_Radiologia2[[#This Row],[CH TEÓRICA]:[CH PRÁTICA]])/66,IF(TB_Radiologia2[[#This Row],[TIPIFICAÇÃO]]="EXT",0.5,0))<0.8),1,IF(OR(TB_Radiologia2[[#This Row],[TIPIFICAÇÃO]]="HB",TB_Radiologia2[[#This Row],[TIPIFICAÇÃO]]="PR"),SUM(TB_Radiologia2[[#This Row],[CH TEÓRICA]:[CH PRÁTICA]])/66,IF(TB_Radiologia2[[#This Row],[TIPIFICAÇÃO]]="EXT",0.5,0)))))} -> 0 | R9: PRESENCIAL | V9: {=ROUNDUP(IFERROR(_xlfn.IFS(TB_Radiologia2[[#This Row],[TIPIFICAÇÃO]]="ON.A",0,AND(TB_Radiologia2[[#This Row],[TIPIFICAÇÃO]]="EST",TB_Radiologia2[[#This Row],[TIPO DE OFERTA]]="PRESENCIAL"),0,AND(TB_Radiologia2[[#This Row],[TIPIFICAÇÃO]]="PR",OR(TB_Radiologia2[[#This Row],[TIPO DE OFERTA]]="PRESENCIAL",TB_Radiologia2[[#This Row],[TIPO DE OFERTA]]="SEMI-PRESENCIAL")),TB_Radiologia2[[#This Row],[CH TEÓRICA]]+TB_Radiologia2[[#This Row],[CH PRÁTICA]],AND(TB_Radiologia2[[#This Row],[TIPIFICAÇÃO]]="HB",TB_Radiologia2[[#This Row],[TIPO DE OFERTA]]="PRESENCIAL"),TB_Radiologia2[[#This Row],[CH TEÓRICA]]+TB_Radiologia2[[#This Row],[CH PRÁTICA]],AND(TB_Radiologia2[[#This Row],[TIPIFICAÇÃO]]="EXT",OR(TB_Radiologia2[[#This Row],[TIPO DE OFERTA]]="PRESENCIAL",TB_Radiologia2[[#This Row],[TIPO DE OFERTA]]="SEMI-PRESENCIAL")),33,AND(TB_Radiologia2[[#This Row],[TIPIFICAÇÃO]]="TCC",TB_Radiologia2[[#This Row],[TIPO DE OFERTA]]="PRESENCIAL"),SUM(TB_Radiologia2[[#This Row],[CH TEÓRICA]],TB_Radiologia2[[#This Row],[CH PRÁTICA]]))/Cursos!$E$3,0),0)} -> 0 | W9: =IF(TB_Radiologia2[[#This Row],[TIPIFICAÇÃO]]="ON.S",ROUNDUP(TB_Radiologia2[[#This Row],[CH TEÓRICA]]/Cursos!$E$3,0),0) -> 0 | X9: {=IFERROR(_xlfn.IFS(TB_Radiologia2[[#This Row],[TIPIFICAÇÃO]]="ON.A",1,TB_Radiologia2[[#This Row],[TIPIFICAÇÃO]]="PR",0,TB_Radiologia2[[#This Row],[TIPIFICAÇÃO]]="HB",0,AND(TB_Radiologia2[[#This Row],[TIPIFICAÇÃO]]="EXT",OR(TB_Radiologia2[[#This Row],[TIPO DE OFERTA]]="SEMI-PRESENCIAL",TB_Radiologia2[[#This Row],[TIPO DE OFERTA]]="EAD 100%")),1),0)} -> 1 | Y9: {=ROUNDUP(IFERROR(_xlfn.IFS(TB_Radiologia2[[#This Row],[TIPIFICAÇÃO]]="ON.A",0,TB_Radiologia2[[#This Row],[TIPIFICAÇÃO]]="PR",0,TB_Radiologia2[[#This Row],[TIPIFICAÇÃO]]="HB",TB_Radiologia2[[#This Row],[CH ONLINE]],TB_Radiologia2[[#This Row],[TIPIFICAÇÃO]]="ON.S",0,AND(TB_Radiologia2[[#This Row],[TIPIFICAÇÃO]]="EXT",TB_Radiologia2[[#This Row],[TIPO DE OFERTA]]="PRESENCIAL"),TB_Radiologia2[[#This Row],[CRÉDITOS]]-TB_Radiologia2[[#This Row],[CRÉDITOS PAGO PROFESSOR]])/Cursos!$E$3,0),0)} -> 0 | Z9: BACHARELADO
B10: =$J$2 -> RADIOLOGIA | C10: 1º | D10: 2 | E10: Fundamentos Matemáticos | F10: FM | G10: =SUM(TB_Radiologia2[[#This Row],[CH TEÓRICA]:[CH ONLINE]]) -> 33 | H10: Específica | I10: 33 | J10: 0 | K10: 0 | L10: 0 | M10: 0 | N10: PR | O10: =ROUNDUP(TB_Radiologia2[[#This Row],[CH TOTAL]]/Cursos!$E$3,0) -> 2 | P10: {=IF(AND(TB_Radiologia2[[#This Row],[TIPIFICAÇÃO]]="TCC",TB_Radiologia2[[#This Row],[TIPO DE OFERTA]]="PRESENCIAL"),SUM(TB_Radiologia2[[#This Row],[CH TEÓRICA]:[CH PRÁTICA]]/66),IF(TB_Radiologia2[[#This Row],[TIPIFICAÇÃO]]="EST",1,IF(AND(IF(OR(TB_Radiologia2[[#This Row],[TIPIFICAÇÃO]]="HB",TB_Radiologia2[[#This Row],[TIPIFICAÇÃO]]="PR"),SUM(TB_Radiologia2[[#This Row],[CH TEÓRICA]:[CH PRÁTICA]])/66,IF(TB_Radiologia2[[#This Row],[TIPIFICAÇÃO]]="EXT",0.5,0))>0.6,IF(OR(TB_Radiologia2[[#This Row],[TIPIFICAÇÃO]]="HB",TB_Radiologia2[[#This Row],[TIPIFICAÇÃO]]="PR"),SUM(TB_Radiologia2[[#This Row],[CH TEÓRICA]:[CH PRÁTICA]])/66,IF(TB_Radiologia2[[#This Row],[TIPIFICAÇÃO]]="EXT",0.5,0))<0.8),1,IF(OR(TB_Radiologia2[[#This Row],[TIPIFICAÇÃO]]="HB",TB_Radiologia2[[#This Row],[TIPIFICAÇÃO]]="PR"),SUM(TB_Radiologia2[[#This Row],[CH TEÓRICA]:[CH PRÁTICA]])/66,IF(TB_Radiologia2[[#This Row],[TIPIFICAÇÃO]]="EXT",0.5,0)))))} -> 0.5 | R10: PRESENCIAL | V10: {=ROUNDUP(IFERROR(_xlfn.IFS(TB_Radiologia2[[#This Row],[TIPIFICAÇÃO]]="ON.A",0,AND(TB_Radiologia2[[#This Row],[TIPIFICAÇÃO]]="EST",TB_Radiologia2[[#This Row],[TIPO DE OFERTA]]="PRESENCIAL"),0,AND(TB_Radiologia2[[#This Row],[TIPIFICAÇÃO]]="PR",OR(TB_Radiologia2[[#This Row],[TIPO DE OFERTA]]="PRESENCIAL",TB_Radiologia2[[#This Row],[TIPO DE OFERTA]]="SEMI-PRESENCIAL")),TB_Radiologia2[[#This Row],[CH TEÓRICA]]+TB_Radiologia2[[#This Row],[CH PRÁTICA]],AND(TB_Radiologia2[[#This Row],[TIPIFICAÇÃO]]="HB",TB_Radiologia2[[#This Row],[TIPO DE OFERTA]]="PRESENCIAL"),TB_Radiologia2[[#This Row],[CH TEÓRICA]]+TB_Radiologia2[[#This Row],[CH PRÁTICA]],AND(TB_Radiologia2[[#This Row],[TIPIFICAÇÃO]]="EXT",OR(TB_Radiologia2[[#This Row],[TIPO DE OFERTA]]="PRESENCIAL",TB_Radiologia2[[#This Row],[TIPO DE OFERTA]]="SEMI-PRESENCIAL")),33,AND(TB_Radiologia2[[#This Row],[TIPIFICAÇÃO]]="TCC",TB_Radiologia2[[#This Row],[TIPO DE OFERTA]]="PRESENCIAL"),SUM(TB_Radiologia2[[#This Row],[CH TEÓRICA]],TB_Radiologia2[[#This Row],[CH PRÁTICA]]))/Cursos!$E$3,0),0)} -> 2 | W10: =IF(TB_Radiologia2[[#This Row],[TIPIFICAÇÃO]]="ON.S",ROUNDUP(TB_Radiologia2[[#This Row],[CH TEÓRICA]]/Cursos!$E$3,0),0) -> 0 | X10: {=IFERROR(_xlfn.IFS(TB_Radiologia2[[#This Row],[TIPIFICAÇÃO]]="ON.A",1,TB_Radiologia2[[#This Row],[TIPIFICAÇÃO]]="PR",0,TB_Radiologia2[[#This Row],[TIPIFICAÇÃO]]="HB",0,AND(TB_Radiologia2[[#This Row],[TIPIFICAÇÃO]]="EXT",OR(TB_Radiologia2[[#This Row],[TIPO DE OFERTA]]="SEMI-PRESENCIAL",TB_Radiologia2[[#This Row],[TIPO DE OFERTA]]="EAD 100%")),1),0)} -> 0 | Y10: {=ROUNDUP(IFERROR(_xlfn.IFS(TB_Radiologia2[[#This Row],[TIPIFICAÇÃO]]="ON.A",0,TB_Radiologia2[[#This Row],[TIPIFICAÇÃO]]="PR",0,TB_Radiologia2[[#This Row],[TIPIFICAÇÃO]]="HB",TB_Radiologia2[[#This Row],[CH ONLINE]],TB_Radiologia2[[#This Row],[TIPIFICAÇÃO]]="ON.S",0,AND(TB_Radiologia2[[#This Row],[TIPIFICAÇÃO]]="EXT",TB_Radiologia2[[#This Row],[TIPO DE OFERTA]]="PRESENCIAL"),TB_Radiologia2[[#This Row],[CRÉDITOS]]-TB_Radiologia2[[#This Row],[CRÉDITOS PAGO PROFESSOR]])/Cursos!$E$3,0),0)} -> 0 | Z10: BACHARELADO
B11: =$J$2 -> RADIOLOGIA | C11: 1º | D11: 3 | E11: Ética e Bioética em Saúde | F11: EBIOSA | G11: =SUM(TB_Radiologia2[[#This Row],[CH TEÓRICA]:[CH ONLINE]]) -> 33 | H11: Comum de Área | I11: 0 | J11: 0 | K11: 0 | L11: 0 | M11: 33 | N11: ON.A | O11: =ROUNDUP(TB_Radiologia2[[#This Row],[CH TOTAL]]/Cursos!$E$3,0) -> 2 | P11: {=IF(AND(TB_Radiologia2[[#This Row],[TIPIFICAÇÃO]]="TCC",TB_Radiologia2[[#This Row],[TIPO DE OFERTA]]="PRESENCIAL"),SUM(TB_Radiologia2[[#This Row],[CH TEÓRICA]:[CH PRÁTICA]]/66),IF(TB_Radiologia2[[#This Row],[TIPIFICAÇÃO]]="EST",1,IF(AND(IF(OR(TB_Radiologia2[[#This Row],[TIPIFICAÇÃO]]="HB",TB_Radiologia2[[#This Row],[TIPIFICAÇÃO]]="PR"),SUM(TB_Radiologia2[[#This Row],[CH TEÓRICA]:[CH PRÁTICA]])/66,IF(TB_Radiologia2[[#This Row],[TIPIFICAÇÃO]]="EXT",0.5,0))>0.6,IF(OR(TB_Radiologia2[[#This Row],[TIPIFICAÇÃO]]="HB",TB_Radiologia2[[#This Row],[TIPIFICAÇÃO]]="PR"),SUM(TB_Radiologia2[[#This Row],[CH TEÓRICA]:[CH PRÁTICA]])/66,IF(TB_Radiologia2[[#This Row],[TIPIFICAÇÃO]]="EXT",0.5,0))<0.8),1,IF(OR(TB_Radiologia2[[#This Row],[TIPIFICAÇÃO]]="HB",TB_Radiologia2[[#This Row],[TIPIFICAÇÃO]]="PR"),SUM(TB_Radiologia2[[#This Row],[CH TEÓRICA]:[CH PRÁTICA]])/66,IF(TB_Radiologia2[[#This Row],[TIPIFICAÇÃO]]="EXT",0.5,0)))))} -> 0 | R11: PRESENCIAL | V11: {=ROUNDUP(IFERROR(_xlfn.IFS(TB_Radiologia2[[#This Row],[TIPIFICAÇÃO]]="ON.A",0,AND(TB_Radiologia2[[#This Row],[TIPIFICAÇÃO]]="EST",TB_Radiologia2[[#This Row],[TIPO DE OFERTA]]="PRESENCIAL"),0,AND(TB_Radiologia2[[#This Row],[TIPIFICAÇÃO]]="PR",OR(TB_Radiologia2[[#This Row],[TIPO DE OFERTA]]="PRESENCIAL",TB_Radiologia2[[#This Row],[TIPO DE OFERTA]]="SEMI-PRESENCIAL")),TB_Radiologia2[[#This Row],[CH TEÓRICA]]+TB_Radiologia2[[#This Row],[CH PRÁTICA]],AND(TB_Radiologia2[[#This Row],[TIPIFICAÇÃO]]="HB",TB_Radiologia2[[#This Row],[TIPO DE OFERTA]]="PRESENCIAL"),TB_Radiologia2[[#This Row],[CH TEÓRICA]]+TB_Radiologia2[[#This Row],[CH PRÁTICA]],AND(TB_Radiologia2[[#This Row],[TIPIFICAÇÃO]]="EXT",OR(TB_Radiologia2[[#This Row],[TIPO DE OFERTA]]="PRESENCIAL",TB_Radiologia2[[#This Row],[TIPO DE OFERTA]]="SEMI-PRESENCIAL")),33,AND(TB_Radiologia2[[#This Row],[TIPIFICAÇÃO]]="TCC",TB_Radiologia2[[#This Row],[TIPO DE OFERTA]]="PRESENCIAL"),SUM(TB_Radiologia2[[#This Row],[CH TEÓRICA]],TB_Radiologia2[[#This Row],[CH PRÁTICA]]))/Cursos!$E$3,0),0)} -> 0 | W11: =IF(TB_Radiologia2[[#This Row],[TIPIFICAÇÃO]]="ON.S",ROUNDUP(TB_Radiologia2[[#This Row],[CH TEÓRICA]]/Cursos!$E$3,0),0) -> 0 | X11: {=IFERROR(_xlfn.IFS(TB_Radiologia2[[#This Row],[TIPIFICAÇÃO]]="ON.A",1,TB_Radiologia2[[#This Row],[TIPIFICAÇÃO]]="PR",0,TB_Radiologia2[[#This Row],[TIPIFICAÇÃO]]="HB",0,AND(TB_Radiologia2[[#This Row],[TIPIFICAÇÃO]]="EXT",OR(TB_Radiologia2[[#This Row],[TIPO DE OFERTA]]="SEMI-PRESENCIAL",TB_Radiologia2[[#This Row],[TIPO DE OFERTA]]="EAD 100%")),1),0)} -> 1 | Y11: {=ROUNDUP(IFERROR(_xlfn.IFS(TB_Radiologia2[[#This Row],[TIPIFICAÇÃO]]="ON.A",0,TB_Radiologia2[[#This Row],[TIPIFICAÇÃO]]="PR",0,TB_Radiologia2[[#This Row],[TIPIFICAÇÃO]]="HB",TB_Radiologia2[[#This Row],[CH ONLINE]],TB_Radiologia2[[#This Row],[TIPIFICAÇÃO]]="ON.S",0,AND(TB_Radiologia2[[#This Row],[TIPIFICAÇÃO]]="EXT",TB_Radiologia2[[#This Row],[TIPO DE OFERTA]]="PRESENCIAL"),TB_Radiologia2[[#This Row],[CRÉDITOS]]-TB_Radiologia2[[#This Row],[CRÉDITOS PAGO PROFESSOR]])/Cursos!$E$3,0),0)} -> 0 | Z11: BACHARELADO
B12: =$J$2 -> RADIOLOGIA | C12: 1º | D12: 4 | E12: Psicologia em Saúde | F12: PSI SAUDE | G12: =SUM(TB_Radiologia2[[#This Row],[CH TEÓRICA]:[CH ONLINE]]) -> 33 | H12: Comum de Área | I12: 0 | J12: 0 | K12: 0 | L12: 0 | M12: 33 | N12: ON.A | O12: =ROUNDUP(TB_Radiologia2[[#This Row],[CH TOTAL]]/Cursos!$E$3,0) -> 2 | P12: {=IF(AND(TB_Radiologia2[[#This Row],[TIPIFICAÇÃO]]="TCC",TB_Radiologia2[[#This Row],[TIPO DE OFERTA]]="PRESENCIAL"),SUM(TB_Radiologia2[[#This Row],[CH TEÓRICA]:[CH PRÁTICA]]/66),IF(TB_Radiologia2[[#This Row],[TIPIFICAÇÃO]]="EST",1,IF(AND(IF(OR(TB_Radiologia2[[#This Row],[TIPIFICAÇÃO]]="HB",TB_Radiologia2[[#This Row],[TIPIFICAÇÃO]]="PR"),SUM(TB_Radiologia2[[#This Row],[CH TEÓRICA]:[CH PRÁTICA]])/66,IF(TB_Radiologia2[[#This Row],[TIPIFICAÇÃO]]="EXT",0.5,0))>0.6,IF(OR(TB_Radiologia2[[#This Row],[TIPIFICAÇÃO]]="HB",TB_Radiologia2[[#This Row],[TIPIFICAÇÃO]]="PR"),SUM(TB_Radiologia2[[#This Row],[CH TEÓRICA]:[CH PRÁTICA]])/66,IF(TB_Radiologia2[[#This Row],[TIPIFICAÇÃO]]="EXT",0.5,0))<0.8),1,IF(OR(TB_Radiologia2[[#This Row],[TIPIFICAÇÃO]]="HB",TB_Radiologia2[[#This Row],[TIPIFICAÇÃO]]="PR"),SUM(TB_Radiologia2[[#This Row],[CH TEÓRICA]:[CH PRÁTICA]])/66,IF(TB_Radiologia2[[#This Row],[TIPIFICAÇÃO]]="EXT",0.5,0)))))} -> 0 | R12: PRESENCIAL | V12: {=ROUNDUP(IFERROR(_xlfn.IFS(TB_Radiologia2[[#This Row],[TIPIFICAÇÃO]]="ON.A",0,AND(TB_Radiologia2[[#This Row],[TIPIFICAÇÃO]]="EST",TB_Radiologia2[[#This Row],[TIPO DE OFERTA]]="PRESENCIAL"),0,AND(TB_Radiologia2[[#This Row],[TIPIFICAÇÃO]]="PR",OR(TB_Radiologia2[[#This Row],[TIPO DE OFERTA]]="PRESENCIAL",TB_Radiologia2[[#This Row],[TIPO DE OFERTA]]="SEMI-PRESENCIAL")),TB_Radiologia2[[#This Row],[CH TEÓRICA]]+TB_Radiologia2[[#This Row],[CH PRÁTICA]],AND(TB_Radiologia2[[#This Row],[TIPIFICAÇÃO]]="HB",TB_Radiologia2[[#This Row],[TIPO DE OFERTA]]="PRESENCIAL"),TB_Radiologia2[[#This Row],[CH TEÓRICA]]+TB_Radiologia2[[#This Row],[CH PRÁTICA]],AND(TB_Radiologia2[[#This Row],[TIPIFICAÇÃO]]="EXT",OR(TB_Radiologia2[[#This Row],[TIPO DE OFERTA]]="PRESENCIAL",TB_Radiologia2[[#This Row],[TIPO DE OFERTA]]="SEMI-PRESENCIAL")),33,AND(TB_Radiologia2[[#This Row],[TIPIFICAÇÃO]]="TCC",TB_Radiologia2[[#This Row],[TIPO DE OFERTA]]="PRESENCIAL"),SUM(TB_Radiologia2[[#This Row],[CH TEÓRICA]],TB_Radiologia2[[#This Row],[CH PRÁTICA]]))/Cursos!$E$3,0),0)} -> 0 | W12: =IF(TB_Radiologia2[[#This Row],[TIPIFICAÇÃO]]="ON.S",ROUNDUP(TB_Radiologia2[[#This Row],[CH TEÓRICA]]/Cursos!$E$3,0),0) -> 0 | X12: {=IFERROR(_xlfn.IFS(TB_Radiologia2[[#This Row],[TIPIFICAÇÃO]]="ON.A",1,TB_Radiologia2[[#This Row],[TIPIFICAÇÃO]]="PR",0,TB_Radiologia2[[#This Row],[TIPIFICAÇÃO]]="HB",0,AND(TB_Radiologia2[[#This Row],[TIPIFICAÇÃO]]="EXT",OR(TB_Radiologia2[[#This Row],[TIPO DE OFERTA]]="SEMI-PRESENCIAL",TB_Radiologia2[[#This Row],[TIPO DE OFERTA]]="EAD 100%")),1),0)} -> 1 | Y12: {=ROUNDUP(IFERROR(_xlfn.IFS(TB_Radiologia2[[#This Row],[TIPIFICAÇÃO]]="ON.A",0,TB_Radiologia2[[#This Row],[TIPIFICAÇÃO]]="PR",0,TB_Radiologia2[[#This Row],[TIPIFICAÇÃO]]="HB",TB_Radiologia2[[#This Row],[CH ONLINE]],TB_Radiologia2[[#This Row],[TIPIFICAÇÃO]]="ON.S",0,AND(TB_Radiologia2[[#This Row],[TIPIFICAÇÃO]]="EXT",TB_Radiologia2[[#This Row],[TIPO DE OFERTA]]="PRESENCIAL"),TB_Radiologia2[[#This Row],[CRÉDITOS]]-TB_Radiologia2[[#This Row],[CRÉDITOS PAGO PROFESSOR]])/Cursos!$E$3,0),0)} -> 0 | Z12: BACHARELADO
B13: =$J$2 -> RADIOLOGIA | C13: 1º | D13: 5 | E13: Fundamentos da Radiologia | F13: FR | G13: =SUM(TB_Radiologia2[[#This Row],[CH TEÓRICA]:[CH ONLINE]]) -> 49 | H13: Específica | I13: 49 | J13: 0 | K13: 0 | L13: 0 | M13: 0 | N13: PR | O13: =ROUNDUP(TB_Radiologia2[[#This Row],[CH TOTAL]]/Cursos!$E$3,0) -> 3 | P13: {=IF(AND(TB_Radiologia2[[#This Row],[TIPIFICAÇÃO]]="TCC",TB_Radiologia2[[#This Row],[TIPO DE OFERTA]]="PRESENCIAL"),SUM(TB_Radiologia2[[#This Row],[CH TEÓRICA]:[CH PRÁTICA]]/66),IF(TB_Radiologia2[[#This Row],[TIPIFICAÇÃO]]="EST",1,IF(AND(IF(OR(TB_Radiologia2[[#This Row],[TIPIFICAÇÃO]]="HB",TB_Radiologia2[[#This Row],[TIPIFICAÇÃO]]="PR"),SUM(TB_Radiologia2[[#This Row],[CH TEÓRICA]:[CH PRÁTICA]])/66,IF(TB_Radiologia2[[#This Row],[TIPIFICAÇÃO]]="EXT",0.5,0))>0.6,IF(OR(TB_Radiologia2[[#This Row],[TIPIFICAÇÃO]]="HB",TB_Radiologia2[[#This Row],[TIPIFICAÇÃO]]="PR"),SUM(TB_Radiologia2[[#This Row],[CH TEÓRICA]:[CH PRÁTICA]])/66,IF(TB_Radiologia2[[#This Row],[TIPIFICAÇÃO]]="EXT",0.5,0))<0.8),1,IF(OR(TB_Radiologia2[[#This Row],[TIPIFICAÇÃO]]="HB",TB_Radiologia2[[#This Row],[TIPIFICAÇÃO]]="PR"),SUM(TB_Radiologia2[[#This Row],[CH TEÓRICA]:[CH PRÁTICA]])/66,IF(TB_Radiologia2[[#This Row],[TIPIFICAÇÃO]]="EXT",0.5,0)))))} -> 1 | R13: PRESENCIAL | V13: {=ROUNDUP(IFERROR(_xlfn.IFS(TB_Radiologia2[[#This Row],[TIPIFICAÇÃO]]="ON.A",0,AND(TB_Radiologia2[[#This Row],[TIPIFICAÇÃO]]="EST",TB_Radiologia2[[#This Row],[TIPO DE OFERTA]]="PRESENCIAL"),0,AND(TB_Radiologia2[[#This Row],[TIPIFICAÇÃO]]="PR",OR(TB_Radiologia2[[#This Row],[TIPO DE OFERTA]]="PRESENCIAL",TB_Radiologia2[[#This Row],[TIPO DE OFERTA]]="SEMI-PRESENCIAL")),TB_Radiologia2[[#This Row],[CH TEÓRICA]]+TB_Radiologia2[[#This Row],[CH PRÁTICA]],AND(TB_Radiologia2[[#This Row],[TIPIFICAÇÃO]]="HB",TB_Radiologia2[[#This Row],[TIPO DE OFERTA]]="PRESENCIAL"),TB_Radiologia2[[#This Row],[CH TEÓRICA]]+TB_Radiologia2[[#This Row],[CH PRÁTICA]],AND(TB_Radiologia2[[#This Row],[TIPIFICAÇÃO]]="EXT",OR(TB_Radiologia2[[#This Row],[TIPO DE OFERTA]]="PRESENCIAL",TB_Radiologia2[[#This Row],[TIPO DE OFERTA]]="SEMI-PRESENCIAL")),33,AND(TB_Radiologia2[[#This Row],[TIPIFICAÇÃO]]="TCC",TB_Radiologia2[[#This Row],[TIPO DE OFERTA]]="PRESENCIAL"),SUM(TB_Radiologia2[[#This Row],[CH TEÓRICA]],TB_Radiologia2[[#This Row],[CH PRÁTICA]]))/Cursos!$E$3,0),0)} -> 3 | W13: =IF(TB_Radiologia2[[#This Row],[TIPIFICAÇÃO]]="ON.S",ROUNDUP(TB_Radiologia2[[#This Row],[CH TEÓRICA]]/Cursos!$E$3,0),0) -> 0 | X13: {=IFERROR(_xlfn.IFS(TB_Radiologia2[[#This Row],[TIPIFICAÇÃO]]="ON.A",1,TB_Radiologia2[[#This Row],[TIPIFICAÇÃO]]="PR",0,TB_Radiologia2[[#This Row],[TIPIFICAÇÃO]]="HB",0,AND(TB_Radiologia2[[#This Row],[TIPIFICAÇÃO]]="EXT",OR(TB_Radiologia2[[#This Row],[TIPO DE OFERTA]]="SEMI-PRESENCIAL",TB_Radiologia2[[#This Row],[TIPO DE OFERTA]]="EAD 100%")),1),0)} -> 0 | Y13: {=ROUNDUP(IFERROR(_xlfn.IFS(TB_Radiologia2[[#This Row],[TIPIFICAÇÃO]]="ON.A",0,TB_Radiologia2[[#This Row],[TIPIFICAÇÃO]]="PR",0,TB_Radiologia2[[#This Row],[TIPIFICAÇÃO]]="HB",TB_Radiologia2[[#This Row],[CH ONLINE]],TB_Radiologia2[[#This Row],[TIPIFICAÇÃO]]="ON.S",0,AND(TB_Radiologia2[[#This Row],[TIPIFICAÇÃO]]="EXT",TB_Radiologia2[[#This Row],[TIPO DE OFERTA]]="PRESENCIAL"),TB_Radiologia2[[#This Row],[CRÉDITOS]]-TB_Radiologia2[[#This Row],[CRÉDITOS PAGO PROFESSOR]])/Cursos!$E$3,0),0)} -> 0 | Z13: BACHARELADO
B14: =$J$2 -> RADIOLOGIA | C14: 1º | D14: 6 | E14: Projeto de extensão I | F14: PE I | G14: =SUM(TB_Radiologia2[[#This Row],[CH TEÓRICA]:[CH ONLINE]]) -> 80 | H14: Extensão | I14: 0 | J14: 0 | K14: 0 | L14: 80 | M14: 0 | N14: EXT | O14: =ROUNDUP(TB_Radiologia2[[#This Row],[CH TOTAL]]/Cursos!$E$3,0) -> 5 | P14: {=IF(AND(TB_Radiologia2[[#This Row],[TIPIFICAÇÃO]]="TCC",TB_Radiologia2[[#This Row],[TIPO DE OFERTA]]="PRESENCIAL"),SUM(TB_Radiologia2[[#This Row],[CH TEÓRICA]:[CH PRÁTICA]]/66),IF(TB_Radiologia2[[#This Row],[TIPIFICAÇÃO]]="EST",1,IF(AND(IF(OR(TB_Radiologia2[[#This Row],[TIPIFICAÇÃO]]="HB",TB_Radiologia2[[#This Row],[TIPIFICAÇÃO]]="PR"),SUM(TB_Radiologia2[[#This Row],[CH TEÓRICA]:[CH PRÁTICA]])/66,IF(TB_Radiologia2[[#This Row],[TIPIFICAÇÃO]]="EXT",0.5,0))>0.6,IF(OR(TB_Radiologia2[[#This Row],[TIPIFICAÇÃO]]="HB",TB_Radiologia2[[#This Row],[TIPIFICAÇÃO]]="PR"),SUM(TB_Radiologia2[[#This Row],[CH TEÓRICA]:[CH PRÁTICA]])/66,IF(TB_Radiologia2[[#This Row],[TIPIFICAÇÃO]]="EXT",0.5,0))<0.8),1,IF(OR(TB_Radiologia2[[#This Row],[TIPIFICAÇÃO]]="HB",TB_Radiologia2[[#This Row],[TIPIFICAÇÃO]]="PR"),SUM(TB_Radiologia2[[#This Row],[CH TEÓRICA]:[CH PRÁTICA]])/66,IF(TB_Radiologia2[[#This Row],[TIPIFICAÇÃO]]="EXT",0.5,0)))))} -> 0.5 | R14: PRESENCIAL | V14: {=ROUNDUP(IFERROR(_xlfn.IFS(TB_Radiologia2[[#This Row],[TIPIFICAÇÃO]]="ON.A",0,AND(TB_Radiologia2[[#This Row],[TIPIFICAÇÃO]]="EST",TB_Radiologia2[[#This Row],[TIPO DE OFERTA]]="PRESENCIAL"),0,AND(TB_Radiologia2[[#This Row],[TIPIFICAÇÃO]]="PR",OR(TB_Radiologia2[[#This Row],[TIPO DE OFERTA]]="PRESENCIAL",TB_Radiologia2[[#This Row],[TIPO DE OFERTA]]="SEMI-PRESENCIAL")),TB_Radiologia2[[#This Row],[CH TEÓRICA]]+TB_Radiologia2[[#This Row],[CH PRÁTICA]],AND(TB_Radiologia2[[#This Row],[TIPIFICAÇÃO]]="HB",TB_Radiologia2[[#This Row],[TIPO DE OFERTA]]="PRESENCIAL"),TB_Radiologia2[[#This Row],[CH TEÓRICA]]+TB_Radiologia2[[#This Row],[CH PRÁTICA]],AND(TB_Radiologia2[[#This Row],[TIPIFICAÇÃO]]="EXT",OR(TB_Radiologia2[[#This Row],[TIPO DE OFERTA]]="PRESENCIAL",TB_Radiologia2[[#This Row],[TIPO DE OFERTA]]="SEMI-PRESENCIAL")),33,AND(TB_Radiologia2[[#This Row],[TIPIFICAÇÃO]]="TCC",TB_Radiologia2[[#This Row],[TIPO DE OFERTA]]="PRESENCIAL"),SUM(TB_Radiologia2[[#This Row],[CH TEÓRICA]],TB_Radiologia2[[#This Row],[CH PRÁTICA]]))/Cursos!$E$3,0),0)} -> 2 | W14: =IF(TB_Radiologia2[[#This Row],[TIPIFICAÇÃO]]="ON.S",ROUNDUP(TB_Radiologia2[[#This Row],[CH TEÓRICA]]/Cursos!$E$3,0),0) -> 0 | X14: {=IFERROR(_xlfn.IFS(TB_Radiologia2[[#This Row],[TIPIFICAÇÃO]]="ON.A",1,TB_Radiologia2[[#This Row],[TIPIFICAÇÃO]]="PR",0,TB_Radiologia2[[#This Row],[TIPIFICAÇÃO]]="HB",0,AND(TB_Radiologia2[[#This Row],[TIPIFICAÇÃO]]="EXT",OR(TB_Radiologia2[[#This Row],[TIPO DE OFERTA]]="SEMI-PRESENCIAL",TB_Radiologia2[[#This Row],[TIPO DE OFERTA]]="EAD 100%")),1),0)} -> 0 | Y14: {=ROUNDUP(IFERROR(_xlfn.IFS(TB_Radiologia2[[#This Row],[TIPIFICAÇÃO]]="ON.A",0,TB_Radiologia2[[#This Row],[TIPIFICAÇÃO]]="PR",0,TB_Radiologia2[[#This Row],[TIPIFICAÇÃO]]="HB",TB_Radiologia2[[#This Row],[CH ONLINE]],TB_Radiologia2[[#This Row],[TIPIFICAÇÃO]]="ON.S",0,AND(TB_Radiologia2[[#This Row],[TIPIFICAÇÃO]]="EXT",TB_Radiologia2[[#This Row],[TIPO DE OFERTA]]="PRESENCIAL"),TB_Radiologia2[[#This Row],[CRÉDITOS]]-TB_Radiologia2[[#This Row],[CRÉDITOS PAGO PROFESSOR]])/Cursos!$E$3,0),0)} -> 1
B15: =$J$2 -> RADIOLOGIA | C15: 1º | D15: 7 | E15: Metodologia Cientifica | F15: MC | G15: =SUM(TB_Radiologia2[[#This Row],[CH TEÓRICA]:[CH ONLINE]]) -> 66 | H15: Institucional | I15: 0 | J15: 0 | K15: 0 | L15: 0 | M15: 66 | N15: ON.A | O15: =ROUNDUP(TB_Radiologia2[[#This Row],[CH TOTAL]]/Cursos!$E$3,0) -> 4 | P15: {=IF(AND(TB_Radiologia2[[#This Row],[TIPIFICAÇÃO]]="TCC",TB_Radiologia2[[#This Row],[TIPO DE OFERTA]]="PRESENCIAL"),SUM(TB_Radiologia2[[#This Row],[CH TEÓRICA]:[CH PRÁTICA]]/66),IF(TB_Radiologia2[[#This Row],[TIPIFICAÇÃO]]="EST",1,IF(AND(IF(OR(TB_Radiologia2[[#This Row],[TIPIFICAÇÃO]]="HB",TB_Radiologia2[[#This Row],[TIPIFICAÇÃO]]="PR"),SUM(TB_Radiologia2[[#This Row],[CH TEÓRICA]:[CH PRÁTICA]])/66,IF(TB_Radiologia2[[#This Row],[TIPIFICAÇÃO]]="EXT",0.5,0))>0.6,IF(OR(TB_Radiologia2[[#This Row],[TIPIFICAÇÃO]]="HB",TB_Radiologia2[[#This Row],[TIPIFICAÇÃO]]="PR"),SUM(TB_Radiologia2[[#This Row],[CH TEÓRICA]:[CH PRÁTICA]])/66,IF(TB_Radiologia2[[#This Row],[TIPIFICAÇÃO]]="EXT",0.5,0))<0.8),1,IF(OR(TB_Radiologia2[[#This Row],[TIPIFICAÇÃO]]="HB",TB_Radiologia2[[#This Row],[TIPIFICAÇÃO]]="PR"),SUM(TB_Radiologia2[[#This Row],[CH TEÓRICA]:[CH PRÁTICA]])/66,IF(TB_Radiologia2[[#This Row],[TIPIFICAÇÃO]]="EXT",0.5,0)))))} -> 0 | R15: PRESENCIAL | V15: {=ROUNDUP(IFERROR(_xlfn.IFS(TB_Radiologia2[[#This Row],[TIPIFICAÇÃO]]="ON.A",0,AND(TB_Radiologia2[[#This Row],[TIPIFICAÇÃO]]="EST",TB_Radiologia2[[#This Row],[TIPO DE OFERTA]]="PRESENCIAL"),0,AND(TB_Radiologia2[[#This Row],[TIPIFICAÇÃO]]="PR",OR(TB_Radiologia2[[#This Row],[TIPO DE OFERTA]]="PRESENCIAL",TB_Radiologia2[[#This Row],[TIPO DE OFERTA]]="SEMI-PRESENCIAL")),TB_Radiologia2[[#This Row],[CH TEÓRICA]]+TB_Radiologia2[[#This Row],[CH PRÁTICA]],AND(TB_Radiologia2[[#This Row],[TIPIFICAÇÃO]]="HB",TB_Radiologia2[[#This Row],[TIPO DE OFERTA]]="PRESENCIAL"),TB_Radiologia2[[#This Row],[CH TEÓRICA]]+TB_Radiologia2[[#This Row],[CH PRÁTICA]],AND(TB_Radiologia2[[#This Row],[TIPIFICAÇÃO]]="EXT",OR(TB_Radiologia2[[#This Row],[TIPO DE OFERTA]]="PRESENCIAL",TB_Radiologia2[[#This Row],[TIPO DE OFERTA]]="SEMI-PRESENCIAL")),33,AND(TB_Radiologia2[[#This Row],[TIPIFICAÇÃO]]="TCC",TB_Radiologia2[[#This Row],[TIPO DE OFERTA]]="PRESENCIAL"),SUM(TB_Radiologia2[[#This Row],[CH TEÓRICA]],TB_Radiologia2[[#This Row],[CH PRÁTICA]]))/Cursos!$E$3,0),0)} -> 0 | W15: =IF(TB_Radiologia2[[#This Row],[TIPIFICAÇÃO]]="ON.S",ROUNDUP(TB_Radiologia2[[#This Row],[CH TEÓRICA]]/Cursos!$E$3,0),0) -> 0 | X15: {=IFERROR(_xlfn.IFS(TB_Radiologia2[[#This Row],[TIPIFICAÇÃO]]="ON.A",1,TB_Radiologia2[[#This Row],[TIPIFICAÇÃO]]="PR",0,TB_Radiologia2[[#This Row],[TIPIFICAÇÃO]]="HB",0,AND(TB_Radiologia2[[#This Row],[TIPIFICAÇÃO]]="EXT",OR(TB_Radiologia2[[#This Row],[TIPO DE OFERTA]]="SEMI-PRESENCIAL",TB_Radiologia2[[#This Row],[TIPO DE OFERTA]]="EAD 100%")),1),0)} -> 1 | Y15: {=ROUNDUP(IFERROR(_xlfn.IFS(TB_Radiologia2[[#This Row],[TIPIFICAÇÃO]]="ON.A",0,TB_Radiologia2[[#This Row],[TIPIFICAÇÃO]]="PR",0,TB_Radiologia2[[#This Row],[TIPIFICAÇÃO]]="HB",TB_Radiologia2[[#This Row],[CH ONLINE]],TB_Radiologia2[[#This Row],[TIPIFICAÇÃO]]="ON.S",0,AND(TB_Radiologia2[[#This Row],[TIPIFICAÇÃO]]="EXT",TB_Radiologia2[[#This Row],[TIPO DE OFERTA]]="PRESENCIAL"),TB_Radiologia2[[#This Row],[CRÉDITOS]]-TB_Radiologia2[[#This Row],[CRÉDITOS PAGO PROFESSOR]])/Cursos!$E$3,0),0)} -> 0
B16: =$J$2 -> RADIOLOGIA | C16: 1º | D16: 8 | E16: Direito e Legislação em Radiologia | F16: DLR | G16: =SUM(TB_Radiologia2[[#This Row],[CH TEÓRICA]:[CH ONLINE]]) -> 33 | H16: Específica | I16: 33 | J16: 0 | K16: 0 | L16: 0 | M16: 0 | N16: PR | O16: =ROUNDUP(TB_Radiologia2[[#This Row],[CH TOTAL]]/Cursos!$E$3,0) -> 2 | P16: {=IF(AND(TB_Radiologia2[[#This Row],[TIPIFICAÇÃO]]="TCC",TB_Radiologia2[[#This Row],[TIPO DE OFERTA]]="PRESENCIAL"),SUM(TB_Radiologia2[[#This Row],[CH TEÓRICA]:[CH PRÁTICA]]/66),IF(TB_Radiologia2[[#This Row],[TIPIFICAÇÃO]]="EST",1,IF(AND(IF(OR(TB_Radiologia2[[#This Row],[TIPIFICAÇÃO]]="HB",TB_Radiologia2[[#This Row],[TIPIFICAÇÃO]]="PR"),SUM(TB_Radiologia2[[#This Row],[CH TEÓRICA]:[CH PRÁTICA]])/66,IF(TB_Radiologia2[[#This Row],[TIPIFICAÇÃO]]="EXT",0.5,0))>0.6,IF(OR(TB_Radiologia2[[#This Row],[TIPIFICAÇÃO]]="HB",TB_Radiologia2[[#This Row],[TIPIFICAÇÃO]]="PR"),SUM(TB_Radiologia2[[#This Row],[CH TEÓRICA]:[CH PRÁTICA]])/66,IF(TB_Radiologia2[[#This Row],[TIPIFICAÇÃO]]="EXT",0.5,0))<0.8),1,IF(OR(TB_Radiologia2[[#This Row],[TIPIFICAÇÃO]]="HB",TB_Radiologia2[[#This Row],[TIPIFICAÇÃO]]="PR"),SUM(TB_Radiologia2[[#This Row],[CH TEÓRICA]:[CH PRÁTICA]])/66,IF(TB_Radiologia2[[#This Row],[TIPIFICAÇÃO]]="EXT",0.5,0)))))} -> 0.5 | R16: PRESENCIAL | V16: {=ROUNDUP(IFERROR(_xlfn.IFS(TB_Radiologia2[[#This Row],[TIPIFICAÇÃO]]="ON.A",0,AND(TB_Radiologia2[[#This Row],[TIPIFICAÇÃO]]="EST",TB_Radiologia2[[#This Row],[TIPO DE OFERTA]]="PRESENCIAL"),0,AND(TB_Radiologia2[[#This Row],[TIPIFICAÇÃO]]="PR",OR(TB_Radiologia2[[#This Row],[TIPO DE OFERTA]]="PRESENCIAL",TB_Radiologia2[[#This Row],[TIPO DE OFERTA]]="SEMI-PRESENCIAL")),TB_Radiologia2[[#This Row],[CH TEÓRICA]]+TB_Radiologia2[[#This Row],[CH PRÁTICA]],AND(TB_Radiologia2[[#This Row],[TIPIFICAÇÃO]]="HB",TB_Radiologia2[[#This Row],[TIPO DE OFERTA]]="PRESENCIAL"),TB_Radiologia2[[#This Row],[CH TEÓRICA]]+TB_Radiologia2[[#This Row],[CH PRÁTICA]],AND(TB_Radiologia2[[#This Row],[TIPIFICAÇÃO]]="EXT",OR(TB_Radiologia2[[#This Row],[TIPO DE OFERTA]]="PRESENCIAL",TB_Radiologia2[[#This Row],[TIPO DE OFERTA]]="SEMI-PRESENCIAL")),33,AND(TB_Radiologia2[[#This Row],[TIPIFICAÇÃO]]="TCC",TB_Radiologia2[[#This Row],[TIPO DE OFERTA]]="PRESENCIAL"),SUM(TB_Radiologia2[[#This Row],[CH TEÓRICA]],TB_Radiologia2[[#This Row],[CH PRÁTICA]]))/Cursos!$E$3,0),0)} -> 2 | W16: =IF(TB_Radiologia2[[#This Row],[TIPIFICAÇÃO]]="ON.S",ROUNDUP(TB_Radiologia2[[#This Row],[CH TEÓRICA]]/Cursos!$E$3,0),0) -> 0 | X16: {=IFERROR(_xlfn.IFS(TB_Radiologia2[[#This Row],[TIPIFICAÇÃO]]="ON.A",1,TB_Radiologia2[[#This Row],[TIPIFICAÇÃO]]="PR",0,TB_Radiologia2[[#This Row],[TIPIFICAÇÃO]]="HB",0,AND(TB_Radiologia2[[#This Row],[TIPIFICAÇÃO]]="EXT",OR(TB_Radiologia2[[#This Row],[TIPO DE OFERTA]]="SEMI-PRESENCIAL",TB_Radiologia2[[#This Row],[TIPO DE OFERTA]]="EAD 100%")),1),0)} -> 0 | Y16: {=ROUNDUP(IFERROR(_xlfn.IFS(TB_Radiologia2[[#This Row],[TIPIFICAÇÃO]]="ON.A",0,TB_Radiologia2[[#This Row],[TIPIFICAÇÃO]]="PR",0,TB_Radiologia2[[#This Row],[TIPIFICAÇÃO]]="HB",TB_Radiologia2[[#This Row],[CH ONLINE]],TB_Radiologia2[[#This Row],[TIPIFICAÇÃO]]="ON.S",0,AND(TB_Radiologia2[[#This Row],[TIPIFICAÇÃO]]="EXT",TB_Radiologia2[[#This Row],[TIPO DE OFERTA]]="PRESENCIAL"),TB_Radiologia2[[#This Row],[CRÉDITOS]]-TB_Radiologia2[[#This Row],[CRÉDITOS PAGO PROFESSOR]])/Cursos!$E$3,0),0)} -> 0 | Z16: BACHARELADO
B17: =$J$2 -> RADIOLOGIA | C17: 2º | D17: 1 | E17: Introdução às Técnicas Radiológicas | F17: ITR | G17: =SUM(TB_Radiologia2[[#This Row],[CH TEÓRICA]:[CH ONLINE]]) -> 66 | H17: Específica | I17: 33 | J17: 33 | K17: 0 | L17: 0 | M17: 0 | N17: PR | O17: =ROUNDUP(TB_Radiologia2[[#This Row],[CH TOTAL]]/Cursos!$E$3,0) -> 4 | P17: {=IF(AND(TB_Radiologia2[[#This Row],[TIPIFICAÇÃO]]="TCC",TB_Radiologia2[[#This Row],[TIPO DE OFERTA]]="PRESENCIAL"),SUM(TB_Radiologia2[[#This Row],[CH TEÓRICA]:[CH PRÁTICA]]/66),IF(TB_Radiologia2[[#This Row],[TIPIFICAÇÃO]]="EST",1,IF(AND(IF(OR(TB_Radiologia2[[#This Row],[TIPIFICAÇÃO]]="HB",TB_Radiologia2[[#This Row],[TIPIFICAÇÃO]]="PR"),SUM(TB_Radiologia2[[#This Row],[CH TEÓRICA]:[CH PRÁTICA]])/66,IF(TB_Radiologia2[[#This Row],[TIPIFICAÇÃO]]="EXT",0.5,0))>0.6,IF(OR(TB_Radiologia2[[#This Row],[TIPIFICAÇÃO]]="HB",TB_Radiologia2[[#This Row],[TIPIFICAÇÃO]]="PR"),SUM(TB_Radiologia2[[#This Row],[CH TEÓRICA]:[CH PRÁTICA]])/66,IF(TB_Radiologia2[[#This Row],[TIPIFICAÇÃO]]="EXT",0.5,0))<0.8),1,IF(OR(TB_Radiologia2[[#This Row],[TIPIFICAÇÃO]]="HB",TB_Radiologia2[[#This Row],[TIPIFICAÇÃO]]="PR"),SUM(TB_Radiologia2[[#This Row],[CH TEÓRICA]:[CH PRÁTICA]])/66,IF(TB_Radiologia2[[#This Row],[TIPIFICAÇÃO]]="EXT",0.5,0)))))} -> 1 | R17: PRESENCIAL | V17: {=ROUNDUP(IFERROR(_xlfn.IFS(TB_Radiologia2[[#This Row],[TIPIFICAÇÃO]]="ON.A",0,AND(TB_Radiologia2[[#This Row],[TIPIFICAÇÃO]]="EST",TB_Radiologia2[[#This Row],[TIPO DE OFERTA]]="PRESENCIAL"),0,AND(TB_Radiologia2[[#This Row],[TIPIFICAÇÃO]]="PR",OR(TB_Radiologia2[[#This Row],[TIPO DE OFERTA]]="PRESENCIAL",TB_Radiologia2[[#This Row],[TIPO DE OFERTA]]="SEMI-PRESENCIAL")),TB_Radiologia2[[#This Row],[CH TEÓRICA]]+TB_Radiologia2[[#This Row],[CH PRÁTICA]],AND(TB_Radiologia2[[#This Row],[TIPIFICAÇÃO]]="HB",TB_Radiologia2[[#This Row],[TIPO DE OFERTA]]="PRESENCIAL"),TB_Radiologia2[[#This Row],[CH TEÓRICA]]+TB_Radiologia2[[#This Row],[CH PRÁTICA]],AND(TB_Radiologia2[[#This Row],[TIPIFICAÇÃO]]="EXT",OR(TB_Radiologia2[[#This Row],[TIPO DE OFERTA]]="PRESENCIAL",TB_Radiologia2[[#This Row],[TIPO DE OFERTA]]="SEMI-PRESENCIAL")),33,AND(TB_Radiologia2[[#This Row],[TIPIFICAÇÃO]]="TCC",TB_Radiologia2[[#This Row],[TIPO DE OFERTA]]="PRESENCIAL"),SUM(TB_Radiologia2[[#This Row],[CH TEÓRICA]],TB_Radiologia2[[#This Row],[CH PRÁTICA]]))/Cursos!$E$3,0),0)} -> 4 | W17: =IF(TB_Radiologia2[[#This Row],[TIPIFICAÇÃO]]="ON.S",ROUNDUP(TB_Radiologia2[[#This Row],[CH TEÓRICA]]/Cursos!$E$3,0),0) -> 0 | X17: {=IFERROR(_xlfn.IFS(TB_Radiologia2[[#This Row],[TIPIFICAÇÃO]]="ON.A",1,TB_Radiologia2[[#This Row],[TIPIFICAÇÃO]]="PR",0,TB_Radiologia2[[#This Row],[TIPIFICAÇÃO]]="HB",0,AND(TB_Radiologia2[[#This Row],[TIPIFICAÇÃO]]="EXT",OR(TB_Radiologia2[[#This Row],[TIPO DE OFERTA]]="SEMI-PRESENCIAL",TB_Radiologia2[[#This Row],[TIPO DE OFERTA]]="EAD 100%")),1),0)} -> 0 | Y17: {=ROUNDUP(IFERROR(_xlfn.IFS(TB_Radiologia2[[#This Row],[TIPIFICAÇÃO]]="ON.A",0,TB_Radiologia2[[#This Row],[TIPIFICAÇÃO]]="PR",0,TB_Radiologia2[[#This Row],[TIPIFICAÇÃO]]="HB",TB_Radiologia2[[#This Row],[CH ONLINE]],TB_Radiologia2[[#This Row],[TIPIFICAÇÃO]]="ON.S",0,AND(TB_Radiologia2[[#This Row],[TIPIFICAÇÃO]]="EXT",TB_Radiologia2[[#This Row],[TIPO DE OFERTA]]="PRESENCIAL"),TB_Radiologia2[[#This Row],[CRÉDITOS]]-TB_Radiologia2[[#This Row],[CRÉDITOS PAGO PROFESSOR]])/Cursos!$E$3,0),0)} -> 0 | Z17: BACHARELADO
B18: =$J$2 -> RADIOLOGIA | C18: 2º | D18: 2 | E18: Introdução à Anatomia e fisiologia aplicada à radiologia | F18: IAFAR | G18: =SUM(TB_Radiologia2[[#This Row],[CH TEÓRICA]:[CH ONLINE]]) -> 99 | H18: Específica | I18: 33 | J18: 33 | K18: 0 | L18: 0 | M18: 33 | N18: HB | O18: =ROUNDUP(TB_Radiologia2[[#This Row],[CH TOTAL]]/Cursos!$E$3,0) -> 6 | P18: {=IF(AND(TB_Radiologia2[[#This Row],[TIPIFICAÇÃO]]="TCC",TB_Radiologia2[[#This Row],[TIPO DE OFERTA]]="PRESENCIAL"),SUM(TB_Radiologia2[[#This Row],[CH TEÓRICA]:[CH PRÁTICA]]/66),IF(TB_Radiologia2[[#This Row],[TIPIFICAÇÃO]]="EST",1,IF(AND(IF(OR(TB_Radiologia2[[#This Row],[TIPIFICAÇÃO]]="HB",TB_Radiologia2[[#This Row],[TIPIFICAÇÃO]]="PR"),SUM(TB_Radiologia2[[#This Row],[CH TEÓRICA]:[CH PRÁTICA]])/66,IF(TB_Radiologia2[[#This Row],[TIPIFICAÇÃO]]="EXT",0.5,0))>0.6,IF(OR(TB_Radiologia2[[#This Row],[TIPIFICAÇÃO]]="HB",TB_Radiologia2[[#This Row],[TIPIFICAÇÃO]]="PR"),SUM(TB_Radiologia2[[#This Row],[CH TEÓRICA]:[CH PRÁTICA]])/66,IF(TB_Radiologia2[[#This Row],[TIPIFICAÇÃO]]="EXT",0.5,0))<0.8),1,IF(OR(TB_Radiologia2[[#This Row],[TIPIFICAÇÃO]]="HB",TB_Radiologia2[[#This Row],[TIPIFICAÇÃO]]="PR"),SUM(TB_Radiologia2[[#This Row],[CH TEÓRICA]:[CH PRÁTICA]])/66,IF(TB_Radiologia2[[#This Row],[TIPIFICAÇÃO]]="EXT",0.5,0)))))} -> 1 | R18: PRESENCIAL | V18: {=ROUNDUP(IFERROR(_xlfn.IFS(TB_Radiologia2[[#This Row],[TIPIFICAÇÃO]]="ON.A",0,AND(TB_Radiologia2[[#This Row],[TIPIFICAÇÃO]]="EST",TB_Radiologia2[[#This Row],[TIPO DE OFERTA]]="PRESENCIAL"),0,AND(TB_Radiologia2[[#This Row],[TIPIFICAÇÃO]]="PR",OR(TB_Radiologia2[[#This Row],[TIPO DE OFERTA]]="PRESENCIAL",TB_Radiologia2[[#This Row],[TIPO DE OFERTA]]="SEMI-PRESENCIAL")),TB_Radiologia2[[#This Row],[CH TEÓRICA]]+TB_Radiologia2[[#This Row],[CH PRÁTICA]],AND(TB_Radiologia2[[#This Row],[TIPIFICAÇÃO]]="HB",TB_Radiologia2[[#This Row],[TIPO DE OFERTA]]="PRESENCIAL"),TB_Radiologia2[[#This Row],[CH TEÓRICA]]+TB_Radiologia2[[#This Row],[CH PRÁTICA]],AND(TB_Radiologia2[[#This Row],[TIPIFICAÇÃO]]="EXT",OR(TB_Radiologia2[[#This Row],[TIPO DE OFERTA]]="PRESENCIAL",TB_Radiologia2[[#This Row],[TIPO DE OFERTA]]="SEMI-PRESENCIAL")),33,AND(TB_Radiologia2[[#This Row],[TIPIFICAÇÃO]]="TCC",TB_Radiologia2[[#This Row],[TIPO DE OFERTA]]="PRESENCIAL"),SUM(TB_Radiologia2[[#This Row],[CH TEÓRICA]],TB_Radiologia2[[#This Row],[CH PRÁTICA]]))/Cursos!$E$3,0),0)} -> 4 | W18: =IF(TB_Radiologia2[[#This Row],[TIPIFICAÇÃO]]="ON.S",ROUNDUP(TB_Radiologia2[[#This Row],[CH TEÓRICA]]/Cursos!$E$3,0),0) -> 0 | X18: {=IFERROR(_xlfn.IFS(TB_Radiologia2[[#This Row],[TIPIFICAÇÃO]]="ON.A",1,TB_Radiologia2[[#This Row],[TIPIFICAÇÃO]]="PR",0,TB_Radiologia2[[#This Row],[TIPIFICAÇÃO]]="HB",0,AND(TB_Radiologia2[[#This Row],[TIPIFICAÇÃO]]="EXT",OR(TB_Radiologia2[[#This Row],[TIPO DE OFERTA]]="SEMI-PRESENCIAL",TB_Radiologia2[[#This Row],[TIPO DE OFERTA]]="EAD 100%")),1),0)} -> 0 | Y18: {=ROUNDUP(IFERROR(_xlfn.IFS(TB_Radiologia2[[#This Row],[TIPIFICAÇÃO]]="ON.A",0,TB_Radiologia2[[#This Row],[TIPIFICAÇÃO]]="PR",0,TB_Radiologia2[[#This Row],[TIPIFICAÇÃO]]="HB",TB_Radiologia2[[#This Row],[CH ONLINE]],TB_Radiologia2[[#This Row],[TIPIFICAÇÃO]]="ON.S",0,AND(TB_Radiologia2[[#This Row],[TIPIFICAÇÃO]]="EXT",TB_Radiologia2[[#This Row],[TIPO DE OFERTA]]="PRESENCIAL"),TB_Radiologia2[[#This Row],[CRÉDITOS]]-TB_Radiologia2[[#This Row],[CRÉDITOS PAGO PROFESSOR]])/Cursos!$E$3,0),0)} -> 2 | Z18: BACHARELADO
B19: =$J$2 -> RADIOLOGIA | C19: 2º | D19: 3 | E19: Física aplicada à radiologia | F19: FAR | G19: =SUM(TB_Radiologia2[[#This Row],[CH TEÓRICA]:[CH ONLINE]]) -> 33 | H19: Específica | I19: 33 | J19: 0 | K19: 0 | L19: 0 | M19: 0 | N19: PR | O19: =ROUNDUP(TB_Radiologia2[[#This Row],[CH TOTAL]]/Cursos!$E$3,0) -> 2 | P19: {=IF(AND(TB_Radiologia2[[#This Row],[TIPIFICAÇÃO]]="TCC",TB_Radiologia2[[#This Row],[TIPO DE OFERTA]]="PRESENCIAL"),SUM(TB_Radiologia2[[#This Row],[CH TEÓRICA]:[CH PRÁTICA]]/66),IF(TB_Radiologia2[[#This Row],[TIPIFICAÇÃO]]="EST",1,IF(AND(IF(OR(TB_Radiologia2[[#This Row],[TIPIFICAÇÃO]]="HB",TB_Radiologia2[[#This Row],[TIPIFICAÇÃO]]="PR"),SUM(TB_Radiologia2[[#This Row],[CH TEÓRICA]:[CH PRÁTICA]])/66,IF(TB_Radiologia2[[#This Row],[TIPIFICAÇÃO]]="EXT",0.5,0))>0.6,IF(OR(TB_Radiologia2[[#This Row],[TIPIFICAÇÃO]]="HB",TB_Radiologia2[[#This Row],[TIPIFICAÇÃO]]="PR"),SUM(TB_Radiologia2[[#This Row],[CH TEÓRICA]:[CH PRÁTICA]])/66,IF(TB_Radiologia2[[#This Row],[TIPIFICAÇÃO]]="EXT",0.5,0))<0.8),1,IF(OR(TB_Radiologia2[[#This Row],[TIPIFICAÇÃO]]="HB",TB_Radiologia2[[#This Row],[TIPIFICAÇÃO]]="PR"),SUM(TB_Radiologia2[[#This Row],[CH TEÓRICA]:[CH PRÁTICA]])/66,IF(TB_Radiologia2[[#This Row],[TIPIFICAÇÃO]]="EXT",0.5,0)))))} -> 0.5 | R19: PRESENCIAL | V19: {=ROUNDUP(IFERROR(_xlfn.IFS(TB_Radiologia2[[#This Row],[TIPIFICAÇÃO]]="ON.A",0,AND(TB_Radiologia2[[#This Row],[TIPIFICAÇÃO]]="EST",TB_Radiologia2[[#This Row],[TIPO DE OFERTA]]="PRESENCIAL"),0,AND(TB_Radiologia2[[#This Row],[TIPIFICAÇÃO]]="PR",OR(TB_Radiologia2[[#This Row],[TIPO DE OFERTA]]="PRESENCIAL",TB_Radiologia2[[#This Row],[TIPO DE OFERTA]]="SEMI-PRESENCIAL")),TB_Radiologia2[[#This Row],[CH TEÓRICA]]+TB_Radiologia2[[#This Row],[CH PRÁTICA]],AND(TB_Radiologia2[[#This Row],[TIPIFICAÇÃO]]="HB",TB_Radiologia2[[#This Row],[TIPO DE OFERTA]]="PRESENCIAL"),TB_Radiologia2[[#This Row],[CH TEÓRICA]]+TB_Radiologia2[[#This Row],[CH PRÁTICA]],AND(TB_Radiologia2[[#This Row],[TIPIFICAÇÃO]]="EXT",OR(TB_Radiologia2[[#This Row],[TIPO DE OFERTA]]="PRESENCIAL",TB_Radiologia2[[#This Row],[TIPO DE OFERTA]]="SEMI-PRESENCIAL")),33,AND(TB_Radiologia2[[#This Row],[TIPIFICAÇÃO]]="TCC",TB_Radiologia2[[#This Row],[TIPO DE OFERTA]]="PRESENCIAL"),SUM(TB_Radiologia2[[#This Row],[CH TEÓRICA]],TB_Radiologia2[[#This Row],[CH PRÁTICA]]))/Cursos!$E$3,0),0)} -> 2 | W19: =IF(TB_Radiologia2[[#This Row],[TIPIFICAÇÃO]]="ON.S",ROUNDUP(TB_Radiologia2[[#This Row],[CH TEÓRICA]]/Cursos!$E$3,0),0) -> 0 | X19: {=IFERROR(_xlfn.IFS(TB_Radiologia2[[#This Row],[TIPIFICAÇÃO]]="ON.A",1,TB_Radiologia2[[#This Row],[TIPIFICAÇÃO]]="PR",0,TB_Radiologia2[[#This Row],[TIPIFICAÇÃO]]="HB",0,AND(TB_Radiologia2[[#This Row],[TIPIFICAÇÃO]]="EXT",OR(TB_Radiologia2[[#This Row],[TIPO DE OFERTA]]="SEMI-PRESENCIAL",TB_Radiologia2[[#This Row],[TIPO DE OFERTA]]="EAD 100%")),1),0)} -> 0 | Y19: {=ROUNDUP(IFERROR(_xlfn.IFS(TB_Radiologia2[[#This Row],[TIPIFICAÇÃO]]="ON.A",0,TB_Radiologia2[[#This Row],[TIPIFICAÇÃO]]="PR",0,TB_Radiologia2[[#This Row],[TIPIFICAÇÃO]]="HB",TB_Radiologia2[[#This Row],[CH ONLINE]],TB_Radiologia2[[#This Row],[TIPIFICAÇÃO]]="ON.S",0,AND(TB_Radiologia2[[#This Row],[TIPIFICAÇÃO]]="EXT",TB_Radiologia2[[#This Row],[TIPO DE OFERTA]]="PRESENCIAL"),TB_Radiologia2[[#This Row],[CRÉDITOS]]-TB_Radiologia2[[#This Row],[CRÉDITOS PAGO PROFESSOR]])/Cursos!$E$3,0),0)} -> 0 | Z19: BACHARELADO
B20: =$J$2 -> RADIOLOGIA | C20: 2º | D20: 4 | E20: Tecnolocias, IA e Inovação Profissional em Saúde | F20: TIIPS | G20: =SUM(TB_Radiologia2[[#This Row],[CH TEÓRICA]:[CH ONLINE]]) -> 49 | H20: Institucional | I20: 0 | J20: 0 | K20: 0 | L20: 0 | M20: 49 | N20: ON.A | O20: =ROUNDUP(TB_Radiologia2[[#This Row],[CH TOTAL]]/Cursos!$E$3,0) -> 3 | P20: {=IF(AND(TB_Radiologia2[[#This Row],[TIPIFICAÇÃO]]="TCC",TB_Radiologia2[[#This Row],[TIPO DE OFERTA]]="PRESENCIAL"),SUM(TB_Radiologia2[[#This Row],[CH TEÓRICA]:[CH PRÁTICA]]/66),IF(TB_Radiologia2[[#This Row],[TIPIFICAÇÃO]]="EST",1,IF(AND(IF(OR(TB_Radiologia2[[#This Row],[TIPIFICAÇÃO]]="HB",TB_Radiologia2[[#This Row],[TIPIFICAÇÃO]]="PR"),SUM(TB_Radiologia2[[#This Row],[CH TEÓRICA]:[CH PRÁTICA]])/66,IF(TB_Radiologia2[[#This Row],[TIPIFICAÇÃO]]="EXT",0.5,0))>0.6,IF(OR(TB_Radiologia2[[#This Row],[TIPIFICAÇÃO]]="HB",TB_Radiologia2[[#This Row],[TIPIFICAÇÃO]]="PR"),SUM(TB_Radiologia2[[#This Row],[CH TEÓRICA]:[CH PRÁTICA]])/66,IF(TB_Radiologia2[[#This Row],[TIPIFICAÇÃO]]="EXT",0.5,0))<0.8),1,IF(OR(TB_Radiologia2[[#This Row],[TIPIFICAÇÃO]]="HB",TB_Radiologia2[[#This Row],[TIPIFICAÇÃO]]="PR"),SUM(TB_Radiologia2[[#This Row],[CH TEÓRICA]:[CH PRÁTICA]])/66,IF(TB_Radiologia2[[#This Row],[TIPIFICAÇÃO]]="EXT",0.5,0)))))} -> 0 | R20: PRESENCIAL | V20: {=ROUNDUP(IFERROR(_xlfn.IFS(TB_Radiologia2[[#This Row],[TIPIFICAÇÃO]]="ON.A",0,AND(TB_Radiologia2[[#This Row],[TIPIFICAÇÃO]]="EST",TB_Radiologia2[[#This Row],[TIPO DE OFERTA]]="PRESENCIAL"),0,AND(TB_Radiologia2[[#This Row],[TIPIFICAÇÃO]]="PR",OR(TB_Radiologia2[[#This Row],[TIPO DE OFERTA]]="PRESENCIAL",TB_Radiologia2[[#This Row],[TIPO DE OFERTA]]="SEMI-PRESENCIAL")),TB_Radiologia2[[#This Row],[CH TEÓRICA]]+TB_Radiologia2[[#This Row],[CH PRÁTICA]],AND(TB_Radiologia2[[#This Row],[TIPIFICAÇÃO]]="HB",TB_Radiologia2[[#This Row],[TIPO DE OFERTA]]="PRESENCIAL"),TB_Radiologia2[[#This Row],[CH TEÓRICA]]+TB_Radiologia2[[#This Row],[CH PRÁTICA]],AND(TB_Radiologia2[[#This Row],[TIPIFICAÇÃO]]="EXT",OR(TB_Radiologia2[[#This Row],[TIPO DE OFERTA]]="PRESENCIAL",TB_Radiologia2[[#This Row],[TIPO DE OFERTA]]="SEMI-PRESENCIAL")),33,AND(TB_Radiologia2[[#This Row],[TIPIFICAÇÃO]]="TCC",TB_Radiologia2[[#This Row],[TIPO DE OFERTA]]="PRESENCIAL"),SUM(TB_Radiologia2[[#This Row],[CH TEÓRICA]],TB_Radiologia2[[#This Row],[CH PRÁTICA]]))/Cursos!$E$3,0),0)} -> 0 | W20: =IF(TB_Radiologia2[[#This Row],[TIPIFICAÇÃO]]="ON.S",ROUNDUP(TB_Radiologia2[[#This Row],[CH TEÓRICA]]/Cursos!$E$3,0),0) -> 0 | X20: {=IFERROR(_xlfn.IFS(TB_Radiologia2[[#This Row],[TIPIFICAÇÃO]]="ON.A",1,TB_Radiologia2[[#This Row],[TIPIFICAÇÃO]]="PR",0,TB_Radiologia2[[#This Row],[TIPIFICAÇÃO]]="HB",0,AND(TB_Radiologia2[[#This Row],[TIPIFICAÇÃO]]="EXT",OR(TB_Radiologia2[[#This Row],[TIPO DE OFERTA]]="SEMI-PRESENCIAL",TB_Radiologia2[[#This Row],[TIPO DE OFERTA]]="EAD 100%")),1),0)} -> 1 | Y20: {=ROUNDUP(IFERROR(_xlfn.IFS(TB_Radiologia2[[#This Row],[TIPIFICAÇÃO]]="ON.A",0,TB_Radiologia2[[#This Row],[TIPIFICAÇÃO]]="PR",0,TB_Radiologia2[[#This Row],[TIPIFICAÇÃO]]="HB",TB_Radiologia2[[#This Row],[CH ONLINE]],TB_Radiologia2[[#This Row],[TIPIFICAÇÃO]]="ON.S",0,AND(TB_Radiologia2[[#This Row],[TIPIFICAÇÃO]]="EXT",TB_Radiologia2[[#This Row],[TIPO DE OFERTA]]="PRESENCIAL"),TB_Radiologia2[[#This Row],[CRÉDITOS]]-TB_Radiologia2[[#This Row],[CRÉDITOS PAGO PROFESSOR]])/Cursos!$E$3,0),0)} -> 0 | Z20: BACHARELADO
B21: =$J$2 -> RADIOLOGIA | C21: 2º | D21: 5 | E21: Atenção Primária à Saúde | F21: APS | G21: =SUM(TB_Radiologia2[[#This Row],[CH TEÓRICA]:[CH ONLINE]]) -> 66 | H21: Comum de Área | I21: 0 | J21: 0 | K21: 0 | L21: 0 | M21: 66 | N21: ON.A | O21: =ROUNDUP(TB_Radiologia2[[#This Row],[CH TOTAL]]/Cursos!$E$3,0) -> 4 | P21: {=IF(AND(TB_Radiologia2[[#This Row],[TIPIFICAÇÃO]]="TCC",TB_Radiologia2[[#This Row],[TIPO DE OFERTA]]="PRESENCIAL"),SUM(TB_Radiologia2[[#This Row],[CH TEÓRICA]:[CH PRÁTICA]]/66),IF(TB_Radiologia2[[#This Row],[TIPIFICAÇÃO]]="EST",1,IF(AND(IF(OR(TB_Radiologia2[[#This Row],[TIPIFICAÇÃO]]="HB",TB_Radiologia2[[#This Row],[TIPIFICAÇÃO]]="PR"),SUM(TB_Radiologia2[[#This Row],[CH TEÓRICA]:[CH PRÁTICA]])/66,IF(TB_Radiologia2[[#This Row],[TIPIFICAÇÃO]]="EXT",0.5,0))>0.6,IF(OR(TB_Radiologia2[[#This Row],[TIPIFICAÇÃO]]="HB",TB_Radiologia2[[#This Row],[TIPIFICAÇÃO]]="PR"),SUM(TB_Radiologia2[[#This Row],[CH TEÓRICA]:[CH PRÁTICA]])/66,IF(TB_Radiologia2[[#This Row],[TIPIFICAÇÃO]]="EXT",0.5,0))<0.8),1,IF(OR(TB_Radiologia2[[#This Row],[TIPIFICAÇÃO]]="HB",TB_Radiologia2[[#This Row],[TIPIFICAÇÃO]]="PR"),SUM(TB_Radiologia2[[#This Row],[CH TEÓRICA]:[CH PRÁTICA]])/66,IF(TB_Radiologia2[[#This Row],[TIPIFICAÇÃO]]="EXT",0.5,0)))))} -> 0 | R21: PRESENCIAL | V21: {=ROUNDUP(IFERROR(_xlfn.IFS(TB_Radiologia2[[#This Row],[TIPIFICAÇÃO]]="ON.A",0,AND(TB_Radiologia2[[#This Row],[TIPIFICAÇÃO]]="EST",TB_Radiologia2[[#This Row],[TIPO DE OFERTA]]="PRESENCIAL"),0,AND(TB_Radiologia2[[#This Row],[TIPIFICAÇÃO]]="PR",OR(TB_Radiologia2[[#This Row],[TIPO DE OFERTA]]="PRESENCIAL",TB_Radiologia2[[#This Row],[TIPO DE OFERTA]]="SEMI-PRESENCIAL")),TB_Radiologia2[[#This Row],[CH TEÓRICA]]+TB_Radiologia2[[#This Row],[CH PRÁTICA]],AND(TB_Radiologia2[[#This Row],[TIPIFICAÇÃO]]="HB",TB_Radiologia2[[#This Row],[TIPO DE OFERTA]]="PRESENCIAL"),TB_Radiologia2[[#This Row],[CH TEÓRICA]]+TB_Radiologia2[[#This Row],[CH PRÁTICA]],AND(TB_Radiologia2[[#This Row],[TIPIFICAÇÃO]]="EXT",OR(TB_Radiologia2[[#This Row],[TIPO DE OFERTA]]="PRESENCIAL",TB_Radiologia2[[#This Row],[TIPO DE OFERTA]]="SEMI-PRESENCIAL")),33,AND(TB_Radiologia2[[#This Row],[TIPIFICAÇÃO]]="TCC",TB_Radiologia2[[#This Row],[TIPO DE OFERTA]]="PRESENCIAL"),SUM(TB_Radiologia2[[#This Row],[CH TEÓRICA]],TB_Radiologia2[[#This Row],[CH PRÁTICA]]))/Cursos!$E$3,0),0)} -> 0 | W21: =IF(TB_Radiologia2[[#This Row],[TIPIFICAÇÃO]]="ON.S",ROUNDUP(TB_Radiologia2[[#This Row],[CH TEÓRICA]]/Cursos!$E$3,0),0) -> 0 | X21: {=IFERROR(_xlfn.IFS(TB_Radiologia2[[#This Row],[TIPIFICAÇÃO]]="ON.A",1,TB_Radiologia2[[#This Row],[TIPIFICAÇÃO]]="PR",0,TB_Radiologia2[[#This Row],[TIPIFICAÇÃO]]="HB",0,AND(TB_Radiologia2[[#This Row],[TIPIFICAÇÃO]]="EXT",OR(TB_Radiologia2[[#This Row],[TIPO DE OFERTA]]="SEMI-PRESENCIAL",TB_Radiologia2[[#This Row],[TIPO DE OFERTA]]="EAD 100%")),1),0)} -> 1 | Y21: {=ROUNDUP(IFERROR(_xlfn.IFS(TB_Radiologia2[[#This Row],[TIPIFICAÇÃO]]="ON.A",0,TB_Radiologia2[[#This Row],[TIPIFICAÇÃO]]="PR",0,TB_Radiologia2[[#This Row],[TIPIFICAÇÃO]]="HB",TB_Radiologia2[[#This Row],[CH ONLINE]],TB_Radiologia2[[#This Row],[TIPIFICAÇÃO]]="ON.S",0,AND(TB_Radiologia2[[#This Row],[TIPIFICAÇÃO]]="EXT",TB_Radiologia2[[#This Row],[TIPO DE OFERTA]]="PRESENCIAL"),TB_Radiologia2[[#This Row],[CRÉDITOS]]-TB_Radiologia2[[#This Row],[CRÉDITOS PAGO PROFESSOR]])/Cursos!$E$3,0),0)} -> 0 | Z21: BACHARELADO
B22: =$J$2 -> RADIOLOGIA | C22: 2º | D22: 6 | E22: Radiologia Veterinária | F22: RV | G22: =SUM(TB_Radiologia2[[#This Row],[CH TEÓRICA]:[CH ONLINE]]) -> 66 | H22: Específica | I22: 33 | J22: 33 | K22: 0 | L22: 0 | M22: 0 | N22: PR | O22: =ROUNDUP(TB_Radiologia2[[#This Row],[CH TOTAL]]/Cursos!$E$3,0) -> 4 | P22: {=IF(AND(TB_Radiologia2[[#This Row],[TIPIFICAÇÃO]]="TCC",TB_Radiologia2[[#This Row],[TIPO DE OFERTA]]="PRESENCIAL"),SUM(TB_Radiologia2[[#This Row],[CH TEÓRICA]:[CH PRÁTICA]]/66),IF(TB_Radiologia2[[#This Row],[TIPIFICAÇÃO]]="EST",1,IF(AND(IF(OR(TB_Radiologia2[[#This Row],[TIPIFICAÇÃO]]="HB",TB_Radiologia2[[#This Row],[TIPIFICAÇÃO]]="PR"),SUM(TB_Radiologia2[[#This Row],[CH TEÓRICA]:[CH PRÁTICA]])/66,IF(TB_Radiologia2[[#This Row],[TIPIFICAÇÃO]]="EXT",0.5,0))>0.6,IF(OR(TB_Radiologia2[[#This Row],[TIPIFICAÇÃO]]="HB",TB_Radiologia2[[#This Row],[TIPIFICAÇÃO]]="PR"),SUM(TB_Radiologia2[[#This Row],[CH TEÓRICA]:[CH PRÁTICA]])/66,IF(TB_Radiologia2[[#This Row],[TIPIFICAÇÃO]]="EXT",0.5,0))<0.8),1,IF(OR(TB_Radiologia2[[#This Row],[TIPIFICAÇÃO]]="HB",TB_Radiologia2[[#This Row],[TIPIFICAÇÃO]]="PR"),SUM(TB_Radiologia2[[#This Row],[CH TEÓRICA]:[CH PRÁTICA]])/66,IF(TB_Radiologia2[[#This Row],[TIPIFICAÇÃO]]="EXT",0.5,0)))))} -> 1 | R22: PRESENCIAL | V22: {=ROUNDUP(IFERROR(_xlfn.IFS(TB_Radiologia2[[#This Row],[TIPIFICAÇÃO]]="ON.A",0,AND(TB_Radiologia2[[#This Row],[TIPIFICAÇÃO]]="EST",TB_Radiologia2[[#This Row],[TIPO DE OFERTA]]="PRESENCIAL"),0,AND(TB_Radiologia2[[#This Row],[TIPIFICAÇÃO]]="PR",OR(TB_Radiologia2[[#This Row],[TIPO DE OFERTA]]="PRESENCIAL",TB_Radiologia2[[#This Row],[TIPO DE OFERTA]]="SEMI-PRESENCIAL")),TB_Radiologia2[[#This Row],[CH TEÓRICA]]+TB_Radiologia2[[#This Row],[CH PRÁTICA]],AND(TB_Radiologia2[[#This Row],[TIPIFICAÇÃO]]="HB",TB_Radiologia2[[#This Row],[TIPO DE OFERTA]]="PRESENCIAL"),TB_Radiologia2[[#This Row],[CH TEÓRICA]]+TB_Radiologia2[[#This Row],[CH PRÁTICA]],AND(TB_Radiologia2[[#This Row],[TIPIFICAÇÃO]]="EXT",OR(TB_Radiologia2[[#This Row],[TIPO DE OFERTA]]="PRESENCIAL",TB_Radiologia2[[#This Row],[TIPO DE OFERTA]]="SEMI-PRESENCIAL")),33,AND(TB_Radiologia2[[#This Row],[TIPIFICAÇÃO]]="TCC",TB_Radiologia2[[#This Row],[TIPO DE OFERTA]]="PRESENCIAL"),SUM(TB_Radiologia2[[#This Row],[CH TEÓRICA]],TB_Radiologia2[[#This Row],[CH PRÁTICA]]))/Cursos!$E$3,0),0)} -> 4 | W22: =IF(TB_Radiologia2[[#This Row],[TIPIFICAÇÃO]]="ON.S",ROUNDUP(TB_Radiologia2[[#This Row],[CH TEÓRICA]]/Cursos!$E$3,0),0) -> 0 | X22: {=IFERROR(_xlfn.IFS(TB_Radiologia2[[#This Row],[TIPIFICAÇÃO]]="ON.A",1,TB_Radiologia2[[#This Row],[TIPIFICAÇÃO]]="PR",0,TB_Radiologia2[[#This Row],[TIPIFICAÇÃO]]="HB",0,AND(TB_Radiologia2[[#This Row],[TIPIFICAÇÃO]]="EXT",OR(TB_Radiologia2[[#This Row],[TIPO DE OFERTA]]="SEMI-PRESENCIAL",TB_Radiologia2[[#This Row],[TIPO DE OFERTA]]="EAD 100%")),1),0)} -> 0 | Y22: {=ROUNDUP(IFERROR(_xlfn.IFS(TB_Radiologia2[[#This Row],[TIPIFICAÇÃO]]="ON.A",0,TB_Radiologia2[[#This Row],[TIPIFICAÇÃO]]="PR",0,TB_Radiologia2[[#This Row],[TIPIFICAÇÃO]]="HB",TB_Radiologia2[[#This Row],[CH ONLINE]],TB_Radiologia2[[#This Row],[TIPIFICAÇÃO]]="ON.S",0,AND(TB_Radiologia2[[#This Row],[TIPIFICAÇÃO]]="EXT",TB_Radiologia2[[#This Row],[TIPO DE OFERTA]]="PRESENCIAL"),TB_Radiologia2[[#This Row],[CRÉDITOS]]-TB_Radiologia2[[#This Row],[CRÉDITOS PAGO PROFESSOR]])/Cursos!$E$3,0),0)} -> 0 | Z22: BACHARELADO
B23: =$J$2 -> RADIOLOGIA | C23: 2º | D23: 7 | E23: Radiologia Forense | F23: RF | G23: =SUM(TB_Radiologia2[[#This Row],[CH TEÓRICA]:[CH ONLINE]]) -> 33 | H23: Específica | I23: 33 | J23: 0 | K23: 0 | L23: 0 | M23: 0 | N23: PR | O23: =ROUNDUP(TB_Radiologia2[[#This Row],[CH TOTAL]]/Cursos!$E$3,0) -> 2 | P23: {=IF(AND(TB_Radiologia2[[#This Row],[TIPIFICAÇÃO]]="TCC",TB_Radiologia2[[#This Row],[TIPO DE OFERTA]]="PRESENCIAL"),SUM(TB_Radiologia2[[#This Row],[CH TEÓRICA]:[CH PRÁTICA]]/66),IF(TB_Radiologia2[[#This Row],[TIPIFICAÇÃO]]="EST",1,IF(AND(IF(OR(TB_Radiologia2[[#This Row],[TIPIFICAÇÃO]]="HB",TB_Radiologia2[[#This Row],[TIPIFICAÇÃO]]="PR"),SUM(TB_Radiologia2[[#This Row],[CH TEÓRICA]:[CH PRÁTICA]])/66,IF(TB_Radiologia2[[#This Row],[TIPIFICAÇÃO]]="EXT",0.5,0))>0.6,IF(OR(TB_Radiologia2[[#This Row],[TIPIFICAÇÃO]]="HB",TB_Radiologia2[[#This Row],[TIPIFICAÇÃO]]="PR"),SUM(TB_Radiologia2[[#This Row],[CH TEÓRICA]:[CH PRÁTICA]])/66,IF(TB_Radiologia2[[#This Row],[TIPIFICAÇÃO]]="EXT",0.5,0))<0.8),1,IF(OR(TB_Radiologia2[[#This Row],[TIPIFICAÇÃO]]="HB",TB_Radiologia2[[#This Row],[TIPIFICAÇÃO]]="PR"),SUM(TB_Radiologia2[[#This Row],[CH TEÓRICA]:[CH PRÁTICA]])/66,IF(TB_Radiologia2[[#This Row],[TIPIFICAÇÃO]]="EXT",0.5,0)))))} -> 0.5 | R23: PRESENCIAL | V23: {=ROUNDUP(IFERROR(_xlfn.IFS(TB_Radiologia2[[#This Row],[TIPIFICAÇÃO]]="ON.A",0,AND(TB_Radiologia2[[#This Row],[TIPIFICAÇÃO]]="EST",TB_Radiologia2[[#This Row],[TIPO DE OFERTA]]="PRESENCIAL"),0,AND(TB_Radiologia2[[#This Row],[TIPIFICAÇÃO]]="PR",OR(TB_Radiologia2[[#This Row],[TIPO DE OFERTA]]="PRESENCIAL",TB_Radiologia2[[#This Row],[TIPO DE OFERTA]]="SEMI-PRESENCIAL")),TB_Radiologia2[[#This Row],[CH TEÓRICA]]+TB_Radiologia2[[#This Row],[CH PRÁTICA]],AND(TB_Radiologia2[[#This Row],[TIPIFICAÇÃO]]="HB",TB_Radiologia2[[#This Row],[TIPO DE OFERTA]]="PRESENCIAL"),TB_Radiologia2[[#This Row],[CH TEÓRICA]]+TB_Radiologia2[[#This Row],[CH PRÁTICA]],AND(TB_Radiologia2[[#This Row],[TIPIFICAÇÃO]]="EXT",OR(TB_Radiologia2[[#This Row],[TIPO DE OFERTA]]="PRESENCIAL",TB_Radiologia2[[#This Row],[TIPO DE OFERTA]]="SEMI-PRESENCIAL")),33,AND(TB_Radiologia2[[#This Row],[TIPIFICAÇÃO]]="TCC",TB_Radiologia2[[#This Row],[TIPO DE OFERTA]]="PRESENCIAL"),SUM(TB_Radiologia2[[#This Row],[CH TEÓRICA]],TB_Radiologia2[[#This Row],[CH PRÁTICA]]))/Cursos!$E$3,0),0)} -> 2 | W23: =IF(TB_Radiologia2[[#This Row],[TIPIFICAÇÃO]]="ON.S",ROUNDUP(TB_Radiologia2[[#This Row],[CH TEÓRICA]]/Cursos!$E$3,0),0) -> 0 | X23: {=IFERROR(_xlfn.IFS(TB_Radiologia2[[#This Row],[TIPIFICAÇÃO]]="ON.A",1,TB_Radiologia2[[#This Row],[TIPIFICAÇÃO]]="PR",0,TB_Radiologia2[[#This Row],[TIPIFICAÇÃO]]="HB",0,AND(TB_Radiologia2[[#This Row],[TIPIFICAÇÃO]]="EXT",OR(TB_Radiologia2[[#This Row],[TIPO DE OFERTA]]="SEMI-PRESENCIAL",TB_Radiologia2[[#This Row],[TIPO DE OFERTA]]="EAD 100%")),1),0)} -> 0 | Y23: {=ROUNDUP(IFERROR(_xlfn.IFS(TB_Radiologia2[[#This Row],[TIPIFICAÇÃO]]="ON.A",0,TB_Radiologia2[[#This Row],[TIPIFICAÇÃO]]="PR",0,TB_Radiologia2[[#This Row],[TIPIFICAÇÃO]]="HB",TB_Radiologia2[[#This Row],[CH ONLINE]],TB_Radiologia2[[#This Row],[TIPIFICAÇÃO]]="ON.S",0,AND(TB_Radiologia2[[#This Row],[TIPIFICAÇÃO]]="EXT",TB_Radiologia2[[#This Row],[TIPO DE OFERTA]]="PRESENCIAL"),TB_Radiologia2[[#This Row],[CRÉDITOS]]-TB_Radiologia2[[#This Row],[CRÉDITOS PAGO PROFESSOR]])/Cursos!$E$3,0),0)} -> 0 | Z23: BACHARELADO
