Workbook
Name ADMINISTRAÇÃO: #REF!
Name ADS: #REF!
Name AGRONOMIA: #REF!
Name ARQUITETURA: #REF!
Name BIOMEDICINA: #REF!
Name CIÊNCIAS_CONTÁBEIS: #REF!
Name DIREITO: #REF!
Name EDUCAÇÃO_FÍSICA: #REF!
Name ENFERMAGEM: #REF!
Name ENGENHARIA_CIVIL: #REF!
Name ESTÉTICA_2.5_ANOS: #REF!
Name ESTÉTICA_2_ANOS: #REF!
Name ESTÉTICA_3_ANOS: #REF!
Name FARMÁCIA: #REF!
Name FISIOTERAPIA: #REF!
Name FONOAUDIOLOGIA: #REF!
Name NUTRIÇÃO: #REF!
Name PSICOLOGIA: #REF!
Name PUBLICIDADE_E_PROPAGANDA: #REF!
Name SISTEMAS_DE_INFORMAÇÃO: #REF!
Name VETERINÁRIA: #REF!

Sheet Cursos
B2: Curso | E2: PARÂMETRO DE CRÉDITOS | H2: TIPIFICAÇÕES
B3: Selecione o curso | E3: 16.5 | H3: ON.A
B4: ADMINISTRAÇÃO | H4: ON.S
B5: AGRONOMIA | H5: PR
B6: ANÁLISE E DESENVOLVIMENTO DE SISTEMAS | H6: HB
B7: ARQUITETURA E URBANISMO | H7: EXT
B8: BIOMEDICINA | H8: EST
B9: CIÊNCIA DE DADOS | H9: TCC
B10: CIÊNCIAS CONTÁBEIS | H10: ACC
B11: CIÊNCIAS ECONÔMICAS
B12: DESENVOLVIMENTO FULL STACK
B13: DIREITO
B14: EDUCAÇÃO_FÍSICA
B15: ENFERMAGEM
B16: ENGENHARIA CIVIL
B17: ENGENHARIA DE PRODUÇÃO
B18: ESTÉTICA E COSMÉTICA
B19: FARMÁCIA
B20: FISIOTERAPIA
B21: FONOAUDIOLOGIA
B22: GESTÃO COMERCIAL
... B33: SISTEMAS DE INFORMAÇÃO

Sheet Frame 1
I2: CURSO: | J2: RADIOLOGIA
E4: Gabarito | G4: =G56 -> 2600
E5: Estágio | G5: =K56 -> 488 | Q5: Se for todos os alunos do periodo, preencher como "GERAL"
E6: ACC | G6: =G53 -> 74
B8: CURSO | C8: PERÍODOS | D8: ORDEM | E8: NOME DISCIPLINA | F8: REDUZIDO | G8: CH TOTAL | H8: TIPO COMPONENTE | I8: CH TEÓRICA | J8: CH PRÁTICA | K8: CH ESTÁGIO | L8: CH EXTENSÃO | M8: CH ONLINE | N8: TIPIFICAÇÃO | O8: CRÉDITOS | P8: DIAS PRESENCIAL | Q8: ALUNOS POR TURMA OU GRUPOS | R8: TIPO DE OFERTA | S8: CRÉDITOS PAGO PROFESSOR | T8: CRÉDITOS PAGOS ON.S | U8: CRÉDITOS PAGO TUTOR | V8: CRÉDITOS OFF | W8: HABILITAÇÃO | X8: PRESENCIAL | Y8: DIAS DE PRESENCIAL MOD.: PRESENCIAL | Z8: SEMI | AA8: DIAS DE PRESENCIAL MOD.: SEMI | AB8: 100%
B9: =$J$2 -> RADIOLOGIA | C9: 1º | D9: 1 | E9: Marketing Pessoal e Profissional | F9: MPP | G9: =SUM(TB_Radiologia1[[#This Row],[CH TEÓRICA]:[CH ONLINE]]) -> 66 | H9: institucional | I9: 0 | J9: 0 | K9: 0 | L9: 0 | M9: 66 | N9: ON.A | O9: =ROUNDUP(TB_Radiologia1[[#This Row],[CH TOTAL]]/Cursos!$E$3,0) -> 4 | P9: {=IF(AND(TB_Radiologia1[[#This Row],[TIPIFICAÇÃO]]="TCC",TB_Radiologia1[[#This Row],[TIPO DE OFERTA]]="PRESENCIAL"),SUM(TB_Radiologia1[[#This Row],[CH TEÓRICA]:[CH PRÁTICA]]/66),IF(TB_Radiologia1[[#This Row],[TIPIFICAÇÃO]]="EST",1,IF(AND(IF(OR(TB_Radiologia1[[#This Row],[TIPIFICAÇÃO]]="HB",TB_Radiologia1[[#This Row],[TIPIFICAÇÃO]]="PR"),SUM(TB_Radiologia1[[#This Row],[CH TEÓRICA]:[CH PRÁTICA]])/66,IF(TB_Radiologia1[[#This Row],[TIPIFICAÇÃO]]="EXT",0.5,0))>0.6,IF(OR(TB_Radiologia1[[#This Row],[TIPIFICAÇÃO]]="HB",TB_Radiologia1[[#This Row],[TIPIFICAÇÃO]]="PR"),SUM(TB_Radiologia1[[#This Row],[CH TEÓRICA]:[CH PRÁTICA]])/66,IF(TB_Radiologia1[[#This Row],[TIPIFICAÇÃO]]="EXT",0.5,0))<0.8),1,IF(OR(TB_Radiologia1[[#This Row],[TIPIFICAÇÃO]]="HB",TB_Radiologia1[[#This Row],[TIPIFICAÇÃO]]="PR"),SUM(TB_Radiologia1[[#This Row],[CH TEÓRICA]:[CH PRÁTICA]])/66,IF(TB_Radiologia1[[#This Row],[TIPIFICAÇÃO]]="EXT",0.5,0)))))} -> 0 | R9: PRESENCIAL | S9: {=ROUNDUP(IFERROR(_xlfn.IFS(TB_Radiologia1[[#This Row],[TIPIFICAÇÃO]]="ON.A",0,AND(TB_Radiologia1[[#This Row],[TIPIFICAÇÃO]]="EST",TB_Radiologia1[[#This Row],[TIPO DE OFERTA]]="PRESENCIAL"),0,AND(TB_Radiologia1[[#This Row],[TIPIFICAÇÃO]]="PR",OR(TB_Radiologia1[[#This Row],[TIPO DE OFERTA]]="PRESENCIAL",TB_Radiologia1[[#This Row],[TIPO DE OFERTA]]="SEMI-PRESENCIAL")),TB_Radiologia1[[#This Row],[CH TEÓRICA]]+TB_Radiologia1[[#This Row],[CH PRÁTICA]],AND(TB_Radiologia1[[#This Row],[TIPIFICAÇÃO]]="HB",TB_Radiologia1[[#This Row],[TIPO DE OFERTA]]="PRESENCIAL"),TB_Radiologia1[[#This Row],[CH TEÓRICA]]+TB_Radiologia1[[#This Row],[CH PRÁTICA]],AND(TB_Radiologia1[[#This Row],[TIPIFICAÇÃO]]="EXT",OR(TB_Radiologia1[[#This Row],[TIPO DE OFERTA]]="PRESENCIAL",TB_Radiologia1[[#This Row],[TIPO DE OFERTA]]="SEMI-PRESENCIAL")),33,AND(TB_Radiologia1[[#This Row],[TIPIFICAÇÃO]]="TCC",TB_Radiologia1[[#This Row],[TIPO DE OFERTA]]="PRESENCIAL"),SUM(TB_Radiologia1[[#This Row],[CH TEÓRICA]],TB_Radiologia1[[#This Row],[CH PRÁTICA]]))/Cursos!$E$3,0),0)} -> 0 | T9: =IF(TB_Radiologia1[[#This Row],[TIPIFICAÇÃO]]="ON.S",ROUNDUP(TB_Radiologia1[[#This Row],[CH TEÓRICA]]/Cursos!$E$3,0),0) -> 0 | U9: {=IFERROR(_xlfn.IFS(TB_Radiologia1[[#This Row],[TIPIFICAÇÃO]]="ON.A",1,TB_Radiologia1[[#This Row],[TIPIFICAÇÃO]]="PR",0,TB_Radiologia1[[#This Row],[TIPIFICAÇÃO]]="HB",0,AND(TB_Radiologia1[[#This Row],[TIPIFICAÇÃO]]="EXT",OR(TB_Radiologia1[[#This Row],[TIPO DE OFERTA]]="SEMI-PRESENCIAL",TB_Radiologia1[[#This Row],[TIPO DE OFERTA]]="EAD 100%")),1),0)} -> 1 | V9: {=ROUNDUP(IFERROR(_xlfn.IFS(TB_Radiologia1[[#This Row],[TIPIFICAÇÃO]]="ON.A",0,TB_Radiologia1[[#This Row],[TIPIFICAÇÃO]]="PR",0,TB_Radiologia1[[#This Row],[TIPIFICAÇÃO]]="HB",TB_Radiologia1[[#This Row],[CH ONLINE]],TB_Radiologia1[[#This Row],[TIPIFICAÇÃO]]="ON.S",0,AND(TB_Radiologia1[[#This Row],[TIPIFICAÇÃO]]="EXT",TB_Radiologia1[[#This Row],[TIPO DE OFERTA]]="PRESENCIAL"),TB_Radiologia1[[#This Row],[CRÉDITOS]]-TB_Radiologia1[[#This Row],[CRÉDITOS PAGO PROFESSOR]])/Cursos!$E$3,0),0)} -> 0 | W9: BACHARELADO
B10: =$J$2 -> RADIOLOGIA | C10: 1º | D10: 2 | E10: Fundamentos Matemáticos | F10: FM | G10: =SUM(TB_Radiologia1[[#This Row],[CH TEÓRICA]:[CH ONLINE]]) -> 33 | H10: Específica | I10: 33 | J10: 0 | K10: 0 | L10: 0 | M10: 0 | N10: PR | O10: =ROUNDUP(TB_Radiologia1[[#This Row],[CH TOTAL]]/Cursos!$E$3,0) -> 2 | P10: {=IF(AND(TB_Radiologia1[[#This Row],[TIPIFICAÇÃO]]="TCC",TB_Radiologia1[[#This Row],[TIPO DE OFERTA]]="PRESENCIAL"),SUM(TB_Radiologia1[[#This Row],[CH TEÓRICA]:[CH PRÁTICA]]/66),IF(TB_Radiologia1[[#This Row],[TIPIFICAÇÃO]]="EST",1,IF(AND(IF(OR(TB_Radiologia1[[#This Row],[TIPIFICAÇÃO]]="HB",TB_Radiologia1[[#This Row],[TIPIFICAÇÃO]]="PR"),SUM(TB_Radiologia1[[#This Row],[CH TEÓRICA]:[CH PRÁTICA]])/66,IF(TB_Radiologia1[[#This Row],[TIPIFICAÇÃO]]="EXT",0.5,0))>0.6,IF(OR(TB_Radiologia1[[#This Row],[TIPIFICAÇÃO]]="HB",TB_Radiologia1[[#This Row],[TIPIFICAÇÃO]]="PR"),SUM(TB_Radiologia1[[#This Row],[CH TEÓRICA]:[CH PRÁTICA]])/66,IF(TB_Radiologia1[[#This Row],[TIPIFICAÇÃO]]="EXT",0.5,0))<0.8),1,IF(OR(TB_Radiologia1[[#This Row],[TIPIFICAÇÃO]]="HB",TB_Radiologia1[[#This Row],[TIPIFICAÇÃO]]="PR"),SUM(TB_Radiologia1[[#This Row],[CH TEÓRICA]:[CH PRÁTICA]])/66,IF(TB_Radiologia1[[#This Row],[TIPIFICAÇÃO]]="EXT",0.5,0)))))} -> 0.5 | R10: PRESENCIAL | S10: {=ROUNDUP(IFERROR(_xlfn.IFS(TB_Radiologia1[[#This Row],[TIPIFICAÇÃO]]="ON.A",0,AND(TB_Radiologia1[[#This Row],[TIPIFICAÇÃO]]="EST",TB_Radiologia1[[#This Row],[TIPO DE OFERTA]]="PRESENCIAL"),0,AND(TB_Radiologia1[[#This Row],[TIPIFICAÇÃO]]="PR",OR(TB_Radiologia1[[#This Row],[TIPO DE OFERTA]]="PRESENCIAL",TB_Radiologia1[[#This Row],[TIPO DE OFERTA]]="SEMI-PRESENCIAL")),TB_Radiologia1[[#This Row],[CH TEÓRICA]]+TB_Radiologia1[[#This Row],[CH PRÁTICA]],AND(TB_Radiologia1[[#This Row],[TIPIFICAÇÃO]]="HB",TB_Radiologia1[[#This Row],[TIPO DE OFERTA]]="PRESENCIAL"),TB_Radiologia1[[#This Row],[CH TEÓRICA]]+TB_Radiologia1[[#This Row],[CH PRÁTICA]],AND(TB_Radiologia1[[#This Row],[TIPIFICAÇÃO]]="EXT",OR(TB_Radiologia1[[#This Row],[TIPO DE OFERTA]]="PRESENCIAL",TB_Radiologia1[[#This Row],[TIPO DE OFERTA]]="SEMI-PRESENCIAL")),33,AND(TB_Radiologia1[[#This Row],[TIPIFICAÇÃO]]="TCC",TB_Radiologia1[[#This Row],[TIPO DE OFERTA]]="PRESENCIAL"),SUM(TB_Radiologia1[[#This Row],[CH TEÓRICA]],TB_Radiologia1[[#This Row],[CH PRÁTICA]]))/Cursos!$E$3,0),0)} -> 2 | T10: =IF(TB_Radiologia1[[#This Row],[TIPIFICAÇÃO]]="ON.S",ROUNDUP(TB_Radiologia1[[#This Row],[CH TEÓRICA]]/Cursos!$E$3,0),0) -> 0 | U10: {=IFERROR(_xlfn.IFS(TB_Radiologia1[[#This Row],[TIPIFICAÇÃO]]="ON.A",1,TB_Radiologia1[[#This Row],[TIPIFICAÇÃO]]="PR",0,TB_Radiologia1[[#This Row],[TIPIFICAÇÃO]]="HB",0,AND(TB_Radiologia1[[#This Row],[TIPIFICAÇÃO]]="EXT",OR(TB_Radiologia1[[#This Row],[TIPO DE OFERTA]]="SEMI-PRESENCIAL",TB_Radiologia1[[#This Row],[TIPO DE OFERTA]]="EAD 100%")),1),0)} -> 0 | V10: {=ROUNDUP(IFERROR(_xlfn.IFS(TB_Radiologia1[[#This Row],[TIPIFICAÇÃO]]="ON.A",0,TB_Radiologia1[[#This Row],[TIPIFICAÇÃO]]="PR",0,TB_Radiologia1[[#This Row],[TIPIFICAÇÃO]]="HB",TB_Radiologia1[[#This Row],[CH ONLINE]],TB_Radiologia1[[#This Row],[TIPIFICAÇÃO]]="ON.S",0,AND(TB_Radiologia1[[#This Row],[TIPIFICAÇÃO]]="EXT",TB_Radiologia1[[#This Row],[TIPO DE OFERTA]]="PRESENCIAL"),TB_Radiologia1[[#This Row],[CRÉDITOS]]-TB_Radiologia1[[#This Row],[CRÉDITOS PAGO PROFESSOR]])/Cursos!$E$3,0),0)} -> 0 | W10: BACHARELADO
B11: =$J$2 -> RADIOLOGIA | C11: 1º | D11: 3 | E11: Ética e Bioética em Saúde | F11: EBIOSA | G11: =SUM(TB_Radiologia1[[#This Row],[CH TEÓRICA]:[CH ONLINE]]) -> 33 | H11: Comum de Área | I11: 0 | J11: 0 | K11: 0 | L11: 0 | M11: 33 | N11: ON.A | O11: =ROUNDUP(TB_Radiologia1[[#This Row],[CH TOTAL]]/Cursos!$E$3,0) -> 2 | P11: {=IF(AND(TB_Radiologia1[[#This Row],[TIPIFICAÇÃO]]="TCC",TB_Radiologia1[[#This Row],[TIPO DE OFERTA]]="PRESENCIAL"),SUM(TB_Radiologia1[[#This Row],[CH TEÓRICA]:[CH PRÁTICA]]/66),IF(TB_Radiologia1[[#This Row],[TIPIFICAÇÃO]]="EST",1,IF(AND(IF(OR(TB_Radiologia1[[#This Row],[TIPIFICAÇÃO]]="HB",TB_Radiologia1[[#This Row],[TIPIFICAÇÃO]]="PR"),SUM(TB_Radiologia1[[#This Row],[CH TEÓRICA]:[CH PRÁTICA]])/66,IF(TB_Radiologia1[[#This Row],[TIPIFICAÇÃO]]="EXT",0.5,0))>0.6,IF(OR(TB_Radiologia1[[#This Row],[TIPIFICAÇÃO]]="HB",TB_Radiologia1[[#This Row],[TIPIFICAÇÃO]]="PR"),SUM(TB_Radiologia1[[#This Row],[CH TEÓRICA]:[CH PRÁTICA]])/66,IF(TB_Radiologia1[[#This Row],[TIPIFICAÇÃO]]="EXT",0.5,0))<0.8),1,IF(OR(TB_Radiologia1[[#This Row],[TIPIFICAÇÃO]]="HB",TB_Radiologia1[[#This Row],[TIPIFICAÇÃO]]="PR"),SUM(TB_Radiologia1[[#This Row],[CH TEÓRICA]:[CH PRÁTICA]])/66,IF(TB_Radiologia1[[#This Row],[TIPIFICAÇÃO]]="EXT",0.5,0)))))} -> 0 | R11: PRESENCIAL | S11: {=ROUNDUP(IFERROR(_xlfn.IFS(TB_Radiologia1[[#This Row],[TIPIFICAÇÃO]]="ON.A",0,AND(TB_Radiologia1[[#This Row],[TIPIFICAÇÃO]]="EST",TB_Radiologia1[[#This Row],[TIPO DE OFERTA]]="PRESENCIAL"),0,AND(TB_Radiologia1[[#This Row],[TIPIFICAÇÃO]]="PR",OR(TB_Radiologia1[[#This Row],[TIPO DE OFERTA]]="PRESENCIAL",TB_Radiologia1[[#This Row],[TIPO DE OFERTA]]="SEMI-PRESENCIAL")),TB_Radiologia1[[#This Row],[CH TEÓRICA]]+TB_Radiologia1[[#This Row],[CH PRÁTICA]],AND(TB_Radiologia1[[#This Row],[TIPIFICAÇÃO]]="HB",TB_Radiologia1[[#This Row],[TIPO DE OFERTA]]="PRESENCIAL"),TB_Radiologia1[[#This Row],[CH TEÓRICA]]+TB_Radiologia1[[#This Row],[CH PRÁTICA]],AND(TB_Radiologia1[[#This Row],[TIPIFICAÇÃO]]="EXT",OR(TB_Radiologia1[[#This Row],[TIPO DE OFERTA]]="PRESENCIAL",TB_Radiologia1[[#This Row],[TIPO DE OFERTA]]="SEMI-PRESENCIAL")),33,AND(TB_Radiologia1[[#This Row],[TIPIFICAÇÃO]]="TCC",TB_Radiologia1[[#This Row],[TIPO DE OFERTA]]="PRESENCIAL"),SUM(TB_Radiologia1[[#This Row],[CH TEÓRICA]],TB_Radiologia1[[#This Row],[CH PRÁTICA]]))/Cursos!$E$3,0),0)} -> 0 | T11: =IF(TB_Radiologia1[[#This Row],[TIPIFICAÇÃO]]="ON.S",ROUNDUP(TB_Radiologia1[[#This Row],[CH TEÓRICA]]/Cursos!$E$3,0),0) -> 0 | U11: {=IFERROR(_xlfn.IFS(TB_Radiologia1[[#This Row],[TIPIFICAÇÃO]]="ON.A",1,TB_Radiologia1[[#This Row],[TIPIFICAÇÃO]]="PR",0,TB_Radiologia1[[#This Row],[TIPIFICAÇÃO]]="HB",0,AND(TB_Radiologia1[[#This Row],[TIPIFICAÇÃO]]="EXT",OR(TB_Radiologia1[[#This Row],[TIPO DE OFERTA]]="SEMI-PRESENCIAL",TB_Radiologia1[[#This Row],[TIPO DE OFERTA]]="EAD 100%")),1),0)} -> 1 | V11: {=ROUNDUP(IFERROR(_xlfn.IFS(TB_Radiologia1[[#This Row],[TIPIFICAÇÃO]]="ON.A",0,TB_Radiologia1[[#This Row],[TIPIFICAÇÃO]]="PR",0,TB_Radiologia1[[#This Row],[TIPIFICAÇÃO]]="HB",TB_Radiologia1[[#This Row],[CH ONLINE]],TB_Radiologia1[[#This Row],[TIPIFICAÇÃO]]="ON.S",0,AND(TB_Radiologia1[[#This Row],[TIPIFICAÇÃO]]="EXT",TB_Radiologia1[[#This Row],[TIPO DE OFERTA]]="PRESENCIAL"),TB_Radiologia1[[#This Row],[CRÉDITOS]]-TB_Radiologia1[[#This Row],[CRÉDITOS PAGO PROFESSOR]])/Cursos!$E$3,0),0)} -> 0 | W11: BACHARELADO
B12: =$J$2 -> RADIOLOGIA | C12: 1º | D12: 4 | E12: Psicologia em Saúde | F12: PSI SAUDE | G12: =SUM(TB_Radiologia1[[#This Row],[CH TEÓRICA]:[CH ONLINE]]) -> 33 | H12: Comum de Área | I12: 0 | J12: 0 | K12: 0 | L12: 0 | M12: 33 | N12: ON.A | O12: =ROUNDUP(TB_Radiologia1[[#This Row],[CH TOTAL]]/Cursos!$E$3,0) -> 2 | P12: {=IF(AND(TB_Radiologia1[[#This Row],[TIPIFICAÇÃO]]="TCC",TB_Radiologia1[[#This Row],[TIPO DE OFERTA]]="PRESENCIAL"),SUM(TB_Radiologia1[[#This Row],[CH TEÓRICA]:[CH PRÁTICA]]/66),IF(TB_Radiologia1[[#This Row],[TIPIFICAÇÃO]]="EST",1,IF(AND(IF(OR(TB_Radiologia1[[#This Row],[TIPIFICAÇÃO]]="HB",TB_Radiologia1[[#This Row],[TIPIFICAÇÃO]]="PR"),SUM(TB_Radiologia1[[#This Row],[CH TEÓRICA]:[CH PRÁTICA]])/66,IF(TB_Radiologia1[[#This Row],[TIPIFICAÇÃO]]="EXT",0.5,0))>0.6,IF(OR(TB_Radiologia1[[#This Row],[TIPIFICAÇÃO]]="HB",TB_Radiologia1[[#This Row],[TIPIFICAÇÃO]]="PR"),SUM(TB_Radiologia1[[#This Row],[CH TEÓRICA]:[CH PRÁTICA]])/66,IF(TB_Radiologia1[[#This Row],[TIPIFICAÇÃO]]="EXT",0.5,0))<0.8),1,IF(OR(TB_Radiologia1[[#This Row],[TIPIFICAÇÃO]]="HB",TB_Radiologia1[[#This Row],[TIPIFICAÇÃO]]="PR"),SUM(TB_Radiologia1[[#This Row],[CH TEÓRICA]:[CH PRÁTICA]])/66,IF(TB_Radiologia1[[#This Row],[TIPIFICAÇÃO]]="EXT",0.5,0)))))} -> 0 | R12: PRESENCIAL | S12: {=ROUNDUP(IFERROR(_xlfn.IFS(TB_Radiologia1[[#This Row],[TIPIFICAÇÃO]]="ON.A",0,AND(TB_Radiologia1[[#This Row],[TIPIFICAÇÃO]]="EST",TB_Radiologia1[[#This Row],[TIPO DE OFERTA]]="PRESENCIAL"),0,AND(TB_Radiologia1[[#This Row],[TIPIFICAÇÃO]]="PR",OR(TB_Radiologia1[[#This Row],[TIPO DE OFERTA]]="PRESENCIAL",TB_Radiologia1[[#This Row],[TIPO DE OFERTA]]="SEMI-PRESENCIAL")),TB_Radiologia1[[#This Row],[CH TEÓRICA]]+TB_Radiologia1[[#This Row],[CH PRÁTICA]],AND(TB_Radiologia1[[#This Row],[TIPIFICAÇÃO]]="HB",TB_Radiologia1[[#This Row],[TIPO DE OFERTA]]="PRESENCIAL"),TB_Radiologia1[[#This Row],[CH TEÓRICA]]+TB_Radiologia1[[#This Row],[CH PRÁTICA]],AND(TB_Radiologia1[[#This Row],[TIPIFICAÇÃO]]="EXT",OR(TB_Radiologia1[[#This Row],[TIPO DE OFERTA]]="PRESENCIAL",TB_Radiologia1[[#This Row],[TIPO DE OFERTA]]="SEMI-PRESENCIAL")),33,AND(TB_Radiologia1[[#This Row],[TIPIFICAÇÃO]]="TCC",TB_Radiologia1[[#This Row],[TIPO DE OFERTA]]="PRESENCIAL"),SUM(TB_Radiologia1[[#This Row],[CH TEÓRICA]],TB_Radiologia1[[#This Row],[CH PRÁTICA]]))/Cursos!$E$3,0),0)} -> 0 | T12: =IF(TB_Radiologia1[[#This Row],[TIPIFICAÇÃO]]="ON.S",ROUNDUP(TB_Radiologia1[[#This Row],[CH TEÓRICA]]/Cursos!$E$3,0),0) -> 0 | U12: {=IFERROR(_xlfn.IFS(TB_Radiologia1[[#This Row],[TIPIFICAÇÃO]]="ON.A",1,TB_Radiologia1[[#This Row],[TIPIFICAÇÃO]]="PR",0,TB_Radiologia1[[#This Row],[TIPIFICAÇÃO]]="HB",0,AND(TB_Radiologia1[[#This Row],[TIPIFICAÇÃO]]="EXT",OR(TB_Radiologia1[[#This Row],[TIPO DE OFERTA]]="SEMI-PRESENCIAL",TB_Radiologia1[[#This Row],[TIPO DE OFERTA]]="EAD 100%")),1),0)} -> 1 | V12: {=ROUNDUP(IFERROR(_xlfn.IFS(TB_Radiologia1[[#This Row],[TIPIFICAÇÃO]]="ON.A",0,TB_Radiologia1[[#This Row],[TIPIFICAÇÃO]]="PR",0,TB_Radiologia1[[#This Row],[TIPIFICAÇÃO]]="HB",TB_Radiologia1[[#This Row],[CH ONLINE]],TB_Radiologia1[[#This Row],[TIPIFICAÇÃO]]="ON.S",0,AND(TB_Radiologia1[[#This Row],[TIPIFICAÇÃO]]="EXT",TB_Radiologia1[[#This Row],[TIPO DE OFERTA]]="PRESENCIAL"),TB_Radiologia1[[#This Row],[CRÉDITOS]]-TB_Radiologia1[[#This Row],[CRÉDITOS PAGO PROFESSOR]])/Cursos!$E$3,0),0)} -> 0 | W12: BACHARELADO
B13: =$J$2 -> RADIOLOGIA | C13: 1º | D13: 5 | E13: Fundamentos da Radiologia | F13: FR | G13: =SUM(TB_Radiologia1[[#This Row],[CH TEÓRICA]:[CH ONLINE]]) -> 49 | H13: Específica | I13: 49 | J13: 0 | K13: 0 | L13: 0 | M13: 0 | N13: PR | O13: =ROUNDUP(TB_Radiologia1[[#This Row],[CH TOTAL]]/Cursos!$E$3,0) -> 3 | P13: {=IF(AND(TB_Radiologia1[[#This Row],[TIPIFICAÇÃO]]="TCC",TB_Radiologia1[[#This Row],[TIPO DE OFERTA]]="PRESENCIAL"),SUM(TB_Radiologia1[[#This Row],[CH TEÓRICA]:[CH PRÁTICA]]/66),IF(TB_Radiologia1[[#This Row],[TIPIFICAÇÃO]]="EST",1,IF(AND(IF(OR(TB_Radiologia1[[#This Row],[TIPIFICAÇÃO]]="HB",TB_Radiologia1[[#This Row],[TIPIFICAÇÃO]]="PR"),SUM(TB_Radiologia1[[#This Row],[CH TEÓRICA]:[CH PRÁTICA]])/66,IF(TB_Radiologia1[[#This Row],[TIPIFICAÇÃO]]="EXT",0.5,0))>0.6,IF(OR(TB_Radiologia1[[#This Row],[TIPIFICAÇÃO]]="HB",TB_Radiologia1[[#This Row],[TIPIFICAÇÃO]]="PR"),SUM(TB_Radiologia1[[#This Row],[CH TEÓRICA]:[CH PRÁTICA]])/66,IF(TB_Radiologia1[[#This Row],[TIPIFICAÇÃO]]="EXT",0.5,0))<0.8),1,IF(OR(TB_Radiologia1[[#This Row],[TIPIFICAÇÃO]]="HB",TB_Radiologia1[[#This Row],[TIPIFICAÇÃO]]="PR"),SUM(TB_Radiologia1[[#This Row],[CH TEÓRICA]:[CH PRÁTICA]])/66,IF(TB_Radiologia1[[#This Row],[TIPIFICAÇÃO]]="EXT",0.5,0)))))} -> 1 | R13: PRESENCIAL | S13: {=ROUNDUP(IFERROR(_xlfn.IFS(TB_Radiologia1[[#This Row],[TIPIFICAÇÃO]]="ON.A",0,AND(TB_Radiologia1[[#This Row],[TIPIFICAÇÃO]]="EST",TB_Radiologia1[[#This Row],[TIPO DE OFERTA]]="PRESENCIAL"),0,AND(TB_Radiologia1[[#This Row],[TIPIFICAÇÃO]]="PR",OR(TB_Radiologia1[[#This Row],[TIPO DE OFERTA]]="PRESENCIAL",TB_Radiologia1[[#This Row],[TIPO DE OFERTA]]="SEMI-PRESENCIAL")),TB_Radiologia1[[#This Row],[CH TEÓRICA]]+TB_Radiologia1[[#This Row],[CH PRÁTICA]],AND(TB_Radiologia1[[#This Row],[TIPIFICAÇÃO]]="HB",TB_Radiologia1[[#This Row],[TIPO DE OFERTA]]="PRESENCIAL"),TB_Radiologia1[[#This Row],[CH TEÓRICA]]+TB_Radiologia1[[#This Row],[CH PRÁTICA]],AND(TB_Radiologia1[[#This Row],[TIPIFICAÇÃO]]="EXT",OR(TB_Radiologia1[[#This Row],[TIPO DE OFERTA]]="PRESENCIAL",TB_Radiologia1[[#This Row],[TIPO DE OFERTA]]="SEMI-PRESENCIAL")),33,AND(TB_Radiologia1[[#This Row],[TIPIFICAÇÃO]]="TCC",TB_Radiologia1[[#This Row],[TIPO DE OFERTA]]="PRESENCIAL"),SUM(TB_Radiologia1[[#This Row],[CH TEÓRICA]],TB_Radiologia1[[#This Row],[CH PRÁTICA]]))/Cursos!$E$3,0),0)} -> 3 | T13: =IF(TB_Radiologia1[[#This Row],[TIPIFICAÇÃO]]="ON.S",ROUNDUP(TB_Radiologia1[[#This Row],[CH TEÓRICA]]/Cursos!$E$3,0),0) -> 0 | U13: {=IFERROR(_xlfn.IFS(TB_Radiologia1[[#This Row],[TIPIFICAÇÃO]]="ON.A",1,TB_Radiologia1[[#This Row],[TIPIFICAÇÃO]]="PR",0,TB_Radiologia1[[#This Row],[TIPIFICAÇÃO]]="HB",0,AND(TB_Radiologia1[[#This Row],[TIPIFICAÇÃO]]="EXT",OR(TB_Radiologia1[[#This Row],[TIPO DE OFERTA]]="SEMI-PRESENCIAL",TB_Radiologia1[[#This Row],[TIPO DE OFERTA]]="EAD 100%")),1),0)} -> 0 | V13: {=ROUNDUP(IFERROR(_xlfn.IFS(TB_Radiologia1[[#This Row],[TIPIFICAÇÃO]]="ON.A",0,TB_Radiologia1[[#This Row],[TIPIFICAÇÃO]]="PR",0,TB_Radiologia1[[#This Row],[TIPIFICAÇÃO]]="HB",TB_Radiologia1[[#This Row],[CH ONLINE]],TB_Radiologia1[[#This Row],[TIPIFICAÇÃO]]="ON.S",0,AND(TB_Radiologia1[[#This Row],[TIPIFICAÇÃO]]="EXT",TB_Radiologia1[[#This Row],[TIPO DE OFERTA]]="PRESENCIAL"),TB_Radiologia1[[#This Row],[CRÉDITOS]]-TB_Radiologia1[[#This Row],[CRÉDITOS PAGO PROFESSOR]])/Cursos!$E$3,0),0)} -> 0 | W13: BACHARELADO
B14: =$J$2 -> RADIOLOGIA | C14: 1º | D14: 6 | E14: Projeto de extensão I | F14: PE I | G14: =SUM(TB_Radiologia1[[#This Row],[CH TEÓRICA]:[CH ONLINE]]) -> 80 | H14: Extensão | I14: 0 | J14: 0 | K14: 0 | L14: 80 | M14: 0 | N14: EXT | O14: =ROUNDUP(TB_Radiologia1[[#This Row],[CH TOTAL]]/Cursos!$E$3,0) -> 5 | P14: {=IF(AND(TB_Radiologia1[[#This Row],[TIPIFICAÇÃO]]="TCC",TB_Radiologia1[[#This Row],[TIPO DE OFERTA]]="PRESENCIAL"),SUM(TB_Radiologia1[[#This Row],[CH TEÓRICA]:[CH PRÁTICA]]/66),IF(TB_Radiologia1[[#This Row],[TIPIFICAÇÃO]]="EST",1,IF(AND(IF(OR(TB_Radiologia1[[#This Row],[TIPIFICAÇÃO]]="HB",TB_Radiologia1[[#This Row],[TIPIFICAÇÃO]]="PR"),SUM(TB_Radiologia1[[#This Row],[CH TEÓRICA]:[CH PRÁTICA]])/66,IF(TB_Radiologia1[[#This Row],[TIPIFICAÇÃO]]="EXT",0.5,0))>0.6,IF(OR(TB_Radiologia1[[#This Row],[TIPIFICAÇÃO]]="HB",TB_Radiologia1[[#This Row],[TIPIFICAÇÃO]]="PR"),SUM(TB_Radiologia1[[#This Row],[CH TEÓRICA]:[CH PRÁTICA]])/66,IF(TB_Radiologia1[[#This Row],[TIPIFICAÇÃO]]="EXT",0.5,0))<0.8),1,IF(OR(TB_Radiologia1[[#This Row],[TIPIFICAÇÃO]]="HB",TB_Radiologia1[[#This Row],[TIPIFICAÇÃO]]="PR"),SUM(TB_Radiologia1[[#This Row],[CH TEÓRICA]:[CH PRÁTICA]])/66,IF(TB_Radiologia1[[#This Row],[TIPIFICAÇÃO]]="EXT",0.5,0)))))} -> 0.5 | S14: {=ROUNDUP(IFERROR(_xlfn.IFS(TB_Radiologia1[[#This Row],[TIPIFICAÇÃO]]="ON.A",0,AND(TB_Radiologia1[[#This Row],[TIPIFICAÇÃO]]="EST",TB_Radiologia1[[#This Row],[TIPO DE OFERTA]]="PRESENCIAL"),0,AND(TB_Radiologia1[[#This Row],[TIPIFICAÇÃO]]="PR",OR(TB_Radiologia1[[#This Row],[TIPO DE OFERTA]]="PRESENCIAL",TB_Radiologia1[[#This Row],[TIPO DE OFERTA]]="SEMI-PRESENCIAL")),TB_Radiologia1[[#This Row],[CH TEÓRICA]]+TB_Radiologia1[[#This Row],[CH PRÁTICA]],AND(TB_Radiologia1[[#This Row],[TIPIFICAÇÃO]]="HB",TB_Radiologia1[[#This Row],[TIPO DE OFERTA]]="PRESENCIAL"),TB_Radiologia1[[#This Row],[CH TEÓRICA]]+TB_Radiologia1[[#This Row],[CH PRÁTICA]],AND(TB_Radiologia1[[#This Row],[TIPIFICAÇÃO]]="EXT",OR(TB_Radiologia1[[#This Row],[TIPO DE OFERTA]]="PRESENCIAL",TB_Radiologia1[[#This Row],[TIPO DE OFERTA]]="SEMI-PRESENCIAL")),33,AND(TB_Radiologia1[[#This Row],[TIPIFICAÇÃO]]="TCC",TB_Radiologia1[[#This Row],[TIPO DE OFERTA]]="PRESENCIAL"),SUM(TB_Radiologia1[[#This Row],[CH TEÓRICA]],TB_Radiologia1[[#This Row],[CH PRÁTICA]]))/Cursos!$E$3,0),0)} -> 0 | T14: =IF(TB_Radiologia1[[#This Row],[TIPIFICAÇÃO]]="ON.S",ROUNDUP(TB_Radiologia1[[#This Row],[CH TEÓRICA]]/Cursos!$E$3,0),0) -> 0 | U14: {=IFERROR(_xlfn.IFS(TB_Radiologia1[[#This Row],[TIPIFICAÇÃO]]="ON.A",1,TB_Radiologia1[[#This Row],[TIPIFICAÇÃO]]="PR",0,TB_Radiologia1[[#This Row],[TIPIFICAÇÃO]]="HB",0,AND(TB_Radiologia1[[#This Row],[TIPIFICAÇÃO]]="EXT",OR(TB_Radiologia1[[#This Row],[TIPO DE OFERTA]]="SEMI-PRESENCIAL",TB_Radiologia1[[#This Row],[TIPO DE OFERTA]]="EAD 100%")),1),0)} -> 0 | V14: {=ROUNDUP(IFERROR(_xlfn.IFS(TB_Radiologia1[[#This Row],[TIPIFICAÇÃO]]="ON.A",0,TB_Radiologia1[[#This Row],[TIPIFICAÇÃO]]="PR",0,TB_Radiologia1[[#This Row],[TIPIFICAÇÃO]]="HB",TB_Radiologia1[[#This Row],[CH ONLINE]],TB_Radiologia1[[#This Row],[TIPIFICAÇÃO]]="ON.S",0,AND(TB_Radiologia1[[#This Row],[TIPIFICAÇÃO]]="EXT",TB_Radiologia1[[#This Row],[TIPO DE OFERTA]]="PRESENCIAL"),TB_Radiologia1[[#This Row],[CRÉDITOS]]-TB_Radiologia1[[#This Row],[CRÉDITOS PAGO PROFESSOR]])/Cursos!$E$3,0),0)} -> 0
B15: =$J$2 -> RADIOLOGIA | C15: 1º | D15: 7 | E15: Metodologia Cientifica | F15: MC | G15: =SUM(TB_Radiologia1[[#This Row],[CH TEÓRICA]:[CH ONLINE]]) -> 66 | H15: Institucional | I15: 0 | J15: 0 | K15: 0 | L15: 0 | M15: 66 | N15: ON.A | O15: =ROUNDUP(TB_Radiologia1[[#This Row],[CH TOTAL]]/Cursos!$E$3,0) -> 4 | P15: {=IF(AND(TB_Radiologia1[[#This Row],[TIPIFICAÇÃO]]="TCC",TB_Radiologia1[[#This Row],[TIPO DE OFERTA]]="PRESENCIAL"),SUM(TB_Radiologia1[[#This Row],[CH TEÓRICA]:[CH PRÁTICA]]/66),IF(TB_Radiologia1[[#This Row],[TIPIFICAÇÃO]]="EST",1,IF(AND(IF(OR(TB_Radiologia1[[#This Row],[TIPIFICAÇÃO]]="HB",TB_Radiologia1[[#This Row],[TIPIFICAÇÃO]]="PR"),SUM(TB_Radiologia1[[#This Row],[CH TEÓRICA]:[CH PRÁTICA]])/66,IF(TB_Radiologia1[[#This Row],[TIPIFICAÇÃO]]="EXT",0.5,0))>0.6,IF(OR(TB_Radiologia1[[#This Row],[TIPIFICAÇÃO]]="HB",TB_Radiologia1[[#This Row],[TIPIFICAÇÃO]]="PR"),SUM(TB_Radiologia1[[#This Row],[CH TEÓRICA]:[CH PRÁTICA]])/66,IF(TB_Radiologia1[[#This Row],[TIPIFICAÇÃO]]="EXT",0.5,0))<0.8),1,IF(OR(TB_Radiologia1[[#This Row],[TIPIFICAÇÃO]]="HB",TB_Radiologia1[[#This Row],[TIPIFICAÇÃO]]="PR"),SUM(TB_Radiologia1[[#This Row],[CH TEÓRICA]:[CH PRÁTICA]])/66,IF(TB_Radiologia1[[#This Row],[TIPIFICAÇÃO]]="EXT",0.5,0)))))} -> 0 | S15: {=ROUNDUP(IFERROR(_xlfn.IFS(TB_Radiologia1[[#This Row],[TIPIFICAÇÃO]]="ON.A",0,AND(TB_Radiologia1[[#This Row],[TIPIFICAÇÃO]]="EST",TB_Radiologia1[[#This Row],[TIPO DE OFERTA]]="PRESENCIAL"),0,AND(TB_Radiologia1[[#This Row],[TIPIFICAÇÃO]]="PR",OR(TB_Radiologia1[[#This Row],[TIPO DE OFERTA]]="PRESENCIAL",TB_Radiologia1[[#This Row],[TIPO DE OFERTA]]="SEMI-PRESENCIAL")),TB_Radiologia1[[#This Row],[CH TEÓRICA]]+TB_Radiologia1[[#This Row],[CH PRÁTICA]],AND(TB_Radiologia1[[#This Row],[TIPIFICAÇÃO]]="HB",TB_Radiologia1[[#This Row],[TIPO DE OFERTA]]="PRESENCIAL"),TB_Radiologia1[[#This Row],[CH TEÓRICA]]+TB_Radiologia1[[#This Row],[CH PRÁTICA]],AND(TB_Radiologia1[[#This Row],[TIPIFICAÇÃO]]="EXT",OR(TB_Radiologia1[[#This Row],[TIPO DE OFERTA]]="PRESENCIAL",TB_Radiologia1[[#This Row],[TIPO DE OFERTA]]="SEMI-PRESENCIAL")),33,AND(TB_Radiologia1[[#This Row],[TIPIFICAÇÃO]]="TCC",TB_Radiologia1[[#This Row],[TIPO DE OFERTA]]="PRESENCIAL"),SUM(TB_Radiologia1[[#This Row],[CH TEÓRICA]],TB_Radiologia1[[#This Row],[CH PRÁTICA]]))/Cursos!$E$3,0),0)} -> 0 | T15: =IF(TB_Radiologia1[[#This Row],[TIPIFICAÇÃO]]="ON.S",ROUNDUP(TB_Radiologia1[[#This Row],[CH TEÓRICA]]/Cursos!$E$3,0),0) -> 0 | U15: {=IFERROR(_xlfn.IFS(TB_Radiologia1[[#This Row],[TIPIFICAÇÃO]]="ON.A",1,TB_Radiologia1[[#This Row],[TIPIFICAÇÃO]]="PR",0,TB_Radiologia1[[#This Row],[TIPIFICAÇÃO]]="HB",0,AND(TB_Radiologia1[[#This Row],[TIPIFICAÇÃO]]="EXT",OR(TB_Radiologia1[[#This Row],[TIPO DE OFERTA]]="SEMI-PRESENCIAL",TB_Radiologia1[[#This Row],[TIPO DE OFERTA]]="EAD 100%")),1),0)} -> 1 | V15: {=ROUNDUP(IFERROR(_xlfn.IFS(TB_Radiologia1[[#This Row],[TIPIFICAÇÃO]]="ON.A",0,TB_Radiologia1[[#This Row],[TIPIFICAÇÃO]]="PR",0,TB_Radiologia1[[#This Row],[TIPIFICAÇÃO]]="HB",TB_Radiologia1[[#This Row],[CH ONLINE]],TB_Radiologia1[[#This Row],[TIPIFICAÇÃO]]="ON.S",0,AND(TB_Radiologia1[[#This Row],[TIPIFICAÇÃO]]="EXT",TB_Radiologia1[[#This Row],[TIPO DE OFERTA]]="PRESENCIAL"),TB_Radiologia1[[#This Row],[CRÉDITOS]]-TB_Radiologia1[[#This Row],[CRÉDITOS PAGO PROFESSOR]])/Cursos!$E$3,0),0)} -> 0
B16: =$J$2 -> RADIOLOGIA | C16: 1º | D16: 8 | E16: Direito e Legislação em Radiologia | F16: DLR | G16: =SUM(TB_Radiologia1[[#This Row],[CH TEÓRICA]:[CH ONLINE]]) -> 33 | H16: Específica | I16: 33 | J16: 0 | K16: 0 | L16: 0 | M16: 0 | N16: HB | O16: =ROUNDUP(TB_Radiologia1[[#This Row],[CH TOTAL]]/Cursos!$E$3,0) -> 2 | P16: {=IF(AND(TB_Radiologia1[[#This Row],[TIPIFICAÇÃO]]="TCC",TB_Radiologia1[[#This Row],[TIPO DE OFERTA]]="PRESENCIAL"),SUM(TB_Radiologia1[[#This Row],[CH TEÓRICA]:[CH PRÁTICA]]/66),IF(TB_Radiologia1[[#This Row],[TIPIFICAÇÃO]]="EST",1,IF(AND(IF(OR(TB_Radiologia1[[#This Row],[TIPIFICAÇÃO]]="HB",TB_Radiologia1[[#This Row],[TIPIFICAÇÃO]]="PR"),SUM(TB_Radiologia1[[#This Row],[CH TEÓRICA]:[CH PRÁTICA]])/66,IF(TB_Radiologia1[[#This Row],[TIPIFICAÇÃO]]="EXT",0.5,0))>0.6,IF(OR(TB_Radiologia1[[#This Row],[TIPIFICAÇÃO]]="HB",TB_Radiologia1[[#This Row],[TIPIFICAÇÃO]]="PR"),SUM(TB_Radiologia1[[#This Row],[CH TEÓRICA]:[CH PRÁTICA]])/66,IF(TB_Radiologia1[[#This Row],[TIPIFICAÇÃO]]="EXT",0.5,0))<0.8),1,IF(OR(TB_Radiologia1[[#This Row],[TIPIFICAÇÃO]]="HB",TB_Radiologia1[[#This Row],[TIPIFICAÇÃO]]="PR"),SUM(TB_Radiologia1[[#This Row],[CH TEÓRICA]:[CH PRÁTICA]])/66,IF(TB_Radiologia1[[#This Row],[TIPIFICAÇÃO]]="EXT",0.5,0)))))} -> 0.5 | R16: PRESENCIAL | S16: {=ROUNDUP(IFERROR(_xlfn.IFS(TB_Radiologia1[[#This Row],[TIPIFICAÇÃO]]="ON.A",0,AND(TB_Radiologia1[[#This Row],[TIPIFICAÇÃO]]="EST",TB_Radiologia1[[#This Row],[TIPO DE OFERTA]]="PRESENCIAL"),0,AND(TB_Radiologia1[[#This Row],[TIPIFICAÇÃO]]="PR",OR(TB_Radiologia1[[#This Row],[TIPO DE OFERTA]]="PRESENCIAL",TB_Radiologia1[[#This Row],[TIPO DE OFERTA]]="SEMI-PRESENCIAL")),TB_Radiologia1[[#This Row],[CH TEÓRICA]]+TB_Radiologia1[[#This Row],[CH PRÁTICA]],AND(TB_Radiologia1[[#This Row],[TIPIFICAÇÃO]]="HB",TB_Radiologia1[[#This Row],[TIPO DE OFERTA]]="PRESENCIAL"),TB_Radiologia1[[#This Row],[CH TEÓRICA]]+TB_Radiologia1[[#This Row],[CH PRÁTICA]],AND(TB_Radiologia1[[#This Row],[TIPIFICAÇÃO]]="EXT",OR(TB_Radiologia1[[#This Row],[TIPO DE OFERTA]]="PRESENCIAL",TB_Radiologia1[[#This Row],[TIPO DE OFERTA]]="SEMI-PRESENCIAL")),33,AND(TB_Radiologia1[[#This Row],[TIPIFICAÇÃO]]="TCC",TB_Radiologia1[[#This Row],[TIPO DE OFERTA]]="PRESENCIAL"),SUM(TB_Radiologia1[[#This Row],[CH TEÓRICA]],TB_Radiologia1[[#This Row],[CH PRÁTICA]]))/Cursos!$E$3,0),0)} -> 2 | T16: =IF(TB_Radiologia1[[#This Row],[TIPIFICAÇÃO]]="ON.S",ROUNDUP(TB_Radiologia1[[#This Row],[CH TEÓRICA]]/Cursos!$E$3,0),0) -> 0 | U16: {=IFERROR(_xlfn.IFS(TB_Radiologia1[[#This Row],[TIPIFICAÇÃO]]="ON.A",1,TB_Radiologia1[[#This Row],[TIPIFICAÇÃO]]="PR",0,TB_Radiologia1[[#This Row],[TIPIFICAÇÃO]]="HB",0,AND(TB_Radiologia1[[#This Row],[TIPIFICAÇÃO]]="EXT",OR(TB_Radiologia1[[#This Row],[TIPO DE OFERTA]]="SEMI-PRESENCIAL",TB_Radiologia1[[#This Row],[TIPO DE OFERTA]]="EAD 100%")),1),0)} -> 0 | V16: {=ROUNDUP(IFERROR(_xlfn.IFS(TB_Radiologia1[[#This Row],[TIPIFICAÇÃO]]="ON.A",0,TB_Radiologia1[[#This Row],[TIPIFICAÇÃO]]="PR",0,TB_Radiologia1[[#This Row],[TIPIFICAÇÃO]]="HB",TB_Radiologia1[[#This Row],[CH ONLINE]],TB_Radiologia1[[#This Row],[TIPIFICAÇÃO]]="ON.S",0,AND(TB_Radiologia1[[#This Row],[TIPIFICAÇÃO]]="EXT",TB_Radiologia1[[#This Row],[TIPO DE OFERTA]]="PRESENCIAL"),TB_Radiologia1[[#This Row],[CRÉDITOS]]-TB_Radiologia1[[#This Row],[CRÉDITOS PAGO PROFESSOR]])/Cursos!$E$3,0),0)} -> 0 | W16: BACHARELADO
C17: Subtotal | G17: =SUBTOTAL(9,G9:G16) -> 393 | I17: =SUBTOTAL(9,I9:I16) -> 115 | J17: =SUBTOTAL(9,J9:J16) -> 0 | K17: =SUBTOTAL(9,K9:K16) -> 0 | L17: =SUBTOTAL(9,L9:L16) -> 80 | M17: =SUBTOTAL(9,M9:M16) -> 198 | O17: =SUBTOTAL(9,O9:O16) -> 24 | P17: =SUBTOTAL(9,P9:P16) -> 2.5 | R17: PRESENCIAL | S17: {=ROUNDUP(IFERROR(_xlfn.IFS(TB_Radiologia1[[#This Row],[TIPIFICAÇÃO]]="ON.A",0,AND(TB_Radiologia1[[#This Row],[TIPIFICAÇÃO]]="EST",TB_Radiologia1[[#This Row],[TIPO DE OFERTA]]="PRESENCIAL"),0,AND(TB_Radiologia1[[#This Row],[TIPIFICAÇÃO]]="PR",OR(TB_Radiologia1[[#This Row],[TIPO DE OFERTA]]="PRESENCIAL",TB_Radiologia1[[#This Row],[TIPO DE OFERTA]]="SEMI-PRESENCIAL")),TB_Radiologia1[[#This Row],[CH TEÓRICA]]+TB_Radiologia1[[#This Row],[CH PRÁTICA]],AND(TB_Radiologia1[[#This Row],[TIPIFICAÇÃO]]="HB",TB_Radiologia1[[#This Row],[TIPO DE OFERTA]]="PRESENCIAL"),TB_Radiologia1[[#This Row],[CH TEÓRICA]]+TB_Radiologia1[[#This Row],[CH PRÁTICA]],AND(TB_Radiologia1[[#This Row],[TIPIFICAÇÃO]]="EXT",OR(TB_Radiologia1[[#This Row],[TIPO DE OFERTA]]="PRESENCIAL",TB_Radiologia1[[#This Row],[TIPO DE OFERTA]]="SEMI-PRESENCIAL")),33,AND(TB_Radiologia1[[#This Row],[TIPIFICAÇÃO]]="TCC",TB_Radiologia1[[#This Row],[TIPO DE OFERTA]]="PRESENCIAL"),SUM(TB_Radiologia1[[#This Row],[CH TEÓRICA]],TB_Radiologia1[[#This Row],[CH PRÁTICA]]))/Cursos!$E$3,0),0)} -> 0 | T17: =IF(TB_Radiologia1[[#This Row],[TIPIFICAÇÃO]]="ON.S",ROUNDUP(TB_Radiologia1[[#This Row],[CH TEÓRICA]]/Cursos!$E$3,0),0) -> 0 | U17: {=IFERROR(_xlfn.IFS(TB_Radiologia1[[#This Row],[TIPIFICAÇÃO]]="ON.A",1,TB_Radiologia1[[#This Row],[TIPIFICAÇÃO]]="PR",0,TB_Radiologia1[[#This Row],[TIPIFICAÇÃO]]="HB",0,AND(TB_Radiologia1[[#This Row],[TIPIFICAÇÃO]]="EXT",OR(TB_Radiologia1[[#This Row],[TIPO DE OFERTA]]="SEMI-PRESENCIAL",TB_Radiologia1[[#This Row],[TIPO DE OFERTA]]="EAD 100%")),1),0)} -> 0 | V17: {=ROUNDUP(IFERROR(_xlfn.IFS(TB_Radiologia1[[#This Row],[TIPIFICAÇÃO]]="ON.A",0,TB_Radiologia1[[#This Row],[TIPIFICAÇÃO]]="PR",0,TB_Radiologia1[[#This Row],[TIPIFICAÇÃO]]="HB",TB_Radiologia1[[#This Row],[CH ONLINE]],TB_Radiologia1[[#This Row],[TIPIFICAÇÃO]]="ON.S",0,AND(TB_Radiologia1[[#This Row],[TIPIFICAÇÃO]]="EXT",TB_Radiologia1[[#This Row],[TIPO DE OFERTA]]="PRESENCIAL"),TB_Radiologia1[[#This Row],[CRÉDITOS]]-TB_Radiologia1[[#This Row],[CRÉDITOS PAGO PROFESSOR]])/Cursos!$E$3,0),0)} -> 0 | W17: BACHARELADO
B18: =$J$2 -> RADIOLOGIA | C18: 2º | D18: 1 | E18: Introdução às Técnicas Radiológicas | F18: ITR | G18: =SUM(TB_Radiologia1[[#This Row],[CH TEÓRICA]:[CH ONLINE]]) -> 66 | H18: Específica | I18: 33 | J18: 33 | K18: 0 | L18: 0 | M18: 0 | N18: PR | O18: =ROUNDUP(TB_Radiologia1[[#This Row],[CH TOTAL]]/Cursos!$E$3,0) -> 4 | P18: {=IF(AND(TB_Radiologia1[[#This Row],[TIPIFICAÇÃO]]="TCC",TB_Radiologia1[[#This Row],[TIPO DE OFERTA]]="PRESENCIAL"),SUM(TB_Radiologia1[[#This Row],[CH TEÓRICA]:[CH PRÁTICA]]/66),IF(TB_Radiologia1[[#This Row],[TIPIFICAÇÃO]]="EST",1,IF(AND(IF(OR(TB_Radiologia1[[#This Row],[TIPIFICAÇÃO]]="HB",TB_Radiologia1[[#This Row],[TIPIFICAÇÃO]]="PR"),SUM(TB_Radiologia1[[#This Row],[CH TEÓRICA]:[CH PRÁTICA]])/66,IF(TB_Radiologia1[[#This Row],[TIPIFICAÇÃO]]="EXT",0.5,0))>0.6,IF(OR(TB_Radiologia1[[#This Row],[TIPIFICAÇÃO]]="HB",TB_Radiologia1[[#This Row],[TIPIFICAÇÃO]]="PR"),SUM(TB_Radiologia1[[#This Row],[CH TEÓRICA]:[CH PRÁTICA]])/66,IF(TB_Radiologia1[[#This Row],[TIPIFICAÇÃO]]="EXT",0.5,0))<0.8),1,IF(OR(TB_Radiologia1[[#This Row],[TIPIFICAÇÃO]]="HB",TB_Radiologia1[[#This Row],[TIPIFICAÇÃO]]="PR"),SUM(TB_Radiologia1[[#This Row],[CH TEÓRICA]:[CH PRÁTICA]])/66,IF(TB_Radiologia1[[#This Row],[TIPIFICAÇÃO]]="EXT",0.5,0)))))} -> 1 | R18: PRESENCIAL | S18: {=ROUNDUP(IFERROR(_xlfn.IFS(TB_Radiologia1[[#This Row],[TIPIFICAÇÃO]]="ON.A",0,AND(TB_Radiologia1[[#This Row],[TIPIFICAÇÃO]]="EST",TB_Radiologia1[[#This Row],[TIPO DE OFERTA]]="PRESENCIAL"),0,AND(TB_Radiologia1[[#This Row],[TIPIFICAÇÃO]]="PR",OR(TB_Radiologia1[[#This Row],[TIPO DE OFERTA]]="PRESENCIAL",TB_Radiologia1[[#This Row],[TIPO DE OFERTA]]="SEMI-PRESENCIAL")),TB_Radiologia1[[#This Row],[CH TEÓRICA]]+TB_Radiologia1[[#This Row],[CH PRÁTICA]],AND(TB_Radiologia1[[#This Row],[TIPIFICAÇÃO]]="HB",TB_Radiologia1[[#This Row],[TIPO DE OFERTA]]="PRESENCIAL"),TB_Radiologia1[[#This Row],[CH TEÓRICA]]+TB_Radiologia1[[#This Row],[CH PRÁTICA]],AND(TB_Radiologia1[[#This Row],[TIPIFICAÇÃO]]="EXT",OR(TB_Radiologia1[[#This Row],[TIPO DE OFERTA]]="PRESENCIAL",TB_Radiologia1[[#This Row],[TIPO DE OFERTA]]="SEMI-PRESENCIAL")),33,AND(TB_Radiologia1[[#This Row],[TIPIFICAÇÃO]]="TCC",TB_Radiologia1[[#This Row],[TIPO DE OFERTA]]="PRESENCIAL"),SUM(TB_Radiologia1[[#This Row],[CH TEÓRICA]],TB_Radiologia1[[#This Row],[CH PRÁTICA]]))/Cursos!$E$3,0),0)} -> 4 | T18: =IF(TB_Radiologia1[[#This Row],[TIPIFICAÇÃO]]="ON.S",ROUNDUP(TB_Radiologia1[[#This Row],[CH TEÓRICA]]/Cursos!$E$3,0),0) -> 0 | U18: {=IFERROR(_xlfn.IFS(TB_Radiologia1[[#This Row],[TIPIFICAÇÃO]]="ON.A",1,TB_Radiologia1[[#This Row],[TIPIFICAÇÃO]]="PR",0,TB_Radiologia1[[#This Row],[TIPIFICAÇÃO]]="HB",0,AND(TB_Radiologia1[[#This Row],[TIPIFICAÇÃO]]="EXT",OR(TB_Radiologia1[[#This Row],[TIPO DE OFERTA]]="SEMI-PRESENCIAL",TB_Radiologia1[[#This Row],[TIPO DE OFERTA]]="EAD 100%")),1),0)} -> 0 | V18: {=ROUNDUP(IFERROR(_xlfn.IFS(TB_Radiologia1[[#This Row],[TIPIFICAÇÃO]]="ON.A",0,TB_Radiologia1[[#This Row],[TIPIFICAÇÃO]]="PR",0,TB_Radiologia1[[#This Row],[TIPIFICAÇÃO]]="HB",TB_Radiologia1[[#This Row],[CH ONLINE]],TB_Radiologia1[[#This Row],[TIPIFICAÇÃO]]="ON.S",0,AND(TB_Radiologia1[[#This Row],[TIPIFICAÇÃO]]="EXT",TB_Radiologia1[[#This Row],[TIPO DE OFERTA]]="PRESENCIAL"),TB_Radiologia1[[#This Row],[CRÉDITOS]]-TB_Radiologia1[[#This Row],[CRÉDITOS PAGO PROFESSOR]])/Cursos!$E$3,0),0)} -> 0 | W18: BACHARELADO
B19: =$J$2 -> RADIOLOGIA | C19: 2º | D19: 2 | E19: Introdução à Anatomia e fisiologia aplicada à radiologia | F19: IAFAR | G19: =SUM(TB_Radiologia1[[#This Row],[CH TEÓRICA]:[CH ONLINE]]) -> 99 | H19: Específica | I19: 33 | J19: 33 | K19: 0 | L19: 0 | M19: 33 | N19: HB | O19: =ROUNDUP(TB_Radiologia1[[#This Row],[CH TOTAL]]/Cursos!$E$3,0) -> 6 | P19: {=IF(AND(TB_Radiologia1[[#This Row],[TIPIFICAÇÃO]]="TCC",TB_Radiologia1[[#This Row],[TIPO DE OFERTA]]="PRESENCIAL"),SUM(TB_Radiologia1[[#This Row],[CH TEÓRICA]:[CH PRÁTICA]]/66),IF(TB_Radiologia1[[#This Row],[TIPIFICAÇÃO]]="EST",1,IF(AND(IF(OR(TB_Radiologia1[[#This Row],[TIPIFICAÇÃO]]="HB",TB_Radiologia1[[#This Row],[TIPIFICAÇÃO]]="PR"),SUM(TB_Radiologia1[[#This Row],[CH TEÓRICA]:[CH PRÁTICA]])/66,IF(TB_Radiologia1[[#This Row],[TIPIFICAÇÃO]]="EXT",0.5,0))>0.6,IF(OR(TB_Radiologia1[[#This Row],[TIPIFICAÇÃO]]="HB",TB_Radiologia1[[#This Row],[TIPIFICAÇÃO]]="PR"),SUM(TB_Radiologia1[[#This Row],[CH TEÓRICA]:[CH PRÁTICA]])/66,IF(TB_Radiologia1[[#This Row],[TIPIFICAÇÃO]]="EXT",0.5,0))<0.8),1,IF(OR(TB_Radiologia1[[#This Row],[TIPIFICAÇÃO]]="HB",TB_Radiologia1[[#This Row],[TIPIFICAÇÃO]]="PR"),SUM(TB_Radiologia1[[#This Row],[CH TEÓRICA]:[CH PRÁTICA]])/66,IF(TB_Radiologia1[[#This Row],[TIPIFICAÇÃO]]="EXT",0.5,0)))))} -> 1 | R19: PRESENCIAL | S19: {=ROUNDUP(IFERROR(_xlfn.IFS(TB_Radiologia1[[#This Row],[TIPIFICAÇÃO]]="ON.A",0,AND(TB_Radiologia1[[#This Row],[TIPIFICAÇÃO]]="EST",TB_Radiologia1[[#This Row],[TIPO DE OFERTA]]="PRESENCIAL"),0,AND(TB_Radiologia1[[#This Row],[TIPIFICAÇÃO]]="PR",OR(TB_Radiologia1[[#This Row],[TIPO DE OFERTA]]="PRESENCIAL",TB_Radiologia1[[#This Row],[TIPO DE OFERTA]]="SEMI-PRESENCIAL")),TB_Radiologia1[[#This Row],[CH TEÓRICA]]+TB_Radiologia1[[#This Row],[CH PRÁTICA]],AND(TB_Radiologia1[[#This Row],[TIPIFICAÇÃO]]="HB",TB_Radiologia1[[#This Row],[TIPO DE OFERTA]]="PRESENCIAL"),TB_Radiologia1[[#This Row],[CH TEÓRICA]]+TB_Radiologia1[[#This Row],[CH PRÁTICA]],AND(TB_Radiologia1[[#This Row],[TIPIFICAÇÃO]]="EXT",OR(TB_Radiologia1[[#This Row],[TIPO DE OFERTA]]="PRESENCIAL",TB_Radiologia1[[#This Row],[TIPO DE OFERTA]]="SEMI-PRESENCIAL")),33,AND(TB_Radiologia1[[#This Row],[TIPIFICAÇÃO]]="TCC",TB_Radiologia1[[#This Row],[TIPO DE OFERTA]]="PRESENCIAL"),SUM(TB_Radiologia1[[#This Row],[CH TEÓRICA]],TB_Radiologia1[[#This Row],[CH PRÁTICA]]))/Cursos!$E$3,0),0)} -> 4 | T19: =IF(TB_Radiologia1[[#This Row],[TIPIFICAÇÃO]]="ON.S",ROUNDUP(TB_Radiologia1[[#This Row],[CH TEÓRICA]]/Cursos!$E$3,0),0) -> 0 | U19: {=IFERROR(_xlfn.IFS(TB_Radiologia1[[#This Row],[TIPIFICAÇÃO]]="ON.A",1,TB_Radiologia1[[#This Row],[TIPIFICAÇÃO]]="PR",0,TB_Radiologia1[[#This Row],[TIPIFICAÇÃO]]="HB",0,AND(TB_Radiologia1[[#This Row],[TIPIFICAÇÃO]]="EXT",OR(TB_Radiologia1[[#This Row],[TIPO DE OFERTA]]="SEMI-PRESENCIAL",TB_Radiologia1[[#This Row],[TIPO DE OFERTA]]="EAD 100%")),1),0)} -> 0 | V19: {=ROUNDUP(IFERROR(_xlfn.IFS(TB_Radiologia1[[#This Row],[TIPIFICAÇÃO]]="ON.A",0,TB_Radiologia1[[#This Row],[TIPIFICAÇÃO]]="PR",0,TB_Radiologia1[[#This Row],[TIPIFICAÇÃO]]="HB",TB_Radiologia1[[#This Row],[CH ONLINE]],TB_Radiologia1[[#This Row],[TIPIFICAÇÃO]]="ON.S",0,AND(TB_Radiologia1[[#This Row],[TIPIFICAÇÃO]]="EXT",TB_Radiologia1[[#This Row],[TIPO DE OFERTA]]="PRESENCIAL"),TB_Radiologia1[[#This Row],[CRÉDITOS]]-TB_Radiologia1[[#This Row],[CRÉDITOS PAGO PROFESSOR]])/Cursos!$E$3,0),0)} -> 2 | W19: BACHARELADO
B20: =$J$2 -> RADIOLOGIA | C20: 2º | D20: 3 | E20: Física aplicada à radiologia | F20: FAR | G20: =SUM(TB_Radiologia1[[#This Row],[CH TEÓRICA]:[CH ONLINE]]) -> 33 | H20: Específica | I20: 33 | J20: 0 | K20: 0 | L20: 0 | M20: 0 | N20: PR | O20: =ROUNDUP(TB_Radiologia1[[#This Row],[CH TOTAL]]/Cursos!$E$3,0) -> 2 | P20: {=IF(AND(TB_Radiologia1[[#This Row],[TIPIFICAÇÃO]]="TCC",TB_Radiologia1[[#This Row],[TIPO DE OFERTA]]="PRESENCIAL"),SUM(TB_Radiologia1[[#This Row],[CH TEÓRICA]:[CH PRÁTICA]]/66),IF(TB_Radiologia1[[#This Row],[TIPIFICAÇÃO]]="EST",1,IF(AND(IF(OR(TB_Radiologia1[[#This Row],[TIPIFICAÇÃO]]="HB",TB_Radiologia1[[#This Row],[TIPIFICAÇÃO]]="PR"),SUM(TB_Radiologia1[[#This Row],[CH TEÓRICA]:[CH PRÁTICA]])/66,IF(TB_Radiologia1[[#This Row],[TIPIFICAÇÃO]]="EXT",0.5,0))>0.6,IF(OR(TB_Radiologia1[[#This Row],[TIPIFICAÇÃO]]="HB",TB_Radiologia1[[#This Row],[TIPIFICAÇÃO]]="PR"),SUM(TB_Radiologia1[[#This Row],[CH TEÓRICA]:[CH PRÁTICA]])/66,IF(TB_Radiologia1[[#This Row],[TIPIFICAÇÃO]]="EXT",0.5,0))<0.8),1,IF(OR(TB_Radiologia1[[#This Row],[TIPIFICAÇÃO]]="HB",TB_Radiologia1[[#This Row],[TIPIFICAÇÃO]]="PR"),SUM(TB_Radiologia1[[#This Row],[CH TEÓRICA]:[CH PRÁTICA]])/66,IF(TB_Radiologia1[[#This Row],[TIPIFICAÇÃO]]="EXT",0.5,0)))))} -> 0.5 | R20: PRESENCIAL | S20: {=ROUNDUP(IFERROR(_xlfn.IFS(TB_Radiologia1[[#This Row],[TIPIFICAÇÃO]]="ON.A",0,AND(TB_Radiologia1[[#This Row],[TIPIFICAÇÃO]]="EST",TB_Radiologia1[[#This Row],[TIPO DE OFERTA]]="PRESENCIAL"),0,AND(TB_Radiologia1[[#This Row],[TIPIFICAÇÃO]]="PR",OR(TB_Radiologia1[[#This Row],[TIPO DE OFERTA]]="PRESENCIAL",TB_Radiologia1[[#This Row],[TIPO DE OFERTA]]="SEMI-PRESENCIAL")),TB_Radiologia1[[#This Row],[CH TEÓRICA]]+TB_Radiologia1[[#This Row],[CH PRÁTICA]],AND(TB_Radiologia1[[#This Row],[TIPIFICAÇÃO]]="HB",TB_Radiologia1[[#This Row],[TIPO DE OFERTA]]="PRESENCIAL"),TB_Radiologia1[[#This Row],[CH TEÓRICA]]+TB_Radiologia1[[#This Row],[CH PRÁTICA]],AND(TB_Radiologia1[[#This Row],[TIPIFICAÇÃO]]="EXT",OR(TB_Radiologia1[[#This Row],[TIPO DE OFERTA]]="PRESENCIAL",TB_Radiologia1[[#This Row],[TIPO DE OFERTA]]="SEMI-PRESENCIAL")),33,AND(TB_Radiologia1[[#This Row],[TIPIFICAÇÃO]]="TCC",TB_Radiologia1[[#This Row],[TIPO DE OFERTA]]="PRESENCIAL"),SUM(TB_Radiologia1[[#This Row],[CH TEÓRICA]],TB_Radiologia1[[#This Row],[CH PRÁTICA]]))/Cursos!$E$3,0),0)} -> 2 | T20: =IF(TB_Radiologia1[[#This Row],[TIPIFICAÇÃO]]="ON.S",ROUNDUP(TB_Radiologia1[[#This Row],[CH TEÓRICA]]/Cursos!$E$3,0),0) -> 0 | U20: {=IFERROR(_xlfn.IFS(TB_Radiologia1[[#This Row],[TIPIFICAÇÃO]]="ON.A",1,TB_Radiologia1[[#This Row],[TIPIFICAÇÃO]]="PR",0,TB_Radiologia1[[#This Row],[TIPIFICAÇÃO]]="HB",0,AND(TB_Radiologia1[[#This Row],[TIPIFICAÇÃO]]="EXT",OR(TB_Radiologia1[[#This Row],[TIPO DE OFERTA]]="SEMI-PRESENCIAL",TB_Radiologia1[[#This Row],[TIPO DE OFERTA]]="EAD 100%")),1),0)} -> 0 | V20: {=ROUNDUP(IFERROR(_xlfn.IFS(TB_Radiologia1[[#This Row],[TIPIFICAÇÃO]]="ON.A",0,TB_Radiologia1[[#This Row],[TIPIFICAÇÃO]]="PR",0,TB_Radiologia1[[#This Row],[TIPIFICAÇÃO]]="HB",TB_Radiologia1[[#This Row],[CH ONLINE]],TB_Radiologia1[[#This Row],[TIPIFICAÇÃO]]="ON.S",0,AND(TB_Radiologia1[[#This Row],[TIPIFICAÇÃO]]="EXT",TB_Radiologia1[[#This Row],[TIPO DE OFERTA]]="PRESENCIAL"),TB_Radiologia1[[#This Row],[CRÉDITOS]]-TB_Radiologia1[[#This Row],[CRÉDITOS PAGO PROFESSOR]])/Cursos!$E$3,0),0)} -> 0 | W20: BACHARELADO
B21: =$J$2 -> RADIOLOGIA | C21: 2º | D21: 4 | E21: Tecnolocias, IA e Inovação Profissional em Saúde | F21: TIIPS | G21: =SUM(TB_Radiologia1[[#This Row],[CH TEÓRICA]:[CH ONLINE]]) -> 49 | H21: institucional | I21: 0 | J21: 0 | K21: 0 | L21: 0 | M21: 49 | N21: ON.A | O21: =ROUNDUP(TB_Radiologia1[[#This Row],[CH TOTAL]]/Cursos!$E$3,0) -> 3 | P21: {=IF(AND(TB_Radiologia1[[#This Row],[TIPIFICAÇÃO]]="TCC",TB_Radiologia1[[#This Row],[TIPO DE OFERTA]]="PRESENCIAL"),SUM(TB_Radiologia1[[#This Row],[CH TEÓRICA]:[CH PRÁTICA]]/66),IF(TB_Radiologia1[[#This Row],[TIPIFICAÇÃO]]="EST",1,IF(AND(IF(OR(TB_Radiologia1[[#This Row],[TIPIFICAÇÃO]]="HB",TB_Radiologia1[[#This Row],[TIPIFICAÇÃO]]="PR"),SUM(TB_Radiologia1[[#This Row],[CH TEÓRICA]:[CH PRÁTICA]])/66,IF(TB_Radiologia1[[#This Row],[TIPIFICAÇÃO]]="EXT",0.5,0))>0.6,IF(OR(TB_Radiologia1[[#This Row],[TIPIFICAÇÃO]]="HB",TB_Radiologia1[[#This Row],[TIPIFICAÇÃO]]="PR"),SUM(TB_Radiologia1[[#This Row],[CH TEÓRICA]:[CH PRÁTICA]])/66,IF(TB_Radiologia1[[#This Row],[TIPIFICAÇÃO]]="EXT",0.5,0))<0.8),1,IF(OR(TB_Radiologia1[[#This Row],[TIPIFICAÇÃO]]="HB",TB_Radiologia1[[#This Row],[TIPIFICAÇÃO]]="PR"),SUM(TB_Radiologia1[[#This Row],[CH TEÓRICA]:[CH PRÁTICA]])/66,IF(TB_Radiologia1[[#This Row],[TIPIFICAÇÃO]]="EXT",0.5,0)))))} -> 0 | R21: PRESENCIAL | S21: {=ROUNDUP(IFERROR(_xlfn.IFS(TB_Radiologia1[[#This Row],[TIPIFICAÇÃO]]="ON.A",0,AND(TB_Radiologia1[[#This Row],[TIPIFICAÇÃO]]="EST",TB_Radiologia1[[#This Row],[TIPO DE OFERTA]]="PRESENCIAL"),0,AND(TB_Radiologia1[[#This Row],[TIPIFICAÇÃO]]="PR",OR(TB_Radiologia1[[#This Row],[TIPO DE OFERTA]]="PRESENCIAL",TB_Radiologia1[[#This Row],[TIPO DE OFERTA]]="SEMI-PRESENCIAL")),TB_Radiologia1[[#This Row],[CH TEÓRICA]]+TB_Radiologia1[[#This Row],[CH PRÁTICA]],AND(TB_Radiologia1[[#This Row],[TIPIFICAÇÃO]]="HB",TB_Radiologia1[[#This Row],[TIPO DE OFERTA]]="PRESENCIAL"),TB_Radiologia1[[#This Row],[CH TEÓRICA]]+TB_Radiologia1[[#This Row],[CH PRÁTICA]],AND(TB_Radiologia1[[#This Row],[TIPIFICAÇÃO]]="EXT",OR(TB_Radiologia1[[#This Row],[TIPO DE OFERTA]]="PRESENCIAL",TB_Radiologia1[[#This Row],[TIPO DE OFERTA]]="SEMI-PRESENCIAL")),33,AND(TB_Radiologia1[[#This Row],[TIPIFICAÇÃO]]="TCC",TB_Radiologia1[[#This Row],[TIPO DE OFERTA]]="PRESENCIAL"),SUM(TB_Radiologia1[[#This Row],[CH TEÓRICA]],TB_Radiologia1[[#This Row],[CH PRÁTICA]]))/Cursos!$E$3,0),0)} -> 0 | T21: =IF(TB_Radiologia1[[#This Row],[TIPIFICAÇÃO]]="ON.S",ROUNDUP(TB_Radiologia1[[#This Row],[CH TEÓRICA]]/Cursos!$E$3,0),0) -> 0 | U21: {=IFERROR(_xlfn.IFS(TB_Radiologia1[[#This Row],[TIPIFICAÇÃO]]="ON.A",1,TB_Radiologia1[[#This Row],[TIPIFICAÇÃO]]="PR",0,TB_Radiologia1[[#This Row],[TIPIFICAÇÃO]]="HB",0,AND(TB_Radiologia1[[#This Row],[TIPIFICAÇÃO]]="EXT",OR(TB_Radiologia1[[#This Row],[TIPO DE OFERTA]]="SEMI-PRESENCIAL",TB_Radiologia1[[#This Row],[TIPO DE OFERTA]]="EAD 100%")),1),0)} -> 1 | V21: {=ROUNDUP(IFERROR(_xlfn.IFS(TB_Radiologia1[[#This Row],[TIPIFICAÇÃO]]="ON.A",0,TB_Radiologia1[[#This Row],[TIPIFICAÇÃO]]="PR",0,TB_Radiologia1[[#This Row],[TIPIFICAÇÃO]]="HB",TB_Radiologia1[[#This Row],[CH ONLINE]],TB_Radiologia1[[#This Row],[TIPIFICAÇÃO]]="ON.S",0,AND(TB_Radiologia1[[#This Row],[TIPIFICAÇÃO]]="EXT",TB_Radiologia1[[#This Row],[TIPO DE OFERTA]]="PRESENCIAL"),TB_Radiologia1[[#This Row],[CRÉDITOS]]-TB_Radiologia1[[#This Row],[CRÉDITOS PAGO PROFESSOR]])/Cursos!$E$3,0),0)} -> 0 | W21: BACHARELADO
B22: =$J$2 -> RADIOLOGIA | C22: 2º | D22: 5 | E22: Atenção Primária à Saúde | F22: APS | G22: =SUM(TB_Radiologia1[[#This Row],[CH TEÓRICA]:[CH ONLINE]]) -> 66 | H22: Comum de Área | I22: 0 | J22: 0 | K22: 0 | L22: 0 | M22: 66 | N22: ON.A | O22: =ROUNDUP(TB_Radiologia1[[#This Row],[CH TOTAL]]/Cursos!$E$3,0) -> 4 | P22: {=IF(AND(TB_Radiologia1[[#This Row],[TIPIFICAÇÃO]]="TCC",TB_Radiologia1[[#This Row],[TIPO DE OFERTA]]="PRESENCIAL"),SUM(TB_Radiologia1[[#This Row],[CH TEÓRICA]:[CH PRÁTICA]]/66),IF(TB_Radiologia1[[#This Row],[TIPIFICAÇÃO]]="EST",1,IF(AND(IF(OR(TB_Radiologia1[[#This Row],[TIPIFICAÇÃO]]="HB",TB_Radiologia1[[#This Row],[TIPIFICAÇÃO]]="PR"),SUM(TB_Radiologia1[[#This Row],[CH TEÓRICA]:[CH PRÁTICA]])/66,IF(TB_Radiologia1[[#This Row],[TIPIFICAÇÃO]]="EXT",0.5,0))>0.6,IF(OR(TB_Radiologia1[[#This Row],[TIPIFICAÇÃO]]="HB",TB_Radiologia1[[#This Row],[TIPIFICAÇÃO]]="PR"),SUM(TB_Radiologia1[[#This Row],[CH TEÓRICA]:[CH PRÁTICA]])/66,IF(TB_Radiologia1[[#This Row],[TIPIFICAÇÃO]]="EXT",0.5,0))<0.8),1,IF(OR(TB_Radiologia1[[#This Row],[TIPIFICAÇÃO]]="HB",TB_Radiologia1[[#This Row],[TIPIFICAÇÃO]]="PR"),SUM(TB_Radiologia1[[#This Row],[CH TEÓRICA]:[CH PRÁTICA]])/66,IF(TB_Radiologia1[[#This Row],[TIPIFICAÇÃO]]="EXT",0.5,0)))))} -> 0 | R22: PRESENCIAL | S22: {=ROUNDUP(IFERROR(_xlfn.IFS(TB_Radiologia1[[#This Row],[TIPIFICAÇÃO]]="ON.A",0,AND(TB_Radiologia1[[#This Row],[TIPIFICAÇÃO]]="EST",TB_Radiologia1[[#This Row],[TIPO DE OFERTA]]="PRESENCIAL"),0,AND(TB_Radiologia1[[#This Row],[TIPIFICAÇÃO]]="PR",OR(TB_Radiologia1[[#This Row],[TIPO DE OFERTA]]="PRESENCIAL",TB_Radiologia1[[#This Row],[TIPO DE OFERTA]]="SEMI-PRESENCIAL")),TB_Radiologia1[[#This Row],[CH TEÓRICA]]+TB_Radiologia1[[#This Row],[CH PRÁTICA]],AND(TB_Radiologia1[[#This Row],[TIPIFICAÇÃO]]="HB",TB_Radiologia1[[#This Row],[TIPO DE OFERTA]]="PRESENCIAL"),TB_Radiologia1[[#This Row],[CH TEÓRICA]]+TB_Radiologia1[[#This Row],[CH PRÁTICA]],AND(TB_Radiologia1[[#This Row],[TIPIFICAÇÃO]]="EXT",OR(TB_Radiologia1[[#This Row],[TIPO DE OFERTA]]="PRESENCIAL",TB_Radiologia1[[#This Row],[TIPO DE OFERTA]]="SEMI-PRESENCIAL")),33,AND(TB_Radiologia1[[#This Row],[TIPIFICAÇÃO]]="TCC",TB_Radiologia1[[#This Row],[TIPO DE OFERTA]]="PRESENCIAL"),SUM(TB_Radiologia1[[#This Row],[CH TEÓRICA]],TB_Radiologia1[[#This Row],[CH PRÁTICA]]))/Cursos!$E$3,0),0)} -> 0 | T22: =IF(TB_Radiologia1[[#This Row],[TIPIFICAÇÃO]]="ON.S",ROUNDUP(TB_Radiologia1[[#This Row],[CH TEÓRICA]]/Cursos!$E$3,0),0) -> 0 | U22: {=IFERROR(_xlfn.IFS(TB_Radiologia1[[#This Row],[TIPIFICAÇÃO]]="ON.A",1,TB_Radiologia1[[#This Row],[TIPIFICAÇÃO]]="PR",0,TB_Radiologia1[[#This Row],[TIPIFICAÇÃO]]="HB",0,AND(TB_Radiologia1[[#This Row],[TIPIFICAÇÃO]]="EXT",OR(TB_Radiologia1[[#This Row],[TIPO DE OFERTA]]="SEMI-PRESENCIAL",TB_Radiologia1[[#This Row],[TIPO DE OFERTA]]="EAD 100%")),1),0)} -> 1 | V22: {=ROUNDUP(IFERROR(_xlfn.IFS(TB_Radiologia1[[#This Row],[TIPIFICAÇÃO]]="ON.A",0,TB_Radiologia1[[#This Row],[TIPIFICAÇÃO]]="PR",0,TB_Radiologia1[[#This Row],[TIPIFICAÇÃO]]="HB",TB_Radiologia1[[#This Row],[CH ONLINE]],TB_Radiologia1[[#This Row],[TIPIFICAÇÃO]]="ON.S",0,AND(TB_Radiologia1[[#This Row],[TIPIFICAÇÃO]]="EXT",TB_Radiologia1[[#This Row],[TIPO DE OFERTA]]="PRESENCIAL"),TB_Radiologia1[[#This Row],[CRÉDITOS]]-TB_Radiologia1[[#This Row],[CRÉDITOS PAGO PROFESSOR]])/Cursos!$E$3,0),0)} -> 0 | W22: BACHARELADO
B23: =$J$2 -> RADIOLOGIA | C23: 2º | D23: 6 | E23: Radiologia Veterinária | F23: RV | G23: =SUM(TB_Radiologia1[[#This Row],[CH TEÓRICA]:[CH ONLINE]]) -> 66 | H23: Específica | I23: 33 | J23: 33 | K23: 0 | L23: 0 | M23: 0 | N23: PR | O23: =ROUNDUP(TB_Radiologia1[[#This Row],[CH TOTAL]]/Cursos!$E$3,0) -> 4 | P23: {=IF(AND(TB_Radiologia1[[#This Row],[TIPIFICAÇÃO]]="TCC",TB_Radiologia1[[#This Row],[TIPO DE OFERTA]]="PRESENCIAL"),SUM(TB_Radiologia1[[#This Row],[CH TEÓRICA]:[CH PRÁTICA]]/66),IF(TB_Radiologia1[[#This Row],[TIPIFICAÇÃO]]="EST",1,IF(AND(IF(OR(TB_Radiologia1[[#This Row],[TIPIFICAÇÃO]]="HB",TB_Radiologia1[[#This Row],[TIPIFICAÇÃO]]="PR"),SUM(TB_Radiologia1[[#This Row],[CH TEÓRICA]:[CH PRÁTICA]])/66,IF(TB_Radiologia1[[#This Row],[TIPIFICAÇÃO]]="EXT",0.5,0))>0.6,IF(OR(TB_Radiologia1[[#This Row],[TIPIFICAÇÃO]]="HB",TB_Radiologia1[[#This Row],[TIPIFICAÇÃO]]="PR"),SUM(TB_Radiologia1[[#This Row],[CH TEÓRICA]:[CH PRÁTICA]])/66,IF(TB_Radiologia1[[#This Row],[TIPIFICAÇÃO]]="EXT",0.5,0))<0.8),1,IF(OR(TB_Radiologia1[[#This Row],[TIPIFICAÇÃO]]="HB",TB_Radiologia1[[#This Row],[TIPIFICAÇÃO]]="PR"),SUM(TB_Radiologia1[[#This Row],[CH TEÓRICA]:[CH PRÁTICA]])/66,IF(TB_Radiologia1[[#This Row],[TIPIFICAÇÃO]]="EXT",0.5,0)))))} -> 1 | R23: PRESENCIAL | S23: {=ROUNDUP(IFERROR(_xlfn.IFS(TB_Radiologia1[[#This Row],[TIPIFICAÇÃO]]="ON.A",0,AND(TB_Radiologia1[[#This Row],[TIPIFICAÇÃO]]="EST",TB_Radiologia1[[#This Row],[TIPO DE OFERTA]]="PRESENCIAL"),0,AND(TB_Radiologia1[[#This Row],[TIPIFICAÇÃO]]="PR",OR(TB_Radiologia1[[#This Row],[TIPO DE OFERTA]]="PRESENCIAL",TB_Radiologia1[[#This Row],[TIPO DE OFERTA]]="SEMI-PRESENCIAL")),TB_Radiologia1[[#This Row],[CH TEÓRICA]]+TB_Radiologia1[[#This Row],[CH PRÁTICA]],AND(TB_Radiologia1[[#This Row],[TIPIFICAÇÃO]]="HB",TB_Radiologia1[[#This Row],[TIPO DE OFERTA]]="PRESENCIAL"),TB_Radiologia1[[#This Row],[CH TEÓRICA]]+TB_Radiologia1[[#This Row],[CH PRÁTICA]],AND(TB_Radiologia1[[#This Row],[TIPIFICAÇÃO]]="EXT",OR(TB_Radiologia1[[#This Row],[TIPO DE OFERTA]]="PRESENCIAL",TB_Radiologia1[[#This Row],[TIPO DE OFERTA]]="SEMI-PRESENCIAL")),33,AND(TB_Radiologia1[[#This Row],[TIPIFICAÇÃO]]="TCC",TB_Radiologia1[[#This Row],[TIPO DE OFERTA]]="PRESENCIAL"),SUM(TB_Radiologia1[[#This Row],[CH TEÓRICA]],TB_Radiologia1[[#This Row],[CH PRÁTICA]]))/Cursos!$E$3,0),0)} -> 4 | T23: =IF(TB_Radiologia1[[#This Row],[TIPIFICAÇÃO]]="ON.S",ROUNDUP(TB_Radiologia1[[#This Row],[CH TEÓRICA]]/Cursos!$E$3,0),0) -> 0 | U23: {=IFERROR(_xlfn.IFS(TB_Radiologia1[[#This Row],[TIPIFICAÇÃO]]="ON.A",1,TB_Radiologia1[[#This Row],[TIPIFICAÇÃO]]="PR",0,TB_Radiologia1[[#This Row],[TIPIFICAÇÃO]]="HB",0,AND(TB_Radiologia1[[#This Row],[TIPIFICAÇÃO]]="EXT",OR(TB_Radiologia1[[#This Row],[TIPO DE OFERTA]]="SEMI-PRESENCIAL",TB_Radiologia1[[#This Row],[TIPO DE OFERTA]]="EAD 100%")),1),0)} -> 0 | V23: {=ROUNDUP(IFERROR(_xlfn.IFS(TB_Radiologia1[[#This Row],[TIPIFICAÇÃO]]="ON.A",0,TB_Radiologia1[[#This Row],[TIPIFICAÇÃO]]="PR",0,TB_Radiologia1[[#This Row],[TIPIFICAÇÃO]]="HB",TB_Radiologia1[[#This Row],[CH ONLINE]],TB_Radiologia1[[#This Row],[TIPIFICAÇÃO]]="ON.S",0,AND(TB_Radiologia1[[#This Row],[TIPIFICAÇÃO]]="EXT",TB_Radiologia1[[#This Row],[TIPO DE OFERTA]]="PRESENCIAL"),TB_Radiologia1[[#This Row],[CRÉDITOS]]-TB_Radiologia1[[#This Row],[CRÉDITOS PAGO PROFESSOR]])/Cursos!$E$3,0),0)} -> 0 | W23: BACHARELADO
B24: =$J$2 -> RADIOLOGIA | C24: 2º | D24: 7 | E24: Radiologia Forense | F24: RF | G24: =SUM(TB_Radiologia1[[#This Row],[CH TEÓRICA]:[CH ONLINE]]) -> 33 | H24: Específica | I24: 33 | J24: 0 | K24: 0 | L24: 0 | M24: 0 | N24: PR | O24: =ROUNDUP(TB_Radiologia1[[#This Row],[CH TOTAL]]/Cursos!$E$3,0) -> 2 | P24: {=IF(AND(TB_Radiologia1[[#This Row],[TIPIFICAÇÃO]]="TCC",TB_Radiologia1[[#This Row],[TIPO DE OFERTA]]="PRESENCIAL"),SUM(TB_Radiologia1[[#This Row],[CH TEÓRICA]:[CH PRÁTICA]]/66),IF(TB_Radiologia1[[#This Row],[TIPIFICAÇÃO]]="EST",1,IF(AND(IF(OR(TB_Radiologia1[[#This Row],[TIPIFICAÇÃO]]="HB",TB_Radiologia1[[#This Row],[TIPIFICAÇÃO]]="PR"),SUM(TB_Radiologia1[[#This Row],[CH TEÓRICA]:[CH PRÁTICA]])/66,IF(TB_Radiologia1[[#This Row],[TIPIFICAÇÃO]]="EXT",0.5,0))>0.6,IF(OR(TB_Radiologia1[[#This Row],[TIPIFICAÇÃO]]="HB",TB_Radiologia1[[#This Row],[TIPIFICAÇÃO]]="PR"),SUM(TB_Radiologia1[[#This Row],[CH TEÓRICA]:[CH PRÁTICA]])/66,IF(TB_Radiologia1[[#This Row],[TIPIFICAÇÃO]]="EXT",0.5,0))<0.8),1,IF(OR(TB_Radiologia1[[#This Row],[TIPIFICAÇÃO]]="HB",TB_Radiologia1[[#This Row],[TIPIFICAÇÃO]]="PR"),SUM(TB_Radiologia1[[#This Row],[CH TEÓRICA]:[CH PRÁTICA]])/66,IF(TB_Radiologia1[[#This Row],[TIPIFICAÇÃO]]="EXT",0.5,0)))))} -> 0.5 | R24: PRESENCIAL | S24: {=ROUNDUP(IFERROR(_xlfn.IFS(TB_Radiologia1[[#This Row],[TIPIFICAÇÃO]]="ON.A",0,AND(TB_Radiologia1[[#This Row],[TIPIFICAÇÃO]]="EST",TB_Radiologia1[[#This Row],[TIPO DE OFERTA]]="PRESENCIAL"),0,AND(TB_Radiologia1[[#This Row],[TIPIFICAÇÃO]]="PR",OR(TB_Radiologia1[[#This Row],[TIPO DE OFERTA]]="PRESENCIAL",TB_Radiologia1[[#This Row],[TIPO DE OFERTA]]="SEMI-PRESENCIAL")),TB_Radiologia1[[#This Row],[CH TEÓRICA]]+TB_Radiologia1[[#This Row],[CH PRÁTICA]],AND(TB_Radiologia1[[#This Row],[TIPIFICAÇÃO]]="HB",TB_Radiologia1[[#This Row],[TIPO DE OFERTA]]="PRESENCIAL"),TB_Radiologia1[[#This Row],[CH TEÓRICA]]+TB_Radiologia1[[#This Row],[CH PRÁTICA]],AND(TB_Radiologia1[[#This Row],[TIPIFICAÇÃO]]="EXT",OR(TB_Radiologia1[[#This Row],[TIPO DE OFERTA]]="PRESENCIAL",TB_Radiologia1[[#This Row],[TIPO DE OFERTA]]="SEMI-PRESENCIAL")),33,AND(TB_Radiologia1[[#This Row],[TIPIFICAÇÃO]]="TCC",TB_Radiologia1[[#This Row],[TIPO DE OFERTA]]="PRESENCIAL"),SUM(TB_Radiologia1[[#This Row],[CH TEÓRICA]],TB_Radiologia1[[#This Row],[CH PRÁTICA]]))/Cursos!$E$3,0),0)} -> 2 | T24: =IF(TB_Radiologia1[[#This Row],[TIPIFICAÇÃO]]="ON.S",ROUNDUP(TB_Radiologia1[[#This Row],[CH TEÓRICA]]/Cursos!$E$3,0),0) -> 0 | U24: {=IFERROR(_xlfn.IFS(TB_Radiologia1[[#This Row],[TIPIFICAÇÃO]]="ON.A",1,TB_Radiologia1[[#This Row],[TIPIFICAÇÃO]]="PR",0,TB_Radiologia1[[#This Row],[TIPIFICAÇÃO]]="HB",0,AND(TB_Radiologia1[[#This Row],[TIPIFICAÇÃO]]="EXT",OR(TB_Radiologia1[[#This Row],[TIPO DE OFERTA]]="SEMI-PRESENCIAL",TB_Radiologia1[[#This Row],[TIPO DE OFERTA]]="EAD 100%")),1),0)} -> 0 | V24: {=ROUNDUP(IFERROR(_xlfn.IFS(TB_Radiologia1[[#This Row],[TIPIFICAÇÃO]]="ON.A",0,TB_Radiologia1[[#This Row],[TIPIFICAÇÃO]]="PR",0,TB_Radiologia1[[#This Row],[TIPIFICAÇÃO]]="HB",TB_Radiologia1[[#This Row],[CH ONLINE]],TB_Radiologia1[[#This Row],[TIPIFICAÇÃO]]="ON.S",0,AND(TB_Radiologia1[[#This Row],[TIPIFICAÇÃO]]="EXT",TB_Radiologia1[[#This Row],[TIPO DE OFERTA]]="PRESENCIAL"),TB_Radiologia1[[#This Row],[CRÉDITOS]]-TB_Radiologia1[[#This Row],[CRÉDITOS PAGO PROFESSOR]])/Cursos!$E$3,0),0)} -> 0 | W24: BACHARELADO
B25: =$J$2 -> RADIOLOGIA | C25: Subtotal | G25: =SUBTOTAL(9,G18:G24) -> 412 | I25: =SUBTOTAL(9,I18:I24) -> 165 | J25: =SUBTOTAL(9,J18:J24) -> 99 | K25: =SUBTOTAL(9,K18:K24) -> 0 | L25: =SUBTOTAL(9,L18:L24) -> 0 | M25: =SUBTOTAL(9,M18:M24) -> 148 | O25: =SUBTOTAL(9,O18:O24) -> 25 | P25: =SUBTOTAL(9,P18:P24) -> 4 | R25: PRESENCIAL | S25: {=ROUNDUP(IFERROR(_xlfn.IFS(TB_Radiologia1[[#This Row],[TIPIFICAÇÃO]]="ON.A",0,AND(TB_Radiologia1[[#This Row],[TIPIFICAÇÃO]]="EST",TB_Radiologia1[[#This Row],[TIPO DE OFERTA]]="PRESENCIAL"),0,AND(TB_Radiologia1[[#This Row],[TIPIFICAÇÃO]]="PR",OR(TB_Radiologia1[[#This Row],[TIPO DE OFERTA]]="PRESENCIAL",TB_Radiologia1[[#This Row],[TIPO DE OFERTA]]="SEMI-PRESENCIAL")),TB_Radiologia1[[#This Row],[CH TEÓRICA]]+TB_Radiologia1[[#This Row],[CH PRÁTICA]],AND(TB_Radiologia1[[#This Row],[TIPIFICAÇÃO]]="HB",TB_Radiologia1[[#This Row],[TIPO DE OFERTA]]="PRESENCIAL"),TB_Radiologia1[[#This Row],[CH TEÓRICA]]+TB_Radiologia1[[#This Row],[CH PRÁTICA]],AND(TB_Radiologia1[[#This Row],[TIPIFICAÇÃO]]="EXT",OR(TB_Radiologia1[[#This Row],[TIPO DE OFERTA]]="PRESENCIAL",TB_Radiologia1[[#This Row],[TIPO DE OFERTA]]="SEMI-PRESENCIAL")),33,AND(TB_Radiologia1[[#This Row],[TIPIFICAÇÃO]]="TCC",TB_Radiologia1[[#This Row],[TIPO DE OFERTA]]="PRESENCIAL"),SUM(TB_Radiologia1[[#This Row],[CH TEÓRICA]],TB_Radiologia1[[#This Row],[CH PRÁTICA]]))/Cursos!$E$3,0),0)} -> 0 | T25: =IF(TB_Radiologia1[[#This Row],[TIPIFICAÇÃO]]="ON.S",ROUNDUP(TB_Radiologia1[[#This Row],[CH TEÓRICA]]/Cursos!$E$3,0),0) -> 0 | U25: {=IFERROR(_xlfn.IFS(TB_Radiologia1[[#This Row],[TIPIFICAÇÃO]]="ON.A",1,TB_Radiologia1[[#This Row],[TIPIFICAÇÃO]]="PR",0,TB_Radiologia1[[#This Row],[TIPIFICAÇÃO]]="HB",0,AND(TB_Radiologia1[[#This Row],[TIPIFICAÇÃO]]="EXT",OR(TB_Radiologia1[[#This Row],[TIPO DE OFERTA]]="SEMI-PRESENCIAL",TB_Radiologia1[[#This Row],[TIPO DE OFERTA]]="EAD 100%")),1),0)} -> 0 | V25: {=ROUNDUP(IFERROR(_xlfn.IFS(TB_Radiologia1[[#This Row],[TIPIFICAÇÃO]]="ON.A",0,TB_Radiologia1[[#This Row],[TIPIFICAÇÃO]]="PR",0,TB_Radiologia1[[#This Row],[TIPIFICAÇÃO]]="HB",TB_Radiologia1[[#This Row],[CH ONLINE]],TB_Radiologia1[[#This Row],[TIPIFICAÇÃO]]="ON.S",0,AND(TB_Radiologia1[[#This Row],[TIPIFICAÇÃO]]="EXT",TB_Radiologia1[[#This Row],[TIPO DE OFERTA]]="PRESENCIAL"),TB_Radiologia1[[#This Row],[CRÉDITOS]]-TB_Radiologia1[[#This Row],[CRÉDITOS PAGO PROFESSOR]])/Cursos!$E$3,0),0)} -> 0 | W25: BACHARELADO
