Workbook
Name Report1.Header: Prijslijst!#REF!
Name Report1.Range: Prijslijst!#REF!
Name Report2.Header: #REF!
Name Report2.Range: #REF!
Name Report3.Header: #REF!
Name Report3.Range: #REF!
Name Report4.Header: #REF!
Name Report4.Range: #REF!
Name Report5.Header: #REF!
Name Report5.Range: #REF!
Name Report6.Header: #REF!
Name Report6.Range: #REF!

Sheet Index
A1: =HYPERLINK("#Prijslijst!A"&Linkadressen!D1,Linkadressen!A1) -> Bestrating
B2: =HYPERLINK("#Prijslijst!A"&Linkadressen!D2,Linkadressen!B2) -> Beton Gecoat
C3: =HYPERLINK("#Prijslijst!A"&Linkadressen!D3,Linkadressen!C3) -> GeoProarte
B4: =HYPERLINK("#Prijslijst!A"&Linkadressen!D4,Linkadressen!B4) -> Beton Plus
C5: =HYPERLINK("#Prijslijst!A"&Linkadressen!D5,Linkadressen!C5) -> Infinito
C6: =HYPERLINK("#Prijslijst!A"&Linkadressen!D6,Linkadressen!C6) -> Trippel T
C7: =HYPERLINK("#Prijslijst!A"&Linkadressen!D7,Linkadressen!C7) -> Vialetta
C8: =HYPERLINK("#Prijslijst!A"&Linkadressen!D8,Linkadressen!C8) -> GeoCorso
C9: =HYPERLINK("#Prijslijst!A"&Linkadressen!D9,Linkadressen!C9) -> GeoStretto
C10: =HYPERLINK("#Prijslijst!A"&Linkadressen!D10,Linkadressen!C10) -> GeoArdesia
C11: =HYPERLINK("#Prijslijst!A"&Linkadressen!D11,Linkadressen!C11) -> GeoColor
C12: =HYPERLINK("#Prijslijst!A"&Linkadressen!D12,Linkadressen!C12) -> H2O
C13: =HYPERLINK("#Prijslijst!A"&Linkadressen!D13,Linkadressen!C13) -> Design Square
C14: =HYPERLINK("#Prijslijst!A"&Linkadressen!D14,Linkadressen!C14) -> Patio Square
C15: =HYPERLINK("#Prijslijst!A"&Linkadressen!D15,Linkadressen!C15) -> Patio Straight
C16: =HYPERLINK("#Prijslijst!A"&Linkadressen!D16,Linkadressen!C16) -> Smartton
... C32: =HYPERLINK("#Prijslijst!A"&Linkadressen!D32,Linkadressen!C32) -> Plazza
B33: =HYPERLINK("#Prijslijst!A"&Linkadressen!D33,Linkadressen!B33) -> Beton Basic Strak
C34: =HYPERLINK("#Prijslijst!A"&Linkadressen!D34,Linkadressen!C34) -> Premiton
C35: =HYPERLINK("#Prijslijst!A"&Linkadressen!D35,Linkadressen!C35) -> Premiton Linea
C36: =HYPERLINK("#Prijslijst!A"&Linkadressen!D36,Linkadressen!C36) -> Premiton Aqua
C37: =HYPERLINK("#Prijslijst!A"&Linkadressen!D37,Linkadressen!C37) -> Garden Tile SE
C38: =HYPERLINK("#Prijslijst!A"&Linkadressen!D38,Linkadressen!C38) -> Randa
C39: =HYPERLINK("#Prijslijst!A"&Linkadressen!D39,Linkadressen!C39) -> Damme
C40: =HYPERLINK("#Prijslijst!A"&Linkadressen!D40,Linkadressen!C40) -> Recto
C41: =HYPERLINK("#Prijslijst!A"&Linkadressen!D41,Linkadressen!C41) -> Straksteen
C42: =HYPERLINK("#Prijslijst!A"&Linkadressen!D42,Linkadressen!C42) -> Schellevis
C43: =HYPERLINK("#Prijslijst!A"&Linkadressen!D43,Linkadressen!C43) -> Betontegels
C44: =HYPERLINK("#Prijslijst!A"&Linkadressen!D44,Linkadressen!C44) -> Speciale Betontegels
C45: =HYPERLINK("#Prijslijst!A"&Linkadressen!D45,Linkadressen!C45) -> Betonklinkers S-Top
... C55: =HYPERLINK("#Prijslijst!A"&Linkadressen!D55,Linkadressen!C55) -> Hydro Lineo
B56: =HYPERLINK("#Prijslijst!A"&Linkadressen!D56,Linkadressen!B56) -> Beton Basic Getrommeld
C57: =HYPERLINK("#Prijslijst!A"&Linkadressen!D57,Linkadressen!C57) -> Stonique
C58: =HYPERLINK("#Prijslijst!A"&Linkadressen!D58,Linkadressen!C58) -> Damme
C59: =HYPERLINK("#Prijslijst!A"&Linkadressen!D59,Linkadressen!C59) -> Stonehedge
C60: =HYPERLINK("#Prijslijst!A"&Linkadressen!D60,Linkadressen!C60) -> Recto Antique
C61: =HYPERLINK("#Prijslijst!A"&Linkadressen!D61,Linkadressen!C61) -> Tumbelton
B62: =HYPERLINK("#Prijslijst!A"&Linkadressen!D62,Linkadressen!B62) -> Gebakken Klinkers Strengpers
C63: =HYPERLINK("#Prijslijst!A"&Linkadressen!D63,Linkadressen!C63) -> Waalformaat
C64: =HYPERLINK("#Prijslijst!A"&Linkadressen!D64,Linkadressen!C64) -> Dikformaat
C65: =HYPERLINK("#Prijslijst!A"&Linkadressen!D65,Linkadressen!C65) -> Overige afmetingen
B66: =HYPERLINK("#Prijslijst!A"&Linkadressen!D66,Linkadressen!B66) -> Gebakken Klinkers Vormbak
C67: =HYPERLINK("#Prijslijst!A"&Linkadressen!D67,Linkadressen!C67) -> Waalformaat
C68: =HYPERLINK("#Prijslijst!A"&Linkadressen!D68,Linkadressen!C68) -> Dikformaat
C69: =HYPERLINK("#Prijslijst!A"&Linkadressen!D69,Linkadressen!C69) -> Keiformaat
C70: =HYPERLINK("#Prijslijst!A"&Linkadressen!D70,Linkadressen!C70) -> Rijnformaat
C71: =HYPERLINK("#Prijslijst!A"&Linkadressen!D71,Linkadressen!C71) -> Elegantia
B72: =HYPERLINK("#Prijslijst!A"&Linkadressen!D72,Linkadressen!B72) -> Natuursteen Tegels
C73: =HYPERLINK("#Prijslijst!A"&Linkadressen!D73,Linkadressen!C73) -> Antique Blue
C74: =HYPERLINK("#Prijslijst!A"&Linkadressen!D74,Linkadressen!C74) -> Blue Moon
C75: =HYPERLINK("#Prijslijst!A"&Linkadressen!D75,Linkadressen!C75) -> Granit Grey
C76: =HYPERLINK("#Prijslijst!A"&Linkadressen!D76,Linkadressen!C76) -> Juparana
C77: =HYPERLINK("#Prijslijst!A"&Linkadressen!D77,Linkadressen!C77) -> Pacific
C78: =HYPERLINK("#Prijslijst!A"&Linkadressen!D78,Linkadressen!C78) -> Slate
C79: =HYPERLINK("#Prijslijst!A"&Linkadressen!D79,Linkadressen!C79) -> Tahiti Blue
C80: =HYPERLINK("#Prijslijst!A"&Linkadressen!D80,Linkadressen!C80) -> Tibet Dark Grey
C81: =HYPERLINK("#Prijslijst!A"&Linkadressen!D81,Linkadressen!C81) -> Toscana
C82: =HYPERLINK("#Prijslijst!A"&Linkadressen!D82,Linkadressen!C82) -> Travertin
C83: =HYPERLINK("#Prijslijst!A"&Linkadressen!D83,Linkadressen!C83) -> Vietnam Black
C84: =HYPERLINK("#Prijslijst!A"&Linkadressen!D84,Linkadressen!C84) -> Vietnamese Hardsteen
B85: =HYPERLINK("#Prijslijst!A"&Linkadressen!D85,Linkadressen!B85) -> Natuursteen Overige Bestrating
C86: =HYPERLINK("#Prijslijst!A"&Linkadressen!D86,Linkadressen!C86) -> Kandla
C87: =HYPERLINK("#Prijslijst!A"&Linkadressen!D87,Linkadressen!C87) -> Flagstones
C88: =HYPERLINK("#Prijslijst!A"&Linkadressen!D88,Linkadressen!C88) -> Staptegels
C89: =HYPERLINK("#Prijslijst!A"&Linkadressen!D89,Linkadressen!C89) -> Kinderkoppen en Keien
B90: =HYPERLINK("#Prijslijst!A"&Linkadressen!D90,Linkadressen!B90) -> Keramiek 2 cm
C91: =HYPERLINK("#Prijslijst!A"&Linkadressen!D91,Linkadressen!C91) -> Solid Square
C92: =HYPERLINK("#Prijslijst!A"&Linkadressen!D92,Linkadressen!C92) -> Ceramaxx
C93: =HYPERLINK("#Prijslijst!A"&Linkadressen!D93,Linkadressen!C93) -> The Art of Living
C94: =HYPERLINK("#Prijslijst!A"&Linkadressen!D94,Linkadressen!C94) -> Douglas & Jones
C95: =HYPERLINK("#Prijslijst!A"&Linkadressen!D95,Linkadressen!C95) -> Mirage
C96: =HYPERLINK("#Prijslijst!A"&Linkadressen!D96,Linkadressen!C96) -> TwentyGres
C97: =HYPERLINK("#Prijslijst!A"&Linkadressen!D97,Linkadressen!C97) -> Italia
B98: =HYPERLINK("#Prijslijst!A"&Linkadressen!D98,Linkadressen!B98) -> Keramiek 3 cm
C99: =HYPERLINK("#Prijslijst!A"&Linkadressen!D99,Linkadressen!C99) -> Solid Square
C100: =HYPERLINK("#Prijslijst!A"&Linkadressen!D100,Linkadressen!C100) -> Ceramaxx
C101: =HYPERLINK("#Prijslijst!A"&Linkadressen!D101,Linkadressen!C101) -> The Art of Living
C102: =HYPERLINK("#Prijslijst!A"&Linkadressen!D102,Linkadressen!C102) -> Douglas & Jones
C103: =HYPERLINK("#Prijslijst!A"&Linkadressen!D103,Linkadressen!C103) -> Piet Boon
C104: =HYPERLINK("#Prijslijst!A"&Linkadressen!D104,Linkadressen!C104) -> Solostone
C105: =HYPERLINK("#Prijslijst!A"&Linkadressen!D105,Linkadressen!C105) -> Exterior
C106: =HYPERLINK("#Prijslijst!A"&Linkadressen!D106,Linkadressen!C106) -> TRE
C107: =HYPERLINK("#Prijslijst!A"&Linkadressen!D107,Linkadressen!C107) -> Triagres
B108: =HYPERLINK("#Prijslijst!A"&Linkadressen!D108,Linkadressen!B108) -> Keramiek op Beton
C109: =HYPERLINK("#Prijslijst!A"&Linkadressen!D109,Linkadressen!C109) -> Private Label
C110: =HYPERLINK("#Prijslijst!A"&Linkadressen!D110,Linkadressen!C110) -> Cerasun
C111: =HYPERLINK("#Prijslijst!A"&Linkadressen!D111,Linkadressen!C111) -> GeoCeramica
C112: =HYPERLINK("#Prijslijst!A"&Linkadressen!D112,Linkadressen!C112) -> GeoCeramica 2Drive
B113: =HYPERLINK("#Prijslijst!A"&Linkadressen!D113,Linkadressen!B113) -> Overig
C114: =HYPERLINK("#Prijslijst!A"&Linkadressen!D114,Linkadressen!C114) -> Rubber tegels
C115: =HYPERLINK("#Prijslijst!A"&Linkadressen!D115,Linkadressen!C115) -> Tegeldragers
A116: =HYPERLINK("#Prijslijst!A"&Linkadressen!D116,Linkadressen!A116) -> Kantopsluiting
B117: =HYPERLINK("#Prijslijst!A"&Linkadressen!D117,Linkadressen!B117) -> Rechte betonbanden
C118: =HYPERLINK("#Prijslijst!A"&Linkadressen!D118,Linkadressen!C118) -> 5 tot 8 cm
C119: =HYPERLINK("#Prijslijst!A"&Linkadressen!D119,Linkadressen!C119) -> 10 cm
C120: =HYPERLINK("#Prijslijst!A"&Linkadressen!D120,Linkadressen!C120) -> 12 cm
C121: =HYPERLINK("#Prijslijst!A"&Linkadressen!D121,Linkadressen!C121) -> 15 cm
C122: =HYPERLINK("#Prijslijst!A"&Linkadressen!D122,Linkadressen!C122) -> Schellevis
B123: =HYPERLINK("#Prijslijst!A"&Linkadressen!D123,Linkadressen!B123) -> Trottoirbanden
C124: =HYPERLINK("#Prijslijst!A"&Linkadressen!D124,Linkadressen!C124) -> 13/15
...

Sheet Linkadressen
A1: Bestrating
B2: Beton Gecoat | D2: 3
C3: GeoProarte | D3: 3
B4: Beton Plus | D4: 13
C5: Infinito | D5: 13
C6: Trippel T | D6: 60
C7: Vialetta | D7: 108
C8: GeoCorso | D8: 115
C9: GeoStretto | D9: 199
C10: GeoArdesia | D10: 208
C11: GeoColor | D11: 214
C12: H2O | D12: 232
C13: Design Square | D13: 256
C14: Patio Square | D14: 266
C15: Patio Straight | D15: 286
C16: Smartton | D16: 290
... C32: Plazza | D32: 660
B33: Beton Basic Strak | D33: 665
C34: Premiton | D34: 665
C35: Premiton Linea | D35: 685
C36: Premiton Aqua | D36: 718
C37: Garden Tile SE | D37: 722
C38: Randa | D38: 726
C39: Damme | D39: 737
C40: Recto | D40: 745
C41: Straksteen | D41: 806
C42: Schellevis | D42: 820
C43: Betontegels | D43: 988
C44: Speciale Betontegels | D44: 1026
C45: Betonklinkers S-Top | D45: 1036
... C55: Hydro Lineo | D55: 1249
B56: Beton Basic Getrommeld | D56: 1263
C57: Stonique | D57: 1263
C58: Damme | D58: 1333
C59: Stonehedge | D59: 1340
C60: Recto Antique | D60: 1394
C61: Tumbelton | D61: 1434
B62: Gebakken Klinkers Strengpers | D62: 1489
C63: Waalformaat | D63: 1489
C64: Dikformaat | D64: 1526
C65: Overige afmetingen | D65: 1553
B66: Gebakken Klinkers Vormbak | D66: 1566
C67: Waalformaat | D67: 1566
C68: Dikformaat | D68: 1624
C69: Keiformaat | D69: 1661
C70: Rijnformaat | D70: 1665
C71: Elegantia | D71: 1673
B72: Natuursteen Tegels | D72: 1675
C73: Antique Blue | D73: 1675
C74: Blue Moon | D74: 1679
C75: Granit Grey | D75: 1690
C76: Juparana | D76: 1701
C77: Pacific | D77: 1705
C78: Slate | D78: 1710
C79: Tahiti Blue | D79: 1715
C80: Tibet Dark Grey | D80: 1723
C81: Toscana | D81: 1727
C82: Travertin | D82: 1729
C83: Vietnam Black | D83: 1736
C84: Vietnamese Hardsteen | D84: 1739
B85: Natuursteen Overige Bestrating | D85: 1745
C86: Kandla | D86: 1745
C87: Flagstones | D87: 1754
C88: Staptegels | D88: 1777
C89: Kinderkoppen en Keien | D89: 1783
B90: Keramiek 2 cm | D90: 1791
C91: Solid Square | D91: 1791
C92: Ceramaxx | D92: 1796
C93: The Art of Living | D93: 1808
C94: Douglas & Jones | D94: 1813
C95: Mirage | D95: 1831
C96: TwentyGres | D96: 1856
C97: Italia | D97: 1909
B98: Keramiek 3 cm | D98: 1937
C99: Solid Square | D99: 1937
C100: Ceramaxx | D100: 1951
C101: The Art of Living | D101: 1996
C102: Douglas & Jones | D102: 2004
C103: Piet Boon | D103: 2011
C104: Solostone | D104: 2019
C105: Exterior | D105: 2047
C106: TRE | D106: 2054
C107: Triagres | D107: 2068
B108: Keramiek op Beton | D108: 2077
C109: Private Label | D109: 2077
C110: Cerasun | D110: 2146
C111: GeoCeramica | D111: 2237
C112: GeoCeramica 2Drive | D112: 2502
B113: Overig | D113: 2523
C114: Rubber tegels | D114: 2523
C115: Tegeldragers | D115: 2536
A116: Kantopsluiting | D116: 2564
B117: Rechte betonbanden | D117: 2564
C118: 5 tot 8 cm | D118: 2564
C119: 10 cm | D119: 2600
C120: 12 cm | D120: 2622
C121: 15 cm | D121: 2635
C122: Schellevis | D122: 2638
B123: Trottoirbanden | D123: 2668
C124: 13/15 | D124: 2668
...

Sheet Prijslijst
A1: Artikelcode | B1: Omschrijving | C1: st/m² | D1: Part. Incl. BTW | E1: Inkoop Excl. BTW | F1: Marge Excl. BTW | G1: Prijs per | H1: Vol Pak | I1: Besteleenheid | J1: Deelpak | K1: Toeslag | L1: Voorraad | M1: Gewicht kg | N1: EAN Code | O1: Leverancier | P1: ArtNrLeverancier | Q1: Productgroep | R1: Artikelgroep | S1: Subgroep | T1: Terraza Naam
A3: 10001304 | B3: GeoProArte® 30x20x6 cm Stones Belgian Blue Dark Grey | C3: 16.67 | D3: 50.95 | E3: 33.31 | F3: 8.8 | G3: m² | H3: 168 | I3: st. | J3: 12 | K3: 16.53 | L3: Nee | M3: 8.1 | N3: 8719488530528 | O3: MBI | P3: HLAM10508.GARTE | Q3: Bestrating | R3: Beton Gecoat | S3: Oprit en Terras
A4: 10001306 | B4: GeoProArte® 30x20x6 cm Stones Belgian Blue Light Grey | C4: 16.67 | D4: 50.95 | E4: 33.31 | F4: 8.8 | G4: m² | H4: 168 | I4: st. | J4: 12 | K4: 16.53 | L4: Nee | M4: 8.1 | N4: 8719488530535 | O4: MBI | P4: HLAM10509.GARTE | Q4: Bestrating | R4: Beton Gecoat | S4: Oprit en Terras
A6: 10001007 | B6: GeoProArte® 60x60x4 cm Stones Belgian Blue Dark Grey | C6: 2.78 | D6: 47.95 | E6: 31.35 | F6: 8.28 | G6: m² | H6: 42 | I6: st. | J6: 6 | K6: 16.53 | L6: Nee | M6: 32 | N6: 8719488530542 | O6: MBI | P6: QLAM10508.GARTE | Q6: Bestrating | R6: Beton Gecoat | S6: Terras
A7: 10001009 | B7: GeoProArte® 60x60x4 cm Stones Belgian Blue Light Grey | C7: 2.78 | D7: 47.95 | E7: 31.35 | F7: 8.28 | G7: m² | H7: 42 | I7: st. | J7: 6 | K7: 16.53 | L7: Nee | M7: 32 | N7: 8719488530559 | O7: MBI | P7: QLAM10509.GARTE | Q7: Bestrating | R7: Beton Gecoat | S7: Terras
A9: 10001401 | B9: GeoProArte® 120x30x6 cm Wood Beige Oak | C9: 2.78 | D9: 56.95 | E9: 37.23 | F9: 9.84 | G9: m² | H9: 16 | I9: st. | J9: 2 | K9: 16.53 | L9: Nee | M9: 48 | N9: 8719488528891 | O9: MBI | P9: UMAZ40804.GARTE | Q9: Bestrating | R9: Beton Gecoat | S9: Terras
A10: 10001400 | B10: GeoProArte® 120x30x6 cm Wood Dark Oak Op=Op! | C10: 2.78 | D10: 49.95 | E10: 34.83 | F10: 6.45 | G10: m² | H10: 16 | I10: st. | J10: 1 | K10: Nee | L10: Ja | M10: 48 | N10: 8719488389324 | O10: MBI | P10: UMAZ40801.GARTE | Q10: Bestrating | R10: Beton Gecoat | S10: Terras | T10: Diseno 120x30x6 cm Madera Roble Oscuro
A11: 10001402 | B11: GeoProArte® 120x30x6 cm Wood Grey Oak | C11: 2.78 | D11: 56.95 | E11: 37.23 | F11: 9.84 | G11: m² | H11: 16 | I11: st. | J11: 2 | K11: 16.53 | L11: Nee | M11: 48 | N11: 8719488389348 | O11: MBI | P11: UMAZ40802.GARTE | Q11: Bestrating | R11: Beton Gecoat | S11: Terras
A12: 10001404 | B12: GeoProArte® 120x30x6 cm Wood Yellow Oak Op=Op! | C12: 2.78 | D12: 49.95 | E12: 34.83 | F12: 6.45 | G12: m² | H12: 16 | I12: st. | J12: 1 | K12: Nee | L12: Ja | M12: 48 | N12: 8719488389362 | O12: MBI | P12: UMAZ40803.GARTE | Q12: Bestrating | R12: Beton Gecoat | S12: Terras | T12: Diseno 120x30x6 cm Madera Roble Amarillo
A14: 10015010 | B14: Infinito Comfort 20x20x6 cm Black | C14: 25 | D14: 41.95 | E14: 26 | F14: 8.67 | G14: m² | H14: 216 | I14: st. | J14: 18 | K14: 16.53 | L14: Nee | M14: 5.52 | N14: 5420001268554 | O14: Marlux | P14: 531315 | Q14: Bestrating | R14: Beton Plus | S14: Oprit en Terras
A15: 10015030 | B15: Infinito Comfort 30x20x6 cm Black | C15: 16.67 | D15: 41.95 | E15: 26.01 | F15: 8.66 | G15: m² | H15: 144 | I15: st. | J15: 12 | K15: 16.53 | L15: Nee | M15: 8.28 | N15: 5420001268608 | O15: Marlux | P15: 531324 | Q15: Bestrating | R15: Beton Plus | S15: Oprit en Terras
A16: 10015032 | B16: Infinito Comfort 30x20x6 cm Nuance Light Grey | C16: 16.67 | D16: 41.95 | E16: 26.01 | F16: 8.66 | G16: m² | H16: 144 | I16: st. | J16: 12 | K16: 16.53 | L16: Nee | M16: 8.28 | N16: 5420001268615 | O16: Marlux | P16: 531325 | Q16: Bestrating | R16: Beton Plus | S16: Oprit en Terras
A17: 10015034 | B17: Infinito Comfort 30x20x6 cm Tavo | C17: 16.67 | D17: 41.95 | E17: 26.01 | F17: 8.66 | G17: m² | H17: 144 | I17: st. | J17: 12 | K17: 16.53 | L17: Nee | M17: 8.28 | N17: 5420001268622 | O17: Marlux | P17: 531326 | Q17: Bestrating | R17: Beton Plus | S17: Oprit en Terras
A18: 10015036 | B18: Infinito Comfort 30x20x6 cm Nuance Greige | C18: 16.67 | D18: 41.95 | E18: 26.01 | F18: 8.66 | G18: m² | H18: 144 | I18: st. | J18: 12 | K18: 16.53 | L18: Nee | M18: 8.28 | N18: 5420001268639 | O18: Marlux | P18: 531327 | Q18: Bestrating | R18: Beton Plus | S18: Oprit en Terras
A19: 10015038 | B19: Infinito Comfort 30x20x6 cm Orso | C19: 16.67 | D19: 41.95 | E19: 26.01 | F19: 8.66 | G19: m² | H19: 144 | I19: st. | J19: 12 | K19: 16.53 | L19: Nee | M19: 8.28 | N19: 5420001268646 | O19: Marlux | P19: 531329 | Q19: Bestrating | R19: Beton Plus | S19: Oprit en Terras
A21: 10015050 | B21: Infinito Comfort 60x30x6 cm Black | C21: 5.56 | D21: 43.5 | E21: 29.53 | F21: 6.42 | G21: m² | H21: 40 | I21: st. | J21: 4 | K21: 16.53 | L21: Nee | M21: 24.85 | N21: 5420001268653 | O21: Marlux | P21: 531332 | Q21: Bestrating | R21: Beton Plus | S21: Oprit en Terras
A22: 10015060 | B22: Infinito Comfort 60x30x6 cm Medium Grey | C22: 5.56 | D22: 43.5 | E22: 29.53 | F22: 6.42 | G22: m² | H22: 40 | I22: st. | J22: 4 | K22: 16.53 | L22: Nee | M22: 24.85 | N22: 5420001268660 | O22: Marlux | P22: 531334 | Q22: Bestrating | R22: Beton Plus | S22: Oprit en Terras
A23: 10015062 | B23: Infinito Comfort 60x30x6 cm Light Grey | C23: 5.56 | D23: 43.5 | E23: 29.53 | F23: 6.42 | G23: m² | H23: 40 | I23: st. | J23: 4 | K23: 16.53 | L23: Nee | M23: 24.85 | N23: 5420001268677 | O23: Marlux | P23: 531335 | Q23: Bestrating | R23: Beton Plus | S23: Oprit en Terras
A24: 10015064 | B24: Infinito Comfort 60x30x6 cm Nuance Light Grey | C24: 5.56 | D24: 43.5 | E24: 29.53 | F24: 6.42 | G24: m² | H24: 40 | I24: st. | J24: 4 | K24: 16.53 | L24: Nee | M24: 24.85 | N24: 5420001268684 | O24: Marlux | P24: 531336 | Q24: Bestrating | R24: Beton Plus | S24: Oprit en Terras
A25: 10015066 | B25: Infinito Comfort 60x30x6 cm Nuance Greige | C25: 5.56 | D25: 43.5 | E25: 29.53 | F25: 6.42 | G25: m² | H25: 40 | I25: st. | J25: 4 | K25: 16.53 | L25: Nee | M25: 24.85 | N25: 5420001271721 | O25: Marlux | P25: 542038 | Q25: Bestrating | R25: Beton Plus | S25: Oprit en Terras
A27: 10015220 | B27: Infinito Comfort 60x60x4,4 cm Black | C27: 2.78 | D27: 42.5 | E27: 24.94 | F27: 10.18 | G27: m² | H27: 32 | I27: st. | J27: 2 | K27: 16.53 | L27: Nee | M27: 36.44 | N27: 5420001268738 | O27: Marlux | P27: 531343 | Q27: Bestrating | R27: Beton Plus | S27: Terras
... A58: 10015250 | B58: Infinito Comfort 80x40x4,4 cm Tavo | C58: 3.13 | D58: 46.5 | E58: 30.74 | F58: 7.69 | G58: m² | H58: 48 | I58: st. | J58: 3 | K58: 16.53 | L58: Nee | M58: 32.38 | N58: 5420001268875 | O58: Marlux | P58: 531378 | Q58: Bestrating | R58: Beton Plus | S58: Terras
A60: 10019006 | B60: Trippel T 60x30x4 cm Antraciet | C60: 5.56 | D60: 32.95 | E60: 17.98 | F60: 9.25 | G60: m² | H60: 84 | I60: st. | J60: 12 | K60: 16.53 | L60: Nee | M60: 16 | N60: 8719488586082 | O60: MBI | P60: QKKTA56BS.G025F | Q60: Bestrating | R60: Beton Plus | S60: Terras
A61: 10019016 | B61: Trippel T 60x30x4 cm Beige nuance | C61: 5.56 | D61: 32.95 | E61: 17.98 | F61: 9.25 | G61: m² | H61: 84 | I61: st. | J61: 12 | K61: 16.53 | L61: Nee | M61: 16 | N61: 8719488586136 | O61: MBI | P61: QKKTB38BS.G025F | Q61: Bestrating | R61: Beton Plus | S61: Terras
A62: 10019014 | B62: Trippel T 60x30x4 cm Bruin nuance | C62: 5.56 | D62: 32.95 | E62: 17.98 | F62: 9.25 | G62: m² | H62: 84 | I62: st. | J62: 12 | K62: 16.53 | L62: Nee | M62: 16 | N62: 8719488586129 | O62: MBI | P62: QKKTB75BS.G025F | Q62: Bestrating | R62: Beton Plus | S62: Terras
A63: 10019000 | B63: Trippel T 60x30x4 cm Grezza nuance | C63: 5.56 | D63: 32.95 | E63: 17.98 | F63: 9.25 | G63: m² | H63: 84 | I63: st. | J63: 12 | K63: 16.53 | L63: Nee | M63: 16 | N63: 8719488586051 | O63: MBI | P63: QKKTB36BS.G025F | Q63: Bestrating | R63: Beton Plus | S63: Terras
A64: 10019004 | B64: Trippel T 60x30x4 cm Grijs nuance | C64: 5.56 | D64: 32.95 | E64: 17.98 | F64: 9.25 | G64: m² | H64: 84 | I64: st. | J64: 12 | K64: 16.53 | L64: Nee | M64: 16 | N64: 8719488586075 | O64: MBI | P64: QKKTH50BS.G025F | Q64: Bestrating | R64: Beton Plus | S64: Terras
A65: 10019002 | B65: Trippel T 60x30x4 cm Kova nuance | C65: 5.56 | D65: 32.95 | E65: 17.98 | F65: 9.25 | G65: m² | H65: 84 | I65: st. | J65: 12 | K65: 16.53 | L65: Nee | M65: 16 | N65: 8719488586068 | O65: MBI | P65: QKKTB37BS.G025F | Q65: Bestrating | R65: Beton Plus | S65: Terras
A66: 10019010 | B66: Trippel T 60x30x4 cm Licht grijs | C66: 5.56 | D66: 32.95 | E66: 17.98 | F66: 9.25 | G66: m² | H66: 84 | I66: st. | J66: 12 | K66: 16.53 | L66: Nee | M66: 16 | N66: 8719488586105 | O66: MBI | P66: QKKTA89BS.G025F | Q66: Bestrating | R66: Beton Plus | S66: Terras
A67: 10019012 | B67: Trippel T 60x30x4 cm Taupe | C67: 5.56 | D67: 32.95 | E67: 17.98 | F67: 9.25 | G67: m² | H67: 84 | I67: st. | J67: 12 | K67: 16.53 | L67: Nee | M67: 16 | N67: 8719488586112 | O67: MBI | P67: QKKTB10BS.G025F | Q67: Bestrating | R67: Beton Plus | S67: Terras
A68: 10019008 | B68: Trippel T 60x30x4 cm Zwart/grijs | C68: 5.56 | D68: 32.95 | E68: 17.98 | F68: 9.25 | G68: m² | H68: 84 | I68: st. | J68: 12 | K68: 16.53 | L68: Nee | M68: 16 | N68: 8719488586099 | O68: MBI | P68: QKKTH45BS.G025F | Q68: Bestrating | R68: Beton Plus | S68: Terras
A70: 10019226 | B70: Trippel T 2Drive 60x30x6 cm Antraciet | C70: 5.56 | D70: 37.95 | E70: 20.7 | F70: 10.66 | G70: m² | H70: 56 | I70: st. | J70: 4 | K70: 16.53 | L70: Nee | M70: 24 | N70: 8719488586174 | O70: MBI | P70: UGKTA56BS.G025F | Q70: Bestrating | R70: Beton Plus | S70: Oprit en Terras
A71: 10019228 | B71: Trippel T 2Drive 60x30x6 cm Donkergrijs | C71: 5.56 | D71: 37.95 | E71: 20.7 | F71: 10.66 | G71: m² | H71: 56 | I71: st. | J71: 4 | K71: 16.53 | L71: Nee | M71: 24 | N71: 8719488594650 | O71: MBI | P71: UGKTA95BS.G025F | Q71: Bestrating | R71: Beton Plus | S71: Oprit en Terras
A72: 10019220 | B72: Trippel T 2Drive 60x30x6 cm Grezza nuance | C72: 5.56 | D72: 37.95 | E72: 20.7 | F72: 10.66 | G72: m² | H72: 56 | I72: st. | J72: 4 | K72: 16.53 | L72: Nee | M72: 24 | N72: 8719488586143 | O72: MBI | P72: UGKTB36BS.G025F | Q72: Bestrating | R72: Beton Plus | S72: Oprit en Terras
... A75: 10019230 | B75: Trippel T 2Drive 60x30x6 cm Zwart-Grijs gen | C75: 5.56 | D75: 37.95 | E75: 20.7 | F75: 10.66 | G75: m² | H75: 56 | I75: st. | J75: 4 | K75: 16.53 | L75: Nee | M75: 24 | N75: 8719488594643 | O75: MBI | P75: UGKTA45BS.G025F | Q75: Bestrating | R75: Beton Plus | S75: Oprit en Terras
A77: 10019100 | B77: Trippel T 60x60x4 cm Antraciet | C77: 2.78 | D77: 32.95 | E77: 16.88 | F77: 10.35 | G77: m² | H77: 42 | I77: st. | J77: 6 | K77: 16.53 | L77: Nee | M77: 32 | N77: 8719488526637 | O77: MBI | P77: QLKTA56BS.G025F | Q77: Bestrating | R77: Beton Plus | S77: Terras | T77: Cemento 60x60x4 cm Sanabria
A78: 10019116 | B78: Trippel T 60x60x4 cm Beige Nuance | C78: 2.78 | D78: 32.95 | E78: 16.88 | F78: 10.35 | G78: m² | H78: 42 | I78: st. | J78: 1 | K78: 16.53 | L78: Ja | M78: 32 | N78: 8719488571750 | O78: MBI | P78: QLKTB38BS.G025F | Q78: Bestrating | R78: Beton Plus | S78: Terras | T78: Cemento 60x60x4 cm Matizar Beige
A79: 10019114 | B79: Trippel T 60x60x4 cm KoVa Nuance | C79: 2.78 | D79: 32.95 | E79: 16.88 | F79: 10.35 | G79: m² | H79: 42 | I79: st. | J79: 6 | K79: 16.53 | L79: Nee | M79: 32 | N79: 8719488571736 | O79: MBI | P79: QLKTB37BS.G025F | Q79: Bestrating | R79: Beton Plus | S79: Terras
A80: 10019104 | B80: Trippel T 60x60x4 cm Taupe | C80: 2.78 | D80: 32.95 | E80: 16.88 | F80: 10.35 | G80: m² | H80: 42 | I80: st. | J80: 6 | K80: 16.53 | L80: Nee | M80: 32 | N80: 8719488526675 | O80: MBI | P80: QLKTB10BS.G025F | Q80: Bestrating | R80: Beton Plus | S80: Terras | T80: Cemento 60x60x4 cm Martel
A81: 10019106 | B81: Jubileum TT 60x60x4 cm Bruin nuance | C81: 2.78 | D81: 29.95 | E81: 16.88 | F81: 7.87 | G81: m² | H81: 42 | I81: st. | J81: 1 | K81: Nee | L81: Ja | M81: 32 | N81: 8719488526699 | O81: MBI | P81: QLKTB75BS.G025F | Q81: Bestrating | R81: Beton Plus | S81: Terras | T81: Cemento 60x60x4 cm Matizar Marrón
A82: 10019112 | B82: Jubileum TT 60x60x4 cm Grezza nuance | C82: 2.78 | D82: 29.95 | E82: 16.88 | F82: 7.87 | G82: m² | H82: 42 | I82: st. | J82: 1 | K82: Nee | L82: Ja | M82: 32 | N82: 8719488571712 | O82: MBI | P82: QLKTB36BS.G025F | Q82: Bestrating | R82: Beton Plus | S82: Terras | T82: Cemento 60x60x4 cm Marizar Grezza
A83: 10019110 | B83: Jubileum TT 60x60x4 cm Grijs nuance | C83: 2.78 | D83: 29.95 | E83: 16.88 | F83: 7.87 | G83: m² | H83: 42 | I83: st. | J83: 1 | K83: Nee | L83: Ja | M83: 32 | N83: 8719488526736 | O83: MBI | P83: QLKTH50BS.G025F | Q83: Bestrating | R83: Beton Plus | S83: Terras | T83: Cemento 60x60x4 cm Matizar Gris
A84: 10019102 | B84: Jubileum TT 60x60x4 cm Licht Grijs | C84: 2.78 | D84: 29.95 | E84: 16.88 | F84: 7.87 | G84: m² | H84: 42 | I84: st. | J84: 1 | K84: Nee | L84: Ja | M84: 32 | N84: 8719488526651 | O84: MBI | P84: QLKTA89BS.G025F | Q84: Bestrating | R84: Beton Plus | S84: Terras | T84: Cemento 60x60x4 cm Belesar
A85: 10019108 | B85: Jubileum TT 60x60x4 cm Zwart-Grijs gen | C85: 2.78 | D85: 29.95 | E85: 16.88 | F85: 7.87 | G85: m² | H85: 42 | I85: st. | J85: 1 | K85: Nee | L85: Ja | M85: 32 | N85: 8719488526712 | O85: MBI | P85: QLKTH45BS.G025F | Q85: Bestrating | R85: Beton Plus | S85: Terras | T85: Cemento 60x60x4 cm Matizar Cavodonga
A87: 10019200 | B87: Trippel T 2Drive 60x60x6 cm Antraciet | C87: 2.78 | D87: 37.95 | E87: 20.7 | F87: 10.66 | G87: m² | H87: 28 | I87: st. | J87: 2 | K87: 16.53 | L87: Nee | M87: 48 | N87: 8719488526996 | O87: MBI | P87: TTKTA56BS.G025F | Q87: Bestrating | R87: Beton Plus | S87: Oprit en Terras
A88: 10019202 | B88: Trippel T 2Drive 60x60x6 cm Donkergrijs | C88: 2.78 | D88: 37.95 | E88: 20.7 | F88: 10.66 | G88: m² | H88: 28 | I88: st. | J88: 2 | K88: 16.53 | L88: Nee | M88: 48 | N88: 8719488527627 | O88: MBI | P88: TTKTA95BS.G025F | Q88: Bestrating | R88: Beton Plus | S88: Oprit en Terras
A89: 10019201 | B89: Trippel T 2Drive 60x60x6 cm Grezza nuance | C89: 2.78 | D89: 37.95 | E89: 20.7 | F89: 10.66 | G89: m² | H89: 28 | I89: st. | J89: 2 | K89: 16.53 | L89: Nee | M89: 48 | N89: 8719488594667 | O89: MBI | P89: TTKTB36BS.G025F | Q89: Bestrating | R89: Beton Plus | S89: Oprit en Terras
A90: 10019203 | B90: Trippel T 2Drive 60x60x6 cm KoVa Nuance | C90: 2.78 | D90: 37.95 | E90: 20.7 | F90: 10.66 | G90: m² | H90: 28 | I90: st. | J90: 2 | K90: 16.53 | L90: Nee | M90: 48 | N90: 8719488594674 | O90: MBI | P90: TTKTB37BS.G025F | Q90: Bestrating | R90: Beton Plus | S90: Oprit en Terras
A91: 10019204 | B91: Trippel T 2Drive 60x60x6 cm Zwart-Grijs gen | C91: 2.78 | D91: 37.95 | E91: 20.7 | F91: 10.66 | G91: m² | H91: 28 | I91: st. | J91: 2 | K91: 16.53 | L91: Nee | M91: 48 | N91: 8719488527030 | O91: MBI | P91: TTKTH45BS.G025F | Q91: Bestrating | R91: Beton Plus | S91: Oprit en Terras
A93: 10019140 | B93: Trippel T 80x80x4 cm Antraciet | C93: 1.56 | D93: 42.95 | E93: 25.56 | F93: 9.94 | G93: m² | H93: 12 | I93: st. | J93: 3 | K93: 16.53 | L93: Nee | M93: 56.8 | N93: 8719488526873 | O93: MBI | P93: QNKTA56BS.G025F | Q93: Bestrating | R93: Beton Plus | S93: Terras | T93: Trippel T 80x80x4 cm Antraciet
A94: 10019156 | B94: Trippel T 80x80x4 cm Beige Nuance | C94: 1.56 | D94: 42.95 | E94: 25.56 | F94: 9.94 | G94: m² | H94: 12 | I94: st. | J94: 3 | K94: 16.53 | L94: Nee | M94: 56.8 | N94: 8719488571811 | O94: MBI | P94: QNKTB38BS.G025F | Q94: Bestrating | R94: Beton Plus | S94: Terras | T94: Trippel T 80x80x4 cm Beige Nuance
A95: 10019146 | B95: Trippel T 80x80x4 cm Bruin nuance | C95: 1.56 | D95: 42.95 | E95: 25.56 | F95: 9.94 | G95: m² | H95: 12 | I95: st. | J95: 3 | K95: 16.53 | L95: Nee | M95: 56.8 | N95: 8719488526934 | O95: MBI | P95: QNKTB75BS.G025F | Q95: Bestrating | R95: Beton Plus | S95: Terras | T95: Trippel T 80x80x4 cm Bruin nuance
A96: 10019152 | B96: Trippel T 80x80x4 cm Grezza nuance | C96: 1.56 | D96: 42.95 | E96: 25.56 | F96: 9.94 | G96: m² | H96: 12 | I96: st. | J96: 3 | K96: 16.53 | L96: Nee | M96: 56.8 | N96: 8719488571774 | O96: MBI | P96: QNKTB36BS.G025F | Q96: Bestrating | R96: Beton Plus | S96: Terras | T96: Trippel T 80x80x4 cm Grezza nuance
A97: 10019150 | B97: Trippel T 80x80x4 cm Grijs nuance | C97: 1.56 | D97: 42.95 | E97: 25.56 | F97: 9.94 | G97: m² | H97: 12 | I97: st. | J97: 3 | K97: 16.53 | L97: Nee | M97: 56.8 | N97: 8719488526972 | O97: MBI | P97: QNKTH50BS.G025F | Q97: Bestrating | R97: Beton Plus | S97: Terras
A98: 10019154 | B98: Trippel T 80x80x4 cm KoVa Nuance | C98: 1.56 | D98: 42.95 | E98: 25.56 | F98: 9.94 | G98: m² | H98: 12 | I98: st. | J98: 3 | K98: 16.53 | L98: Nee | M98: 56.8 | N98: 8719488571798 | O98: MBI | P98: QNKTB37BS.G025F | Q98: Bestrating | R98: Beton Plus | S98: Terras
A99: 10019142 | B99: Trippel T 80x80x4 cm Licht Grijs | C99: 1.56 | D99: 42.95 | E99: 25.56 | F99: 9.94 | G99: m² | H99: 12 | I99: st. | J99: 3 | K99: 16.53 | L99: Nee | M99: 56.8 | N99: 8719488526897 | O99: MBI | P99: QNKTA89BS.G025F | Q99: Bestrating | R99: Beton Plus | S99: Terras
A100: 10019144 | B100: Trippel T 80x80x4 cm Taupe | C100: 1.56 | D100: 42.95 | E100: 25.56 | F100: 9.94 | G100: m² | H100: 12 | I100: st. | J100: 3 | K100: 16.53 | L100: Nee | M100: 56.8 | N100: 8719488526910 | O100: MBI | P100: QNKTB10BS.G025F | Q100: Bestrating | R100: Beton Plus | S100: Terras
A101: 10019148 | B101: Trippel T 80x80x4 cm Zwart-Grijs gen | C101: 1.56 | D101: 42.95 | E101: 25.56 | F101: 9.94 | G101: m² | H101: 12 | I101: st. | J101: 3 | K101: 16.53 | L101: Nee | M101: 56.8 | N101: 8719488526958 | O101: MBI | P101: QNKTH45BS.G025F | Q101: Bestrating | R101: Beton Plus | S101: Terras
A103: 10019250 | B103: Trippel T 2Drive 100x100x6 cm Antraciet | C103: 1 | D103: 48.95 | E103: 29.13 | F103: 11.32 | G103: m² | H103: 6 | I103: st. | J103: 1 | K103: 16.53 | L103: Nee | M103: 135 | N103: 8719488595329 | O103: MBI | P103: TEKTA56BS.G025F | Q103: Bestrating | R103: Beton Plus | S103: Oprit en Terras
A104: 10019252 | B104: Trippel T 2Drive 100x100x6 cm Beige Nuance | C104: 1 | D104: 48.95 | E104: 29.13 | F104: 11.32 | G104: m² | H104: 6 | I104: st. | J104: 1 | K104: 16.53 | L104: Nee | M104: 135 | N104: 8719488595381 | O104: MBI | P104: TEKTB38BS.G025F | Q104: Bestrating | R104: Beton Plus | S104: Oprit en Terras
A105: 10019254 | B105: Trippel T 2Drive 100x100x6 cm KoVa Nuance | C105: 1 | D105: 48.95 | E105: 29.13 | F105: 11.32 | G105: m² | H105: 6 | I105: st. | J105: 1 | K105: 16.53 | L105: Nee | M105: 135 | N105: 8719488595459 | O105: MBI | P105: TEKTB37BS.G025F | Q105: Bestrating | R105: Beton Plus | S105: Oprit en Terras
A106: 10019256 | B106: Trippel T 2Drive 100x100x6 cm Licht Grijs | C106: 1 | D106: 48.95 | E106: 29.13 | F106: 11.32 | G106: m² | H106: 6 | I106: st. | J106: 1 | K106: 16.53 | L106: Nee | M106: 135 | N106: 8719488595367 | O106: MBI | P106: TEKTA89BS.G025F | Q106: Bestrating | R106: Beton Plus | S106: Oprit en Terras
A108: 10019500 | B108: Vialetta 30x20x6 cm Asfalto | C108: 16.67 | D108: 35.95 | E108: 21.39 | F108: 8.32 | G108: m² | H108: 168 | I108: st. | J108: 12 | K108: 16.53 | L108: Nee | M108: 8.1 | N108: 8719488526323 | O108: MBI | P108: HLCMA56BS.G025F | Q108: Bestrating | R108: Beton Plus | S108: Oprit en Terras
A109: 10019502 | B109: Vialetta 30x20x6 cm Zinco | C109: 16.67 | D109: 35.95 | E109: 21.39 | F109: 8.32 | G109: m² | H109: 168 | I109: st. | J109: 12 | K109: 16.53 | L109: Nee | M109: 8.1 | N109: 8719488526330 | O109: MBI | P109: HLCMH50BS.G025F | Q109: Bestrating | R109: Beton Plus | S109: Oprit en Terras
A110: 10019504 | B110: Vialetta 30x20x6 cm Granito | C110: 16.67 | D110: 35.95 | E110: 21.39 | F110: 8.32 | G110: m² | H110: 168 | I110: st. | J110: 12 | K110: 16.53 | L110: Nee | M110: 8.1 | N110: 8719488526347 | O110: MBI | P110: HLCMH53BS.G025F | Q110: Bestrating | R110: Beton Plus | S110: Oprit en Terras
... A133: 10021290 | B133: GeoCorso 2Drive 60x30x6 cm Taormina | C133: 5.56 | D133: 44.95 | E133: 24.51 | F133: 12.64 | G133: m² | H133: 56 | I133: st. | J133: 4 | K133: 16.53 | L133: Nee | M133: 24 | N133: 8719488594599 | O133: MBI | P133: UGKB614BS.G040V | Q133: Bestrating | R133: Beton Plus | S133: Oprit en Terras
A135: 10021100 | B135: GeoCorso 60x60x4 cm Catania | C135: 2.78 | D135: 39.95 | E135: 20.8 | F135: 12.22 | G135: m² | H135: 42 | I135: st. | J135: 6 | K135: 16.53 | L135: Nee | M135: 32 | N135: 8719488521373 | O135: MBI | P135: QLKB892BS.G040V | Q135: Bestrating | R135: Beton Plus | S135: Terras | T135: Cemento+ 60x60x4 cm Malaga
A136: 10021108 | B136: GeoCorso 60x60x4 cm Foggia | C136: 2.78 | D136: 39.95 | E136: 20.8 | F136: 12.22 | G136: m² | H136: 42 | I136: st. | J136: 6 | K136: 16.53 | L136: Nee | M136: 32 | N136: 8719488521410 | O136: MBI | P136: QLKB893BS.G040V | Q136: Bestrating | R136: Beton Plus | S136: Terras | T136: Cemento+ 60x60x4 cm La Luz
A137: 10021102 | B137: GeoCorso 60x60x4 cm Materra | C137: 2.78 | D137: 39.95 | E137: 20.8 | F137: 12.22 | G137: m² | H137: 42 | I137: st. | J137: 6 | K137: 16.53 | L137: Nee | M137: 32 | N137: 8719488521380 | O137: MBI | P137: QLKB854BS.G040V | Q137: Bestrating | R137: Beton Plus | S137: Terras | T137: Cemento+ 60x60x4 cm Rioja
A138: 10021114 | B138: GeoCorso 60x60x4 cm Parma | C138: 2.78 | D138: 39.95 | E138: 20.8 | F138: 12.22 | G138: m² | H138: 42 | I138: st. | J138: 1 | K138: Nee | L138: Ja | M138: 32 | N138: 8719488521441 | O138: MBI | P138: QLKB250BS.G040V | Q138: Bestrating | R138: Beton Plus | S138: Terras | T138: Cemento+ 60x60x4 cm Blanca
A139: 10021110 | B139: GeoCorso 60x60x4 cm Pescara | C139: 2.78 | D139: 39.95 | E139: 20.8 | F139: 12.22 | G139: m² | H139: 42 | I139: st. | J139: 6 | K139: 16.53 | L139: Nee | M139: 32 | N139: 8719488521427 | O139: MBI | P139: QLKB816BS.G040V | Q139: Bestrating | R139: Beton Plus | S139: Terras | T139: Cemento+ 60x60x4 cm Pincho
A140: 10021118 | B140: GeoCorso 60x60x4 cm Peschiera del Garda | C140: 2.78 | D140: 39.95 | E140: 20.8 | F140: 12.22 | G140: m² | H140: 42 | I140: st. | J140: 6 | K140: 16.53 | L140: Nee | M140: 32 | N140: 8719488571637 | O140: MBI | P140: QLKB230BS.G040V | Q140: Bestrating | R140: Beton Plus | S140: Terras
A141: 10021116 | B141: GeoCorso 60x60x4 cm Pisa | C141: 2.78 | D141: 39.95 | E141: 20.8 | F141: 12.22 | G141: m² | H141: 42 | I141: st. | J141: 6 | K141: 16.53 | L141: Nee | M141: 32 | N141: 8719488521458 | O141: MBI | P141: QLKB838BS.G040V | Q141: Bestrating | R141: Beton Plus | S141: Terras | T141: Cemento+ 60x60x4 cm Brava
A142: 10021120 | B142: GeoCorso 60x60x4 cm Rimini | C142: 2.78 | D142: 39.95 | E142: 20.8 | F142: 12.22 | G142: m² | H142: 42 | I142: st. | J142: 6 | K142: 16.53 | L142: Nee | M142: 32 | N142: 8719488571590 | O142: MBI | P142: QLKB800BS.G040V | Q142: Bestrating | R142: Beton Plus | S142: Terras
A143: 10021122 | B143: GeoCorso 60x60x4 cm San Marino | C143: 2.78 | D143: 39.95 | E143: 20.8 | F143: 12.22 | G143: m² | H143: 42 | I143: st. | J143: 6 | K143: 16.53 | L143: Nee | M143: 32 | N143: 8719488571613 | O143: MBI | P143: QLKB802BS.G040V | Q143: Bestrating | R143: Beton Plus | S143: Terras
A144: 10021104 | B144: GeoCorso 60x60x4 cm Taormina | C144: 2.78 | D144: 39.95 | E144: 20.8 | F144: 12.22 | G144: m² | H144: 42 | I144: st. | J144: 6 | K144: 16.53 | L144: Nee | M144: 32 | N144: 8719488521397 | O144: MBI | P144: QLKB614BS.G040V | Q144: Bestrating | R144: Beton Plus | S144: Terras | T144: Cemento+ 60x60x4 cm Granada
A145: 10021112 | B145: Jubileum GC 60x60x4 cm Ancona | C145: 2.78 | D145: 34.95 | E145: 20.47 | F145: 8.41 | G145: m² | H145: 42 | I145: st. | J145: 1 | K145: Nee | L145: Ja | M145: 32 | N145: 8719488521434 | O145: MBI | P145: QLKB889BS.G040V | Q145: Bestrating | R145: Beton Plus | S145: Terras | T145: Cemento+ 60x60x4 cm La Manca
A146: 10021106 | B146: Jubileum GC 60x60x4 cm Bari | C146: 2.78 | D146: 34.95 | E146: 20.47 | F146: 8.41 | G146: m² | H146: 42 | I146: st. | J146: 1 | K146: Nee | L146: Ja | M146: 32 | N146: 8719488521403 | O146: MBI | P146: QLKB874BS.G040V | Q146: Bestrating | R146: Beton Plus | S146: Terras | T146: Cemento+ 60x60x4 cm Dorada
A148: 10021308 | B148: GeoCorso 2Drive 60x60x6 cm Ancona | C148: 2.78 | D148: 44.95 | E148: 24.52 | F148: 12.63 | G148: m² | H148: 28 | I148: st. | J148: 2 | K148: 16.53 | L148: Nee | M148: 48 | N148: 8719488521595 | O148: MBI | P148: TTKB889BS.G040V | Q148: Bestrating | R148: Beton Plus | S148: Oprit en Terras
A149: 10021300 | B149: GeoCorso 2Drive 60x60x6 cm Catania | C149: 2.78 | D149: 44.95 | E149: 24.52 | F149: 12.63 | G149: m² | H149: 28 | I149: st. | J149: 2 | K149: 16.53 | L149: Nee | M149: 48 | N149: 8719488521557 | O149: MBI | P149: TTKB892BS.G040V | Q149: Bestrating | R149: Beton Plus | S149: Oprit en Terras
A150: 10021302 | B150: GeoCorso 2Drive 60x60x6 cm Materra | C150: 2.78 | D150: 44.95 | E150: 24.52 | F150: 12.63 | G150: m² | H150: 28 | I150: st. | J150: 2 | K150: 16.53 | L150: Nee | M150: 48 | N150: 8719488521571 | O150: MBI | P150: TTKB854BS.G040V | Q150: Bestrating | R150: Beton Plus | S150: Oprit en Terras
A151: 10021306 | B151: GeoCorso 2Drive 60x60x6 cm Pescara | C151: 2.78 | D151: 44.95 | E151: 24.52 | F151: 12.63 | G151: m² | H151: 28 | I151: st. | J151: 2 | K151: 16.53 | L151: Nee | M151: 48 | N151: 8719488521588 | O151: MBI | P151: TTKB816BS.G040V | Q151: Bestrating | R151: Beton Plus | S151: Oprit en Terras
A152: 10021304 | B152: GeoCorso 2Drive 60x60x6 cm Taormina | C152: 2.78 | D152: 44.95 | E152: 24.52 | F152: 12.63 | G152: m² | H152: 28 | I152: st. | J152: 2 | K152: 16.53 | L152: Nee | M152: 48 | N152: 8719488521564 | O152: MBI | P152: TTKB614BS.G040V | Q152: Bestrating | R152: Beton Plus | S152: Oprit en Terras
A154: 10021130 | B154: GeoCorso 80x40x4 cm Ancona | C154: 3.13 | D154: 49.95 | E154: 29.72 | F154: 11.56 | G154: m² | H154: 48 | I154: st. | J154: 12 | K154: 16.53 | L154: Nee | M154: 28.4 | N154: 8719488586341 | O154: MBI | P154: QQKB889BS.G040V | Q154: Bestrating | R154: Beton Plus | S154: Terras
A155: 10021136 | B155: GeoCorso 80x40x4 cm Bari | C155: 3.13 | D155: 49.95 | E155: 29.72 | F155: 11.56 | G155: m² | H155: 48 | I155: st. | J155: 12 | K155: 16.53 | L155: Nee | M155: 28.4 | N155: 8719488586372 | O155: MBI | P155: QQKB874BS.G040V | Q155: Bestrating | R155: Beton Plus | S155: Terras
A156: 10021132 | B156: GeoCorso 80x40x4 cm Catania | C156: 3.13 | D156: 49.95 | E156: 29.72 | F156: 11.56 | G156: m² | H156: 48 | I156: st. | J156: 12 | K156: 16.53 | L156: Nee | M156: 28.4 | N156: 8719488586358 | O156: MBI | P156: QQKB892BS.G040V | Q156: Bestrating | R156: Beton Plus | S156: Terras
A157: 10021144 | B157: GeoCorso 80x40x4 cm Foggia | C157: 3.13 | D157: 49.95 | E157: 29.72 | F157: 11.56 | G157: m² | H157: 48 | I157: st. | J157: 12 | K157: 16.53 | L157: Nee | M157: 28.4 | N157: 8719488586419 | O157: MBI | P157: QQKB893BS.G040V | Q157: Bestrating | R157: Beton Plus | S157: Terras
A158: 10021134 | B158: GeoCorso 80x40x4 cm Materra | C158: 3.13 | D158: 49.95 | E158: 29.72 | F158: 11.56 | G158: m² | H158: 48 | I158: st. | J158: 12 | K158: 16.53 | L158: Nee | M158: 28.4 | N158: 8719488586365 | O158: MBI | P158: QQKB854BS.G040V | Q158: Bestrating | R158: Beton Plus | S158: Terras
A159: 10021147 | B159: GeoCorso 80x40x4 cm Parma | C159: 3.13 | D159: 49.95 | E159: 29.72 | F159: 11.56 | G159: m² | H159: 48 | I159: st. | J159: 12 | K159: 16.53 | L159: Nee | M159: 28.4 | N159: 8719488586433 | O159: MBI | P159: QQKB250BS.G040V | Q159: Bestrating | R159: Beton Plus | S159: Terras
A160: 10021146 | B160: GeoCorso 80x40x4 cm Pescara | C160: 3.13 | D160: 49.95 | E160: 29.72 | F160: 11.56 | G160: m² | H160: 48 | I160: st. | J160: 12 | K160: 16.53 | L160: Nee | M160: 28.4 | N160: 8719488586426 | O160: MBI | P160: QQKB816BS.G040V | Q160: Bestrating | R160: Beton Plus | S160: Terras
... A197: 10021412 | B197: GeoCorso 2Drive 100x100x6 cm Rimini | C197: 1 | D197: 55.95 | E197: 33.29 | F197: 12.95 | G197: m² | H197: 6 | I197: st. | J197: 1 | K197: 16.53 | L197: Nee | M197: 135 | N197: 8719488595428 | O197: MBI | P197: TEKB800BS.G040V | Q197: Bestrating | R197: Beton Plus | S197: Oprit en Terras
A199: 10026120 | B199: GeoStretto Alivo 6 cm Lazise | C199: 5.8 | D199: 67.95 | E199: 40.43 | F199: 15.73 | G199: m² | H199: 24 | I199: st. | J199: 24 | K199: Nee | L199: Nee | M199: 23.27 | N199: 8719488441282 | O199: MBI | P199: UTCV250BS.G025V | Q199: Bestrating | R199: Beton Plus | S199: Terras
A200: 10026122 | B200: GeoStretto Alivo 6 cm Elba | C200: 5.8 | D200: 67.95 | E200: 40.43 | F200: 15.73 | G200: m² | H200: 24 | I200: st. | J200: 24 | K200: Nee | L200: Nee | M200: 23.27 | N200: 8719488441305 | O200: MBI | P200: UTCV874BS.G025V | Q200: Bestrating | R200: Beton Plus | S200: Terras
A201: 10026124 | B201: GeoStretto Alivo 6 cm Milano | C201: 5.8 | D201: 67.95 | E201: 40.43 | F201: 15.73 | G201: m² | H201: 24 | I201: st. | J201: 24 | K201: Nee | L201: Nee | M201: 23.27 | N201: 8719488441329 | O201: MBI | P201: UTCV892BS.G025V | Q201: Bestrating | R201: Beton Plus | S201: Terras
A202: 10026126 | B202: GeoStretto Alivo 6 cm Riviera | C202: 5.8 | D202: 67.95 | E202: 40.43 | F202: 15.73 | G202: m² | H202: 24 | I202: st. | J202: 24 | K202: Nee | L202: Nee | M202: 23.27 | N202: 8719488498101 | O202: MBI | P202: UTCV820BS.G025V | Q202: Bestrating | R202: Beton Plus | S202: Terras
A204: 10026108 | B204: GeoStretto Lineairverband 5,76 m² Elba | C204: 0.174 | D204: 59.95 | E204: 35.67 | F204: 13.88 | G204: m² | H204: 1 | I204: pak | J204: 0.125 | K204: 16.53 | L204: Nee | M204: 907 | N204: 8719488388006 | O204: MBI | P204: WPCV874BS.G025V | Q204: Bestrating | R204: Beton Plus | S204: Terras
A205: 10026109 | B205: GeoStretto Lineairverband 5,76 m² Milano | C205: 0.174 | D205: 59.95 | E205: 35.67 | F205: 13.88 | G205: m² | H205: 1 | I205: pak | J205: 0.125 | K205: 16.53 | L205: Nee | M205: 907 | N205: 8719488387986 | O205: MBI | P205: WPCV892BS.G025V | Q205: Bestrating | R205: Beton Plus | S205: Terras
A206: 10026110 | B206: GeoStretto Lineairverband 5,76 m² Lazise | C206: 0.174 | D206: 59.95 | E206: 35.67 | F206: 13.88 | G206: m² | H206: 1 | I206: pak | J206: 0.125 | K206: 16.53 | L206: Nee | M206: 907 | N206: 8719488596142 | O206: MBI | P206: WPCV250BS.G025V | Q206: Bestrating | R206: Beton Plus | S206: Terras
A208: 10025900 | B208: GeoArdesia Alivo 6 cm Cannobio | C208: 5.8 | D208: 67.95 | E208: 43.18 | F208: 12.98 | G208: m² | H208: 24 | I208: st. | J208: 24 | K208: Nee | L208: Nee | M208: 23.27 | N208: 8719488269978 | O208: MBI | P208: UPCQ614BS.G025V | Q208: Bestrating | R208: Beton Plus | S208: Terras
A209: 10025902 | B209: GeoArdesia Alivo 6 cm Milano | C209: 5.8 | D209: 67.95 | E209: 43.18 | F209: 12.98 | G209: m² | H209: 24 | I209: st. | J209: 24 | K209: Nee | L209: Nee | M209: 23.27 | N209: 8719488270172 | O209: MBI | P209: UPCQ892BS.G025V | Q209: Bestrating | R209: Beton Plus | S209: Terras
...

Sheet Terraza Prijslijst
A1: Artikel Nr. | B1: Omschrijving | C1: st/m² | D1: Part. Incl. | E1: Inkoop Excl. | F1: Marge Excl. | G1: Prijs per | H1: Vol Pak | I1: Besteleenheid | J1: Deelpak | K1: Toeslag | L1: Voorraad
B2: Vulling B1-1
A3: 10030000 | B3: Concreto 60x60x4 cm Coal | C3: 2.78 | D3: 24.95 | E3: 14.87 | F3: 5.75 | G3: m² | H3: 28 | I3: st. | J3: 28 | K3: Nee | L3: Ja
A4: 10031302 | B4: Concreto 30x20x5 cm Coal | C4: 16.67 | D4: 22.5 | E4: 13.2 | F4: 5.4 | G4: m² | H4: 224 | I4: st. | J4: 1 | K4: Nee | L4: Ja
A5: 10030004 | B5: Concreto 60x60x4 cm Kilimanjaro | C5: 2.78 | D5: 24.95 | E5: 14.87 | F5: 5.75 | G5: m² | H5: 28 | I5: st. | J5: 28 | K5: Nee | L5: Ja
A6: 10031308 | B6: Concreto 30x20x5 cm Kilimanjaro | C6: 16.67 | D6: 22.5 | E6: 13.2 | F6: 5.4 | G6: m² | H6: 224 | I6: st. | J6: 1 | K6: Nee | L6: Ja
A7: 10030002 | B7: Concreto 60x60x4 cm Gothic | C7: 2.78 | D7: 24.95 | E7: 14.87 | F7: 5.75 | G7: m² | H7: 28 | I7: st. | J7: 1 | K7: Nee | L7: Ja
A8: 10031304 | B8: Concreto 30x20x5 cm Gothic | C8: 16.67 | D8: 22.5 | E8: 13.2 | F8: 5.4 | G8: m² | H8: 224 | I8: st. | J8: 1 | K8: Nee | L8: Ja
B9: Vulling B1-2
A10: 10030000 | B10: Concreto 60x60x4 cm Coal | C10: 2.78 | D10: 24.95 | E10: 14.87 | F10: 5.75 | G10: m² | H10: 28 | I10: st. | J10: 28 | K10: Nee | L10: Ja
A11: 10030004 | B11: Concreto 60x60x4 cm Kilimanjaro | C11: 2.78 | D11: 24.95 | E11: 14.87 | F11: 5.75 | G11: m² | H11: 28 | I11: st. | J11: 28 | K11: Nee | L11: Ja
A12: 10030002 | B12: Concreto 60x60x4 cm Gothic | C12: 2.78 | D12: 24.95 | E12: 14.87 | F12: 5.75 | G12: m² | H12: 28 | I12: st. | J12: 1 | K12: Nee | L12: Ja
B13: Vulling B2-1
A14: 10030058 | B14: Concreto+ 60x60x4 cm Maledeta | C14: 2.78 | D14: 35.95 | E14: 20.2 | F14: 9.51 | G14: m² | H14: 28 | I14: st. | J14: 1 | K14: Nee | L14: Ja
A15: 10030068 | B15: Concreto+ 60x30x4 cm Maledeta | C15: 5.56 | D15: 35.95 | E15: 20.21 | F15: 9.5 | G15: m² | H15: 56 | I15: st. | J15: 1 | K15: Nee | L15: Ja
A16: 10030064 | B16: Concreto+ 60x30x4 cm Teide | C16: 5.56 | D16: 35.95 | E16: 20.21 | F16: 9.5 | G16: m² | H16: 56 | I16: st. | J16: 1 | K16: Nee | L16: Ja
A17: 10030054 | B17: Concreto+ 60x60x4 cm Teide | C17: 2.78 | D17: 35.95 | E17: 20.2 | F17: 9.51 | G17: m² | H17: 28 | I17: st. | J17: 1 | K17: Nee | L17: Ja
A18: 10030050 | B18: Concreto+ 60x60x4 cm Montserrat | C18: 2.78 | D18: 35.95 | E18: 20.2 | F18: 9.51 | G18: m² | H18: 28 | I18: st. | J18: 1 | K18: Nee | L18: Ja
A19: 10030060 | B19: Concreto+ 60x30x4 cm Montserrat | C19: 5.56 | D19: 35.95 | E19: 20.21 | F19: 9.5 | G19: m² | H19: 56 | I19: st. | J19: 1 | K19: Nee | L19: Ja
A20: 10030063 | B20: Concreto+ 60x30x4 cm Espadas | C20: 5.56 | D20: 35.95 | E20: 20.21 | F20: 9.5 | G20: m² | H20: 56 | I20: st. | J20: 7 | K20: Nee | L20: Nee
A21: 10030053 | B21: Concreto+ 60x60x4 cm Espadas | C21: 2.78 | D21: 35.95 | E21: 20.2 | F21: 9.51 | G21: m² | H21: 28 | I21: st. | J21: 1 | K21: Nee | L21: Ja
A22: 10030052 | B22: Concreto+ 60x60x4 cm Aneto | C22: 2.78 | D22: 35.95 | E22: 20.2 | F22: 9.51 | G22: m² | H22: 28 | I22: st. | J22: 1 | K22: Nee | L22: Ja
A23: 10030062 | B23: Concreto+ 60x30x4 cm Aneto | C23: 5.56 | D23: 35.95 | E23: 20.21 | F23: 9.5 | G23: m² | H23: 56 | I23: st. | J23: 1 | K23: Nee | L23: Ja
A24: 10030067 | B24: Concreto+ 60x30x4 cm Perdido | C24: 5.56 | D24: 35.95 | E24: 20.21 | F24: 9.5 | G24: m² | H24: 56 | I24: st. | J24: 7 | K24: Nee | L24: Nee
A25: 10030057 | B25: Concreto+ 60x60x4 cm Perdido | C25: 2.78 | D25: 35.95 | E25: 20.2 | F25: 9.51 | G25: m² | H25: 28 | I25: st. | J25: 7 | K25: Nee | L25: Nee
B26: Vulling B2-2a
A27: 10030050 | B27: Concreto+ 60x60x4 cm Montserrat | C27: 2.78 | D27: 35.95 | E27: 20.2 | F27: 9.51 | G27: m² | H27: 28 | I27: st. | J27: 1 | K27: Nee | L27: Ja
A28: 10030060 | B28: Concreto+ 60x30x4 cm Montserrat | C28: 5.56 | D28: 35.95 | E28: 20.21 | F28: 9.5 | G28: m² | H28: 56 | I28: st. | J28: 1 | K28: Nee | L28: Ja
A29: 10041307 | B29: Concreto+ 30x20x6 cm Montserrat | C29: 16.67 | D29: 45.5 | E29: 26.71 | F29: 10.89 | G29: m² | H29: 120 | I29: st. | J29: 12 | K29: Nee | L29: Nee
A30: 10030058 | B30: Concreto+ 60x60x4 cm Maledeta | C30: 2.78 | D30: 35.95 | E30: 20.2 | F30: 9.51 | G30: m² | H30: 28 | I30: st. | J30: 1 | K30: Nee | L30: Ja
A31: 10030068 | B31: Concreto+ 60x30x4 cm Maledeta | C31: 5.56 | D31: 35.95 | E31: 20.21 | F31: 9.5 | G31: m² | H31: 56 | I31: st. | J31: 1 | K31: Nee | L31: Ja
A32: 10041303 | B32: Concreto+ 30x20x6 cm Maledeta | C32: 16.67 | D32: 45.5 | E32: 26.71 | F32: 10.89 | G32: m² | H32: 120 | I32: st. | J32: 12 | K32: Nee | L32: Nee
A33: 10030054 | B33: Concreto+ 60x60x4 cm Teide | C33: 2.78 | D33: 35.95 | E33: 20.2 | F33: 9.51 | G33: m² | H33: 28 | I33: st. | J33: 1 | K33: Nee | L33: Ja
A34: 10030064 | B34: Concreto+ 60x30x4 cm Teide | C34: 5.56 | D34: 35.95 | E34: 20.21 | F34: 9.5 | G34: m² | H34: 56 | I34: st. | J34: 1 | K34: Nee | L34: Ja
A35: 10041301 | B35: Concreto+ 30x20x6 cm Teide | C35: 16.67 | D35: 45.5 | E35: 26.71 | F35: 10.89 | G35: m² | H35: 120 | I35: st. | J35: 12 | K35: Nee | L35: Nee
B36: Vulling B2-2b
A37: 10030053 | B37: Concreto+ 60x60x4 cm Espadas | C37: 2.78 | D37: 35.95 | E37: 20.2 | F37: 9.51 | G37: m² | H37: 28 | I37: st. | J37: 1 | K37: Nee | L37: Ja
A38: 10030063 | B38: Concreto+ 60x30x4 cm Espadas | C38: 5.56 | D38: 35.95 | E38: 20.21 | F38: 9.5 | G38: m² | H38: 56 | I38: st. | J38: 7 | K38: Nee | L38: Nee
A39: 10030052 | B39: Concreto+ 60x60x4 cm Aneto | C39: 2.78 | D39: 35.95 | E39: 20.2 | F39: 9.51 | G39: m² | H39: 28 | I39: st. | J39: 1 | K39: Nee | L39: Ja
A40: 10030062 | B40: Concreto+ 60x30x4 cm Aneto | C40: 5.56 | D40: 35.95 | E40: 20.21 | F40: 9.5 | G40: m² | H40: 56 | I40: st. | J40: 1 | K40: Nee | L40: Ja
A41: 10041313 | B41: Concreto+ 30x20x6 cm Aneto | C41: 16.67 | D41: 45.5 | E41: 26.71 | F41: 10.89 | G41: m² | H41: 120 | I41: st. | J41: 12 | K41: Nee | L41: Nee
A42: 10030057 | B42: Concreto+ 60x60x4 cm Perdido | C42: 2.78 | D42: 35.95 | E42: 20.2 | F42: 9.51 | G42: m² | H42: 28 | I42: st. | J42: 7 | K42: Nee | L42: Nee
A43: 10030067 | B43: Concreto+ 60x30x4 cm Perdido | C43: 5.56 | D43: 35.95 | E43: 20.21 | F43: 9.5 | G43: m² | H43: 56 | I43: st. | J43: 7 | K43: Nee | L43: Nee
A44: 10041311 | B44: Concreto+ 30x20x6 cm Perdido | C44: 16.67 | D44: 45.5 | E44: 26.71 | F44: 10.89 | G44: m² | H44: 120 | I44: st. | J44: 12 | K44: Nee | L44: Nee
B45: Vulling B2-3a
A46: 10030050 | B46: Concreto+ 60x60x4 cm Montserrat | C46: 2.78 | D46: 35.95 | E46: 20.2 | F46: 9.51 | G46: m² | H46: 28 | I46: st. | J46: 1 | K46: Nee | L46: Ja
A47: 10030054 | B47: Concreto+ 60x60x4 cm Teide | C47: 2.78 | D47: 35.95 | E47: 20.2 | F47: 9.51 | G47: m² | H47: 28 | I47: st. | J47: 1 | K47: Nee | L47: Ja
A48: 10030052 | B48: Concreto+ 60x60x4 cm Aneto | C48: 2.78 | D48: 35.95 | E48: 20.2 | F48: 9.51 | G48: m² | H48: 28 | I48: st. | J48: 1 | K48: Nee | L48: Ja
B49: Vulling B2-3b
A50: 10030060 | B50: Concreto+ 60x30x4 cm Montserrat | C50: 5.56 | D50: 35.95 | E50: 20.21 | F50: 9.5 | G50: m² | H50: 56 | I50: st. | J50: 1 | K50: Nee | L50: Ja
A51: 10041307 | B51: Concreto+ 30x20x6 cm Montserrat | C51: 16.67 | D51: 45.5 | E51: 26.71 | F51: 10.89 | G51: m² | H51: 120 | I51: st. | J51: 12 | K51: Nee | L51: Nee
A52: 10030064 | B52: Concreto+ 60x30x4 cm Teide | C52: 5.56 | D52: 35.95 | E52: 20.21 | F52: 9.5 | G52: m² | H52: 56 | I52: st. | J52: 1 | K52: Nee | L52: Ja
A53: 10041301 | B53: Concreto+ 30x20x6 cm Teide | C53: 16.67 | D53: 45.5 | E53: 26.71 | F53: 10.89 | G53: m² | H53: 120 | I53: st. | J53: 12 | K53: Nee | L53: Nee
A54: 10030062 | B54: Concreto+ 60x30x4 cm Aneto | C54: 5.56 | D54: 35.95 | E54: 20.21 | F54: 9.5 | G54: m² | H54: 56 | I54: st. | J54: 1 | K54: Nee | L54: Ja
A55: 10041313 | B55: Concreto+ 30x20x6 cm Aneto | C55: 16.67 | D55: 45.5 | E55: 26.71 | F55: 10.89 | G55: m² | H55: 120 | I55: st. | J55: 12 | K55: Nee | L55: Nee
B56: Vulling B2-3c
A57: 10030053 | B57: Concreto+ 60x60x4 cm Espadas | C57: 2.78 | D57: 35.95 | E57: 20.2 | F57: 9.51 | G57: m² | H57: 28 | I57: st. | J57: 1 | K57: Nee | L57: Ja
A58: 10030063 | B58: Concreto+ 60x30x4 cm Espadas | C58: 5.56 | D58: 35.95 | E58: 20.21 | F58: 9.5 | G58: m² | H58: 56 | I58: st. | J58: 7 | K58: Nee | L58: Nee
A59: 10030057 | B59: Concreto+ 60x60x4 cm Perdido | C59: 2.78 | D59: 35.95 | E59: 20.2 | F59: 9.51 | G59: m² | H59: 28 | I59: st. | J59: 7 | K59: Nee | L59: Nee
A60: 10030067 | B60: Concreto+ 60x30x4 cm Perdido | C60: 5.56 | D60: 35.95 | E60: 20.21 | F60: 9.5 | G60: m² | H60: 56 | I60: st. | J60: 7 | K60: Nee | L60: Nee
A61: 10041311 | B61: Concreto+ 30x20x6 cm Perdido | C61: 16.67 | D61: 45.5 | E61: 26.71 | F61: 10.89 | G61: m² | H61: 120 | I61: st. | J61: 12 | K61: Nee | L61: Nee
A62: 10030058 | B62: Concreto+ 60x60x4 cm Maledeta | C62: 2.78 | D62: 35.95 | E62: 20.2 | F62: 9.51 | G62: m² | H62: 28 | I62: st. | J62: 1 | K62: Nee | L62: Ja
A63: 10030068 | B63: Concreto+ 60x30x4 cm Maledeta | C63: 5.56 | D63: 35.95 | E63: 20.21 | F63: 9.5 | G63: m² | H63: 56 | I63: st. | J63: 1 | K63: Nee | L63: Ja
A64: 10041303 | B64: Concreto+ 30x20x6 cm Maledeta | C64: 16.67 | D64: 45.5 | E64: 26.71 | F64: 10.89 | G64: m² | H64: 120 | I64: st. | J64: 12 | K64: Nee | L64: Nee
B65: Vulling B2-4
A66: 10030050 | B66: Concreto+ 60x60x4 cm Montserrat | C66: 2.78 | D66: 35.95 | E66: 20.2 | F66: 9.51 | G66: m² | H66: 28 | I66: st. | J66: 1 | K66: Nee | L66: Ja
A67: 10030060 | B67: Concreto+ 60x30x4 cm Montserrat | C67: 5.56 | D67: 35.95 | E67: 20.21 | F67: 9.5 | G67: m² | H67: 56 | I67: st. | J67: 1 | K67: Nee | L67: Ja
A68: 10041307 | B68: Concreto+ 30x20x6 cm Montserrat | C68: 16.67 | D68: 45.5 | E68: 26.71 | F68: 10.89 | G68: m² | H68: 120 | I68: st. | J68: 12 | K68: Nee | L68: Nee
A69: 10030054 | B69: Concreto+ 60x60x4 cm Teide | C69: 2.78 | D69: 35.95 | E69: 20.2 | F69: 9.51 | G69: m² | H69: 28 | I69: st. | J69: 1 | K69: Nee | L69: Ja
A70: 10030064 | B70: Concreto+ 60x30x4 cm Teide | C70: 5.56 | D70: 35.95 | E70: 20.21 | F70: 9.5 | G70: m² | H70: 56 | I70: st. | J70: 1 | K70: Nee | L70: Ja
A71: 10041301 | B71: Concreto+ 30x20x6 cm Teide | C71: 16.67 | D71: 45.5 | E71: 26.71 | F71: 10.89 | G71: m² | H71: 120 | I71: st. | J71: 12 | K71: Nee | L71: Nee
A72: 10030052 | B72: Concreto+ 60x60x4 cm Aneto | C72: 2.78 | D72: 35.95 | E72: 20.2 | F72: 9.51 | G72: m² | H72: 28 | I72: st. | J72: 1 | K72: Nee | L72: Ja
A73: 10030062 | B73: Concreto+ 60x30x4 cm Aneto | C73: 5.56 | D73: 35.95 | E73: 20.21 | F73: 9.5 | G73: m² | H73: 56 | I73: st. | J73: 1 | K73: Nee | L73: Ja
A74: 10041313 | B74: Concreto+ 30x20x6 cm Aneto | C74: 16.67 | D74: 45.5 | E74: 26.71 | F74: 10.89 | G74: m² | H74: 120 | I74: st. | J74: 12 | K74: Nee | L74: Nee
B75: Vulling B3-1
A76: 10019106 | B76: Cemento 60x60x4 cm Matizar Marrón | C76: 2.78 | D76: 29.95 | E76: 16.88 | F76: 7.87 | G76: m² | H76: 42 | I76: st. | J76: 1 | K76: Nee | L76: Ja
A77: 10019100 | B77: Cemento 60x60x4 cm Sanabria | C77: 2.78 | D77: 32.95 | E77: 16.88 | F77: 10.35 | G77: m² | H77: 42 | I77: st. | J77: 6 | K77: 16.53 | L77: Nee
A78: 10019112 | B78: Cemento 60x60x4 cm Marizar Grezza | C78: 2.78 | D78: 29.95 | E78: 16.88 | F78: 7.87 | G78: m² | H78: 42 | I78: st. | J78: 1 | K78: Nee | L78: Ja
A79: 10019108 | B79: Cemento 60x60x4 cm Matizar Cavodonga | C79: 2.78 | D79: 29.95 | E79: 16.88 | F79: 7.87 | G79: m² | H79: 42 | I79: st. | J79: 1 | K79: Nee | L79: Ja
A80: 10019102 | B80: Cemento 60x60x4 cm Belesar | C80: 2.78 | D80: 29.95 | E80: 16.88 | F80: 7.87 | G80: m² | H80: 42 | I80: st. | J80: 1 | K80: Nee | L80: Ja
A81: 10019110 | B81: Cemento 60x60x4 cm Matizar Gris | C81: 2.78 | D81: 29.95 | E81: 16.88 | F81: 7.87 | G81: m² | H81: 42 | I81: st. | J81: 1 | K81: Nee | L81: Ja
A82: 10019104 | B82: Cemento 60x60x4 cm Martel | C82: 2.78 | D82: 32.95 | E82: 16.88 | F82: 10.35 | G82: m² | H82: 42 | I82: st. | J82: 6 | K82: 16.53 | L82: Nee
A83: 10019116 | B83: Cemento 60x60x4 cm Matizar Beige | C83: 2.78 | D83: 32.95 | E83: 16.88 | F83: 10.35 | G83: m² | H83: 42 | I83: st. | J83: 1 | K83: 16.53 | L83: Ja
B84: Vulling B3-2a
A85: 10019112 | B85: Cemento 60x60x4 cm Marizar Grezza | C85: 2.78 | D85: 29.95 | E85: 16.88 | F85: 7.87 | G85: m² | H85: 42 | I85: st. | J85: 1 | K85: Nee | L85: Ja
A86: 10019102 | B86: Cemento 60x60x4 cm Belesar | C86: 2.78 | D86: 29.95 | E86: 16.88 | F86: 7.87 | G86: m² | H86: 42 | I86: st. | J86: 1 | K86: Nee | L86: Ja
A87: 10019116 | B87: Cemento 60x60x4 cm Matizar Beige | C87: 2.78 | D87: 32.95 | E87: 16.88 | F87: 10.35 | G87: m² | H87: 42 | I87: st. | J87: 1 | K87: 16.53 | L87: Ja
B88: Vulling B3-2b
A89: 10019106 | B89: Cemento 60x60x4 cm Matizar Marrón | C89: 2.78 | D89: 29.95 | E89: 16.88 | F89: 7.87 | G89: m² | H89: 42 | I89: st. | J89: 1 | K89: Nee | L89: Ja
A90: 10019108 | B90: Cemento 60x60x4 cm Matizar Cavodonga | C90: 2.78 | D90: 29.95 | E90: 16.88 | F90: 7.87 | G90: m² | H90: 42 | I90: st. | J90: 1 | K90: Nee | L90: Ja
A91: 10019110 | B91: Cemento 60x60x4 cm Matizar Gris | C91: 2.78 | D91: 29.95 | E91: 16.88 | F91: 7.87 | G91: m² | H91: 42 | I91: st. | J91: 1 | K91: Nee | L91: Ja
B92: Vulling B4-1
A93: 10021102 | B93: Cemento+ 60x60x4 cm Rioja | C93: 2.78 | D93: 39.95 | E93: 20.8 | F93: 12.22 | G93: m² | H93: 42 | I93: st. | J93: 6 | K93: 16.53 | L93: Nee
A94: 10021112 | B94: Cemento+ 60x60x4 cm La Manca | C94: 2.78 | D94: 34.95 | E94: 20.47 | F94: 8.41 | G94: m² | H94: 42 | I94: st. | J94: 1 | K94: Nee | L94: Ja
A95: 10021100 | B95: Cemento+ 60x60x4 cm Malaga | C95: 2.78 | D95: 39.95 | E95: 20.8 | F95: 12.22 | G95: m² | H95: 42 | I95: st. | J95: 6 | K95: 16.53 | L95: Nee
A96: 10021106 | B96: Cemento+ 60x60x4 cm Dorada | C96: 2.78 | D96: 34.95 | E96: 20.47 | F96: 8.41 | G96: m² | H96: 42 | I96: st. | J96: 1 | K96: Nee | L96: Ja
A97: 10021110 | B97: Cemento+ 60x60x4 cm Pincho | C97: 2.78 | D97: 39.95 | E97: 20.8 | F97: 12.22 | G97: m² | H97: 42 | I97: st. | J97: 6 | K97: 16.53 | L97: Nee
A98: 10021108 | B98: Cemento+ 60x60x4 cm La Luz | C98: 2.78 | D98: 39.95 | E98: 20.8 | F98: 12.22 | G98: m² | H98: 42 | I98: st. | J98: 6 | K98: 16.53 | L98: Nee
A99: 10021114 | B99: Cemento+ 60x60x4 cm Blanca | C99: 2.78 | D99: 39.95 | E99: 20.8 | F99: 12.22 | G99: m² | H99: 42 | I99: st. | J99: 1 | K99: Nee | L99: Ja
A100: 10021116 | B100: Cemento+ 60x60x4 cm Brava | C100: 2.78 | D100: 39.95 | E100: 20.8 | F100: 12.22 | G100: m² | H100: 42 | I100: st. | J100: 6 | K100: 16.53 | L100: Nee
...

Sheet Actielijst
A1: Artikelcode | B1: Omschrijving | C1: st/m² | D1: Part. Incl. | E1: Inkoop Excl. | F1: Marge Excl. | G1: Prijs per | H1: Vol Pak | I1: Besteleenheid | J1: Deelpak | K1: Toeslag | L1: Voorraad
B3: Onderstaande artikelen betreft eenmalige partijen, outlet of uitlopend assortiment
B4: Informeer naar actuele voorraden. OP=OP
A6: 10001400 | B6: GeoProArte® 120x30x6 cm Wood Dark Oak Op=Op! | C6: 2.78 | D6: 49.95 | E6: 34.83 | F6: 6.45 | G6: m² | H6: 16 | I6: st. | J6: 1 | K6: Nee | L6: Ja
A7: 10001404 | B7: GeoProArte® 120x30x6 cm Wood Yellow Oak Op=Op! | C7: 2.78 | D7: 49.95 | E7: 34.83 | F7: 6.45 | G7: m² | H7: 16 | I7: st. | J7: 1 | K7: Nee | L7: Ja
A8: 10029014 | B8: GraniTops Plus 60x60x4,7 cm Graphitio# | C8: 2.78 | D8: 32.95 | E8: 20.16 | F8: 7.07 | G8: m² | H8: 28 | I8: st. | J8: 1 | K8: Nee | L8: Ja
A9: 11001120 | B9: Terra antica KF 20x10x5,2 cm Milano OP=OP | C9: 48 | D9: 59.95 | E9: 37.15 | F9: 12.4 | G9: m² | H9: 540 | I9: st. | J9: 1 | K9: Nee | L9: Ja
A10: 11001164 | B10: Terra antica onbezand WF65 20x5x6,5 cm Carbona# | C10: 96 | D10: 71.95 | E10: 48.19 | F10: 11.27 | G10: m² | H10: 900 | I10: st. | J10: 1 | K10: Nee | L10: Ja
A11: 11001193 | B11: Terra antica WF65 20x5x6,5 cm Bergamo# | C11: 96 | D11: 62.95 | E11: 42.34 | F11: 9.68 | G11: m² | H11: 900 | I11: st. | J11: 1 | K11: Nee | L11: Ja
A12: 11020162 | B12: Getr. WF70 21,5x5,2x7 cm Colosseum zwart OUTLET | C12: 86 | D12: 64.95 | E12: 50.74 | F12: 2.94 | G12: m² | H12: 700 | I12: st. | J12: 1 | K12: Nee | L12: Ja
A13: 13040176 | B13: Keramiek 3+1 60x60x4 cm Industriale Gris OUTLET | C13: 2.78 | D13: 44.95 | E13: 30.19 | F13: 6.96 | G13: m² | H13: 28 | I13: st. | J13: 1 | K13: Nee | L13: Ja
A14: 13041220 | B14: Keramiek 3+1 60x60x4 cm Colorado Light Grey OP=OP | C14: 2.78 | D14: 49.95 | E14: 40.72 | F14: 0.56 | G14: m² | H14: 28 | I14: st. | J14: 1 | K14: Nee | L14: Ja
A15: 13041222 | B15: Keramiek 3+1 60x60x4 cm Colorado Dark Grey OP=OP | C15: 2.78 | D15: 64.95 | E15: 43.53 | F15: 10.15 | G15: m² | H15: 28 | I15: st. | J15: 1 | K15: Nee | L15: Ja
A16: 13041252 | B16: Keramiek 3+1 100x100x4 cm Make Grigio Corten OP=OP | C16: 1 | D16: 69.95 | E16: 39.65 | F16: 18.16 | G16: m² | H16: 15 | I16: st. | J16: 1 | K16: Nee | L16: Ja
A17: 13041254 | B17: Keramiek 3+1 100x100x4 cm Make Antra Corten OP=OP | C17: 1 | D17: 69.95 | E17: 39.65 | F17: 18.16 | G17: m² | H17: 15 | I17: st. | J17: 1 | K17: Nee | L17: Ja
... A30: 13080002 | B30: Keramica 120x120x2 cm Verona Antracite OP=OP | C30: 0.694 | D30: 54.95 | E30: 32.11 | F30: 13.3 | G30: m² | H30: 18 | I30: st. | J30: 1 | K30: Nee | L30: Ja
A31: 17200030 | B31: U-Steen 40x40x50 cm Grijs# | D31: 29.95 | E31: 14.54 | F31: 10.21 | G31: st. | H31: 12 | I31: st. | J31: 1 | K31: Nee | L31: Nee
A32: 40000334 | B32: Solitair ACE Flat Grey 3W Warm White OP=OP | D32: 219 | E32: 99.55 | F32: 81.44 | G32: st. | H32: 6 | I32: st. | J32: 1 | K32: Nee | L32: Ja
A33: 40000339 | B33: Solitair ACE High Flat Grey 3W Warm White OP=OP | D33: 253 | E33: 115 | F33: 94.09 | G33: st. | H33: 6 | I33: st. | J33: 1 | K33: Nee | L33: Nee
A34: 40000537 | B34: Wall ACE Up-Down Flat Grey 8,5W Warm White 230V OP=OP | D34: 230 | E34: 104.55 | F34: 85.53 | G34: st. | H34: 6 | I34: st. | J34: 1 | K34: Nee | L34: Nee
A35: 40000542 | B35: Wall ACE Down Flat Grey 3W Warm White OP=OP | D35: 164 | E35: 74.55 | F35: 60.99 | G35: st. | H35: 6 | I35: st. | J35: 1 | K35: Nee | L35: Nee
A36: 40000545 | B36: Wall ACE Down Flat Grey 3W Warm White 230V OP=OP | D36: 197 | E36: 89.55 | F36: 73.26 | G36: st. | H36: 6 | I36: st. | J36: 1 | K36: Nee | L36: Nee
A37: 50010828 | B37: MegaWood Premium Plus 420x14,5x2,1 cm Leigrijs | C37: 1.6 | D37: 149.45 | E37: 109.47 | F37: 14.04 | G37: m² | H37: 84 | I37: st. | J37: 1 | K37: Nee | L37: Nee
A38: 80000549 | B38: BBQ Rockford van € 139,- voor € 89,95 | D38: 139 | E38: 74.34 | F38: 40.54 | G38: st. | H38: 12 | I38: st. | J38: 1 | K38: Nee | L38: Ja
A39: 80002396 | B39: Bangkirai draadscherm 180x90 cm# | D39: 129 | E39: 85.29 | F39: 21.32 | G39: st. | H39: 1 | I39: st. | J39: 1 | K39: Nee | L39: Nee
A40: 80002678 | B40: Keramiek 3+1 60x60x4 cm Sardegna Cala Luna OP=OP | C40: 2.78 | D40: 59.95 | E40: 30.89 | F40: 18.66 | G40: m² | H40: 28 | I40: st. | J40: 1 | K40: Nee | L40: Ja
B42: Onderstaande artikelen betreft 80 jarig jubileum artikelen
A44: 10019102 | B44: Jubileum TT 60x60x4 cm Licht Grijs | C44: 2.78 | D44: 29.95 | E44: 16.88 | F44: 7.87 | G44: m² | H44: 42 | I44: st. | J44: 1 | K44: Nee | L44: Ja
A45: 10019106 | B45: Jubileum TT 60x60x4 cm Bruin nuance | C45: 2.78 | D45: 29.95 | E45: 16.88 | F45: 7.87 | G45: m² | H45: 42 | I45: st. | J45: 1 | K45: Nee | L45: Ja
A46: 10019108 | B46: Jubileum TT 60x60x4 cm Zwart-Grijs gen | C46: 2.78 | D46: 29.95 | E46: 16.88 | F46: 7.87 | G46: m² | H46: 42 | I46: st. | J46: 1 | K46: Nee | L46: Ja
A47: 10019110 | B47: Jubileum TT 60x60x4 cm Grijs nuance | C47: 2.78 | D47: 29.95 | E47: 16.88 | F47: 7.87 | G47: m² | H47: 42 | I47: st. | J47: 1 | K47: Nee | L47: Ja
A48: 10019112 | B48: Jubileum TT 60x60x4 cm Grezza nuance | C48: 2.78 | D48: 29.95 | E48: 16.88 | F48: 7.87 | G48: m² | H48: 42 | I48: st. | J48: 1 | K48: Nee | L48: Ja
A49: 10021106 | B49: Jubileum GC 60x60x4 cm Bari | C49: 2.78 | D49: 34.95 | E49: 20.47 | F49: 8.41 | G49: m² | H49: 42 | I49: st. | J49: 1 | K49: Nee | L49: Ja
A50: 10021112 | B50: Jubileum GC 60x60x4 cm Ancona | C50: 2.78 | D50: 34.95 | E50: 20.47 | F50: 8.41 | G50: m² | H50: 42 | I50: st. | J50: 1 | K50: Nee | L50: Ja
A51: 10030000 | B51: Jubileum PPL 61 Promo SE XXS 60x60x4 cm Zw/Gr | C51: 2.78 | D51: 24.95 | E51: 14.87 | F51: 5.75 | G51: m² | H51: 28 | I51: st. | J51: 28 | K51: Nee | L51: Ja
A52: 10030002 | B52: Jubileum PPL 62 Promo SE XXS 60x60x4 cm Ant/Gr | C52: 2.78 | D52: 24.95 | E52: 14.87 | F52: 5.75 | G52: m² | H52: 28 | I52: st. | J52: 1 | K52: Nee | L52: Ja
A53: 10030004 | B53: Jubileum PPL 63 Promo SE XXS 60x60x4 cm Br/Gr | C53: 2.78 | D53: 24.95 | E53: 14.87 | F53: 5.75 | G53: m² | H53: 28 | I53: st. | J53: 28 | K53: Nee | L53: Ja
A54: 10030006 | B54: Jubileum PPL 64 Promo SE XXS 60x60x4 cm Beige | C54: 2.78 | D54: 24.95 | E54: 14.87 | F54: 5.75 | G54: m² | H54: 28 | I54: st. | J54: 28 | K54: Nee | L54: Ja
A55: 10030024 | B55: Jubileum GT SE 60X60x4 cm Antraciet OP=OP | C55: 2.78 | D55: 34.95 | E55: 22.65 | F55: 6.23 | G55: m² | H55: 32 | I55: st. | J55: 32 | K55: Nee | L55: Nee
... A59: 10034172 | B59: Jubileum getrommeld waalformaat 20x5x7 cm groningerbruin | C59: 100 | D59: 32.5 | E59: 19.4 | F59: 7.46 | G59: m² | H59: 816 | I59: st. | J59: 1 | K59: Nee | L59: Ja
A60: 10034270 | B60: Jubileum getrommeld dikformaat XL 28x7x8 cm Antraciet | C60: 51 | D60: 34.95 | E60: 19.48 | F60: 9.4 | G60: m² | H60: 360 | I60: st. | J60: 30 | K60: 16.53 | L60: Nee
A61: 10034272 | B61: Jubileum getrommeld dikformaat XL 28x7x8 cm Grijs/Zwart | C61: 51 | D61: 34.95 | E61: 19.48 | F61: 9.4 | G61: m² | H61: 360 | I61: st. | J61: 30 | K61: 16.53 | L61: Nee
A62: 10034274 | B62: Jubileum getrommeld dikformaat XL 28x7x8 cm Musselkalk | C62: 51 | D62: 34.95 | E62: 19.48 | F62: 9.4 | G62: m² | H62: 360 | I62: st. | J62: 30 | K62: 16.53 | L62: Nee
A63: 10034276 | B63: Jubileum getrommeld dikformaat XL 28x7x8 cm Oud Drachten | C63: 51 | D63: 34.95 | E63: 19.48 | F63: 9.4 | G63: m² | H63: 360 | I63: st. | J63: 30 | K63: 16.53 | L63: Nee
A64: 10034278 | B64: Jubileum getrommeld dikformaat XL 28x7x8 cm Oud Emmen | C64: 51 | D64: 34.95 | E64: 19.48 | F64: 9.4 | G64: m² | H64: 360 | I64: st. | J64: 30 | K64: 16.53 | L64: Nee
A65: 10034280 | B65: Jubileum getrommeld dikformaat XL 28x7x8 cm Oud Heeg | C65: 51 | D65: 34.95 | E65: 19.48 | F65: 9.4 | G65: m² | H65: 360 | I65: st. | J65: 30 | K65: 16.53 | L65: Nee
A66: 11011160 | B66: Jubileum UWF60 Getrommeld 20x5x6 cm Targa | C66: 98 | D66: 59.95 | E66: 38.12 | F66: 11.43 | G66: m² | H66: 1040 | I66: st. | J66: 1 | K66: Nee | L66: Ja
A67: 11011164 | B67: Jubileum UWF60 Getrommeld 20x5x6 cm Rivaton | C67: 98 | D67: 59.95 | E67: 35.97 | F67: 13.58 | G67: m² | H67: 1040 | I67: st. | J67: 1 | K67: Nee | L67: Ja
A68: 11011202 | B68: Jubileum UWF60 Getrommeld 20x5x6 cm Auxo | C68: 98 | D68: 53 | E68: 37.63 | F68: 6.17 | G68: m² | H68: 1040 | I68: st. | J68: 1 | K68: Nee | L68: Ja
A69: 11011208 | B69: Jubileum UWF60 Getrommeld 20x5x6 cm Carpo | C69: 98 | D69: 53 | E69: 37.63 | F69: 6.17 | G69: m² | H69: 1040 | I69: st. | J69: 1 | K69: Nee | L69: Ja
A70: 11011240 | B70: Jubileum UWF60 Getrommeld 20x5x6 cm Triton | C70: 98 | D70: 77.8 | E70: 51.45 | F70: 12.85 | G70: m² | H70: 1040 | I70: st. | J70: 1 | K70: Nee | L70: Ja
A71: 11020120 | B71: Jubileum Getrommeld WF50 21,4x5,1x5 cm onbezand gezaagd Rood | C71: 91 | D71: 54.95 | E71: 38.13 | F71: 7.28 | G71: m² | H71: 1000 | I71: st. | J71: 1 | K71: Nee | L71: Ja
A72: 11020121 | B72: Jubileum Getrommeld WF50 21,4x5,1x5cm onbezand gezaagd Bruin | C72: 91 | D72: 54.95 | E72: 38.13 | F72: 7.28 | G72: m² | H72: 1000 | I72: st. | J72: 1 | K72: Nee | L72: Ja
A73: 11020133 | B73: Jubileum HK Strak WF70 21,5x5,2x7 cm Obdam | C73: 85 | D73: 59.95 | E73: 44.37 | F73: 5.18 | G73: m² | H73: 528 | I73: st. | J73: 1 | K73: Nee | L73: Ja
A74: 13000900 | B74: Jubileum Keramiek SS 60x60x3 cm Limerock Beige | C74: 2.78 | D74: 49.95 | E74: 31.61 | F74: 9.67 | G74: m² | H74: 920 | I74: st. | J74: 1 | K74: Nee | L74: Ja
A75: 13000902 | B75: Jubileum Keramiek SS 60x60x3 cm Limerock Greige | C75: 2.78 | D75: 49.95 | E75: 31.61 | F75: 9.67 | G75: m² | H75: 920 | I75: st. | J75: 1 | K75: Nee | L75: Ja
A76: 13000904 | B76: Jubileum Keramiek SS 60x60x3 cm Limerock Taupe | C76: 2.78 | D76: 49.95 | E76: 31.61 | F76: 9.67 | G76: m² | H76: 920 | I76: st. | J76: 1 | K76: Nee | L76: Ja
A77: 13000920 | B77: Jubileum Keramiek SS 60x60x3 cm Mystic Ivory | C77: 2.78 | D77: 49.95 | E77: 31.61 | F77: 9.67 | G77: m² | H77: 920 | I77: st. | J77: 1 | K77: Nee | L77: Ja
... A115: 13060960 | B115: Jubileum 3+1 90x90x4 cm Arastone Beige | C115: 1.23 | D115: 54.95 | E115: 29.8 | F115: 15.61 | G115: m² | H115: 15 | I115: st. | J115: 1 | K115: Nee | L115: Ja
A116: 30101002 | B116: Jubileum Potgrond Universeel 35L | D116: 5.95 | E116: 2.46 | F116: 2.46 | G116: st. | H116: 80 | I116: st. | J116: 1 | K116: Nee | L116: Ja
A117: 46003360 | B117: Jubileum Buitenverblijf Modern 306,5x306,5 cm onbehandeld | D117: 1575 | E117: 1106.41 | F117: 195.24 | G117: st. | H117: 1 | I117: st. | J117: 1 | K117: Nee | L117: Nee
A118: 46003362 | B118: Jubileum Buitenverblijf Modern 399x306,5 cm onbehandeld | D118: 1995 | E118: 1401.45 | F118: 247.31 | G118: st. | H118: 1 | I118: st. | J118: 1 | K118: Nee | L118: Nee
A119: 46003364 | B119: Jubileum Buitenverblijf Modern 499x306,5 cm onbehandeld | D119: 2535 | E119: 1780.79 | F119: 314.25 | G119: st. | H119: 1 | I119: st. | J119: 1 | K119: Nee | L119: Nee
A120: 46003370 | B120: Jubileum Wand B enkel Zweeds rabat 228,5x224 cm onbehandeld | D120: 377 | E120: 246.14 | F120: 65.43 | G120: st. | H120: 1 | I120: st. | J120: 1 | K120: Nee | L120: Nee
A121: 46003372 | B121: Jubileum Wand C enkel Zweeds rabat 278,5x224 cm onbehandeld | D121: 440 | E121: 298.18 | F121: 65.46 | G121: st. | H121: 1 | I121: st. | J121: 1 | K121: Nee | L121: Nee
A122: 46003374 | B122: Jubileum Wand E enkel Zweeds rabat 371x224 cm onbehandeld | D122: 565 | E122: 373.55 | F122: 93.39 | G122: st. | H122: 1 | I122: st. | J122: 1 | K122: Nee | L122: Nee
A123: 46003382 | B123: Jubileum Plankenset C Zweeds rabat 278,5x244 cm onbehandeld | D123: 361 | E123: 244.65 | F123: 53.7 | G123: st. | H123: 1 | I123: st. | J123: 1 | K123: Nee | L123: Nee
A124: 46003384 | B124: Jubileum Plankenset E Zweeds rabat 371x244 cm onbehandeld | D124: 488 | E124: 326.68 | F124: 76.63 | G124: st. | H124: 1 | I124: st. | J124: 1 | K124: Nee | L124: Nee
A125: 46003390 | B125: Jubileum Wand B enkel Zweeds rabat 228,5x224 cm zwart geïmpr | D125: 451 | E125: 309.36 | F125: 63.37 | G125: st. | H125: 1 | I125: st. | J125: 1 | K125: Nee | L125: Nee
A126: 51003024 | B126: Jubileum Scherm Douglas gesch. 21pl 16mm 180x180cm onbeh. BS | D126: 159 | E126: 86.73 | F126: 44.67 | G126: st. | H126: 22 | I126: st. | J126: 1 | K126: Nee | L126: Ja
A127: 51005046 | B127: Jubileum Scherm Grenen gesch. 21 pl 14mm 180x180 cm vert | D127: 69 | E127: 45.62 | F127: 11.4 | G127: st. | H127: 24 | I127: st. | J127: 1 | K127: Nee | L127: Ja
... A129: 51010352 | B129: Jubileum Scherm hardhout Keruing 180x180 cm Elan verticaal | D129: 259.95 | E129: 154.68 | F129: 60.15 | G129: st. | H129: 20 | I129: st. | J129: 1 | K129: Nee | L129: Ja
B131: Onderstaande artikelen betreft overige acties
A133: 11020082 | B133: Hollandsche Kroon WF70 21,5x5,2x7 cm Barsingerhorn | C133: 85 | D133: 77.95 | E133: 49.39 | F133: 15.03 | G133: m² | H133: 700 | I133: st. | J133: 1 | K133: Nee | L133: Ja
A134: 11020110 | B134: Hollandsche Kroon WF70 21,5x5,2x7 cm Beemster | C134: 85 | D134: 77.95 | E134: 58.14 | F134: 6.28 | G134: m² | H134: 700 | I134: st. | J134: 1 | K134: Nee | L134: Ja
A135: 11020080 | B135: Hollandsche Kroon WF70 21,5x5,2x7 cm Castricum | C135: 85 | D135: 77.95 | E135: 49.39 | F135: 15.03 | G135: m² | H135: 700 | I135: st. | J135: 1 | K135: Nee | L135: Ja
A136: 11020108 | B136: Hollandsche Kroon WF70 21,5x5,2x7 cm Enkhuizen | C136: 85 | D136: 77.95 | E136: 58.14 | F136: 6.28 | G136: m² | H136: 700 | I136: st. | J136: 1 | K136: Nee | L136: Ja
A137: 11020112 | B137: Hollandsche Kroon WF70 21,5x5,2x7 cm Obdam | C137: 85 | D137: 77.95 | E137: 59.59 | F137: 4.83 | G137: m² | H137: 700 | I137: st. | J137: 1 | K137: Nee | L137: Ja
A138: 11020106 | B138: Hollandsche Kroon WF70 21,5x5,2x7 cm Santpoort | C138: 85 | D138: 77.95 | E138: 58.14 | F138: 6.28 | G138: m² | H138: 700 | I138: st. | J138: 1 | K138: Nee | L138: Ja
