Workbook
Name Report1.Header: Prijslijst!#REF!
Name Report1.Range: Prijslijst!#REF!
Name Report2.Header: #REF!
Name Report2.Range: #REF!
Name Report3.Header: #REF!
Name Report3.Range: #REF!
Name Report4.Header: #REF!
Name Report4.Range: #REF!
Name Report5.Header: #REF!
Name Report5.Range: #REF!
Name Report6.Header: #REF!
Name Report6.Range: #REF!

Sheet Index
A1: =HYPERLINK("#Prijslijst!A"&Linkadressen!D1,Linkadressen!A1) -> Bestrating
B2: =HYPERLINK("#Prijslijst!A"&Linkadressen!D2,Linkadressen!B2) -> Beton Gecoat
C3: =HYPERLINK("#Prijslijst!A"&Linkadressen!D3,Linkadressen!C3) -> GeoProarte
B4: =HYPERLINK("#Prijslijst!A"&Linkadressen!D4,Linkadressen!B4) -> Beton Plus
C5: =HYPERLINK("#Prijslijst!A"&Linkadressen!D5,Linkadressen!C5) -> Infinito
C6: =HYPERLINK("#Prijslijst!A"&Linkadressen!D6,Linkadressen!C6) -> Trippel T
C7: =HYPERLINK("#Prijslijst!A"&Linkadressen!D7,Linkadressen!C7) -> Vialetta
C8: =HYPERLINK("#Prijslijst!A"&Linkadressen!D8,Linkadressen!C8) -> GeoCorso
C9: =HYPERLINK("#Prijslijst!A"&Linkadressen!D9,Linkadressen!C9) -> GeoStretto
C10: =HYPERLINK("#Prijslijst!A"&Linkadressen!D10,Linkadressen!C10) -> GeoArdesia
C11: =HYPERLINK("#Prijslijst!A"&Linkadressen!D11,Linkadressen!C11) -> GeoColor
C12: =HYPERLINK("#Prijslijst!A"&Linkadressen!D12,Linkadressen!C12) -> H2O
C13: =HYPERLINK("#Prijslijst!A"&Linkadressen!D13,Linkadressen!C13) -> Design Square
C14: =HYPERLINK("#Prijslijst!A"&Linkadressen!D14,Linkadressen!C14) -> Patio Square
C15: =HYPERLINK("#Prijslijst!A"&Linkadressen!D15,Linkadressen!C15) -> Patio Straight
C16: =HYPERLINK("#Prijslijst!A"&Linkadressen!D16,Linkadressen!C16) -> Smartton
... C32: =HYPERLINK("#Prijslijst!A"&Linkadressen!D32,Linkadressen!C32) -> Plazza
B33: =HYPERLINK("#Prijslijst!A"&Linkadressen!D33,Linkadressen!B33) -> Beton Basic Strak
C34: =HYPERLINK("#Prijslijst!A"&Linkadressen!D34,Linkadressen!C34) -> Premiton
C35: =HYPERLINK("#Prijslijst!A"&Linkadressen!D35,Linkadressen!C35) -> Premiton Linea
C36: =HYPERLINK("#Prijslijst!A"&Linkadressen!D36,Linkadressen!C36) -> Premiton Aqua
C37: =HYPERLINK("#Prijslijst!A"&Linkadressen!D37,Linkadressen!C37) -> Garden Tile SE
C38: =HYPERLINK("#Prijslijst!A"&Linkadressen!D38,Linkadressen!C38) -> Randa
C39: =HYPERLINK("#Prijslijst!A"&Linkadressen!D39,Linkadressen!C39) -> Damme
C40: =HYPERLINK("#Prijslijst!A"&Linkadressen!D40,Linkadressen!C40) -> Recto
C41: =HYPERLINK("#Prijslijst!A"&Linkadressen!D41,Linkadressen!C41) -> Straksteen
C42: =HYPERLINK("#Prijslijst!A"&Linkadressen!D42,Linkadressen!C42) -> Schellevis
C43: =HYPERLINK("#Prijslijst!A"&Linkadressen!D43,Linkadressen!C43) -> Betontegels
C44: =HYPERLINK("#Prijslijst!A"&Linkadressen!D44,Linkadressen!C44) -> Speciale Betontegels
C45: =HYPERLINK("#Prijslijst!A"&Linkadressen!D45,Linkadressen!C45) -> Betonklinkers S-Top
... C55: =HYPERLINK("#Prijslijst!A"&Linkadressen!D55,Linkadressen!C55) -> Hydro Lineo
B56: =HYPERLINK("#Prijslijst!A"&Linkadressen!D56,Linkadressen!B56) -> Beton Basic Getrommeld
C57: =HYPERLINK("#Prijslijst!A"&Linkadressen!D57,Linkadressen!C57) -> Stonique
C58: =HYPERLINK("#Prijslijst!A"&Linkadressen!D58,Linkadressen!C58) -> Damme
C59: =HYPERLINK("#Prijslijst!A"&Linkadressen!D59,Linkadressen!C59) -> Stonehedge
C60: =HYPERLINK("#Prijslijst!A"&Linkadressen!D60,Linkadressen!C60) -> Recto Antique
C61: =HYPERLINK("#Prijslijst!A"&Linkadressen!D61,Linkadressen!C61) -> Tumbelton
B62: =HYPERLINK("#Prijslijst!A"&Linkadressen!D62,Linkadressen!B62) -> Gebakken Klinkers Strengpers
C63: =HYPERLINK("#Prijslijst!A"&Linkadressen!D63,Linkadressen!C63) -> Waalformaat
C64: =HYPERLINK("#Prijslijst!A"&Linkadressen!D64,Linkadressen!C64) -> Dikformaat
...

Sheet Linkadressen
A1: Bestrating
B2: Beton Gecoat | D2: 3
C3: GeoProarte | D3: 3
B4: Beton Plus | D4: 13
C5: Infinito | D5: 13
C6: Trippel T | D6: 60
C7: Vialetta | D7: 108
C8: GeoCorso | D8: 115
C9: GeoStretto | D9: 199
C10: GeoArdesia | D10: 208
C11: GeoColor | D11: 214
C12: H2O | D12: 232
C13: Design Square | D13: 256
C14: Patio Square | D14: 266
C15: Patio Straight | D15: 286
C16: Smartton | D16: 290
... C32: Plazza | D32: 660
B33: Beton Basic Strak | D33: 665
C34: Premiton | D34: 665
C35: Premiton Linea | D35: 685
C36: Premiton Aqua | D36: 718
C37: Garden Tile SE | D37: 722
C38: Randa | D38: 726
C39: Damme | D39: 737
C40: Recto | D40: 745
C41: Straksteen | D41: 806
C42: Schellevis | D42: 820
C43: Betontegels | D43: 988
C44: Speciale Betontegels | D44: 1026
C45: Betonklinkers S-Top | D45: 1036
... C55: Hydro Lineo | D55: 1249
B56: Beton Basic Getrommeld | D56: 1263
C57: Stonique | D57: 1263
C58: Damme | D58: 1333
C59: Stonehedge | D59: 1340
C60: Recto Antique | D60: 1394
C61: Tumbelton | D61: 1434
B62: Gebakken Klinkers Strengpers | D62: 1489
C63: Waalformaat | D63: 1489
C64: Dikformaat | D64: 1526
...

Sheet Prijslijst
A1: Artikelcode | B1: Omschrijving | C1: st/m² | D1: Part. Incl. BTW | E1: Inkoop Excl. BTW | F1: Marge Excl. BTW | G1: Prijs per | H1: Vol Pak | I1: Besteleenheid | J1: Deelpak | K1: Toeslag | L1: Voorraad | M1: Gewicht kg | N1: EAN Code | O1: Leverancier | P1: ArtNrLeverancier | Q1: Productgroep | R1: Artikelgroep | S1: Subgroep | T1: Terraza Naam
A3: 10001304 | B3: GeoProArte® 30x20x6 cm Stones Belgian Blue Dark Grey | C3: 16.67 | D3: 50.95 | E3: 33.31 | F3: 8.8 | G3: m² | H3: 168 | I3: st. | J3: 12 | K3: 16.53 | L3: Nee | M3: 8.1 | N3: 8719488530528 | O3: MBI | P3: HLAM10508.GARTE | Q3: Bestrating | R3: Beton Gecoat | S3: Oprit en Terras
A4: 10001306 | B4: GeoProArte® 30x20x6 cm Stones Belgian Blue Light Grey | C4: 16.67 | D4: 50.95 | E4: 33.31 | F4: 8.8 | G4: m² | H4: 168 | I4: st. | J4: 12 | K4: 16.53 | L4: Nee | M4: 8.1 | N4: 8719488530535 | O4: MBI | P4: HLAM10509.GARTE | Q4: Bestrating | R4: Beton Gecoat | S4: Oprit en Terras
A6: 10001007 | B6: GeoProArte® 60x60x4 cm Stones Belgian Blue Dark Grey | C6: 2.78 | D6: 47.95 | E6: 31.35 | F6: 8.28 | G6: m² | H6: 42 | I6: st. | J6: 6 | K6: 16.53 | L6: Nee | M6: 32 | N6: 8719488530542 | O6: MBI | P6: QLAM10508.GARTE | Q6: Bestrating | R6: Beton Gecoat | S6: Terras
A7: 10001009 | B7: GeoProArte® 60x60x4 cm Stones Belgian Blue Light Grey | C7: 2.78 | D7: 47.95 | E7: 31.35 | F7: 8.28 | G7: m² | H7: 42 | I7: st. | J7: 6 | K7: 16.53 | L7: Nee | M7: 32 | N7: 8719488530559 | O7: MBI | P7: QLAM10509.GARTE | Q7: Bestrating | R7: Beton Gecoat | S7: Terras
A9: 10001401 | B9: GeoProArte® 120x30x6 cm Wood Beige Oak | C9: 2.78 | D9: 56.95 | E9: 37.23 | F9: 9.84 | G9: m² | H9: 16 | I9: st. | J9: 2 | K9: 16.53 | L9: Nee | M9: 48 | N9: 8719488528891 | O9: MBI | P9: UMAZ40804.GARTE | Q9: Bestrating | R9: Beton Gecoat | S9: Terras
A10: 10001400 | B10: GeoProArte® 120x30x6 cm Wood Dark Oak Op=Op! | C10: 2.78 | D10: 49.95 | E10: 34.83 | F10: 6.45 | G10: m² | H10: 16 | I10: st. | J10: 1 | K10: Nee | L10: Ja | M10: 48 | N10: 8719488389324 | O10: MBI | P10: UMAZ40801.GARTE | Q10: Bestrating | R10: Beton Gecoat | S10: Terras | T10: Diseno 120x30x6 cm Madera Roble Oscuro
A11: 10001402 | B11: GeoProArte® 120x30x6 cm Wood Grey Oak | C11: 2.78 | D11: 56.95 | E11: 37.23 | F11: 9.84 | G11: m² | H11: 16 | I11: st. | J11: 2 | K11: 16.53 | L11: Nee | M11: 48 | N11: 8719488389348 | O11: MBI | P11: UMAZ40802.GARTE | Q11: Bestrating | R11: Beton Gecoat | S11: Terras
A12: 10001404 | B12: GeoProArte® 120x30x6 cm Wood Yellow Oak Op=Op! | C12: 2.78 | D12: 49.95 | E12: 34.83 | F12: 6.45 | G12: m² | H12: 16 | I12: st. | J12: 1 | K12: Nee | L12: Ja | M12: 48 | N12: 8719488389362 | O12: MBI | P12: UMAZ40803.GARTE | Q12: Bestrating | R12: Beton Gecoat | S12: Terras | T12: Diseno 120x30x6 cm Madera Roble Amarillo
A14: 10015010 | B14: Infinito Comfort 20x20x6 cm Black | C14: 25 | D14: 41.95 | E14: 26 | F14: 8.67 | G14: m² | H14: 216 | I14: st. | J14: 18 | K14: 16.53 | L14: Nee | M14: 5.52 | N14: 5420001268554 | O14: Marlux | P14: 531315 | Q14: Bestrating | R14: Beton Plus | S14: Oprit en Terras
A15: 10015030 | B15: Infinito Comfort 30x20x6 cm Black | C15: 16.67 | D15: 41.95 | E15: 26.01 | F15: 8.66 | G15: m² | H15: 144 | I15: st. | J15: 12 | K15: 16.53 | L15: Nee | M15: 8.28 | N15: 5420001268608 | O15: Marlux | P15: 531324 | Q15: Bestrating | R15: Beton Plus | S15: Oprit en Terras
A16: 10015032 | B16: Infinito Comfort 30x20x6 cm Nuance Light Grey | C16: 16.67 | D16: 41.95 | E16: 26.01 | F16: 8.66 | G16: m² | H16: 144 | I16: st. | J16: 12 | K16: 16.53 | L16: Nee | M16: 8.28 | N16: 5420001268615 | O16: Marlux | P16: 531325 | Q16: Bestrating | R16: Beton Plus | S16: Oprit en Terras
A17: 10015034 | B17: Infinito Comfort 30x20x6 cm Tavo | C17: 16.67 | D17: 41.95 | E17: 26.01 | F17: 8.66 | G17: m² | H17: 144 | I17: st. | J17: 12 | K17: 16.53 | L17: Nee | M17: 8.28 | N17: 5420001268622 | O17: Marlux | P17: 531326 | Q17: Bestrating | R17: Beton Plus | S17: Oprit en Terras
A18: 10015036 | B18: Infinito Comfort 30x20x6 cm Nuance Greige | C18: 16.67 | D18: 41.95 | E18: 26.01 | F18: 8.66 | G18: m² | H18: 144 | I18: st. | J18: 12 | K18: 16.53 | L18: Nee | M18: 8.28 | N18: 5420001268639 | O18: Marlux | P18: 531327 | Q18: Bestrating | R18: Beton Plus | S18: Oprit en Terras
A19: 10015038 | B19: Infinito Comfort 30x20x6 cm Orso | C19: 16.67 | D19: 41.95 | E19: 26.01 | F19: 8.66 | G19: m² | H19: 144 | I19: st. | J19: 12 | K19: 16.53 | L19: Nee | M19: 8.28 | N19: 5420001268646 | O19: Marlux | P19: 531329 | Q19: Bestrating | R19: Beton Plus | S19: Oprit en Terras
A21: 10015050 | B21: Infinito Comfort 60x30x6 cm Black | C21: 5.56 | D21: 43.5 | E21: 29.53 | F21: 6.42 | G21: m² | H21: 40 | I21: st. | J21: 4 | K21: 16.53 | L21: Nee | M21: 24.85 | N21: 5420001268653 | O21: Marlux | P21: 531332 | Q21: Bestrating | R21: Beton Plus | S21: Oprit en Terras
A22: 10015060 | B22: Infinito Comfort 60x30x6 cm Medium Grey | C22: 5.56 | D22: 43.5 | E22: 29.53 | F22: 6.42 | G22: m² | H22: 40 | I22: st. | J22: 4 | K22: 16.53 | L22: Nee | M22: 24.85 | N22: 5420001268660 | O22: Marlux | P22: 531334 | Q22: Bestrating | R22: Beton Plus | S22: Oprit en Terras
A23: 10015062 | B23: Infinito Comfort 60x30x6 cm Light Grey | C23: 5.56 | D23: 43.5 | E23: 29.53 | F23: 6.42 | G23: m² | H23: 40 | I23: st. | J23: 4 | K23: 16.53 | L23: Nee | M23: 24.85 | N23: 5420001268677 | O23: Marlux | P23: 531335 | Q23: Bestrating | R23: Beton Plus | S23: Oprit en Terras
A24: 10015064 | B24: Infinito Comfort 60x30x6 cm Nuance Light Grey | C24: 5.56 | D24: 43.5 | E24: 29.53 | F24: 6.42 | G24: m² | H24: 40 | I24: st. | J24: 4 | K24: 16.53 | L24: Nee | M24: 24.85 | N24: 5420001268684 | O24: Marlux | P24: 531336 | Q24: Bestrating | R24: Beton Plus | S24: Oprit en Terras
A25: 10015066 | B25: Infinito Comfort 60x30x6 cm Nuance Greige | C25: 5.56 | D25: 43.5 | E25: 29.53 | F25: 6.42 | G25: m² | H25: 40 | I25: st. | J25: 4 | K25: 16.53 | L25: Nee | M25: 24.85 | N25: 5420001271721 | O25: Marlux | P25: 542038 | Q25: Bestrating | R25: Beton Plus | S25: Oprit en Terras
A27: 10015220 | B27: Infinito Comfort 60x60x4,4 cm Black | C27: 2.78 | D27: 42.5 | E27: 24.94 | F27: 10.18 | G27: m² | H27: 32 | I27: st. | J27: 2 | K27: 16.53 | L27: Nee | M27: 36.44 | N27: 5420001268738 | O27: Marlux | P27: 531343 | Q27: Bestrating | R27: Beton Plus | S27: Terras
... A58: 10015250 | B58: Infinito Comfort 80x40x4,4 cm Tavo | C58: 3.13 | D58: 46.5 | E58: 30.74 | F58: 7.69 | G58: m² | H58: 48 | I58: st. | J58: 3 | K58: 16.53 | L58: Nee | M58: 32.38 | N58: 5420001268875 | O58: Marlux | P58: 531378 | Q58: Bestrating | R58: Beton Plus | S58: Terras
A60: 10019006 | B60: Trippel T 60x30x4 cm Antraciet | C60: 5.56 | D60: 32.95 | E60: 17.98 | F60: 9.25 | G60: m² | H60: 84 | I60: st. | J60: 12 | K60: 16.53 | L60: Nee | M60: 16 | N60: 8719488586082 | O60: MBI | P60: QKKTA56BS.G025F | Q60: Bestrating | R60: Beton Plus | S60: Terras
A61: 10019016 | B61: Trippel T 60x30x4 cm Beige nuance | C61: 5.56 | D61: 32.95 | E61: 17.98 | F61: 9.25 | G61: m² | H61: 84 | I61: st. | J61: 12 | K61: 16.53 | L61: Nee | M61: 16 | N61: 8719488586136 | O61: MBI | P61: QKKTB38BS.G025F | Q61: Bestrating | R61: Beton Plus | S61: Terras
A62: 10019014 | B62: Trippel T 60x30x4 cm Bruin nuance | C62: 5.56 | D62: 32.95 | E62: 17.98 | F62: 9.25 | G62: m² | H62: 84 | I62: st. | J62: 12 | K62: 16.53 | L62: Nee | M62: 16 | N62: 8719488586129 | O62: MBI | P62: QKKTB75BS.G025F | Q62: Bestrating | R62: Beton Plus | S62: Terras
A63: 10019000 | B63: Trippel T 60x30x4 cm Grezza nuance | C63: 5.56 | D63: 32.95 | E63: 17.98 | F63: 9.25 | G63: m² | H63: 84 | I63: st. | J63: 12 | K63: 16.53 | L63: Nee | M63: 16 | N63: 8719488586051 | O63: MBI | P63: QKKTB36BS.G025F | Q63: Bestrating | R63: Beton Plus | S63: Terras
A64: 10019004 | B64: Trippel T 60x30x4 cm Grijs nuance | C64: 5.56 | D64: 32.95 | E64: 17.98 | F64: 9.25 | G64: m² | H64: 84 | I64: st. | J64: 12 | K64: 16.53 | L64: Nee | M64: 16 | N64: 8719488586075 | O64: MBI | P64: QKKTH50BS.G025F | Q64: Bestrating | R64: Beton Plus | S64: Terras
A65: 10019002 | B65: Trippel T 60x30x4 cm Kova nuance | C65: 5.56 | D65: 32.95 | E65: 17.98 | F65: 9.25 | G65: m² | H65: 84 | I65: st. | J65: 12 | K65: 16.53 | L65: Nee | M65: 16 | N65: 8719488586068 | O65: MBI | P65: QKKTB37BS.G025F | Q65: Bestrating | R65: Beton Plus | S65: Terras
A66: 10019010 | B66: Trippel T 60x30x4 cm Licht grijs | C66: 5.56 | D66: 32.95 | E66: 17.98 | F66: 9.25 | G66: m² | H66: 84 | I66: st. | J66: 12 | K66: 16.53 | L66: Nee | M66: 16 | N66: 8719488586105 | O66: MBI | P66: QKKTA89BS.G025F | Q66: Bestrating | R66: Beton Plus | S66: Terras
A67: 10019012 | B67: Trippel T 60x30x4 cm Taupe | C67: 5.56 | D67: 32.95 | E67: 17.98 | F67: 9.25 | G67: m² | H67: 84 | I67: st. | J67: 12 | K67: 16.53 | L67: Nee | M67: 16 | N67: 8719488586112 | O67: MBI | P67: QKKTB10BS.G025F | Q67: Bestrating | R67: Beton Plus | S67: Terras
A68: 10019008 | B68: Trippel T 60x30x4 cm Zwart/grijs | C68: 5.56 | D68: 32.95 | E68: 17.98 | F68: 9.25 | G68: m² | H68: 84 | I68: st. | J68: 12 | K68: 16.53 | L68: Nee | M68: 16 | N68: 8719488586099 | O68: MBI | P68: QKKTH45BS.G025F | Q68: Bestrating | R68: Beton Plus | S68: Terras
A70: 10019226 | B70: Trippel T 2Drive 60x30x6 cm Antraciet | C70: 5.56 | D70: 37.95 | E70: 20.7 | F70: 10.66 | G70: m² | H70: 56 | I70: st. | J70: 4 | K70: 16.53 | L70: Nee | M70: 24 | N70: 8719488586174 | O70: MBI | P70: UGKTA56BS.G025F | Q70: Bestrating | R70: Beton Plus | S70: Oprit en Terras
A71: 10019228 | B71: Trippel T 2Drive 60x30x6 cm Donkergrijs | C71: 5.56 | D71: 37.95 | E71: 20.7 | F71: 10.66 | G71: m² | H71: 56 | I71: st. | J71: 4 | K71: 16.53 | L71: Nee | M71: 24 | N71: 8719488594650 | O71: MBI | P71: UGKTA95BS.G025F | Q71: Bestrating | R71: Beton Plus | S71: Oprit en Terras
A72: 10019220 | B72: Trippel T 2Drive 60x30x6 cm Grezza nuance | C72: 5.56 | D72: 37.95 | E72: 20.7 | F72: 10.66 | G72: m² | H72: 56 | I72: st. | J72: 4 | K72: 16.53 | L72: Nee | M72: 24 | N72: 8719488586143 | O72: MBI | P72: UGKTB36BS.G025F | Q72: Bestrating | R72: Beton Plus | S72: Oprit en Terras
... A75: 10019230 | B75: Trippel T 2Drive 60x30x6 cm Zwart-Grijs gen | C75: 5.56 | D75: 37.95 | E75: 20.7 | F75: 10.66 | G75: m² | H75: 56 | I75: st. | J75: 4 | K75: 16.53 | L75: Nee | M75: 24 | N75: 8719488594643 | O75: MBI | P75: UGKTA45BS.G025F | Q75: Bestrating | R75: Beton Plus | S75: Oprit en Terras
A77: 10019100 | B77: Trippel T 60x60x4 cm Antraciet | C77: 2.78 | D77: 32.95 | E77: 16.88 | F77: 10.35 | G77: m² | H77: 42 | I77: st. | J77: 6 | K77: 16.53 | L77: Nee | M77: 32 | N77: 8719488526637 | O77: MBI | P77: QLKTA56BS.G025F | Q77: Bestrating | R77: Beton Plus | S77: Terras | T77: Cemento 60x60x4 cm Sanabria
A78: 10019116 | B78: Trippel T 60x60x4 cm Beige Nuance | C78: 2.78 | D78: 32.95 | E78: 16.88 | F78: 10.35 | G78: m² | H78: 42 | I78: st. | J78: 1 | K78: 16.53 | L78: Ja | M78: 32 | N78: 8719488571750 | O78: MBI | P78: QLKTB38BS.G025F | Q78: Bestrating | R78: Beton Plus | S78: Terras | T78: Cemento 60x60x4 cm Matizar Beige
A79: 10019114 | B79: Trippel T 60x60x4 cm KoVa Nuance | C79: 2.78 | D79: 32.95 | E79: 16.88 | F79: 10.35 | G79: m² | H79: 42 | I79: st. | J79: 6 | K79: 16.53 | L79: Nee | M79: 32 | N79: 8719488571736 | O79: MBI | P79: QLKTB37BS.G025F | Q79: Bestrating | R79: Beton Plus | S79: Terras
A80: 10019104 | B80: Trippel T 60x60x4 cm Taupe | C80: 2.78 | D80: 32.95 | E80: 16.88 | F80: 10.35 | G80: m² | H80: 42 | I80: st. | J80: 6 | K80: 16.53 | L80: Nee | M80: 32 | N80: 8719488526675 | O80: MBI | P80: QLKTB10BS.G025F | Q80: Bestrating | R80: Beton Plus | S80: Terras | T80: Cemento 60x60x4 cm Martel
A81: 10019106 | B81: Jubileum TT 60x60x4 cm Bruin nuance | C81: 2.78 | D81: 29.95 | E81: 16.88 | F81: 7.87 | G81: m² | H81: 42 | I81: st. | J81: 1 | K81: Nee | L81: Ja | M81: 32 | N81: 8719488526699 | O81: MBI | P81: QLKTB75BS.G025F | Q81: Bestrating | R81: Beton Plus | S81: Terras | T81: Cemento 60x60x4 cm Matizar Marrón
...

Sheet Terraza Prijslijst
A1: Artikel Nr. | B1: Omschrijving | C1: st/m² | D1: Part. Incl. | E1: Inkoop Excl. | F1: Marge Excl. | G1: Prijs per | H1: Vol Pak | I1: Besteleenheid | J1: Deelpak | K1: Toeslag | L1: Voorraad
B2: Vulling B1-1
A3: 10030000 | B3: Concreto 60x60x4 cm Coal | C3: 2.78 | D3: 24.95 | E3: 14.87 | F3: 5.75 | G3: m² | H3: 28 | I3: st. | J3: 28 | K3: Nee | L3: Ja
A4: 10031302 | B4: Concreto 30x20x5 cm Coal | C4: 16.67 | D4: 22.5 | E4: 13.2 | F4: 5.4 | G4: m² | H4: 224 | I4: st. | J4: 1 | K4: Nee | L4: Ja
A5: 10030004 | B5: Concreto 60x60x4 cm Kilimanjaro | C5: 2.78 | D5: 24.95 | E5: 14.87 | F5: 5.75 | G5: m² | H5: 28 | I5: st. | J5: 28 | K5: Nee | L5: Ja
A6: 10031308 | B6: Concreto 30x20x5 cm Kilimanjaro | C6: 16.67 | D6: 22.5 | E6: 13.2 | F6: 5.4 | G6: m² | H6: 224 | I6: st. | J6: 1 | K6: Nee | L6: Ja
A7: 10030002 | B7: Concreto 60x60x4 cm Gothic | C7: 2.78 | D7: 24.95 | E7: 14.87 | F7: 5.75 | G7: m² | H7: 28 | I7: st. | J7: 1 | K7: Nee | L7: Ja
A8: 10031304 | B8: Concreto 30x20x5 cm Gothic | C8: 16.67 | D8: 22.5 | E8: 13.2 | F8: 5.4 | G8: m² | H8: 224 | I8: st. | J8: 1 | K8: Nee | L8: Ja
B9: Vulling B1-2
A10: 10030000 | B10: Concreto 60x60x4 cm Coal | C10: 2.78 | D10: 24.95 | E10: 14.87 | F10: 5.75 | G10: m² | H10: 28 | I10: st. | J10: 28 | K10: Nee | L10: Ja
A11: 10030004 | B11: Concreto 60x60x4 cm Kilimanjaro | C11: 2.78 | D11: 24.95 | E11: 14.87 | F11: 5.75 | G11: m² | H11: 28 | I11: st. | J11: 28 | K11: Nee | L11: Ja
A12: 10030002 | B12: Concreto 60x60x4 cm Gothic | C12: 2.78 | D12: 24.95 | E12: 14.87 | F12: 5.75 | G12: m² | H12: 28 | I12: st. | J12: 1 | K12: Nee | L12: Ja
B13: Vulling B2-1
A14: 10030058 | B14: Concreto+ 60x60x4 cm Maledeta | C14: 2.78 | D14: 35.95 | E14: 20.2 | F14: 9.51 | G14: m² | H14: 28 | I14: st. | J14: 1 | K14: Nee | L14: Ja
A15: 10030068 | B15: Concreto+ 60x30x4 cm Maledeta | C15: 5.56 | D15: 35.95 | E15: 20.21 | F15: 9.5 | G15: m² | H15: 56 | I15: st. | J15: 1 | K15: Nee | L15: Ja
A16: 10030064 | B16: Concreto+ 60x30x4 cm Teide | C16: 5.56 | D16: 35.95 | E16: 20.21 | F16: 9.5 | G16: m² | H16: 56 | I16: st. | J16: 1 | K16: Nee | L16: Ja
A17: 10030054 | B17: Concreto+ 60x60x4 cm Teide | C17: 2.78 | D17: 35.95 | E17: 20.2 | F17: 9.51 | G17: m² | H17: 28 | I17: st. | J17: 1 | K17: Nee | L17: Ja
A18: 10030050 | B18: Concreto+ 60x60x4 cm Montserrat | C18: 2.78 | D18: 35.95 | E18: 20.2 | F18: 9.51 | G18: m² | H18: 28 | I18: st. | J18: 1 | K18: Nee | L18: Ja
A19: 10030060 | B19: Concreto+ 60x30x4 cm Montserrat | C19: 5.56 | D19: 35.95 | E19: 20.21 | F19: 9.5 | G19: m² | H19: 56 | I19: st. | J19: 1 | K19: Nee | L19: Ja
A20: 10030063 | B20: Concreto+ 60x30x4 cm Espadas | C20: 5.56 | D20: 35.95 | E20: 20.21 | F20: 9.5 | G20: m² | H20: 56 | I20: st. | J20: 7 | K20: Nee | L20: Nee
A21: 10030053 | B21: Concreto+ 60x60x4 cm Espadas | C21: 2.78 | D21: 35.95 | E21: 20.2 | F21: 9.51 | G21: m² | H21: 28 | I21: st. | J21: 1 | K21: Nee | L21: Ja
A22: 10030052 | B22: Concreto+ 60x60x4 cm Aneto | C22: 2.78 | D22: 35.95 | E22: 20.2 | F22: 9.51 | G22: m² | H22: 28 | I22: st. | J22: 1 | K22: Nee | L22: Ja
A23: 10030062 | B23: Concreto+ 60x30x4 cm Aneto | C23: 5.56 | D23: 35.95 | E23: 20.21 | F23: 9.5 | G23: m² | H23: 56 | I23: st. | J23: 1 | K23: Nee | L23: Ja
A24: 10030067 | B24: Concreto+ 60x30x4 cm Perdido | C24: 5.56 | D24: 35.95 | E24: 20.21 | F24: 9.5 | G24: m² | H24: 56 | I24: st. | J24: 7 | K24: Nee | L24: Nee
A25: 10030057 | B25: Concreto+ 60x60x4 cm Perdido | C25: 2.78 | D25: 35.95 | E25: 20.2 | F25: 9.51 | G25: m² | H25: 28 | I25: st. | J25: 7 | K25: Nee | L25: Nee
B26: Vulling B2-2a
A27: 10030050 | B27: Concreto+ 60x60x4 cm Montserrat | C27: 2.78 | D27: 35.95 | E27: 20.2 | F27: 9.51 | G27: m² | H27: 28 | I27: st. | J27: 1 | K27: Nee | L27: Ja
A28: 10030060 | B28: Concreto+ 60x30x4 cm Montserrat | C28: 5.56 | D28: 35.95 | E28: 20.21 | F28: 9.5 | G28: m² | H28: 56 | I28: st. | J28: 1 | K28: Nee | L28: Ja
A29: 10041307 | B29: Concreto+ 30x20x6 cm Montserrat | C29: 16.67 | D29: 45.5 | E29: 26.71 | F29: 10.89 | G29: m² | H29: 120 | I29: st. | J29: 12 | K29: Nee | L29: Nee
A30: 10030058 | B30: Concreto+ 60x60x4 cm Maledeta | C30: 2.78 | D30: 35.95 | E30: 20.2 | F30: 9.51 | G30: m² | H30: 28 | I30: st. | J30: 1 | K30: Nee | L30: Ja
A31: 10030068 | B31: Concreto+ 60x30x4 cm Maledeta | C31: 5.56 | D31: 35.95 | E31: 20.21 | F31: 9.5 | G31: m² | H31: 56 | I31: st. | J31: 1 | K31: Nee | L31: Ja
A32: 10041303 | B32: Concreto+ 30x20x6 cm Maledeta | C32: 16.67 | D32: 45.5 | E32: 26.71 | F32: 10.89 | G32: m² | H32: 120 | I32: st. | J32: 12 | K32: Nee | L32: Nee
A33: 10030054 | B33: Concreto+ 60x60x4 cm Teide | C33: 2.78 | D33: 35.95 | E33: 20.2 | F33: 9.51 | G33: m² | H33: 28 | I33: st. | J33: 1 | K33: Nee | L33: Ja
A34: 10030064 | B34: Concreto+ 60x30x4 cm Teide | C34: 5.56 | D34: 35.95 | E34: 20.21 | F34: 9.5 | G34: m² | H34: 56 | I34: st. | J34: 1 | K34: Nee | L34: Ja
A35: 10041301 | B35: Concreto+ 30x20x6 cm Teide | C35: 16.67 | D35: 45.5 | E35: 26.71 | F35: 10.89 | G35: m² | H35: 120 | I35: st. | J35: 12 | K35: Nee | L35: Nee
B36: Vulling B2-2b
A37: 10030053 | B37: Concreto+ 60x60x4 cm Espadas | C37: 2.78 | D37: 35.95 | E37: 20.2 | F37: 9.51 | G37: m² | H37: 28 | I37: st. | J37: 1 | K37: Nee | L37: Ja
A38: 10030063 | B38: Concreto+ 60x30x4 cm Espadas | C38: 5.56 | D38: 35.95 | E38: 20.21 | F38: 9.5 | G38: m² | H38: 56 | I38: st. | J38: 7 | K38: Nee | L38: Nee
A39: 10030052 | B39: Concreto+ 60x60x4 cm Aneto | C39: 2.78 | D39: 35.95 | E39: 20.2 | F39: 9.51 | G39: m² | H39: 28 | I39: st. | J39: 1 | K39: Nee | L39: Ja
A40: 10030062 | B40: Concreto+ 60x30x4 cm Aneto | C40: 5.56 | D40: 35.95 | E40: 20.21 | F40: 9.5 | G40: m² | H40: 56 | I40: st. | J40: 1 | K40: Nee | L40: Ja
...

Sheet Actielijst
A1: Artikelcode | B1: Omschrijving | C1: st/m² | D1: Part. Incl. | E1: Inkoop Excl. | F1: Marge Excl. | G1: Prijs per | H1: Vol Pak | I1: Besteleenheid | J1: Deelpak | K1: Toeslag | L1: Voorraad
B3: Onderstaande artikelen betreft eenmalige partijen, outlet of uitlopend assortiment
B4: Informeer naar actuele voorraden. OP=OP
A6: 10001400 | B6: GeoProArte® 120x30x6 cm Wood Dark Oak Op=Op! | C6: 2.78 | D6: 49.95 | E6: 34.83 | F6: 6.45 | G6: m² | H6: 16 | I6: st. | J6: 1 | K6: Nee | L6: Ja
A7: 10001404 | B7: GeoProArte® 120x30x6 cm Wood Yellow Oak Op=Op! | C7: 2.78 | D7: 49.95 | E7: 34.83 | F7: 6.45 | G7: m² | H7: 16 | I7: st. | J7: 1 | K7: Nee | L7: Ja
A8: 10029014 | B8: GraniTops Plus 60x60x4,7 cm Graphitio# | C8: 2.78 | D8: 32.95 | E8: 20.16 | F8: 7.07 | G8: m² | H8: 28 | I8: st. | J8: 1 | K8: Nee | L8: Ja
A9: 11001120 | B9: Terra antica KF 20x10x5,2 cm Milano OP=OP | C9: 48 | D9: 59.95 | E9: 37.15 | F9: 12.4 | G9: m² | H9: 540 | I9: st. | J9: 1 | K9: Nee | L9: Ja
A10: 11001164 | B10: Terra antica onbezand WF65 20x5x6,5 cm Carbona# | C10: 96 | D10: 71.95 | E10: 48.19 | F10: 11.27 | G10: m² | H10: 900 | I10: st. | J10: 1 | K10: Nee | L10: Ja
A11: 11001193 | B11: Terra antica WF65 20x5x6,5 cm Bergamo# | C11: 96 | D11: 62.95 | E11: 42.34 | F11: 9.68 | G11: m² | H11: 900 | I11: st. | J11: 1 | K11: Nee | L11: Ja
A12: 11020162 | B12: Getr. WF70 21,5x5,2x7 cm Colosseum zwart OUTLET | C12: 86 | D12: 64.95 | E12: 50.74 | F12: 2.94 | G12: m² | H12: 700 | I12: st. | J12: 1 | K12: Nee | L12: Ja
A13: 13040176 | B13: Keramiek 3+1 60x60x4 cm Industriale Gris OUTLET | C13: 2.78 | D13: 44.95 | E13: 30.19 | F13: 6.96 | G13: m² | H13: 28 | I13: st. | J13: 1 | K13: Nee | L13: Ja
A14: 13041220 | B14: Keramiek 3+1 60x60x4 cm Colorado Light Grey OP=OP | C14: 2.78 | D14: 49.95 | E14: 40.72 | F14: 0.56 | G14: m² | H14: 28 | I14: st. | J14: 1 | K14: Nee | L14: Ja
A15: 13041222 | B15: Keramiek 3+1 60x60x4 cm Colorado Dark Grey OP=OP | C15: 2.78 | D15: 64.95 | E15: 43.53 | F15: 10.15 | G15: m² | H15: 28 | I15: st. | J15: 1 | K15: Nee | L15: Ja
A16: 13041252 | B16: Keramiek 3+1 100x100x4 cm Make Grigio Corten OP=OP | C16: 1 | D16: 69.95 | E16: 39.65 | F16: 18.16 | G16: m² | H16: 15 | I16: st. | J16: 1 | K16: Nee | L16: Ja
A17: 13041254 | B17: Keramiek 3+1 100x100x4 cm Make Antra Corten OP=OP | C17: 1 | D17: 69.95 | E17: 39.65 | F17: 18.16 | G17: m² | H17: 15 | I17: st. | J17: 1 | K17: Nee | L17: Ja
... A30: 13080002 | B30: Keramica 120x120x2 cm Verona Antracite OP=OP | C30: 0.694 | D30: 54.95 | E30: 32.11 | F30: 13.3 | G30: m² | H30: 18 | I30: st. | J30: 1 | K30: Nee | L30: Ja
A31: 17200030 | B31: U-Steen 40x40x50 cm Grijs# | D31: 29.95 | E31: 14.54 | F31: 10.21 | G31: st. | H31: 12 | I31: st. | J31: 1 | K31: Nee | L31: Nee
A32: 40000334 | B32: Solitair ACE Flat Grey 3W Warm White OP=OP | D32: 219 | E32: 99.55 | F32: 81.44 | G32: st. | H32: 6 | I32: st. | J32: 1 | K32: Nee | L32: Ja
A33: 40000339 | B33: Solitair ACE High Flat Grey 3W Warm White OP=OP | D33: 253 | E33: 115 | F33: 94.09 | G33: st. | H33: 6 | I33: st. | J33: 1 | K33: Nee | L33: Nee
A34: 40000537 | B34: Wall ACE Up-Down Flat Grey 8,5W Warm White 230V OP=OP | D34: 230 | E34: 104.55 | F34: 85.53 | G34: st. | H34: 6 | I34: st. | J34: 1 | K34: Nee | L34: Nee
A35: 40000542 | B35: Wall ACE Down Flat Grey 3W Warm White OP=OP | D35: 164 | E35: 74.55 | F35: 60.99 | G35: st. | H35: 6 | I35: st. | J35: 1 | K35: Nee | L35: Nee
A36: 40000545 | B36: Wall ACE Down Flat Grey 3W Warm White 230V OP=OP | D36: 197 | E36: 89.55 | F36: 73.26 | G36: st. | H36: 6 | I36: st. | J36: 1 | K36: Nee | L36: Nee
A37: 50010828 | B37: MegaWood Premium Plus 420x14,5x2,1 cm Leigrijs | C37: 1.6 | D37: 149.45 | E37: 109.47 | F37: 14.04 | G37: m² | H37: 84 | I37: st. | J37: 1 | K37: Nee | L37: Nee
A38: 80000549 | B38: BBQ Rockford van € 139,- voor € 89,95 | D38: 139 | E38: 74.34 | F38: 40.54 | G38: st. | H38: 12 | I38: st. | J38: 1 | K38: Nee | L38: Ja
A39: 80002396 | B39: Bangkirai draadscherm 180x90 cm# | D39: 129 | E39: 85.29 | F39: 21.32 | G39: st. | H39: 1 | I39: st. | J39: 1 | K39: Nee | L39: Nee
A40: 80002678 | B40: Keramiek 3+1 60x60x4 cm Sardegna Cala Luna OP=OP | C40: 2.78 | D40: 59.95 | E40: 30.89 | F40: 18.66 | G40: m² | H40: 28 | I40: st. | J40: 1 | K40: Nee | L40: Ja
B42: Onderstaande artikelen betreft 80 jarig jubileum artikelen
A44: 10019102 | B44: Jubileum TT 60x60x4 cm Licht Grijs | C44: 2.78 | D44: 29.95 | E44: 16.88 | F44: 7.87 | G44: m² | H44: 42 | I44: st. | J44: 1 | K44: Nee | L44: Ja
A45: 10019106 | B45: Jubileum TT 60x60x4 cm Bruin nuance | C45: 2.78 | D45: 29.95 | E45: 16.88 | F45: 7.87 | G45: m² | H45: 42 | I45: st. | J45: 1 | K45: Nee | L45: Ja
A46: 10019108 | B46: Jubileum TT 60x60x4 cm Zwart-Grijs gen | C46: 2.78 | D46: 29.95 | E46: 16.88 | F46: 7.87 | G46: m² | H46: 42 | I46: st. | J46: 1 | K46: Nee | L46: Ja
A47: 10019110 | B47: Jubileum TT 60x60x4 cm Grijs nuance | C47: 2.78 | D47: 29.95 | E47: 16.88 | F47: 7.87 | G47: m² | H47: 42 | I47: st. | J47: 1 | K47: Nee | L47: Ja
A48: 10019112 | B48: Jubileum TT 60x60x4 cm Grezza nuance | C48: 2.78 | D48: 29.95 | E48: 16.88 | F48: 7.87 | G48: m² | H48: 42 | I48: st. | J48: 1 | K48: Nee | L48: Ja
A49: 10021106 | B49: Jubileum GC 60x60x4 cm Bari | C49: 2.78 | D49: 34.95 | E49: 20.47 | F49: 8.41 | G49: m² | H49: 42 | I49: st. | J49: 1 | K49: Nee | L49: Ja
A50: 10021112 | B50: Jubileum GC 60x60x4 cm Ancona | C50: 2.78 | D50: 34.95 | E50: 20.47 | F50: 8.41 | G50: m² | H50: 42 | I50: st. | J50: 1 | K50: Nee | L50: Ja
A51: 10030000 | B51: Jubileum PPL 61 Promo SE XXS 60x60x4 cm Zw/Gr | C51: 2.78 | D51: 24.95 | E51: 14.87 | F51: 5.75 | G51: m² | H51: 28 | I51: st. | J51: 28 | K51: Nee | L51: Ja
A52: 10030002 | B52: Jubileum PPL 62 Promo SE XXS 60x60x4 cm Ant/Gr | C52: 2.78 | D52: 24.95 | E52: 14.87 | F52: 5.75 | G52: m² | H52: 28 | I52: st. | J52: 1 | K52: Nee | L52: Ja
A53: 10030004 | B53: Jubileum PPL 63 Promo SE XXS 60x60x4 cm Br/Gr | C53: 2.78 | D53: 24.95 | E53: 14.87 | F53: 5.75 | G53: m² | H53: 28 | I53: st. | J53: 28 | K53: Nee | L53: Ja
A54: 10030006 | B54: Jubileum PPL 64 Promo SE XXS 60x60x4 cm Beige | C54: 2.78 | D54: 24.95 | E54: 14.87 | F54: 5.75 | G54: m² | H54: 28 | I54: st. | J54: 28 | K54: Nee | L54: Ja
A55: 10030024 | B55: Jubileum GT SE 60X60x4 cm Antraciet OP=OP | C55: 2.78 | D55: 34.95 | E55: 22.65 | F55: 6.23 | G55: m² | H55: 32 | I55: st. | J55: 32 | K55: Nee | L55: Nee
... A59: 10034172 | B59: Jubileum getrommeld waalformaat 20x5x7 cm groningerbruin | C59: 100 | D59: 32.5 | E59: 19.4 | F59: 7.46 | G59: m² | H59: 816 | I59: st. | J59: 1 | K59: Nee | L59: Ja
...
