Workbook

Sheet Testing Calculator
B1: Row/Run Testing Calculator | F1: *this was set up with 40% average needed and a minimum of 6% on each test
B3: Enter Age | E3: Age group (run) | F3: =IF(C3="", "",IF(C3<=24,"20-24",IF(C3<=29,"25-29",IF(C3<=34,"30-34",IF(C3<=39,"35-39",IF(C3<=44,"40-44",IF(C3<=49,"45-49","50+")))))))
B4: Enter Gender | E4: Age group (row) | F4: =IF(C3="","",IF(C3<=29,"20-29",IF(C3<=39,"30-39",IF(C3<=49,"40-49","50+"))))
B5: Enter Weight | E5: Weight group (row) | F5: =IF(ISBLANK(C5), "",IF(C4="Male", IF(C5<250, "under", "over"), IF(C5<200, "under", "over")))
B7: Enter Row Time: | C7: =IF(C8="", "Please enter row time","") -> Please enter row time | G7: =IF(OR(C3="", C4="",C5=""),"Please enter age, gender, and/or weight above", "") -> Please enter age, gender, and/or weight above
B8: Row Time (minutes:seconds) | E8: Row time percentile | F8: {=IF(OR(C8="", C4="",F4="",C5=""),"",IFERROR(INDEX('Data Tables'!$F$2:'Data Tables'!$K$1602, MATCH(1, (_xlfn.CONCAT(F5,F4,C4)='Data Tables'!$I$2:$I$1602)*(VALUE(C8)<=VALUE('Data Tables'!$K$2:$K$1602)),0),5), "Error! Make sure time is entered as mm:ss"))}
B9: Run Time needed to pass | C9: {=IF(F8="", "", IF(F9="Error! Make sure time is entered as mm:ss", "",INDEX('Data Tables'!A2:D1450, MATCH(1, (C4='Data Tables'!B2:B1450)*(F3='Data Tables'!A2:A1450)*(F9='Data Tables'!C2:C1450),0),4)))} | E9: Run percentile needed | F9: =IF(F8="","",IF(F8="Error! Make sure time is entered as mm:ss","Error! Make sure time is entered as mm:ss",IF(ROUND(0.8-F8,2)<0.06,0.06,ROUND(0.8-F8,2))))
F10: =IF(F8<0.06, "Row time does not meet minimum standard", "")
B11: Enter Run Time: | C11: =IF(C12="", "Please enter run time","") -> Please enter run time | G11: =IF(OR(C3="", C4="",C5=""),"Please enter age, gender, and/or weight above", "") -> Please enter age, gender, and/or weight above
B12: Run Time (minutes:seconds) | E12: Run time percentile | F12: {=IF(OR(C12="",C4="",F3=""),"",IFERROR(INDEX('Data Tables'!A2:D1450,MATCH(1,(C4='Data Tables'!B2:B1450)*(F3='Data Tables'!A2:A1450)*(VALUE(C12)<=VALUE('Data Tables'!D2:D1450)),0),3),"Error! Make sure time is entered as mm:ss"))}
B13: Row Time needed to pass | C13: {=IF(F13="", "", IF(F13="Error! Make sure time is entered as mm:ss", "", INDEX('Data Tables'!$F$2:'Data Tables'!$K$1602, MATCH(1, (_xlfn.CONCAT(F5,F4,C4)='Data Tables'!$I$2:$I$1602)*(F13='Data Tables'!$J$2:$J$1602),0),6)))} | E13: Row percentile needed | F13: =IF(F12="", "", IF(F12="Error! Make sure time is entered as mm:ss", "Error! Make sure time is entered as mm:ss", IF(ROUND(0.8-F12, 2)<0.06, 0.06, ROUND(0.8-F12,2))))
F14: =IF(F12<0.06, "Run time does not meet minimum standard", "")
B15: Enter Row and Run Time: | G15: =IF(OR(C3="", C4="",C5=""),"Please enter age, gender, and/or weight above", "") -> Please enter age, gender, and/or weight above
B16: Row Time (minutes:seconds) | E16: Row time percentile | F16: {=IF(OR(C16="",C4="",F4=""),"",IFERROR(INDEX('Data Tables'!$F$2:'Data Tables'!$K$1602, MATCH(1, (_xlfn.CONCAT(F5,F4,C4)='Data Tables'!$I$2:$I$1602)*(VALUE(C16)<=VALUE('Data Tables'!$K$2:$K$1602)),0),5),0))} | G16: {=IF(OR(F4="",C4=""),"",IF(C16="","Please enter row time",IF(IFERROR(INDEX('Data Tables'!$F$2:'Data Tables'!$K$1602, MATCH(1, (_xlfn.CONCAT(F5,F4,C4)='Data Tables'!$I$2:$I$1602)*(VALUE(C8)<=VALUE('Data Tables'!$K$2:$K$1602)),0),5),"x")="x","Error! Make sure time is entered as mm:ss","")))}
B17: Run Time (minutes:seconds) | E17: Run time percentile | F17: {=IF(OR(C17="",C4="",F3=""),"",IFERROR(INDEX('Data Tables'!A2:D1450,MATCH(1,(C4='Data Tables'!B2:B1450)*(F3='Data Tables'!A2:A1450)*(VALUE(C17)<=VALUE('Data Tables'!D2:D1450)),0),3),0))} | G17: {=IF(OR(F3="",C4=""),"",IF(C17="","Please enter run time",IF(IFERROR(INDEX('Data Tables'!A2:D1388,MATCH(1,(C4='Data Tables'!B2:B1388)*(F3='Data Tables'!A2:A1388)*(VALUE(C17)<=VALUE('Data Tables'!D2:D1388)),0),3),"x")="x","Error! Make sure time is entered as mm:ss","")))}
E18: Combined Average | F18: =IF(OR(C16="",C17="", C4="",C3=""), "",(F17+F16)/2) | G18: =IF(F18="", "", IF(AND(F18>=0.4, F17>= 0.06,F16>= 0.06), "Pass!", "Fail :("))
G19: =IF(AND(C3="", C4=""),"Please enter age and gender above",IF(C4="","Please enter gender above",IF(C3="","Please enter age above",""))) -> Please enter age and gender above
B20: Row Time percentile | E20: Row Time | F20: {=IFERROR(IF(C20="", "",INDEX('Data Tables'!$F$2:'Data Tables'!$K$1602, MATCH(1, (_xlfn.CONCAT(F5,F4,C4)='Data Tables'!$I$2:$I$1602)*(C20='Data Tables'!$J$2:$J$1602),0),6)), "")} | G20: {=IF(OR(F3="",C4=""),"",IF(C20="", "", IF(IFERROR(INDEX('Data Tables'!$F$2:'Data Tables'!$K$1602, MATCH(1, (_xlfn.CONCAT(F5,F4,C4)='Data Tables'!$I$2:$I$1602)*(C20='Data Tables'!$J$2:$J$1602),0),6),"x")="x", "Error! Please enter a percentage between 1% and 99%", "")))}
B21: Run Time percentile | E21: Run Time | F21: {=IFERROR(IF(C21="","",INDEX('Data Tables'!A2:D1450,MATCH(1,(C4='Data Tables'!B2:B1450)*(F3='Data Tables'!A2:A1450)*(C21='Data Tables'!C2:C1450),0),4)), "")} | G21: {=IF(OR(F3="",C4=""),"",IF(C21="", "", IF(IFERROR(INDEX('Data Tables'!A2:D1450,MATCH(1,(C4='Data Tables'!B2:B1450)*(F3='Data Tables'!A2:A1450)*(C21='Data Tables'!C2:C1450),0),4), "x")="x", "Error! Please enter a percentage between 1% and 99%", "")))}

Sheet Data Tables
A1: Run Times | F1: Row Times
A2: Age Group | B2: Gender | C2: Percentile | D2: Time | F2: Weight Group | G2: Age Group | H2: Gender | I2: ID | J2: Percentile | K2: Time
A3: 20-24 | B3: Female | C3: 0.99 | D3: 10:22 | F3: under | G3: 20-29 | H3: Male | I3: =_xlfn.CONCAT(F3,G3,H3) -> under20-29Male | J3: 0.99 | K3: 1:25
A4: 20-24 | B4: Female | C4: 0.98 | D4: 10:56 | F4: under | G4: 20-29 | H4: Male | I4: =_xlfn.CONCAT(F4,G4,H4) -> under20-29Male | J4: 0.98 | K4: 1:26
A5: 20-24 | B5: Female | C5: 0.97 | D5: 11:07 | F5: under | G5: 20-29 | H5: Male | I5: =_xlfn.CONCAT(F5,G5,H5) -> under20-29Male | J5: 0.97 | K5: 1:27
A6: 20-24 | B6: Female | C6: 0.96 | D6: 11:22 | F6: under | G6: 20-29 | H6: Male | I6: =_xlfn.CONCAT(F6,G6,H6) -> under20-29Male | J6: 0.96 | K6: 1:27
A7: 20-24 | B7: Female | C7: 0.95 | D7: 11:36 | F7: under | G7: 20-29 | H7: Male | I7: =_xlfn.CONCAT(F7,G7,H7) -> under20-29Male | J7: 0.95 | K7: 1:28
A8: 20-24 | B8: Female | C8: 0.94 | D8: 11:44 | F8: under | G8: 20-29 | H8: Male | I8: =_xlfn.CONCAT(F8,G8,H8) -> under20-29Male | J8: 0.94 | K8: 1:28
A9: 20-24 | B9: Female | C9: 0.93 | D9: 11:57 | F9: under | G9: 20-29 | H9: Male | I9: =_xlfn.CONCAT(F9,G9,H9) -> under20-29Male | J9: 0.93 | K9: 1:28
A10: 20-24 | B10: Female | C10: 0.92 | D10: 12:07 | F10: under | G10: 20-29 | H10: Male | I10: =_xlfn.CONCAT(F10,G10,H10) -> under20-29Male | J10: 0.92 | K10: 1:29
A11: 20-24 | B11: Female | C11: 0.91 | D11: 12:18 | F11: under | G11: 20-29 | H11: Male | I11: =_xlfn.CONCAT(F11,G11,H11) -> under20-29Male | J11: 0.91 | K11: 1:29
A12: 20-24 | B12: Female | C12: 0.9 | D12: 12:25 | F12: under | G12: 20-29 | H12: Male | I12: =_xlfn.CONCAT(F12,G12,H12) -> under20-29Male | J12: 0.9 | K12: 1:29
A13: 20-24 | B13: Female | C13: 0.89 | D13: 12:33 | F13: under | G13: 20-29 | H13: Male | I13: =_xlfn.CONCAT(F13,G13,H13) -> under20-29Male | J13: 0.89 | K13: 1:30
A14: 20-24 | B14: Female | C14: 0.88 | D14: 12:41 | F14: under | G14: 20-29 | H14: Male | I14: =_xlfn.CONCAT(F14,G14,H14) -> under20-29Male | J14: 0.88 | K14: 1:30
... A1388: 50+ | B1388: Male | C1388: 0.01 | D1388: 26:20 | F1388: over | G1388: 30-39 | H1388: Female | I1388: =_xlfn.CONCAT(F1388,G1388,H1388) -> over30-39Female | J1388: 0.01 | K1388: 2:33
A1389: 20-24 | B1389: Male | C1389: 0 | D1389: 100:00 | E1389: ***max times needed for formulas | F1389: over | G1389: 40-49 | H1389: Female | I1389: =_xlfn.CONCAT(F1389,G1389,H1389) -> over40-49Female | J1389: 0.99 | K1389: 1:38
A1390: 20-24 | B1390: Female | C1390: 0 | D1390: 100:00 | F1390: over | G1390: 40-49 | H1390: Female | I1390: =_xlfn.CONCAT(F1390,G1390,H1390) -> over40-49Female | J1390: 0.98 | K1390: 1:42
A1391: 25-29 | B1391: Male | C1391: 0 | D1391: 100:00 | F1391: over | G1391: 40-49 | H1391: Female | I1391: =_xlfn.CONCAT(F1391,G1391,H1391) -> over40-49Female | J1391: 0.97 | K1391: 1:44
A1392: 25-29 | B1392: Female | C1392: 0 | D1392: 100:00 | F1392: over | G1392: 40-49 | H1392: Female | I1392: =_xlfn.CONCAT(F1392,G1392,H1392) -> over40-49Female | J1392: 0.96 | K1392: 1:45
A1393: 30-34 | B1393: Male | C1393: 0 | D1393: 100:00 | F1393: over | G1393: 40-49 | H1393: Female | I1393: =_xlfn.CONCAT(F1393,G1393,H1393) -> over40-49Female | J1393: 0.95 | K1393: 1:45
A1394: 30-34 | B1394: Female | C1394: 0 | D1394: 100:00 | F1394: over | G1394: 40-49 | H1394: Female | I1394: =_xlfn.CONCAT(F1394,G1394,H1394) -> over40-49Female | J1394: 0.94 | K1394: 1:46
A1395: 35-39 | B1395: Male | C1395: 0 | D1395: 100:00 | F1395: over | G1395: 40-49 | H1395: Female | I1395: =_xlfn.CONCAT(F1395,G1395,H1395) -> over40-49Female | J1395: 0.93 | K1395: 1:47
A1396: 35-39 | B1396: Female | C1396: 0 | D1396: 100:00 | F1396: over | G1396: 40-49 | H1396: Female | I1396: =_xlfn.CONCAT(F1396,G1396,H1396) -> over40-49Female | J1396: 0.92 | K1396: 1:47
A1397: 40-44 | B1397: Male | C1397: 0 | D1397: 100:00 | F1397: over | G1397: 40-49 | H1397: Female | I1397: =_xlfn.CONCAT(F1397,G1397,H1397) -> over40-49Female | J1397: 0.91 | K1397: 1:47
A1398: 40-44 | B1398: Female | C1398: 0 | D1398: 100:00 | F1398: over | G1398: 40-49 | H1398: Female | I1398: =_xlfn.CONCAT(F1398,G1398,H1398) -> over40-49Female | J1398: 0.9 | K1398: 1:47
A1399: 45-50 | B1399: Male | C1399: 0 | D1399: 100:00 | F1399: over | G1399: 40-49 | H1399: Female | I1399: =_xlfn.CONCAT(F1399,G1399,H1399) -> over40-49Female | J1399: 0.89 | K1399: 1:48
A1400: 45-50 | B1400: Female | C1400: 0 | D1400: 100:00 | F1400: over | G1400: 40-49 | H1400: Female | I1400: =_xlfn.CONCAT(F1400,G1400,H1400) -> over40-49Female | J1400: 0.88 | K1400: 1:49
A1401: 50+ | B1401: Male | C1401: 0 | D1401: 100:00 | F1401: over | G1401: 40-49 | H1401: Female | I1401: =_xlfn.CONCAT(F1401,G1401,H1401) -> over40-49Female | J1401: 0.87 | K1401: 1:50
A1402: 50+ | B1402: Female | C1402: 0 | D1402: 100:00 | F1402: over | G1402: 40-49 | H1402: Female | I1402: =_xlfn.CONCAT(F1402,G1402,H1402) -> over40-49Female | J1402: 0.86 | K1402: 1:50
F1403: over | G1403: 40-49 | H1403: Female | I1403: =_xlfn.CONCAT(F1403,G1403,H1403) -> over40-49Female | J1403: 0.85 | K1403: 1:51
F1404: over | G1404: 40-49 | H1404: Female | I1404: =_xlfn.CONCAT(F1404,G1404,H1404) -> over40-49Female | J1404: 0.84 | K1404: 1:51
F1405: over | G1405: 40-49 | H1405: Female | I1405: =_xlfn.CONCAT(F1405,G1405,H1405) -> over40-49Female | J1405: 0.83 | K1405: 1:51
F1406: over | G1406: 40-49 | H1406: Female | I1406: =_xlfn.CONCAT(F1406,G1406,H1406) -> over40-49Female | J1406: 0.82 | K1406: 1:51
F1407: over | G1407: 40-49 | H1407: Female | I1407: =_xlfn.CONCAT(F1407,G1407,H1407) -> over40-49Female | J1407: 0.81 | K1407: 1:52
F1408: over | G1408: 40-49 | H1408: Female | I1408: =_xlfn.CONCAT(F1408,G1408,H1408) -> over40-49Female | J1408: 0.8 | K1408: 1:52
F1409: over | G1409: 40-49 | H1409: Female | I1409: =_xlfn.CONCAT(F1409,G1409,H1409) -> over40-49Female | J1409: 0.79 | K1409: 1:52
F1410: over | G1410: 40-49 | H1410: Female | I1410: =_xlfn.CONCAT(F1410,G1410,H1410) -> over40-49Female | J1410: 0.78 | K1410: 1:53
F1411: over | G1411: 40-49 | H1411: Female | I1411: =_xlfn.CONCAT(F1411,G1411,H1411) -> over40-49Female | J1411: 0.77 | K1411: 1:53
F1412: over | G1412: 40-49 | H1412: Female | I1412: =_xlfn.CONCAT(F1412,G1412,H1412) -> over40-49Female | J1412: 0.76 | K1412: 1:53
F1413: over | G1413: 40-49 | H1413: Female | I1413: =_xlfn.CONCAT(F1413,G1413,H1413) -> over40-49Female | J1413: 0.75 | K1413: 1:53
...
