Workbook

Sheet INDICE
A1: Gobierno de Puerto Rico
A2: Departamento de Estado
A3: Junta de Instituciones Postsecundarias
A5: Compendio Estadístico sobre la Educación Superior de Puerto Rico
A6: Año académico 2023-2024
A8: Infografía sobre educación superior de Puerto Rico. Año académico 2023-2024
A9: IES: Instituciones de Educación Superior 2024
A10: Tabla 1. Resumen histórico de matrícula por año académico, sector, género, nivel y tarea en las instituciones de educación superior (2002-2003 al 2023-2024).
A11: Tabla 2. Resumen histórico de egresados por año académico, sector, género y nivel de las instituciones de educación superior (2001-2002 al 2023-2024).
A12: Tabla 3. Resumen histórico de facultad por año académico, sector, género, tarea y rango académico de las instituciones de educación superior (2005-2006 al 2023-2024).
A13: .Tabla 4. Matrícula por nivel, sector, tarea y género en las instituciones de educación superior (primera sesión académica del 2023-2024)
A14: Tabla 5. Egresados por nivel y sector en las instituciones de educación superior que finalizaron entre el 1 de julio 2022 al 30 de junio 2023.
... A33: Marco legal: La Higher Education Act de 1965, según enmendada (20 USC 1094, Section 487(a)(17) and 34 CFR 668.14(b)(19)), requiere que toda institución que recibe fondos federales para becas de educación bajo el Título IV provea datos sobre matrícula, egresados, tasas de graduación, docencia, costos, ayudas económicas, entre otros. Sección 8, inciso g de la Ley 122, aprobada el 12 de agosto de 2018, que crea la Junta de Instituciones Postsecundaria (JIP) adscrita al Departamento de Estado (DE), indica que es responsabilidad del DE: " ...requerir, recopilar y mantener datos estadísticos sobre las Instituciones de Educación y su estudiantado".

Sheet Infografía

Sheet IES
A1: Gobierno de Puerto Rico
A2: Departamento de Estado
A3: Junta de Instituciones Postsecundarias
A6: Instituciones de Educación Superior 2024*
A8: Institución | B8: Unidades académica
A9: Sector público
A10: Conservatorio de Música de Puerto Rico | B10: Conservatorio de Música de Puerto Rico
A11: Escuela de Artes Plásticas y Diseño de Puerto Rico | B11: Escuela de Artes Plásticas y Diseño de Puerto Rico
A12: Instituto Tecnológico de Puerto Rico | B12: Recinto de Guayama
B13: Recinto de Manatí
B14: Recinto de San Juan
A15: Universidad de Puerto Rico | B15: Recinto de Aguadilla
B16: Recinto de Arecibo
B17: Recinto de Bayamón
B18: Recinto de Carolina
B19: Recinto de Cayey
B20: Recinto de Ciencias Médicas
B21: Recinto de Humacao
B22: Recinto de Mayagüez
B23: Recinto de Ponce
B24: Recinto de Río Piedras
B25: Recinto de Utuado
A26: Colegio Universitario de San Juan | B26: Colegio Universitario de San Juan
A27: Total sector Público Instituciones: 5 | B27: Total sector público unidades: 17
A28: Sector Privado
A29: Ana G. Méndez-University | B29: Universidad Ana G. Méndez University
A30: Atenas University Dr. María Luisa Hernández | B30: Atenas University Dr. María Luisa Hernández
A31: Atlantic University | B31: Atlantic University
A32: Cambridge College - Puerto Rico Regional Center | B32: Cambridge College - Puerto Rico Regional Center
A33: Caribbean University | B33: Centro de Carolina
B34: Centro de Ponce
B35: Centro de Vega Baja
B36: Complejo Correccional de Bayamón (Complejo de Rehabilitación para Mujeres)
B37: Complejo Correccional Sgto. Pedro Rodríguez Mateo de Ponce (Las Cucharas)
B38: Recinto de Bayamón
A39: CEM College | B39: Recinto de Humacao
B40: Recinto de San Juan
A41: Centro de Estudios Avanzados de Puerto Rico y el Caribe | B41: Centro de Estudios Avanzados de Puerto Rico y el Caribe
A42: Colegio de la Cinematografía, Artes y Televisión | B42: Centro de Extensión de Caguas
B43: Colegio de la Cinematografía, Artes y Televisión- Recinto de Bayamón
...

Sheet Tabla 1
A1: Gobierno de Puerto Rico
A2: Departamento de Estado
A3: Junta de Instituciones Postsecundarias
A5: Compendio Estadístico sobre la Educación Superior de Puerto Rico
A6: Años académicos 2002-2003 al 2023-2024
A8: Tabla 1. Resumen histórico de matrícula por año académico, sector, género, nivel y tarea en las instituciones de educación superior
A9: (Cantidad de estudiantes)
B10: 2002-2003 | C10: 2003-2004 | D10: 2004-2005 | E10: 2005-2006 | F10: 2006-2007 | G10: 2007-2008 | H10: 2008-2009 | I10: 2009-2010 | J10: 2010-2011 | K10: 2011-2012 | L10: 2012-2013 | M10: 2013-2014 | N10: 2014-2015 | O10: 2015-2016 | P10: 2016-2017 | Q10: 2017-2018 | R10: 2018-2019 | S10: 2019-2020 | T10: 2020-21 | U10: 2021-22 | V10: 2022-23 | W10: 2023-24
A12: Total | B12: 199842 | C12: 207074 | D12: 207965 | E12: 209547 | F12: 225402 | G12: 227546 | H12: 235618 | I12: 249372 | J12: 250192 | K12: 250011 | L12: 245495 | M12: 241168 | N12: 240878 | O12: 233070 | P12: 227255 | Q12: 216742 | R12: 198179 | S12: 186474 | T12: 184921 | U12: 167691 | V12: 159149 | W12: =SUM(W15:W16) -> 160287
A14: Por sector
A15: Público | B15: 74506 | C15: 74056 | D15: 71044 | E15: 68813 | F15: 66990 | G15: 68132 | H15: 69475 | I15: 71569 | J15: 67291 | K15: 62257 | L15: 62579 | M15: 62687 | N15: 62523 | O15: 65204 | P15: 67146 | Q15: 62271 | R15: 58811 | S15: 55774 | T15: 53004 | U15: 49099 | V15: 44999 | W15: ='Tabla 4'!B32 -> 43871
A16: Privado | B16: 125336 | C16: 133018 | D16: 136921 | E16: 140734 | F16: 158412 | G16: 159414 | H16: 166143 | I16: 177803 | J16: 182901 | K16: 187754 | L16: 182916 | M16: 178481 | N16: 178355 | O16: 167866 | P16: 160109 | Q16: 154471 | R16: 139368 | S16: 130700 | T16: 131917 | U16: 118592 | V16: 114150 | W16: ='Tabla 4'!B79+'Tabla 4'!B96 -> 116416
A18: Por género
A19: Masculino | B19: 78114 | C19: 81189 | D19: 81054 | E19: 82182 | F19: 88038 | G19: 90188 | H19: 93411 | I19: 101902 | J19: 103055 | K19: 103438 | L19: 101707 | M19: 100711 | N19: 101064 | O19: 98192 | P19: 95131 | Q19: 90171 | R19: 81639 | S19: 75936 | T19: 72490 | U19: 65949 | V19: 63124 | W19: ='Tabla 4'!E97+'Tabla 4'!H97+'Tabla 4'!L97+'Tabla 4'!O97 -> 63179
A20: Femenino | B20: 121728 | C20: 125885 | D20: 126911 | E20: 127365 | F20: 137364 | G20: 137358 | H20: 142207 | I20: 147470 | J20: 147137 | K20: 146573 | L20: 143788 | M20: 140457 | N20: 139814 | O20: 134878 | P20: 132124 | Q20: 126571 | R20: 116540 | S20: 110538 | T20: 112431 | U20: 101742 | V20: 96025 | W20: ='Tabla 4'!F97+'Tabla 4'!I97+'Tabla 4'!M97+'Tabla 4'!P97 -> 97108
A22: Por tiempo
A23: Completo | B23: 151999 | C23: 158531 | D23: 160789 | E23: 161655 | F23: 177522 | G23: 178829 | H23: 189281 | I23: 205364 | J23: 204418 | K23: 207563 | L23: 202015 | M23: 197540 | N23: 196194 | O23: 188966 | P23: 183662 | Q23: 173145 | R23: 158518 | S23: 144631 | T23: 129295 | U23: 122704 | V23: 120695 | W23: ='Tabla 4'!D97+'Tabla 4'!K97 -> 129904
A24: Parcial | B24: 47843 | C24: 48543 | D24: 47176 | E24: 47892 | F24: 47880 | G24: 48717 | H24: 46337 | I24: 44008 | J24: 45774 | K24: 42448 | L24: 43480 | M24: 43628 | N24: 44684 | O24: 44104 | P24: 43593 | Q24: 43597 | R24: 39661 | S24: 41843 | T24: 55626 | U24: 44987 | V24: 38454 | W24: ='Tabla 4'!G97+'Tabla 4'!N97 -> 30383
A26: Por nivel
A27: Subgraduado | B27: 176632 | C27: 181701 | D27: 180337 | E27: 179866 | F27: 193935 | G27: 196511 | H27: 204300 | I27: 218799 | J27: 220674 | K27: 220380 | L27: 217358 | M27: 213196 | N27: 212299 | O27: 204275 | P27: 197761 | Q27: 187961 | R27: 170326 | S27: 158095 | T27: 156177 | U27: 141535 | V27: 134350 | W27: ='Tabla 4'!C97 -> 135507
A28: Graduado | B28: 23210 | C28: 25373 | D28: 27628 | E28: 29681 | F28: 31467 | G28: 31035 | H28: 31318 | I28: 30573 | J28: 29518 | K28: 29631 | L28: 28137 | M28: 27972 | N28: 28579 | O28: 28795 | P28: 29494 | Q28: 28781 | R28: 27853 | S28: 28379 | T28: 28744 | U28: 26156 | V28: 24799 | W28: ='Tabla 4'!J97 -> 24780
A29: Fuente: Integrated Postsecondary Education Data System (IPEDS), Fall Enrollment.
A30: Nota: Incluye la matrícula de estudiantes que toman cursos con créditos en programas conducentes a grados o certificados en las instituciones de educación superior autorizadas a operar por la Junta de Instituciones Postsecundarias del Departamento de Estado.

Sheet Tabla 2
A1: Gobierno de Puerto Rico
A2: Departamento de Estado
A3: Junta de Instituciones Postsecundarias
A5: Compendio Estadístico sobre la Educación Superior de Puerto Rico
A6: Años 2001-2002 al 2022-2023
A8: Tabla 2. Resumen histórico de egresados por año académico, sector, género y nivel de las instituciones de educación superior
A9: (Cantidad de egresados)
B10: 2001-2002 | C10: 2002-2003 | D10: 2003-2004 | E10: 2004-2005 | F10: 2005-2006 | G10: 2006-2007 | H10: 2007-2008 | I10: 2008-2009 | J10: 2009-2010 | K10: 2010-2011 | L10: 2011-2012 | M10: 2012-2013 | N10: 2013-2014 | O10: 2014-2015 | P10: 2015-2016 | Q10: 2016-2017 | R10: 2017-2018 | S10: 2018-2019 | T10: 2019-2020 | U10: 2020-2021 | V10: 2021-2022 | W10: 2022-2023
A12: Total | B12: 27751 | C12: 30082 | D12: 30806 | E12: 30607 | F12: 32463 | G12: 33479 | H12: 33821 | I12: 35719 | J12: 43868 | K12: 46559 | L12: 50273 | M12: 50892 | N12: 52299 | O12: 50455 | P12: 50146 | Q12: 48716 | R12: 45656 | S12: 44249 | T12: 43333 | U12: 43383 | V12: 39978 | W12: =SUM(W15:W16) -> 38164
A14: Por sector
A15: Público | B15: 11734 | C15: 11581 | D15: 10850 | E15: 10178 | F15: 10334 | G15: 10159 | H15: 10052 | I15: 10036 | J15: 9575 | K15: 9440 | L15: 11175 | M15: 10056 | N15: 10013 | O15: 9815 | P15: 9641 | Q15: 9787 | R15: 9860 | S15: 10179 | T15: 9831 | U15: 9514 | V15: 8745 | W15: ='Tabla 5'!H29 -> 7945
A16: Privado | B16: 16017 | C16: 18501 | D16: 19956 | E16: 20429 | F16: 22129 | G16: 23320 | H16: 23769 | I16: 25683 | J16: 34293 | K16: 37119 | L16: 39098 | M16: 40836 | N16: 42286 | O16: 40640 | P16: 40505 | Q16: 38929 | R16: 35796 | S16: 34070 | T16: 33502 | U16: 33869 | V16: 31233 | W16: ='Tabla 5'!H76+'Tabla 5'!H93 -> 30219
A18: Por género | W18: =SUM(W19:W20) -> 38164
A19: Masculino | B19: 10020 | C19: 11101 | D19: 11360 | E19: 10855 | F19: 11705 | G19: 12161 | H19: 12454 | I19: 13140 | J19: 17323 | K19: 17503 | L19: 19215 | M19: 19719 | N19: 20384 | O19: 19654 | P19: 19746 | Q19: 18858 | R19: 17739 | S19: 17116 | T19: 16270 | U19: 16085 | V19: 14903 | W19: 14427
A20: Femenino | B20: 17731 | C20: 18981 | D20: 19446 | E20: 19752 | F20: 20758 | G20: 21318 | H20: 21367 | I20: 22579 | J20: 26545 | K20: 29056 | L20: 31058 | M20: 31173 | N20: 31915 | O20: 30801 | P20: 30400 | Q20: 29858 | R20: 27917 | S20: 27133 | T20: 27063 | U20: 27298 | V20: 25075 | W20: 23737
A22: Por nivel
A23: Subgraduado | B23: 23246 | C23: 25502 | D23: 25716 | E23: 24920 | F23: 25801 | G23: 26156 | H23: 26928 | I23: 27852 | J23: 37077 | K23: 39118 | L23: 43494 | M23: 43806 | N23: 44929 | O23: 43024 | P23: 42258 | Q23: 41097 | R23: 38024 | S23: 36688 | T23: 36336 | U23: 36047 | V23: 33156 | W23: =SUM(W24:W26) -> 31547
A24: Certificados | B24: 1193 | C24: 3642 | D24: 3907 | E24: 3879 | F24: 4222 | G24: 4633 | H24: 5189 | I24: 5345 | J24: 13919 | K24: 14630 | L24: 15875 | M24: 16265 | N24: 16551 | O24: 13282 | P24: 12919 | Q24: 11816 | R24: 10296 | S24: 8845 | T24: 9870 | U24: 11009 | V24: 9874 | W24: ='Tabla 5'!B94 -> 10619
A25: Grados Asociados | B25: 5597 | C25: 5169 | D25: 4450 | E25: 4428 | F25: 4481 | G25: 4453 | H25: 4972 | I25: 5425 | J25: 6157 | K25: 6801 | L25: 7976 | M25: 7239 | N25: 8158 | O25: 9131 | P25: 8571 | Q25: 8270 | R25: 7563 | S25: 7330 | T25: 6681 | U25: 5627 | V25: 5210 | W25: ='Tabla 5'!C94 -> 5013
A26: Bachilleratos | B26: 16456 | C26: 16691 | D26: 17359 | E26: 16613 | F26: 17098 | G26: 17070 | H26: 16767 | I26: 17082 | J26: 17001 | K26: 17687 | L26: 19643 | M26: 20302 | N26: 20220 | O26: 20611 | P26: 20768 | Q26: 21011 | R26: 20165 | S26: 20513 | T26: 19785 | U26: 19411 | V26: 18072 | W26: ='Tabla 5'!D94 -> 15915
A28: Graduado | B28: 4505 | C28: 4580 | D28: 5090 | E28: 5687 | F28: 6662 | G28: 7323 | H28: 6893 | I28: 7867 | J28: 6791 | K28: 7441 | L28: 6779 | M28: 7086 | N28: 7370 | O28: 7431 | P28: 7888 | Q28: 7619 | R28: 7632 | S28: 7561 | T28: 6997 | U28: 7336 | V28: 6822 | W28: =SUM(W29:W31) -> 6617
A29: Certificados profesionales | B29: 247 | C29: 259 | D29: 242 | E29: 274 | F29: 288 | G29: 270 | H29: 261 | I29: 339 | J29: 220 | K29: 293 | L29: 235 | M29: 271 | N29: 635 | O29: 232 | P29: 265 | Q29: 263 | R29: 303 | S29: 417 | T29: 361 | U29: 386 | V29: 305 | W29: ='Tabla 5'!F94 -> 333
A30: Maestrías | B30: 3272 | C30: 3292 | D30: 3751 | E30: 4267 | F30: 5188 | G30: 5775 | H30: 5199 | I30: 6083 | J30: 5220 | K30: 5703 | L30: 5124 | M30: 5326 | N30: 5273 | O30: 5779 | P30: 6147 | Q30: 5911 | R30: 5996 | S30: 5698 | T30: 5284 | U30: 5698 | V30: 5079 | W30: ='Tabla 5'!E94 -> 4892
A31: Doctorados | B31: 986 | C31: 1029 | D31: 1097 | E31: 1146 | F31: 1186 | G31: 1278 | H31: 1433 | I31: 1445 | J31: 1351 | K31: 1445 | L31: 1420 | M31: 1489 | N31: 1462 | O31: 1420 | P31: 1476 | Q31: 1445 | R31: 1333 | S31: 1446 | T31: 1352 | U31: 1252 | V31: 1438 | W31: ='Tabla 5'!G94 -> 1392
A32: Fuente: Integrated Postsecondary Education Data System (IPEDS), Completions.
A33: Nota: Incluye el total de egresados que completaron algún certificado o grado en las instituciones de educación superior autorizadas a operar por la Junta de Instituciones Postsecundarias del Departamento de Estado.

Sheet Tabla 3
A1: Gobierno de Puerto Rico
A2: Departamento de Estado
A3: Junta de Instituciones Postsecundarias
A5: Compendio Estadístico sobre la Educación Superior de Puerto Rico
A6: Años académicos 2005-2006 al 2023-2024
A8: Tabla 3. Resumen histórico de facultad por año académico, sector, género, tarea y rango académico de las instituciones de educación superior
A9: (Cantidad de docentes)
B10: 2005-2006 | C10: 2006-2007 | D10: 2007-2008 | E10: 2008-2009 | F10: 2009-2010 | G10: 2010-2011 | H10: 2011-2012 | I10: 2012-2013 | J10: 2013-2014 | K10: 2014-2015 | L10: 2015-2016 | M10: 2016-2017 | N10: 2017-2018 | O10: 2018-2019 | P10: 2019-2020 | Q10: 2020-2021 | R10: 2021-2022 | S10: 2022-2023 | T10: 2023-2024
A12: Total | B12: 13539 | C12: 14070 | D12: 14759 | E12: 15206 | F12: 16190 | G12: 15985 | H12: 16001 | I12: 15810 | J12: 15885 | K12: 16235 | L12: 17200 | M12: 17923 | N12: 16563 | O12: 16079 | P12: 14771 | Q12: 14111 | R12: 13069 | S12: 12900 | T12: =T15+T16 -> 12905
A14: Por sector
A15: Público | B15: 5444 | C15: 4816 | D15: 5051 | E15: 5066 | F15: 5474 | G15: 5010 | H15: 4561 | I15: 4962 | J15: 5174 | K15: 5337 | L15: 5252 | M15: 5697 | N15: 5256 | O15: 5220 | P15: 4861 | Q15: 4722 | R15: 4616 | S15: 4484 | T15: ='Tabla 7'!B29 -> 4412
A16: Privado | B16: 8095 | C16: 9254 | D16: 9708 | E16: 10140 | F16: 10716 | G16: 10975 | H16: 11440 | I16: 10848 | J16: 10711 | K16: 10898 | L16: 11948 | M16: 12226 | N16: 11307 | O16: 10859 | P16: 9910 | Q16: 9389 | R16: 8453 | S16: 8416 | T16: ='Tabla 7'!B79+'Tabla 7'!B98 -> 8493
A18: Por género1
A19: Femenino | B19: 0 | C19: 0 | D19: 0 | E19: 0 | F19: 0 | G19: 0 | H19: 0 | I19: 0 | J19: 8550 | K19: 8970 | L19: 9318 | M19: 9922 | N19: 9161 | O19: 8915 | P19: 6642 | Q19: 7796 | R19: 7092 | S19: 6964 | T19: ='Tabla 7'!D99 -> 6930
A20: Masculino | B20: 0 | C20: 0 | D20: 0 | E20: 0 | F20: 0 | G20: 0 | H20: 0 | I20: 0 | J20: 7335 | K20: 7265 | L20: 7882 | M20: 8001 | N20: 7402 | O20: 7164 | P20: 8129 | Q20: 6315 | R20: 5977 | S20: 5936 | T20: ='Tabla 7'!C99 -> 5975
A22: Por tarea y rango
A23: Tiempo Completo | B23: 7139 | C23: 6711 | D23: 6967 | E23: 6755 | F23: 6897 | G23: 6533 | H23: 6657 | I23: 6952 | J23: 7446 | K23: 7661 | L23: 7518 | M23: 7701 | N23: 7432 | O23: 7219 | P23: 6476 | Q23: 6302 | R23: 6032 | S23: 5827 | T23: =SUM(T24:T30) -> 5838
A24: Profesor | B24: 2466 | C24: 2186 | D24: 2235 | E24: 2256 | F24: 2223 | G24: 2421 | H24: 2357 | I24: 2500 | J24: 2690 | K24: 2882 | L24: 2870 | M24: 2800 | N24: 2833 | O24: 2701 | P24: 2301 | Q24: 2166 | R24: 2016 | S24: 1947 | T24: ='Tabla 8'!B100 -> 1883
A25: Profesor Asociado | B25: 1567 | C25: 1383 | D25: 1378 | E25: 1349 | F25: 1343 | G25: 1343 | H25: 1408 | I25: 1457 | J25: 1434 | K25: 1380 | L25: 1348 | M25: 1343 | N25: 1318 | O25: 1270 | P25: 1166 | Q25: 1110 | R25: 1031 | S25: 959 | T25: ='Tabla 8'!C100 -> 925
A26: Profesor Asistente | B26: 1660 | C26: 1296 | D26: 1275 | E26: 1299 | F26: 1344 | G26: 1313 | H26: 1331 | I26: 1331 | J26: 1316 | K26: 1287 | L26: 1443 | M26: 1469 | N26: 1416 | O26: 1313 | P26: 1285 | Q26: 1258 | R26: 1283 | S26: 1261 | T26: ='Tabla 8'!D100 -> 1293
A27: Instructor | B27: 860 | C27: 729 | D27: 851 | E27: 729 | F27: 678 | G27: 585 | H27: 600 | I27: 800 | J27: 796 | K27: 819 | L27: 991 | M27: 1092 | N27: 988 | O27: 922 | P27: 907 | Q27: 1012 | R27: 990 | S27: 947 | T27: ='Tabla 8'!E100 -> 1010
A28: Conferenciante | B28: 2 | C28: 2 | D28: 1 | E28: 4 | F28: 2 | G28: 6 | H28: 2 | I28: 1 | J28: 1 | K28: 9 | L28: 8 | M28: 0 | N28: 1 | O28: 0 | P28: 0 | R28: 0 | S28: 2 | T28: ='Tabla 8'!F100 -> 0
A29: Sin rango académico | B29: 584 | C29: 174 | D29: 201 | E29: 224 | F29: 211 | G29: 221 | H29: 217 | I29: 113 | J29: 198 | K29: 240 | L29: 186 | M29: 139 | N29: 170 | O29: 232 | P29: 168 | Q29: 93 | R29: 102 | S29: 107 | T29: ='Tabla 8'!G100 -> 156
A30: Otros2 | B30: - | C30: 941 | D30: 1026 | E30: 894 | F30: 1096 | G30: 644 | H30: 742 | I30: 750 | J30: 1011 | K30: 1044 | L30: 672 | M30: 858 | N30: 706 | O30: 781 | P30: 649 | Q30: 663 | R30: 610 | S30: 604 | T30: ='Tabla 8'!I100+'Tabla 8'!K100 -> 571
A31: Tiempo Parcial | B31: 6400 | C31: 7359 | D31: 7792 | E31: 8451 | F31: 9293 | G31: 9452 | H31: 9344 | I31: 8858 | J31: 8439 | K31: 8574 | L31: 9682 | M31: 10222 | N31: 9131 | O31: 8860 | P31: 8295 | Q31: 7809 | R31: 7037 | S31: 7073 | T31: ='Tabla 8'!M100 -> 7067
A32: Fuente: Integrated Postsecondary Education Data System (IPEDS), Human Resources.
A33: 1Disponible por género desde el año académico 2013-14.
A34: 2Otros - Facultad a tiempo completo no distribuida por rango donde su función principal es la enseñanza, independientemente del título, rango académico o tipo de contrato, además incluye personal académico sin estatus de facultad de acuerdo a las definiciones de IPEDS.

Sheet Tabla 4
A1: Gobierno de Puerto Rico
A2: Departamento de Estado
A3: Junta de Instituciones Postsecundarias
A5: Compendio Estadístico sobre la Educación Superior de Puerto Rico
A6: Año académico 2023-2024
A8: Tabla 4. Matrícula por nivel, sector, tarea y género en las instituciones de educación superior
A9: (primera sesión académica del 2023-2024)
A10: (Cantidad de estudiantes)
A11: Institución | B11: Gran Total | C11: Subgraduado | J11: Graduado
C12: Total Subgraduado | D12: Tiempo Completo | G12: Tiempo parcial | J12: Total Graduado | K12: Tiempo Completo | N12: Tiempo parcial
D13: Total | E13: Masc | F13: Fem | G13: Total | H13: Masc | I13: Fem | K13: Total | L13: Masc | M13: Fem | N13: Total | O13: Masc | P13: Fem
A14: Sector público
A15: Colegio Universitario de San Juan | B15: 542 | C15: 542 | D15: 385 | E15: 147 | F15: 238 | G15: 157 | H15: 67 | I15: 90
A16: Conservatorio de Música de Puerto Rico | B16: 339 | C16: 308 | D16: 185 | E16: 135 | F16: 50 | G16: 123 | H16: 77 | I16: 46 | J16: 31 | K16: 13 | L16: 7 | M16: 6 | N16: 18 | O16: 10 | P16: 8
A17: Escuela de Artes Plásticas de Puerto Rico | B17: 497 | C17: 497 | D17: 352 | E17: 76 | F17: 276 | G17: 145 | H17: 38 | I17: 107
A18: Instituto Tecnológico de Puerto Rico-Guayama | B18: 262 | C18: 262 | D18: 250 | E18: 164 | F18: 86 | G18: 12 | H18: 10 | I18: 2
A19: Instituto Tecnológico de Puerto Rico-Manatí | B19: 297 | C19: 297 | D19: 265 | E19: 166 | F19: 99 | G19: 32 | H19: 22 | I19: 10
A20: Instituto Tecnológico de Puerto Rico-San Juan | B20: 190 | C20: 190 | D20: 150 | E20: 109 | F20: 41 | G20: 40 | H20: 33 | I20: 7
A21: Universidad de Puerto Rico-Aguadilla | B21: 1894 | C21: 1894 | D21: 1720 | E21: 800 | F21: 920 | G21: 174 | H21: 96 | I21: 78
A22: Universidad de Puerto Rico-Arecibo | B22: 2831 | C22: 2822 | D22: 2626 | E22: 1028 | F22: 1598 | G22: 196 | H22: 77 | I22: 119 | J22: 9 | K22: 3 | L22: 1 | M22: 2 | N22: 6 | O22: 1 | P22: 5
A23: Universidad de Puerto Rico-Bayamón | B23: 2967 | C23: 2967 | D23: 2573 | E23: 1291 | F23: 1282 | G23: 394 | H23: 180 | I23: 214
A24: Universidad de Puerto Rico-Carolina | B24: 2428 | C24: 2428 | D24: 1935 | E24: 667 | F24: 1268 | G24: 493 | H24: 183 | I24: 310
A25: Universidad de Puerto Rico-Cayey | B25: 2218 | C25: 2218 | D25: 1952 | E25: 626 | F25: 1326 | G25: 266 | H25: 85 | I25: 181
A26: Universidad de Puerto Rico-Cs. Médicas | B26: 1950 | C26: 224 | D26: 201 | E26: 36 | F26: 165 | G26: 23 | H26: 3 | I26: 20 | J26: 1726 | K26: 1642 | L26: 551 | M26: 1091 | N26: 84 | O26: 27 | P26: 57
A27: Universidad de Puerto Rico-Humacao | B27: 2611 | C27: 2611 | D27: 2327 | E27: 773 | F27: 1554 | G27: 284 | H27: 102 | I27: 182
A28: Universidad de Puerto Rico-Mayagüez | B28: 10716 | C28: 9855 | D28: 8695 | E28: 4786 | F28: 3909 | G28: 1160 | H28: 655 | I28: 505 | J28: 861 | K28: 777 | L28: 402 | M28: 375 | N28: 84 | O28: 45 | P28: 39
A29: Universidad de Puerto Rico-Ponce | B29: 2319 | C29: 2319 | D29: 2128 | E29: 995 | F29: 1133 | G29: 191 | H29: 86 | I29: 105
A30: Universidad de Puerto Rico-Río Piedras | B30: 11493 | C30: 8873 | D30: 7805 | E30: 2828 | F30: 4977 | G30: 1068 | H30: 440 | I30: 628 | J30: 2620 | K30: 1686 | L30: 742 | M30: 944 | N30: 934 | O30: 417 | P30: 517
A31: Universidad de Puerto Rico-Utuado | B31: 317 | C31: 317 | D31: 285 | E31: 140 | F31: 145 | G31: 32 | H31: 16 | I31: 16
A32: Total sector público | B32: =SUM(B15:B31) -> 43871 | C32: =SUM(C15:C31) -> 38624 | D32: =SUM(D15:D31) -> 33834 | E32: =SUM(E15:E31) -> 14767 | F32: =SUM(F15:F31) -> 19067 | G32: =SUM(G15:G31) -> 4790 | H32: =SUM(H15:H31) -> 2170 | I32: =SUM(I15:I31) -> 2620 | ... P32: =SUM(P15:P31) -> 626
A33: Sector privado sin fines de lucro
A34: American University of Puerto Rico-Bayamón*
A35: American University of Puerto Rico-Manatí*
A36: Atenas College | B36: 611 | C36: 545 | D36: 366 | E36: 93 | F36: 273 | G36: 179 | H36: 38 | I36: 141 | J36: 66 | K36: 66 | L36: 10 | M36: 56
A37: Atlantic University | B37: 1600 | C37: 1517 | D37: 1124 | E37: 649 | F37: 475 | G37: 393 | H37: 271 | I37: 122 | J37: 83 | K37: 47 | L37: 27 | M37: 20 | N37: 36 | O37: 18 | P37: 18
A38: Caribbean University-Bayamón | B38: 929 | C38: 669 | D38: 485 | E38: 206 | F38: 279 | G38: 184 | H38: 57 | I38: 127 | J38: 260 | K38: 128 | L38: 29 | M38: 99 | N38: 132 | O38: 28 | P38: 104
A39: Caribbean University-Carolina | B39: 146 | C39: 127 | D39: 72 | E39: 19 | F39: 53 | G39: 55 | H39: 11 | I39: 44 | J39: 19 | K39: 7 | L39: 1 | M39: 6 | N39: 12 | O39: 1 | P39: 11
A40: Caribbean University-Ponce | B40: 607 | C40: 438 | D40: 296 | E40: 185 | F40: 111 | G40: 142 | H40: 92 | I40: 50 | J40: 169 | K40: 79 | L40: 20 | M40: 59 | N40: 90 | O40: 18 | P40: 72
A41: Caribbean University-Vega Baja | B41: 215 | C41: 194 | D41: 132 | E41: 42 | F41: 90 | G41: 62 | H41: 14 | I41: 48 | J41: 21 | K41: 11 | M41: 11 | N41: 10 | O41: 2 | P41: 8
A42: Centro de Estudios Avanzados de PR y el Caribe | B42: 362 | J42: 362 | K42: 224 | L42: 116 | M42: 108 | N42: 138 | O42: 68 | P42: 70
...

Sheet Tabla 5
A1: Gobierno de Puerto Rico
A2: Departamento de Estado
A3: Junta de Instituciones Postsecundaria
A5: Compendio Estadístico sobre la Educación Superior de Puerto Rico
A6: Año académico 2023-2024
A8: Tabla 5. Egresados por nivel y sector en las instituciones de educación superior que finalizaron entre el 1 julio 2022 al 30 de junio 20231
A9: (Cantidad de egresados)
A10: Institución | B10: Certificados Técnicos2 | C10: Grado Asociado | D10: Bachillerato | E10: Maestría | F10: Certificados Profesionales3 | G10: Doctorados4 | H10: Totales
A11: Sector público
A12: Colegio Universitario de San Juan | C12: 59 | D12: 111 | H12: =SUM(B12:G12) -> 170
A13: Conservatorio de Música de Puerto Rico | D13: 48 | E13: 6 | F13: 2 | H13: =SUM(B13:G13) -> 56
A14: Escuela de Artes Plásticas de Puerto Rico | D14: 53 | H14: =SUM(B14:G14) -> 53
A15: Instituto Tecnológico de Puerto Rico-Guayama | C15: 72 | H15: =SUM(B15:G15) -> 72
A16: Instituto Tecnológico de Puerto Rico-Manatí | C16: 87 | H16: =SUM(B16:G16) -> 87
A17: Instituto Tecnológico de Puerto Rico-San Juan | C17: 56 | H17: =SUM(B17:G17) -> 56
A18: Universidad de Puerto Rico-Aguadilla | C18: 29 | D18: 333 | H18: =SUM(B18:G18) -> 362
A19: Universidad de Puerto Rico-Arecibo | C19: 66 | D19: 487 | H19: =SUM(B19:G19) -> 553
A20: Universidad de Puerto Rico-Bayamón | C20: 9 | D20: 339 | H20: =SUM(B20:G20) -> 348
A21: Universidad de Puerto Rico-Carolina | C21: 33 | D21: 305 | H21: =SUM(B21:G21) -> 338
A22: Universidad de Puerto Rico-Cayey | D22: 346 | H22: =SUM(B22:G22) -> 346
A23: Universidad de Puerto Rico-Cs. Médicas | C23: 50 | D23: 116 | E23: 243 | F23: 101 | G23: 253 | H23: =SUM(B23:G23) -> 763
A24: Universidad de Puerto Rico-Humacao | C24: 42 | D24: 370 | H24: =SUM(B24:G24) -> 412
A25: Universidad de Puerto Rico-Mayagüez | D25: 1745 | E25: 164 | G25: 24 | H25: =SUM(B25:G25) -> 1933
A26: Universidad de Puerto Rico-Ponce | C26: 29 | D26: 262 | H26: =SUM(B26:G26) -> 291
A27: Universidad de Puerto Rico-Río Piedras | D27: 1433 | E27: 371 | F27: 5 | G27: 222 | H27: =SUM(B27:G27) -> 2031
A28: Universidad de Puerto Rico-Utuado | C28: 44 | D28: 30 | H28: =SUM(B28:G28) -> 74
A29: Total sector público | C29: =SUM(C12:C28) -> 576 | D29: =SUM(D12:D28) -> 5978 | E29: =SUM(E12:E28) -> 784 | F29: =SUM(F12:F28) -> 108 | G29: =SUM(G12:G28) -> 499 | H29: =SUM(H12:H28) -> 7945
A30: Sector privado sin fines de lucro
A31: American University of Puerto Rico-Bayamón* | C31: 20 | D31: 67 | E31: 37 | H31: =SUM(B31:G31) -> 124
A32: American University of Puerto Rico-Manatí* | C32: 22 | D32: 79 | E32: 21 | H32: =SUM(B32:G32) -> 122
A33: Atenas College | B33: 19 | C33: 81 | D33: 53 | H33: =SUM(B33:G33) -> 153
A34: Atlantic University College | D34: 243 | E34: 40 | H34: =SUM(B34:G34) -> 283
A35: Caribbean University-Bayamón | B35: 71 | C35: 9 | D35: 52 | E35: 29 | G35: 8 | H35: =SUM(B35:G35) -> 169
A36: Caribbean University-Carolina | B36: 1 | C36: 3 | D36: 19 | E36: 3 | H36: =SUM(B36:G36) -> 26
A37: Caribbean University-Ponce | B37: 1 | C37: 10 | D37: 51 | E37: 14 | G37: 4 | H37: =SUM(B37:G37) -> 80
A38: Caribbean University-Vega Baja | B38: 3 | C38: 4 | D38: 8 | E38: 4 | H38: =SUM(B38:G38) -> 19
A39: Centro de Estudios Avanzados de PR y el Caribe | E39: 13 | G39: 28 | H39: =SUM(B39:G39) -> 41
A40: Dewey University-Carolina | C40: 51 | D40: 22 | H40: =SUM(B40:G40) -> 73
A41: Dewey University-Hato Rey | C41: 34 | D41: 38 | E41: 51 | H41: =SUM(B41:G41) -> 123
A42: Dewey University-Juana Díaz | B42: 40 | C42: 21 | D42: 7 | E42: 2 | H42: =SUM(B42:G42) -> 70
...

Sheet Tabla 6
A1: Gobierno de Puerto Rico
A2: Departamento de Estado
A3: Junta de Instituciones Postsecundaria
A5: Compendio Estadístico sobre la Educación Superior de Puerto Rico
A6: Año académico 2022-2023
A8: Tabla 6. Grados conferidos por sector, nivel y área académica en las instituciones de educación superior que finalizaron entre el 1 julio 2022 al 30 de junio 2023.
A9: (Cantidad de egresados)
A10: Área académico | B10: CIPCODE* | C10: Gran total | F10: Sector público | I10: Sector privado
C11: Total | D11: Masc | E11: Fem | F11: Total | G11: Masc | H11: Fem | I11: Total | J11: Masc | K11: Fem
A12: Profesiones y ciencias relacionadas con la salud | B12: 51 | C12: =D12+E12 -> 11251 | D12: =G12+J12 -> 2342 | E12: =H12+K12 -> 8909 | F12: 1191 | G12: 320 | H12: 871 | I12: 10060 | J12: 2022 | K12: 8038
A13: Administración, gerencia, mercadeo y servicios administrativos | B13: 52 | C13: =D13+E13 -> 4407 | D13: =G13+J13 -> 1673 | E13: =H13+K13 -> 2734 | F13: 1243 | G13: 553 | H13: 690 | I13: 3164 | J13: 1120 | K13: 2044
A14: Ocupaciones y oficios relacionados con servicios personales y misceláneos (Ej.: Artes culinarias, cosmetología, servicios funerarios) | B14: 12 | C14: =D14+E14 -> 3797 | D14: =G14+J14 -> 940 | E14: =H14+K14 -> 2857 | F14: 0 | G14: 0 | H14: 0 | I14: 3797 | J14: 940 | K14: 2857
A15: Biología y ciencias biomédicas | B15: 26 | C15: =D15+E15 -> 2322 | D15: =G15+J15 -> 703 | E15: =H15+K15 -> 1619 | F15: 1174 | G15: 370 | H15: 804 | I15: 1148 | J15: 333 | K15: 815
A16: Psicología | B16: 42 | C16: =D16+E16 -> 1597 | D16: =G16+J16 -> 323 | E16: =H16+K16 -> 1274 | F16: 486 | G16: 118 | H16: 368 | I16: 1111 | J16: 205 | K16: 906
A17: Educación | B17: 13 | C17: =D17+E17 -> 1591 | D17: =G17+J17 -> 302 | E17: =H17+K17 -> 1289 | F17: 463 | G17: 116 | H17: 347 | I17: 1128 | J17: 186 | K17: 942
A18: Protección y servicios de seguridad | B18: 43 | C18: =D18+E18 -> 1184 | D18: =G18+J18 -> 479 | E18: =H18+K18 -> 705 | F18: 109 | G18: 40 | H18: 69 | I18: 1075 | J18: 439 | K18: 636
A19: Mecánica y reparación de equipo | B19: 47 | C19: =D19+E19 -> 1638 | D19: =G19+J19 -> 1535 | E19: =H19+K19 -> 103 | F19: 4 | G19: 4 | H19: 0 | I19: 1634 | J19: 1531 | K19: 103
A20: Ingeniería | B20: 14 | C20: =D20+E20 -> 1266 | D20: =G20+J20 -> 934 | E20: =H20+K20 -> 332 | F20: 676 | G20: 473 | H20: 203 | I20: 590 | J20: 461 | K20: 129
A21: Tecnologías relacionadas a la ingeniería | B21: 15 | C21: =D21+E21 -> 1175 | D21: =G21+J21 -> 1008 | E21: =H21+K21 -> 167 | F21: 343 | G21: 272 | H21: 71 | I21: 832 | J21: 736 | K21: 96
A22: Ciencias de la información y computadoras | B22: 11 | C22: =D22+E22 -> 1147 | D22: =G22+J22 -> 850 | E22: =H22+K22 -> 297 | F22: 180 | G22: 139 | H22: 41 | I22: 967 | J22: 711 | K22: 256
A23: Bellas artes | B23: 50 | C23: =D23+E23 -> 956 | D23: =G23+J23 -> 445 | E23: =H23+K23 -> 511 | F23: 203 | G23: 71 | H23: 132 | I23: 753 | J23: 374 | K23: 379
A24: Oficios de la construcción | B24: 46 | C24: =D24+E24 -> 925 | D24: =G24+J24 -> 867 | E24: =H24+K24 -> 58 | I24: 925 | J24: 867 | K24: 58
A25: Administración de empresas relacionadas con producción agrícola | B25: 1 | C25: =D25+E25 -> 779 | D25: =G25+J25 -> 207 | E25: =H25+K25 -> 572 | F25: 304 | G25: 132 | H25: 172 | I25: 475 | J25: 75 | K25: 400
A26: Comunicaciones | B26: 9 | C26: =D26+E26 -> 529 | D26: =G26+J26 -> 162 | E26: =H26+K26 -> 367 | F26: 139 | G26: 42 | H26: 97 | I26: 390 | J26: 120 | K26: 270
A27: Servicios sociales y administración pública | B27: 44 | C27: =D27+E27 -> 475 | D27: =G27+J27 -> 103 | E27: =H27+K27 -> 372 | F27: 145 | G27: 35 | H27: 110 | I27: 330 | J27: 68 | K27: 262
A28: Derecho y estudios relacionados | B28: 22 | C28: =D28+E28 -> 421 | D28: =G28+J28 -> 172 | E28: =H28+K28 -> 249 | F28: 150 | G28: 64 | H28: 86 | I28: 271 | J28: 108 | K28: 163
A29: Estudios interdisciplinarios | B29: 30 | C29: =D29+E29 -> 357 | D29: =G29+J29 -> 104 | E29: =H29+K29 -> 253 | F29: 195 | G29: 61 | H29: 134 | I29: 162 | J29: 43 | K29: 119
A30: Ciencias sociales | B30: 45 | C30: =D30+E30 -> 328 | D30: =G30+J30 -> 134 | E30: =H30+K30 -> 194 | F30: 227 | G30: 90 | H30: 137 | I30: 101 | J30: 44 | K30: 57
A31: Tecnologías de las comunicaciones | B31: 10 | C31: =D31+E31 -> 274 | D31: =G31+J31 -> 176 | E31: =H31+K31 -> 98 | F31: 86 | G31: 26 | H31: 60 | I31: 188 | J31: 150 | K31: 38
A32: Ciencias físicas y química | B32: 40 | C32: =D32+E32 -> 257 | D32: =G32+J32 -> 103 | E32: =H32+K32 -> 154 | F32: 190 | G32: 82 | H32: 108 | I32: 67 | J32: 21 | K32: 46
A33: Recreación, deportes y tiempo libre | B33: 31 | C33: =D33+E33 -> 270 | D33: =G33+J33 -> 191 | E33: =H33+K33 -> 79 | F33: 2 | G33: 1 | H33: 1 | I33: 268 | J33: 190 | K33: 78
A34: Ocupaciones u oficios de precisión (Ej.: delineante, imprenta) | B34: 48 | C34: =D34+E34 -> 346 | D34: =G34+J34 -> 322 | E34: =H34+K34 -> 24 | F34: 0 | G34: 0 | H34: 0 | I34: 346 | J34: 322 | K34: 24
A35: Artes liberales, estudios generales y humanidades | B35: 24 | C35: =D35+E35 -> 96 | D35: =G35+J35 -> 44 | E35: =H35+K35 -> 52 | F35: 22 | G35: 11 | H35: 11 | I35: 74 | J35: 33 | K35: 41
A36: Literatura y lenguas extranjeras | B36: 16 | C36: =D36+E36 -> 167 | D36: =G36+J36 -> 37 | E36: =H36+K36 -> 130 | F36: 150 | G36: 34 | H36: 116 | I36: 17 | J36: 3 | K36: 14
... A42: Matemáticas y estadísticas | B42: 27 | C42: =D42+E42 -> 36 | D42: =G42+J42 -> 28 | E42: =H42+K42 -> 8 | F42: 28 | G42: 25 | H42: 3 | I42: 8 | J42: 3 | K42: 5
A43: Estudios en teología y vocaciones religiosas | B43: 39 | C43: =D43+E43 -> 37 | D43: =G43+J43 -> 29 | E43: =H43+K43 -> 8 | I43: 37 | J43: 29 | K43: 8
A44: Filosofía y estudios religiosos | B44: 38 | C44: =D44+E44 -> 22 | D44: =G44+J44 -> 9 | E44: =H44+K44 -> 13 | F44: 3 | G44: 2 | H44: 1 | I44: 19 | J44: 7 | K44: 12
A45: Transportación y movimiento de equipo | B45: 49 | C45: =D45+E45 -> 32 | D45: =G45+J45 -> 25 | E45: =H45+K45 -> 7 | I45: 32 | J45: 25 | K45: 7
A46: Tecnología de las ciencias | B46: 41 | C46: =D46+E46 -> 9 | D46: =G46+J46 -> 6 | E46: =H46+K46 -> 3 | F46: 9 | G46: 6 | H46: 3 | I46: 0 | J46: 0 | K46: 0
A47: Ciencias bibliotecarias | B47: 25 | C47: =D47+E47 -> 5 | D47: =G47+J47 -> 2 | E47: =H47+K47 -> 3 | F47: 5 | G47: 2 | H47: 3 | I47: 0 | J47: 0 | K47: 0
...

Sheet Tabla 7
A1: Gobierno de Puerto Rico
A2: Departamento de Estado
A3: Junta de Instituciones Postsecundarias
A5: Compendio Estadístico sobre la Educación Superior de Puerto Rico
A6: Año académico 2023-2024
A8: Tabla 7. Facultad por tarea, género y sector en las instituciones de educación superior en Puerto Rico
A9: Institución | B9: Gran total | E9: Total tiempo completo | H9: Total tiempo parcial
B10: Total | C10: Masc | D10: Fem | E10: Total | F10: Masc | G10: Fem | H10: Total | I10: Masc | J10: Fem
A11: Colegio Universitario de San Juan | B11: 83 | C11: 40 | D11: 43 | E11: 17 | F11: 7 | G11: 10 | H11: 66 | I11: 33 | J11: 33
A12: Conservatorio de Música de Puerto Rico | B12: 81 | C12: 58 | D12: 23 | E12: 37 | F12: 26 | G12: 11 | H12: 44 | I12: 32 | J12: 12
A13: Escuela de Artes Plásticas de Puerto Rico | B13: 69 | C13: 31 | D13: 38 | E13: 27 | F13: 11 | G13: 16 | H13: 42 | I13: 20 | J13: 22
A14: Instituto Tecnológico de Puerto Rico-Guayama | B14: 29 | C14: 14 | D14: 15 | E14: 29 | F14: 14 | G14: 15
A15: Instituto Tecnológico de Puerto Rico-Manatí | B15: 40 | C15: 16 | D15: 24 | E15: 40 | F15: 16 | G15: 24
A16: Instituto Tecnológico de Puerto Rico-San Juan | B16: 27 | C16: 14 | D16: 13 | E16: 27 | F16: 14 | G16: 13
A17: Universidad de Puerto Rico-Administración Central | B17: 8 | C17: 6 | D17: 2 | E17: 8 | F17: 6 | G17: 2
A18: Universidad de Puerto Rico-Aguadilla | B18: 114 | C18: 57 | D18: 57 | E18: 84 | F18: 42 | G18: 42 | H18: 30 | I18: 15 | J18: 15
A19: Universidad de Puerto Rico-Arecibo | B19: 174 | C19: 71 | D19: 103 | E19: 140 | F19: 60 | G19: 80 | H19: 34 | I19: 11 | J19: 23
A20: Universidad de Puerto Rico-Bayamón | B20: 171 | C20: 82 | D20: 89 | E20: 142 | F20: 71 | G20: 71 | H20: 29 | I20: 11 | J20: 18
A21: Universidad de Puerto Rico-Carolina | B21: 170 | C21: 92 | D21: 78 | E21: 100 | F21: 57 | G21: 43 | H21: 70 | I21: 35 | J21: 35
A22: Universidad de Puerto Rico-Cayey | B22: 117 | C22: 60 | D22: 57 | E22: 105 | F22: 54 | G22: 51 | H22: 12 | I22: 6 | J22: 6
A23: Universidad de Puerto Rico-Cs. Médicas | B23: 1137 | C23: 506 | D23: 631 | E23: 627 | F23: 239 | G23: 388 | H23: 510 | I23: 267 | J23: 243
A24: Universidad de Puerto Rico-Humacao | B24: 207 | C24: 101 | D24: 106 | E24: 158 | F24: 80 | G24: 78 | H24: 49 | I24: 21 | J24: 28
A25: Universidad de Puerto Rico-Mayagüez | B25: 690 | C25: 404 | D25: 286 | E25: 641 | F25: 374 | G25: 267 | H25: 49 | I25: 30 | J25: 19
A26: Universidad de Puerto Rico-Ponce | B26: 151 | C26: 77 | D26: 74 | E26: 80 | F26: 37 | G26: 43 | H26: 71 | I26: 40 | J26: 31
A27: Universidad de Puerto Rico-Río Piedras | B27: 1103 | C27: 551 | D27: 552 | E27: 793 | F27: 419 | G27: 374 | H27: 310 | I27: 132 | J27: 178
A28: Universidad de Puerto Rico-Utuado | B28: 41 | C28: 21 | D28: 20 | E28: 30 | F28: 16 | G28: 14 | H28: 11 | I28: 5 | J28: 6
A29: Total sector público | B29: =SUM(B11:B28) -> 4412 | C29: =SUM(C11:C28) -> 2201 | D29: =SUM(D11:D28) -> 2211 | E29: =SUM(E11:E28) -> 3085 | F29: =SUM(F11:F28) -> 1543 | G29: =SUM(G11:G28) -> 1542 | H29: =SUM(H11:H28) -> 1327 | I29: =SUM(I11:I28) -> 658 | J29: =SUM(J11:J28) -> 669
A30: Sector privado sin fines de lucro
A31: American University of Puerto Rico-Bayamón
A32: American University of Puerto Rico-Manatí
A33: Atenas College | B33: 87 | C33: 21 | D33: 66 | E33: 46 | F33: 10 | G33: 36 | H33: 41 | I33: 11 | J33: 30
A34: Atlantic Univesity College | B34: 57 | C34: 37 | D34: 20 | E34: 47 | F34: 31 | G34: 16 | H34: 10 | I34: 6 | J34: 4
A35: Caribbean University-Bayamón | B35: 169 | C35: 77 | D35: 92 | E35: 20 | F35: 8 | G35: 12 | H35: 149 | I35: 69 | J35: 80
A36: Caribbean University-Carolina | B36: 25 | C36: 13 | D36: 12 | E36: 5 | F36: 2 | G36: 3 | H36: 20 | I36: 11 | J36: 9
A37: Caribbean University-Ponce | B37: 62 | C37: 28 | D37: 34 | E37: 16 | F37: 6 | G37: 10 | H37: 46 | I37: 22 | J37: 24
A38: Caribbean University-Vega Baja | B38: 14 | C38: 6 | D38: 8 | E38: 5 | F38: 1 | G38: 4 | H38: 9 | I38: 5 | J38: 4
A39: Centro de Estudios Avanzados de PR y el Caribe | B39: 26 | C39: 20 | D39: 6 | H39: 26 | I39: 20 | J39: 6
A40: Dewey University-Carolina | B40: 9 | C40: 5 | D40: 4 | E40: 9 | F40: 5 | G40: 4
A41: Dewey University-Hato Rey | B41: 35 | C41: 18 | D41: 17 | E41: 35 | F41: 18 | G41: 17
A42: Dewey University-Juana Díaz | B42: 12 | C42: 6 | D42: 6 | E42: 12 | F42: 6 | G42: 6
...

Sheet Tabla 8
A1: Gobierno de Puerto Rico
A2: Departamento de Estado
A3: Junta de Instituciones Postsecundarias
A5: Compendio Estadístico sobre la Educación Superior de Puerto Rico
A6: Año académico 2023-2024
A8: Tabla 8. Facultad por tarea, rango y sector de las instituciones de educación superior en Puerto Rico
A9: Institución | B9: Tiempo Completo | M9: Total tiempo parcial | N9: Gran total
B10: Profesor | C10: Profesor Asociado | D10: Profesor Asistente | E10: Instructor | F10: Conferenciante | G10: Sin rango académico | H10: Total con estatus de facultad | I10: Total sin estatus de facultad | J10: Total facultad | K10: Otros* | L10: Total tiempo completo
A11: Sector público
A12: Colegio Universitario de San Juan | B12: 0 | C12: 1 | D12: 5 | E12: 11 | F12: 0 | G12: 0 | H12: =SUM(B12:G12) -> 17 | I12: 0 | J12: =H12+I12 -> 17 | K12: 0 | L12: 17 | M12: 66 | N12: =L12+M12 -> 83
A13: Conservatorio de Música de Puerto Rico | B13: 11 | C13: 10 | D13: 8 | E13: 3 | F13: 0 | G13: 0 | H13: =SUM(B13:G13) -> 32 | I13: 5 | J13: =H13+I13 -> 37 | K13: 0 | L13: 37 | M13: 44 | N13: =L13+M13 -> 81
A14: Escuela de Artes Plásticas de Puerto Rico | B14: 1 | C14: 1 | D14: 0 | E14: 9 | F14: 0 | G14: 0 | H14: =SUM(B14:G14) -> 11 | I14: 15 | J14: =H14+I14 -> 26 | K14: 1 | L14: 27 | M14: 42 | N14: =L14+M14 -> 69
A15: Instituto Tecnológico de Puerto Rico-Guayama | B15: 29 | C15: 0 | D15: 0 | E15: 0 | F15: 0 | G15: 0 | H15: =SUM(B15:G15) -> 29 | I15: 0 | J15: =H15+I15 -> 29 | K15: 0 | L15: 29 | M15: 0 | N15: =L15+M15 -> 29
A16: Instituto Tecnológico de Puerto Rico-Manatí | B16: 40 | C16: 0 | D16: 0 | E16: 0 | F16: 0 | G16: 0 | H16: =SUM(B16:G16) -> 40 | I16: 0 | J16: =H16+I16 -> 40 | K16: 0 | L16: 40 | M16: 0 | N16: =L16+M16 -> 40
A17: Instituto Tecnológico de Puerto Rico-San Juan | B17: 27 | C17: 0 | D17: 0 | E17: 0 | F17: 0 | G17: 0 | H17: =SUM(B17:G17) -> 27 | I17: 0 | J17: =H17+I17 -> 27 | L17: 27 | M17: 0 | N17: =L17+M17 -> 27
A18: Universidad de Puerto Rico-Administración Central | B18: 0 | C18: 0 | D18: 0 | E18: 0 | F18: 0 | G18: 4 | H18: =SUM(B18:G18) -> 4 | I18: 0 | J18: =H18+I18 -> 4 | K18: 4 | L18: 8 | M18: 0 | N18: =L18+M18 -> 8
A19: Universidad de Puerto Rico-Aguadilla | B19: 42 | C19: 11 | D19: 18 | E19: 13 | F19: 0 | G19: 0 | H19: =SUM(B19:G19) -> 84 | I19: 0 | J19: =H19+I19 -> 84 | K19: 0 | L19: 84 | M19: 30 | N19: =L19+M19 -> 114
A20: Universidad de Puerto Rico-Arecibo | B20: 69 | C20: 23 | D20: 20 | E20: 27 | F20: 0 | G20: 0 | H20: =SUM(B20:G20) -> 139 | I20: 0 | J20: =H20+I20 -> 139 | K20: 1 | L20: 140 | M20: 34 | N20: =L20+M20 -> 174
A21: Universidad de Puerto Rico-Bayamón | B21: 58 | C21: 27 | D21: 39 | E21: 18 | F21: . | G21: 0 | H21: =SUM(B21:G21) -> 142 | I21: 0 | J21: =H21+I21 -> 142 | K21: 0 | L21: 142 | M21: 29 | N21: =L21+M21 -> 171
A22: Universidad de Puerto Rico-Carolina | B22: 25 | C22: 19 | D22: 32 | E22: 20 | F22: 0 | G22: 0 | H22: =SUM(B22:G22) -> 96 | I22: 0 | J22: =H22+I22 -> 96 | K22: 4 | L22: 100 | M22: 70 | N22: =L22+M22 -> 170
A23: Universidad de Puerto Rico-Cayey | B23: 32 | C23: 34 | D23: 29 | E23: 6 | F23: 0 | G23: 0 | H23: =SUM(B23:G23) -> 101 | I23: 0 | J23: =H23+I23 -> 101 | K23: 4 | L23: 105 | M23: 12 | N23: =L23+M23 -> 117
A24: Universidad de Puerto Rico-Cs. Médicas | B24: 243 | C24: 137 | D24: 133 | E24: 14 | F24: 0 | G24: 50 | H24: =SUM(B24:G24) -> 577 | I24: 0 | J24: =H24+I24 -> 577 | K24: 50 | L24: 627 | M24: 510 | N24: =L24+M24 -> 1137
A25: Universidad de Puerto Rico-Humacao | B25: 73 | C25: 22 | D25: 28 | E25: 32 | F25: 0 | G25: 0 | H25: =SUM(B25:G25) -> 155 | I25: 0 | J25: =H25+I25 -> 155 | K25: 3 | L25: 158 | M25: 49 | N25: =L25+M25 -> 207
A26: Universidad de Puerto Rico-Mayagüez | B26: 305 | C26: 42 | D26: 65 | E26: 35 | F26: 0 | G26: 0 | H26: =SUM(B26:G26) -> 447 | I26: 0 | J26: =H26+I26 -> 447 | K26: 194 | L26: 641 | M26: 49 | N26: =L26+M26 -> 690
A27: Universidad de Puerto Rico-Ponce | B27: 27 | C27: 19 | D27: 21 | E27: 13 | F27: 0 | G27: 0 | H27: =SUM(B27:G27) -> 80 | I27: 0 | J27: =H27+I27 -> 80 | K27: 0 | L27: 80 | M27: 71 | N27: =L27+M27 -> 151
A28: Universidad de Puerto Rico-Río Piedras | B28: 342 | C28: 71 | D28: 215 | E28: 81 | F28: 0 | G28: 21 | H28: =SUM(B28:G28) -> 730 | J28: =H28+I28 -> 730 | K28: 63 | L28: 793 | M28: 310 | N28: =L28+M28 -> 1103
A29: Universidad de Puerto Rico-Utuado | B29: 18 | C29: 6 | D29: 5 | E29: 1 | F29: 0 | G29: 0 | H29: =SUM(B29:G29) -> 30 | I29: 0 | J29: =H29+I29 -> 30 | K29: 0 | L29: 30 | M29: 11 | N29: =L29+M29 -> 41
A30: Total sector público | B30: =SUM(B12:B29) -> 1342 | C30: =SUM(C12:C29) -> 423 | D30: =SUM(D12:D29) -> 618 | E30: =SUM(E12:E29) -> 283 | F30: =SUM(F12:F29) -> 0 | G30: =SUM(G12:G29) -> 75 | H30: =SUM(H12:H29) -> 2741 | I30: =SUM(I12:I29) -> 20 | ... M30: =SUM(M12:M29) -> 1327 | N30: =L30+M30 -> 4412
A31: Sector privado sin fines de lucro
A32: American University of Puerto Rico-Bayamón | B32: 0 | C32: 0 | D32: 0 | E32: 0 | F32: 0 | G32: 0 | H32: 0 | I32: 0 | J32: 0 | K32: 0 | L32: 0 | M32: 0 | N32: 0
A33: American University of Puerto Rico-Manatí | B33: 0 | C33: 0 | D33: 0 | E33: 0 | F33: 0 | G33: 0 | H33: 0 | I33: 0 | J33: 0 | K33: 0 | L33: 0 | M33: 0 | N33: 0
A34: Atenas College | B34: 0 | C34: 0 | D34: 0 | E34: 0 | F34: 0 | G34: 46 | H34: =SUM(B34:G34) -> 46 | I34: 0 | J34: =SUM(H34:I34) -> 46 | K34: 0 | L34: 46 | M34: 41 | N34: =L34+M34 -> 87
A35: Atlantic Univesity College | B35: 47 | C35: 0 | D35: 0 | E35: 0 | F35: 0 | G35: 0 | H35: =SUM(B35:G35) -> 47 | I35: 0 | J35: =SUM(H35:I35) -> 47 | K35: 0 | L35: 47 | M35: 10 | N35: =L35+M35 -> 57
A36: Caribbean University-Bayamón | B36: 1 | C36: 1 | D36: 4 | E36: 14 | F36: 0 | G36: 0 | H36: =SUM(B36:G36) -> 20 | I36: 0 | J36: =SUM(H36:I36) -> 20 | K36: 0 | L36: 20 | M36: 149 | N36: =L36+M36 -> 169
A37: Caribbean University-Carolina | B37: 0 | C37: 0 | D37: 0 | E37: 0 | F37: 0 | G37: 0 | H37: 0 | I37: 0 | J37: =H37+I37 -> 0 | K37: 5 | L37: 5 | M37: 20 | N37: =L37+M37 -> 25
A38: Caribbean University-Ponce | B38: 0 | C38: 0 | D38: 6 | E38: 10 | F38: 0 | G38: 0 | H38: =SUM(B38:G38) -> 16 | I38: 0 | J38: =H38+I38 -> 16 | K38: 0 | L38: 16 | M38: 46 | N38: =L38+M38 -> 62
A39: Caribbean University-Vega Baja | B39: 0 | C39: 0 | D39: 0 | E39: 0 | F39: 0 | G39: 0 | H39: =SUM(B39:G39) -> 0 | I39: 0 | J39: =H39+I39 -> 0 | K39: 5 | L39: 5 | M39: 9 | N39: =L39+M39 -> 14
A40: Centro de Estudios Avanzados de PR y el Caribe | B40: 0 | C40: 0 | D40: 0 | E40: 0 | F40: 0 | G40: 0 | H40: =SUM(B40:G40) -> 0 | I40: 0 | J40: =H40+I40 -> 0 | K40: 0 | L40: 0 | M40: 26 | N40: =L40+M40 -> 26
A41: Dewey University-Carolina | B41: 9 | C41: 0 | D41: 0 | E41: 0 | F41: 0 | G41: 0 | H41: =SUM(B41:G41) -> 9 | I41: 0 | J41: =H41+I41 -> 9 | K41: 0 | L41: 9 | M41: 0 | N41: =L41+M41 -> 9
A42: Dewey University-Hato Rey | B42: 35 | C42: 0 | D42: 0 | E42: 0 | F42: 0 | G42: 0 | H42: =SUM(B42:G42) -> 35 | I42: 0 | J42: =H42+I42 -> 35 | K42: 0 | L42: 35 | M42: 0 | N42: =L42+M42 -> 35
...

Sheet Tabla 9
A1: Gobierno de Puerto Rico
A2: Departamento de Estado
A3: Junta de Instituciones Postsecundarias
A5: Compendio Estadístico sobre la Educación Superior de Puerto Rico
A6: Año académico 2023-2024
A8: Tabla 9. Tasas de graduación (IPEDS Graduation Rate) en las instituciones de educación superior en Puerto Rico
A9: Instituciones de educación superior de Puerto Rico por sector que ofrecen programas de dos y de cuatro años
A11: Sector público
A12: Institución | B12: Cohorte 2017 | C12: Graduados en el 150% | D12: Tasa de graduación | E12: Transferencias reportadas | F12: Tasa de graduación con transferencias | G12: Tasa de graduación adjutada sin transferencia* | H12: Continúan matrículados a la fecha de la encuesta
A13: Instituciones de 4 años
A14: Colegio Universitario de San Juan | B14: 239 | C14: 72 | D14: =C14/B14 -> 0.30125523 | E14: 24 | F14: =SUM(C14,E14)/B14 -> 0.40167364 | G14: =C14/(B14-E14) -> 0.33488372 | H14: 7
A15: Conservatorio de Música de Puerto Rico | B15: 21 | C15: 12 | D15: =C15/B15 -> 0.57142857 | E15: 9 | F15: =SUM(C15,E15)/B15 -> 1 | G15: =C15/(B15-E15) -> 1 | H15: 0
A16: Escuela de Artes Plásticas de Puerto Rico | B16: 69 | C16: 31 | D16: =C16/B16 -> 0.44927536 | E16: 12 | F16: =SUM(C16,E16)/B16 -> 0.62318841 | G16: =C16/(B16-E16) -> 0.54385965 | H16: 7
A17: Universidad de Puerto Rico-Aguadilla | B17: 875 | C17: 417 | D17: =C17/B17 -> 0.47657143 | E17: 35 | F17: =SUM(C17,E17)/B17 -> 0.51657143 | G17: =C17/(B17-E17) -> 0.49642857 | H17: 25
A18: Universidad de Puerto Rico-Arecibo | B18: 730 | C18: 370 | D18: =C18/B18 -> 0.50684932 | E18: 39 | F18: =SUM(C18,E18)/B18 -> 0.56027397 | G18: =C18/(B18-E18) -> 0.53545586 | H18: 32
A19: Universidad de Puerto Rico-Bayamón | B19: 955 | C19: 300 | D19: =C19/B19 -> 0.31413613 | E19: 42 | F19: =SUM(C19,E19)/B19 -> 0.35811518 | G19: =C19/(B19-E19) -> 0.32858708 | H19: 70
A20: Universidad de Puerto Rico-Carolina | B20: 778 | C20: 313 | D20: =C20/B20 -> 0.40231362 | E20: 153 | F20: =SUM(C20,E20)/B20 -> 0.59897172 | G20: =C20/(B20-E20) -> 0.5008 | H20: 17
A21: Universidad de Puerto Rico-Cayey | B21: 685 | C21: 333 | D21: =C21/B21 -> 0.48613139 | E21: 0 | F21: =SUM(C21,E21)/B21 -> 0.48613139 | G21: =C21/(B21-E21) -> 0.48613139 | H21: 47
A22: Universidad de Puerto Rico-Cs. Médicas1 | B22: n/a | C22: n/a | D22: n/a | E22: n/a | F22: n/a | G22: n/a | H22: n/a
A23: Universidad de Puerto Rico-Humacao | B23: 665 | C23: 352 | D23: =C23/B23 -> 0.52932331 | E23: 33 | F23: =SUM(C23,E23)/B23 -> 0.57894737 | G23: =C23/(B23-E23) -> 0.55696203 | H23: 32
A24: Universidad de Puerto Rico-Mayagüez | B24: 2285 | C24: 1073 | D24: =C24/B24 -> 0.46958425 | E24: 0 | F24: =SUM(C24,E24)/B24 -> 0.46958425 | G24: =C24/(B24-E24) -> 0.46958425 | H24: 241
A25: Universidad de Puerto Rico-Ponce | B25: 605 | C25: 306 | D25: =C25/B25 -> 0.50578512 | E25: 43 | F25: =SUM(C25,E25)/B25 -> 0.5768595 | G25: =C25/(B25-E25) -> 0.54448399 | H25: 19
A26: Universidad de Puerto Rico-Río Piedras | B26: 2113 | C26: 1109 | D26: =C26/B26 -> 0.52484619 | E26: 0 | F26: =SUM(C26,E26)/B26 -> 0.52484619 | G26: =C26/(B26-E26) -> 0.52484619 | H26: 119
A27: Universidad de Puerto Rico-Utuado | B27: 411 | C27: 101 | D27: =C27/B27 -> 0.24574209 | E27: 26 | F27: =SUM(C27,E27)/B27 -> 0.30900243 | G27: =C27/(B27-E27) -> 0.26233766 | H27: 7
A30: Institución | B30: Cohorte 2020 | C30: Graduados en el 150% | D30: Tasa de graduación | E30: Transferencias reportadas | F30: Tasa de graduación con transferencias | G30: Tasa de graduación adjutada sin transferencia* | H30: Continúan matrículados a la fecha de la encuesta
A31: Instituciones de dos años
A32: Instituto Tecnológico de Puerto Rico-Guayama | B32: 83 | C32: 72 | D32: =C32/B32 -> 0.86746988 | E32: 0 | F32: =SUM(C32,E32)/B32 -> 0.86746988 | G32: =C32/(B32-E32) -> 0.86746988 | H32: 11
A33: Instituto Tecnológico de Puerto Rico-Manatí | B33: 187 | C33: 115 | D33: =C33/B33 -> 0.61497326 | E33: 0 | F33: =SUM(C33,E33)/B33 -> 0.61497326 | G33: =C33/(B33-E33) -> 0.61497326
A34: Instituto Tecnológico de Puerto Rico-San Juan | B34: 75 | C34: 41 | D34: =C34/B34 -> 0.54666667 | E34: 0 | F34: =SUM(C34,E34)/B34 -> 0.54666667 | G34: =C34/(B34-E34) -> 0.54666667 | H34: 5
A37: Sector privado sin fines de lucro
A38: Institución | B38: Cohorte 2017 | C38: Graduados en el 150% | D38: Tasa de graduación | E38: Transferencias reportadas | F38: Tasa de graduación con transferencias | G38: Tasa de graduación adjutada sin transferencia* | H38: Continúan matrículados a la fecha de la encuesta
A39: Instituciones de 4 años
A40: American University of Puerto Rico-Bayamón1 | B40: n/a | C40: n/a | D40: n/a | E40: n/a | F40: n/a | G40: n/a | H40: n/a
A41: American University of Puerto Rico-Manatí1 | B41: n/a | C41: n/a | D41: n/a | E41: n/a | F41: n/a | G41: n/a | H41: n/a
A42: Atenas College | B42: 162 | C42: 69 | D42: =C42/B42 -> 0.42592593 | E42: 1 | F42: =SUM(C42,E42)/B42 -> 0.43209877 | G42: =C42/(B42-E42) -> 0.42857143 | H42: 0
A43: Atlantic Univesity College | B43: 319 | C43: 114 | D43: =C43/B43 -> 0.35736677 | E43: 77 | F43: =SUM(C43,E43)/B43 -> 0.59874608 | G43: =C43/(B43-E43) -> 0.47107438 | H43: 16
A44: Caribbean University-Bayamón | B44: 109 | C44: 40 | D44: =C44/B44 -> 0.36697248 | E44: 6 | F44: =SUM(C44,E44)/B44 -> 0.42201835 | G44: =C44/(B44-E44) -> 0.38834951 | H44: 4
A45: Caribbean University-Carolina | B45: 25 | C45: 11 | D45: =C45/B45 -> 0.44 | E45: 0 | F45: =SUM(C45,E45)/B45 -> 0.44 | G45: =C45/(B45-E45) -> 0.44 | H45: 0
A46: Caribbean University-Ponce | B46: 36 | C46: 15 | D46: =C46/B46 -> 0.41666667 | E46: 0 | F46: =SUM(C46,E46)/B46 -> 0.41666667 | G46: =C46/(B46-E46) -> 0.41666667 | H46: 3
A47: Caribbean University-Vega Baja | B47: 16 | C47: 10 | D47: =C47/B47 -> 0.625 | E47: 0 | F47: =SUM(C47,E47)/B47 -> 0.625 | G47: =C47/(B47-E47) -> 0.625 | H47: 0
...

Sheet Tabla 10
A1: Gobierno de Puerto Rico
A2: Departamento de Estado
A3: Junta de Instituciones Postsecundarias
A5: Compendio Estadístico sobre la Educación Superior de Puerto Rico
A6: Año académico 2023-2024
A8: Tabla 10. Tasas de Retención de estudiantes de primer año que continuaron sus estudios a segundo año distribuidos por tarea y sector
A9: en las instituciones de educación superior en Puerto Rico
A10: Institucion/sector | B10: Tiempo completo | F10: Tiempo parcial
B11: Cohorte 2022 | C11: Cohorte Ajustado 2022 | D11: De la cohorte 2022, matrículados 2023 | E11: Porciento de retención | F11: Cohorte 2022 | G11: Cohorte Ajustado 2022 | H11: De la cohorte 2022, matrículados 2023 | I11: Porciento de retención
A12: Sector público
A13: Colegio Universitario de San Juan | B13: 17 | C13: 17 | D13: 13 | E13: 76 | F13: 2 | G13: 2 | H13: 1 | I13: 50
A14: Conservatorio de Música de Puerto Rico | B14: 8 | C14: 8 | D14: 8 | E14: 100 | F14: 39 | G14: 39 | H14: 30 | I14: 77
A15: Escuela de Artes Plásticas de Puerto Rico | B15: 75 | C15: 75 | D15: 57 | E15: 76 | F15: 3 | G15: 3 | H15: 2 | I15: 67
A16: Instituto Tecnológico de Puerto Rico-Guayama | B16: 130 | C16: 130 | D16: 93 | E16: 72 | F16: 0 | G16: 0 | H16: 0 | I16: 0
A17: Instituto Tecnológico de Puerto Rico-Manatí | B17: 154 | C17: 154 | D17: 130 | E17: 84 | F17: 21 | G17: 21 | H17: 20 | I17: 95
A18: Instituto Tecnológico de Puerto Rico-San Juan | B18: 47 | C18: 47 | D18: 25 | E18: 53 | F18: 6 | G18: 6 | H18: 1 | I18: 17
A19: Universidad de Puerto Rico-Aguadilla | B19: 377 | C19: 377 | D19: 285 | E19: 76 | F19: 0 | G19: 0 | H19: 0 | I19: 0
A20: Universidad de Puerto Rico-Arecibo | B20: 560 | C20: 560 | D20: 441 | E20: 79 | F20: 0 | G20: 0 | H20: 0 | I20: 0
A21: Universidad de Puerto Rico-Bayamón | B21: 492 | C21: 492 | D21: 386 | E21: 78 | F21: 1 | G21: 1 | H21: 1 | I21: 100
A22: Universidad de Puerto Rico-Carolina | B22: 557 | C22: 557 | D22: 422 | E22: 76 | F22: 0 | G22: 0 | H22: 0 | I22: 0
A23: Universidad de Puerto Rico-Cayey | B23: 482 | C23: 482 | D23: 380 | E23: 79 | F23: 1 | G23: 1 | H23: 1 | I23: 100
A24: Universidad de Puerto Rico-Cs. Médicas | B24: n/a | C24: n/a | D24: n/a | E24: n/a | F24: n/a | G24: n/a | H24: n/a | I24: n/a
A25: Universidad de Puerto Rico-Humacao | B25: 508 | C25: 508 | D25: 380 | E25: 75 | F25: 4 | G25: 4 | H25: 1 | I25: 25
A26: Universidad de Puerto Rico-Mayagüez | B26: 1666 | C26: 1666 | D26: 1403 | E26: 84 | F26: 1 | G26: 1 | H26: 1 | I26: 100
A27: Universidad de Puerto Rico-Ponce | B27: 411 | C27: 411 | D27: 330 | E27: 80 | F27: 0 | G27: 0 | H27: 0 | I27: 0
A28: Universidad de Puerto Rico-Río Piedras | B28: 1743 | C28: 1743 | D28: 1392 | E28: 80 | F28: 6 | G28: 6 | H28: 1 | I28: 17
A29: Universidad de Puerto Rico-Utuado | B29: 25 | C29: 25 | D29: 15 | E29: 60 | F29: 0 | G29: 0 | H29: 0 | I29: 0
A31: Sector privado sin fines de lucro
A32: American University of Puerto Rico-Bayamón | B32: n/a | C32: n/a | D32: n/a | E32: n/a | F32: n/a | G32: n/a | H32: n/a | I32: n/a
A33: American University of Puerto Rico-Manatí | B33: n/a | C33: n/a | D33: n/a | E33: n/a | F33: n/a | G33: n/a | H33: n/a | I33: n/a
A34: Atenas College | B34: 25 | C34: 25 | D34: 19 | E34: 76 | F34: 2 | G34: 2 | H34: 1 | I34: 50
A35: Atlantic Univesity College | B35: 335 | C35: 334 | D35: 244 | E35: 73 | F35: 3 | G35: 3 | H35: 2 | I35: 67
A36: Caribbean University-Bayamón | B36: 72 | C36: 72 | D36: 47 | E36: 65 | F36: 1 | G36: 1 | H36: 1 | I36: 100
A37: Caribbean University-Carolina | B37: 7 | C37: 7 | D37: 4 | E37: 57 | F37: 0 | G37: 0 | H37: 0 | I37: 0
A38: Caribbean University-Ponce | B38: 28 | C38: 28 | D38: 14 | E38: 50 | F38: 0 | G38: 0 | H38: 0 | I38: 0
A39: Caribbean University-Vega Baja | B39: 16 | C39: 16 | D39: 11 | E39: 69 | F39: 1 | G39: 1 | H39: 0 | I39: 0
A40: Centro de Estudios Avanzados de PR y el Caribe | B40: n/a | C40: n/a | D40: n/a | E40: n/a | F40: n/a | G40: n/a | H40: n/a | I40: n/a
A41: Dewey University-Carolina | B41: 31 | C41: 31 | D41: 19 | E41: 61 | F41: 15 | G41: 15 | H41: 9 | I41: 60
A42: Dewey University-Hato Rey | B42: 28 | C42: 28 | D42: 17 | E42: 61 | F42: 10 | G42: 10 | H42: 7 | I42: 70
A43: Dewey University-Juana Díaz | B43: 26 | C43: 26 | D43: 16 | E43: 62 | F43: 9 | G43: 9 | H43: 5 | I43: 56
...

Sheet Tabla 11
A1: Gobierno de Puerto Rico
A2: Departamento de Estado
A3: Junta de Instituciones Postsecundarias
A5: Compendio Estadístico sobre la Educación Superior de Puerto Rico
A6: Año académico 2023-2024
A8: Tabla 11. Costo anual de matrícula en dólares de las instituciones de educación superior en Puerto Rico
A9: Sector/Institución | B9: Subgraduado | H9: Graduado
B10: En el Estado1 | E10: Fuera del Estado2 | H10: En el Estado1 | K10: Fuera del Estado2
B11: Tiempo Completo | D11: Tiempo Parcial | E11: Tiempo Completo | G11: Tiempo Parcial | H11: Tiempo Completo | J11: Tiempo Parcial | K11: Tiempo Completo | M11: Tiempo Parcial
B12: Costo promedio de matrícula | C12: Otros gastos de matrícula | D12: Costo por crédito | E12: Costo promedio de matrícula | F12: Otros gastos de matrícula | G12: Costo por crédito | H12: Costo promedio de matrícula | I12: Otros gastos de matrícula | J12: Costo por crédito | K12: Costo promedio de matrícula | L12: Otros gastos de matrícula | M12: Costo por crédito
A13: Sector público
A14: Colegio Universitario de San Juan | B14: 2040 | C14: 300 | D14: 85 | E14: 2040 | F14: 300 | G14: 85
A15: Conservatorio de Música de Puerto Rico | B15: 2520 | C15: 850 | D15: 105 | E15: 2520 | F15: 850 | G15: 105 | H15: 2160 | I15: 860 | J15: 180 | K15: 2160 | L15: 860 | M15: 180
A16: Escuela de Artes Plásticas de Puerto Rico | B16: 4300 | C16: 602 | D16: 150 | E16: 7900 | F16: 602 | G16: 300
A17: Instituto Tecnológico de Puerto Rico-Guayama | B17: 1500 | C17: 118 | D17: 75 | E17: 1500 | F17: 118 | G17: 75
A18: Instituto Tecnológico de Puerto Rico-Manatí | B18: 1500 | C18: 100 | D18: 75 | E18: 1500 | F18: 100 | G18: 75
A19: Instituto Tecnológico de Puerto Rico-San Juan | B19: 3607 | C19: 100 | D19: 75 | E19: 3607 | F19: 100 | G19: 75
A20: Universidad de Puerto Rico-Aguadilla | B20: 5024 | C20: 900 | D20: 157 | E20: 5024 | F20: 900 | G20: 157
A21: Universidad de Puerto Rico-Arecibo | B21: 5024 | C21: 300 | D21: 157 | E21: 5024 | F21: 300 | G21: 157 | H21: 3510 | I21: 600 | J21: 195 | K21: 3510 | L21: 600 | M21: 195
A22: Universidad de Puerto Rico-Bayamón | B22: 5954 | C22: 330 | D22: 157 | E22: 5954 | F22: 330 | G22: 157
A23: Universidad de Puerto Rico-Carolina | B23: 7536 | C23: 450 | D23: 157 | E23: 7536 | F23: 450 | G23: 157
A24: Universidad de Puerto Rico-Cayey | B24: 5024 | C24: 300 | D24: 157 | E24: 5024 | F24: 300 | G24: 157
A25: Universidad de Puerto Rico-Cs. Médicas | B25: 5652 | C25: 3293 | D25: 157 | E25: 5652 | F25: 3293 | G25: 157 | H25: 10440 | I25: 3820 | J25: 290 | K25: 10440 | L25: 3820 | M25: 290
A26: Universidad de Puerto Rico-Humacao | B26: 5024 | C26: 300 | D26: 157 | E26: 5024 | F26: 300 | G26: 157
A27: Universidad de Puerto Rico-Mayagüez | B27: 5024 | C27: 250 | D27: 157 | E27: 5024 | F27: 250 | G27: 157 | H27: 3600 | I27: 200 | J27: 200 | K27: 3600 | L27: 200 | M27: 200
A28: Universidad de Puerto Rico-Ponce | B28: 5024 | C28: 300 | D28: 157 | E28: 5024 | F28: 300 | G28: 157
A29: Universidad de Puerto Rico-Río Piedras | B29: 5024 | C29: 300 | D29: 157 | E29: 5024 | F29: 300 | G29: 157 | H29: 3870 | I29: 600 | J29: 215 | K29: 3870 | L29: 600 | M29: 215
A30: Universidad de Puerto Rico-Utuado | B30: 5024 | C30: 300 | D30: 157 | E30: 5024 | F30: 300 | G30: 157
A32: Sector privado sin fines de lucro
A33: American University of Puerto Rico-Bayamón* | B33: 5400 | C33: 1656 | D33: 225 | E33: 5400 | F33: 1656 | G33: 225 | H33: 6720 | I33: 260 | J33: 305 | K33: 6720 | L33: 260 | M33: 305
A34: American University of Puerto Rico-Manatí* | B34: 5400 | C34: 1656 | D34: 225 | E34: 5400 | F34: 1656 | G34: 225 | H34: 6720 | I34: 260 | J34: 305 | K34: 6720 | L34: 260 | M34: 305
A35: Atenas College | B35: 6763 | C35: 1599 | D35: 195 | E35: 6763 | F35: 1599 | G35: 195 | H35: 6000 | I35: 1495 | J35: 200 | K35: 6000 | L35: 1495 | M35: 200
A36: Atlantic Univesity College | B36: 6120 | C36: 2160 | D36: 170 | E36: 6120 | F36: 2160 | G36: 170 | H36: 3600 | I36: 2325 | J36: 200 | K36: 3600 | L36: 2325 | M36: 200
A37: Caribbean University-Bayamón | B37: 4742 | C37: 1190 | D37: 204 | E37: 4742 | F37: 1190 | G37: 204 | H37: 5200 | I37: 1150 | J37: 225 | K37: 5200 | L37: 1150 | M37: 225
A38: Caribbean University-Carolina | B38: 4385 | C38: 1190 | D38: 204 | E38: 4385 | F38: 1190 | G38: 204 | H38: 5200 | I38: 1150 | J38: 225 | K38: 5200 | L38: 1150 | M38: 225
A39: Caribbean University-Ponce | B39: 4385 | C39: 1190 | D39: 204 | E39: 4385 | F39: 1190 | G39: 204 | H39: 5200 | I39: 1150 | J39: 225 | K39: 5200 | L39: 1150 | M39: 225
A40: Caribbean University-Vega Baja | B40: 4742 | C40: 1190 | D40: 204 | E40: 4742 | F40: 1190 | G40: 204 | H40: 5200 | I40: 1150 | J40: 225 | K40: 5200 | L40: 1150 | M40: 225
A41: Centro de Estudios Avanzados de PR y el Caribe | H41: 2900 | I41: 235 | J41: 250 | K41: 2900 | L41: 235 | M41: 250
A42: Dewey University-Carolina | B42: 7080 | C42: 550 | D42: 180 | E42: 7080 | F42: 550 | G42: 180
A43: Dewey University-Hato Rey | B43: 6480 | C43: 765 | D43: 180 | E43: 6480 | F43: 765 | G43: 180 | H43: 5335 | I43: 895 | J43: 202 | K43: 5335 | L43: 895 | M43: 202
...

Sheet Tabla 12
A1: Gobierno de Puerto Rico
A2: Departamento de Estado
A3: Junta de Instituciones Postsecundarias
A5: Compendio Estadístico sobre la Educación Superior de Puerto Rico
A6: Año académico 2023-24
A8: Tabla 12. Recursos humanos por ocupación, tarea y sector en las instituciones de educación superior en Puerto Rico
A9: Ocupaciones por categoría* | B9: Total | F9: Tiempo completo | J9: Tiempo parcial
B10: Gran total | C10: Público | D10: Privado sin fines de lucro | E10: Privado con fines de lucro | F10: Total | G10: Público | H10: Privado sin fines de lucro | I10: Privado con fines de lucro | J10: Total | K10: Público | L10: Privado sin fines de lucro | M10: Privado con fines de lucro
