Workbook

Sheet Grower Information
A1: Producer's name | C1: grower
A2: County | C2: Butte
A3: Farm # | C3: 123
A4: Temperate Japonica Base Acres | C4: 100
A5: Payment Yield (#'s)/A | C5: 7999
A6: FARM PROGRAM CHOICE ESTIMATES
A7: WHAT | D7: 2025 | E7: 2026
A8: Expected County Yield | D8: 9300 | E8: 8900
A9: Expected Price | D9: 20 | E9: 20
A10: Low County Yield | D10: 8900 | E10: 8500
A11: Low Price | D11: 19.5 | E11: 19
A12: 1. Enter Producer's name 2. Enter County 3. Get out the FSA-156EZ for the farm (have to do one farm at a time). 4. Enter Farm Number 5. Enter Temperate Japonica Base Acres 6. Enter the Price Loss Coverage payment yield for the farm. 7. Enter your expected and low county yields for 2025 and 2026. Remember these are the county yields, NOT your yields. 8. Enter your expected and low prices for 2025 and 2026. 10.The Summary Tab will compare PLC and ARC-CO. You can change your price and yield estimates, both expected and low, to see how the programs compare. 11. The good new for 2025 is that whatever program generates the higher payment is your program, even if you selected the other. 12. If you have any problems please send me an email

Sheet CA County Rice Yields
A1: Yields All USDA Trend Adjusted | B1: 2018 | C1: 2019 | D1: 2020 | E1: 2021 | F1: 2022 | G1: 2023 | H1: 2024 | I1: OLYMPIC AVERAGE FOR 2024 | J1: OLYMPIC AVERAGE FOR 2025 | K1: OLYMPIC AVERAGE FOR 2026 | L1: Factor to adjust 2026 based on 2025/2024 ratio
A2: COUNTY | I2: 2018-2022 | J2: 2019-2023 | K2: 2020-2024
A3: Butte | B3: 9175.83 | C3: 9051.07 | D3: 9358.79 | E3: 10053.4 | F3: 9639.69 | I3: =(B3+D3+F3)/3 -> 9391.4367
C4: 9089.26 | D4: 9399.35 | E4: 10096.33 | F4: 9684.99 | G4: 9368.63 | J4: 9484.32 | L4: =J4/I3 -> 1.0098902
D5: =C4*$L4 -> 9179.1547 | E5: =D4*$L4 -> 9492.3116 | F5: =E4*$L4 -> 10196.185 | G5: =F4*$L4 -> 9780.7766 | H5: =G4*$L4 -> 9461.2878 | K5: =(E5+G5+H5)/3 -> 9578.1253
A6: Colusa | B6: 9234 | C6: 8952 | D6: 9341.55 | E6: 9524.58 | F6: 7988.92 | I6: =(B6+C6+D6)/3 -> 9175.85
C7: 8994.52 | D7: 9385.29 | E7: 9569.81 | F7: 8035.65 | G7: 9219.56 | J7: 9199.8 | L7: =J7/I6 -> 1.0026101
D8: =C7*$L7 -> 9017.9967 | E8: =D7*$L7 -> 9409.7867 | F8: =E7*$L7 -> 9594.7883 | G8: =F7*$L7 -> 8056.6239 | H8: =G7*$L7 -> 9243.6241 | K8: =(E8+G8+H8)/3 -> 8903.3449
A9: Fresno | B9: 8778.2 | C9: 8146.5 | D9: 8945.8 | E9: 8029.43 | F9: 7889.01 | I9: 8318.04
C10: 8184.06 | D10: 8983.55 | E10: 8067.37 | F10: 7927.14 | G10: 8519.2 | J10: 8256.88 | L10: =J10/I9 -> 0.99264731
D11: =C10*$L10 -> 8123.8851 | E11: =D10*$L10 -> 8917.4967 | F11: =E10*$L10 -> 8008.0531 | G11: =F10*$L10 -> 7868.8542 | H11: =G10*$L10 -> 8456.5609 | K11: =(E11+G11+H11)/3 -> 8414.3039
A12: Glenn | B12: 9098.08 | C12: 9113.65 | D12: 9257.74 | E12: 9681.32 | F12: 8143.34 | I12: =(B12+C12+D12)/3 -> 9156.49
C13: 9155.12 | D13: 9300.99 | E13: 9726.35 | F13: 8190.15 | G13: 9153.69 | J13: 9203.27 | L13: =J13/I12 -> 1.0051089
D14: =C13*$L13 -> 9201.893 | E14: =D13*$L13 -> 9348.5082 | F14: =E13*$L13 -> 9776.0414 | G14: =F13*$L13 -> 8231.993 | H14: =G13*$L13 -> 9200.4557 | K14: =(E14+G14+H14)/3 -> 8926.9857
A15: Kern | B15: 7364 | C15: 7463 | D15: 7869 | E15: 7913.33 | F15: 7811.61 | I15: =(C15+D15+F15)/3 -> 7714.5367
C16: 7463 | D16: 7869 | E16: 7913.33 | F16: 7811.61 | G16: 8442.18 | J16: 7864.55 | L16: =J16/I15 -> 1.0194455
D17: =C16*$L16 -> 7608.1221 | E17: =D16*$L16 -> 8022.017 | F17: =E16*$L16 -> 8067.209 | G17: =F16*$L16 -> 7963.511 | H17: =G16*$L16 -> 8606.3428 | K17: =(E17+G17+H17)/3 -> 8197.2902
A18: Madera | B18: 5748 | C18: 6241 | D18: 5543 | E18: 7913.33 | F18: 7811.61 | I18: =(B18+C18+F18)/3 -> 6600.2033
C19: 6241 | D19: 5543 | E19: 7913.33 | F19: 7811.61 | G19: 8442.18 | J19: 7321.98 | L19: =J19/I18 -> 1.1093567
D20: =C19*$L19 -> 6923.4954 | E20: =D19*$L19 -> 6149.1644 | F20: =E19*$L19 -> 8778.7059 | G20: =F19*$L19 -> 8665.8621 | H20: =G19*$L19 -> 9365.3892 | K20: =(E20+G20+H20)/3 -> 8060.1386
A21: Merced | B21: 8193.4 | C21: 8363.92 | D21: 7380.19 | E21: 8078.63 | F21: 7921.81 | I21: =(B21+E21+F21)/3 -> 8064.6133
C22: 8410.08 | D22: 7427.84 | E22: 8127.77 | F22: 7972.44 | G22: 8549.4 | J22: 8170.1 | L22: =J22/I21 -> 1.0130802
D23: =C22*$L22 -> 8520.0854 | E23: =D22*$L22 -> 7524.9976 | F23: =E22*$L22 -> 8234.0828 | G23: =F22*$L22 -> 8076.721 | H23: =G22*$L22 -> 8661.2278 | K23: =(E23+G23+H23)/3 -> 8087.6488
A24: Placer | B24: 7470.11 | C24: 7241.66 | D24: 8331.43 | E24: 8975.73 | F24: 8767.89 | I24: =(B24+D24+F24)/3 -> 8189.81
C25: 7265.84 | D25: 8356.02 | E25: 9000.73 | F25: 8793.3 | G25: 8079.27 | J25: 8409.3 | L25: =J25/I24 -> 1.0268004
D26: =C25*$L25 -> 7460.5673 | E26: =D25*$L25 -> 8579.9645 | F26: =E25*$L25 -> 9241.953 | G26: =F25*$L25 -> 9028.9638 | H26: =G25*$L25 -> 8295.7975 | K26: =(E26+G26+H26)/3 -> 8634.9086
A27: Sacramento | B27: 9788.16 | C27: 8385.02 | D27: 8781.33 | E27: 8902.85 | F27: 7936.76 | I27: =(C27+D27+E27)/3 -> 8689.7333
C28: 8424.68 | D28: 8822.3 | E28: 8945.13 | F28: 7980.35 | G28: 8365.46 | J28: 8537.8 | L28: =J28/I27 -> 0.98251577
D29: =C28*$L28 -> 8277.3809 | E29: =D28*$L28 -> 8668.0488 | F29: =E28*$L28 -> 8788.7313 | G29: =F28*$L28 -> 7840.8197 | H29: =G28*$L28 -> 8219.1963 | K29: =(E29+G29+H29)/3 -> 8242.6883
A30: San Joaquin | B30: 10001.3 | C30: 9094.33 | D30: 9271.51 | E30: 9498.07 | F30: 9426.92 | I30: =(D30+E30+F30)/3 -> 9398.8333
C31: 9137.35 | D31: 9315.74 | E31: 9543.48 | F31: 9473.51 | G31: 7683.66 | J31: 9308.87 | L31: =J31/I30 -> 0.99042824
D32: =C31*$L31 -> 9049.8895 | E32: =D31*$L31 -> 9226.572 | F32: =E31*$L31 -> 9452.1321 | G32: =F31*$L31 -> 9382.8319 | H32: =G31*$L31 -> 7610.1139 | K32: =(E32+G32+H32)/3 -> 8739.8393
A33: Solano | B33: 8364 | C33: 8536 | D33: 8215 | E33: 8181.99 | F33: 6931.95 | I33: 8253.66
C34: 8536 | D34: 8215 | E34: 8181.99 | F34: 6931.95 | G34: 7821.04 | J34: 8072.68 | L34: =J34/I33 -> 0.97807276
D35: =C34*$L34 -> 8348.8291 | E35: =D34*$L34 -> 8034.8677 | F35: =E34*$L34 -> 8002.5815 | G35: =F34*$L34 -> 6779.9515 | H35: =G34*$L34 -> 7649.5462 | K35: =(E35+G35+H35)/3 -> 7488.1218
A36: Stanislaus | B36: 8607.76 | C36: 8392.3 | D36: 8122.84 | E36: 8061.71 | F36: 7030.87 | I36: =(C36+D36+E36)/3 -> 8192.2833
C37: 8436.48 | D37: 8167.9 | E37: 8107.65 | F37: 7077.69 | G37: 7918.2 | J37: 8064.58 | L37: =J37/I36 -> 0.98441175
D38: =C37*$L37 -> 8304.9701 | E38: =D37*$L37 -> 8040.5768 | F38: =E37*$L37 -> 7981.266 | G38: =F37*$L37 -> 6967.3612 | H38: =G37*$L37 -> 7794.7691 | K38: =(E38+G38+H38)/3 -> 7600.9024
A39: Sutter | B39: 9232.93 | C39: 8708.97 | D39: 8936.38 | E39: 9287.76 | F39: 8675.38 | I39: =(B39+C39+D39)/3 -> 8959.4267
C40: 8746.47 | D40: 8975.81 | E40: 9329.12 | F40: 8718.67 | G40: 8802.34 | J40: 8841.54 | L40: =J40/I39 -> 0.98684216
...

Sheet Prices
A2: TEMPERATE JAPONICA RICE - BENCHMARK PRICES
A3: Year | B3: 2018/19 | C3: 2019/20 | D3: 2020/21 | E3: 2021/22 | F3: 2022/23 | G3: 2023/24 | H3: 2024/25 P | I3: 2025/26 P | J3: 2026/27 P | K3: 2024 Benchmark Price | L3: 2025 Benchmark Price | M3: 2026 Benchmark Price
A4: 2024 | B4: 21.1 | C4: 21.6 | D4: 22.6 | E4: 31.9 | F4: 40.9 | G4: MYA Price Olympic Average | K4: =(C4+D4+E4)/3 -> 25.366667
B5: 2025 | C5: 21.6 | D5: 22.6 | E5: 31.9 | F5: 40.9 | G5: 22.3 | H5: MYA Price Olympic Average | L5: =(D5+E5+G5)/3 -> 25.6
C6: 24.33 | D6: 24.33 | E6: 31.9 | F6: 40.9 | G6: 24.33 | H6: Use Effective Reference Price in low price years | L6: =(D6+E6+G6)/3 -> 26.853333
C7: 2026 | D7: 22.6 | E7: 31.9 | F7: 40.9 | G7: =G5 -> 22.3 | H7: 20 | I7: MYA Price Olympic Average | M7: =(D7+E7+G7)/3 -> 25.6
D8: 24.33 | E8: 31.9 | F8: 40.9 | G8: 24.33 | H8: 24.33 | I8: Use Effective Reference Price in low price years | M8: =(D8+E8+G8)/3 -> 26.853333

Sheet PLC
A1: PRICE LOSS COVERAGE ("PLC") - TEMPERATE JAPONICA RICE - ESTIMATE
A2: YEAR | E2: 2025 | G2: 2026
A3: Producer's Effective Price Estimates | E3: Estimated | F3: Low | G3: Estimated | H3: Low
E4: ='Grower Information'!D9 -> 20 | F4: ='Grower Information'!D11 -> 19.5 | G4: ='Grower Information'!E9 -> 20 | H4: ='Grower Information'!E11 -> 19
A5: The Effective Reference price for the covered commodity | D5: 19.9 | E5: 24.33 | F5: =E5 -> 24.33 | G5: 24.33 | H5: =G5 -> 24.33
A6: Determine Payment Rate | C6: Difference | E6: =IF(E4>E5,0,E4-E5) -> -4.33 | F6: =IF(F4>F5,0,F4-F5) -> -4.83 | G6: =IF(G4>G5,0,G4-G5) -> -4.33 | H6: =IF(H4>H5,0,H4-H5) -> -5.33
A8: Payment Yield | E8: ='Grower Information'!$C5 -> 7999 | F8: ='Grower Information'!$C5 -> 7999 | G8: ='Grower Information'!$C5 -> 7999 | H8: ='Grower Information'!$C5 -> 7999
A10: Determine Payment Acres | C10: Base Acres | D10: ='Grower Information'!C4 -> 100
C11: Factor | D11: 0.85 | E11: =$D10*$D11 -> 85 | F11: =$D10*$D11 -> 85 | G11: =$D10*$D11 -> 85 | H11: =$D10*$D11 -> 85
A13: Payment Amount = Effective Price - Effective Reference Price x payment yield x payment acres | E13: =-E6*E8*E11/100 -> 29440.319 | F13: =-F6*F8*F11/100 -> 32839.894 | G13: =-G6*G8*G11/100 -> 29440.319 | H13: =-H6*H8*H11/100 -> 36239.469
A14: Apply Sequestration | D14: 0.057 | E14: =E13*(1-$D14) -> 27762.221 | F14: =F13*(1-$D14) -> 30968.021 | G14: =G13*(1-$D14) -> 27762.221 | H14: =H13*(1-$D14) -> 34173.82

Sheet ARC County 2024-26
A1: TEMPERATE JAPONICA RICE - ARC COUNTY COVERAGE - ESTIMATED PAYMENTS NOTE PRICES ARE SO LOW COMPARED TO FIVE (5) YEAR HISTORY THAT NO DIFFERENCE IN HIGH VERSUS LOW PRICES
A3: 2025
A4: Item | B4: County | C4: Benchmark Yield lbs | D4: Benchmark Price | E4: Benchmark Revenue | F4: Factor | G4: ARC Guarantee | H4: Estimated Yield | J4: Estimated Price | L4: Estimated Revenue/Acre | N4: Difference | P4: Maximum | Q4: Payment/Acre
A5: 2 | H5: Best Guess | I5: Low | J5: Best Guess | K5: Low | L5: Best Guess | M5: Low | N5: Best Guess | O5: Low | P5: 12% of Guarantee | Q5: Best Guess | R5: Low
B6: ='Grower Information'!C2 -> Butte | C6: ='CA County Rice Yields'!J4 -> 9484.32 | D6: =Prices!L6 -> 26.853333 | E6: =C6*D6/100 -> 2546.8561 | F6: 0.9 | G6: =E6*F6 -> 2292.1705 | H6: ='Grower Information'!D8 -> 9300 | I6: ='Grower Information'!D10 -> 8900 | J6: ='Grower Information'!D9 -> 20 | K6: ='Grower Information'!E11 -> 19 | L6: =H6*J6/100 -> 1860 | M6: =I6*K6/100 -> 1691 | N6: =IF(G6-L6<0,0,G6-L6) -> 432.17046 | O6: =IF($G6-M6<0,0,$G6-M6) -> 601.17046 | P6: =G6*0.12 -> 275.06045 | Q6: =IF(N6>$P6,$P6,N6) -> 275.06045 | R6: =IF(O6>$P6,$P6,O6) -> 275.06045
H7: Orange cells are grower inputs from Grower Information Tab | N7: Base Acres | O7: ='Grower Information'!C4 -> 100 | P7: =O7*0.85 -> 85 | Q7: Total Payments
Q8: =Q6*P7 -> 23380.139 | R8: =R6*P7 -> 23380.139
B9: Sequestration | Q9: =Q8*(1-0.057) -> 22047.471 | R9: =R8*(1-0.057) -> 22047.471
A11: 2026 - estimates
A12: Item | B12: County | C12: Benchmark Yield lbs | D12: Benchmark Price | E12: Benchmark Revenue | F12: Factor | G12: ARC Guarantee | H12: Estimated Yield | J12: Estimated Price | L12: Estimated Revenue/Acre | N12: Difference | P12: Maximum | Q12: Payment/Acre
A13: 3 | H13: Best Guess | I13: Low | J13: Best Guess | K13: Low | L13: Best Guess | M13: Low | N13: Best Guess | O13: Low | P13: 12% of Guarantee | Q13: Best Guess | R13: Low
B14: ='Grower Information'!C2 -> Butte | C14: ='CA County Rice Yields'!K5 -> 9578.1253 | D14: =Prices!M8 -> 26.853333 | E14: =C14*D14/100 -> 2572.0459 | F14: 0.9 | G14: =E14*F14 -> 2314.8413 | H14: ='Grower Information'!E8 -> 8900 | I14: ='Grower Information'!E10 -> 8500 | J14: ='Grower Information'!E9 -> 20 | K14: ='Grower Information'!E11 -> 19 | L14: =H14*J14/100 -> 1780 | M14: =I14*K14/100 -> 1615 | N14: =IF(G14-L14<0,0,G14-L14) -> 534.84133 | O14: =IF($G14-M14<0,0,$G14-M14) -> 699.84133 | P14: =G14*0.12 -> 277.78096 | Q14: =IF(N14>$P14,$P14,N14) -> 277.78096 | R14: =IF(O14>$P14,$P14,O14) -> 277.78096
H15: Orange cells are grower inputs from Grower Information Tab | N15: Base Acres | O15: ='Grower Information'!C4 -> 100 | P15: =O15*0.85 -> 85 | Q15: Total Payments
Q16: =Q14*P15 -> 23611.382 | R16: =R14*P15 -> 23611.382
B17: Sequestration | Q17: =Q16*(1-0.057) -> 22265.533 | R17: =R16*(1-0.057) -> 22265.533

Sheet Summary
A1: PRICE LOSS COVERAGE ("PLC")
A2: Year | B2: Estimated Price | C2: Payments | D2: Low Estimated Price | E2: Payments
A3: 2025 | B3: ='Grower Information'!D9 -> 20 | C3: =PLC!E14 -> 27762.221 | D3: ='Grower Information'!D11 -> 19.5 | E3: =PLC!F14 -> 30968.021
A4: 2026 Est | B4: ='Grower Information'!E9 -> 20 | C4: =PLC!E14 -> 27762.221 | D4: =PLC!H4 -> 19 | E4: =PLC!H14 -> 34173.82
A6: AGRICULTURE RISK COVERAGE - INDIVIDUAL ("ARC-I")
A7: 2025 | B7: too many variables to estimate
A8: 2026
A10: AGRICULTURE RISK COVERAGE - COUNTY ("ARC-CO")
A11: Year | B11: Estimated Price | C11: Payments | D11: Low Estimated Price | E11: Payments
A12: 2025 | B12: ='ARC County 2024-26'!J6 -> 20 | C12: ='ARC County 2024-26'!Q9 -> 22047.471 | D12: ='Grower Information'!D11 -> 19.5 | E12: ='ARC County 2024-26'!R8 -> 23380.139
A13: 2026 Est | B13: ='Grower Information'!E9 -> 20 | C13: ='ARC County 2024-26'!Q17 -> 22265.533 | D13: ='ARC County 2024-26'!K14 -> 19 | E13: ='ARC County 2024-26'!R17 -> 22265.533
