Workbook

Sheet scope 3 berekening 2025
A2: SCOPE 3 ANALYSE 2025
A3: Scope 3-raming met energievoorketen, drinkwater en afgebakend woon-werkverkeer.
A5: Onderdeel | B5: Bekende inkoopbasis (€) | C5: Emissie (kg CO₂e) | D5: Emissie (ton CO₂e) | E5: Aandeel emissie
A7: 1. Ingekochte goederen en diensten | B7: 2640704.8 | C7: 437770.01 | D7: 437.77001 | E7: 0.53959768
A8: 2. Kapitaalgoederen | B8: 421161.76 | C8: 157691.32 | D8: 157.69132 | E8: 0.19437117
A9: 3. Brandstof- en energievoorketen | C9: 152260 | D9: 152.26 | E9: 0.1876765
A10: 7. Woon-werkverkeer | C10: 63568.32 | D10: 63.56832 | E10: 0.078354654
A11: Overige categorieën | D11: zie GHG-afbakening
A13: Totaal gekwantificeerde scope 3 | B13: 3061866.5 | C13: 811289.65 | D13: 811.28965 | E13: 1
A16: Administratie (categorie 1) | B16: Netto bron (€) | C16: In berekening (€) | D16: Emissie (ton CO₂e) | E16: Status
A17: RKS Verkeerstechniek | B17: 1261353.5 | C17: 1226754 | D17: 143.7714 | E17: Conceptboekingen
A18: Unsal Uitzend- en aanneming | B18: 1430379.8 | C18: 1413950.8 | D18: 293.91861 | E18: Definitief geboekt
A19: Subtotaal inkoopkaarten (excl. water) | B19: 2691733.3 | C19: 2640704.8 | D19: 437.69001
A22: Uitgesloten boekingen | B22: Bedrag (€) | C22: Reden
A23: Interne huur Unsal Holding | B23: 16429 | C23: Interne groepshuur geëlimineerd; Holding valt binnen de energiegrens van de ontvangen rapportages. | G23: GHG-categorie | H23: ton CO₂e
A24: Desinvestering verhuurinventaris | B24: 33659 | C24: Boekwaarde afstoting is geen nieuwe aankoop. | G24: 1. Ingekochte goederen en diensten | H24: 437.77001
A25: Leges en heffingen | B25: 940.54 | C25: Geen rechtstreeks ingekochte productieactiviteit. | G25: 2. Kapitaalgoederen | H25: 157.69132
A26: Totaal uitgesloten | B26: 51028.54 | G26: 3. Brandstof- en energievoorketen | H26: 152.26
G27: 7. Woon-werkverkeer | H27: 63.56832
A29: De rapportages en de toelichting van de opdrachtgever zijn verwerkt. Energievoorketen en drinkwater zijn afzonderlijk opgenomen. Overige stromen zijn volgens opgave in de onderliggende rapportages verwerkt; niet afzonderlijk uitgesplitste categorieën krijgen geen verzonnen extra bedrag. | G29: Omzet en activiteit 2025
G30: Totale omzet (€) | H30: 39510000
A31: Ünsal levert uitvoeringsdiensten met voorgeschreven materialen. Eigen materiaalinkoop blijft meetellen. De reguliere dienstverlening en de nevenverkoop van gebruikte voertuigen zijn afzonderlijk beoordeeld op het tabblad GhG protocollen. | G31: Verkeersmaatregelen | H31: 0.06
G32: Omzet verkeersmaatregelen (€) | H32: 2370600
A33: 2024 en 2025 zijn nu niet rechtstreeks vergelijkbaar: de gegevensdekking en emissiefactoren verschillen. Het sjabloon 2024 bevatte 10.214,0 ton ongewogen en 9.945,8 ton gewogen. Dit is geen reductiepercentage. | G33: Scope 3 (ton / € miljoen omzet) | H33: 20.53378
A35: Verslagjaar 2025. Bijgewerkt 24 oktober 2026. Inkopen en kapitaalgoederen zijn spend-based ramingen. Woon-werk gebruikt afstanden en geraamde reisdagen. De energievoorketen is afgeleid uit afgeronde rapportagetotalen; zie Energievoorketen 2025.
A37: Het administratietotaal hierboven betreft de eerder verwerkte inkoopkaarten, exclusief drinkwater. De energiebron omvat Holding, Infra, Uitzendbureau en RKS. De aanvullingen zijn niet per entiteit uitgesplitst. De bekende inkoopbasis bevat geen afzonderlijke waterkosten.
A40: E & ER Infra Consult | B40: Inkoop (€) | C40: Factorcode | D40: kg CO₂e / € | E40: Emissie (ton)
A41: Grondwerk bevestigd | B41: 1011470.8 | C41: INFRA | D41: 0.21446894 | E41: 216.92906
A43: Woon-werk: 15 medewerkers met eigen vervoer, 5 met OV en 2 met de fiets zijn berekend. De 78 medewerkers met bedrijfsauto en 30 thuis opgehaalde meerijders vallen voor de voertuigritten in scope 1/2. Geen extra categorie 7; de energievoorketen valt in categorie 3.
A45: Kapitaalgoederen zijn op bruto aankopen exclusief BPM geraamd. Verkopen, inruil en afgeboekte boekwaarden leveren geen aftrek op de productie-emissies van aankopen.
A47: Aannames: 46 reisweken, 8 uur per werkdag en gemiddelde privéauto/OV. Voor de meetwagen is ontvangst/activering in 2025 aangenomen. De tabbladen Woon-werk 2025 en Kapitaalgoederen 2025 bevatten de volledige berekening.
A49: E & ER Infra Consult is bevestigd als onderaannemer voor grondwerk. De eerdere alternatieven personeelsinhuur/advies zijn vervallen. De factor blijft INFRA; leveranciersspecifieke uitstoot kan de raming later verbeteren.
A51: Geen voertuiglease volgens opgave. Het plaatsen van verkeersmaatregelen is toegevoegd als activiteit. Materieelhuur, VRI’s en eventuele verhuur aan derden worden naar contract en operationele beheersing ingedeeld; de omzetverdeling is geen emissiefactor.
A53: De energievoetafdruk van 637,54 ton bevat al 152,26 ton geraamde energievoorketen en 0,08 ton drinkwater. Gebruik bij optelling met deze scope 3-analyse het directe/opwekkingsdeel van 485,20 ton. Zie de aansluitingscontrole op Energievoorketen 2025.

Sheet inkoopanalyse
B2: Inkoopanalyse 2025
B4: RKS Verkeerstechniek en Unsal Uitzend- en aanneming. Boekjaar 2025, perioden 1 t/m 12. Alle aangeleverde regels, inclusief creditnota’s en memoriaalboekingen.
B12: Jaar | C12: Leverancier | D12: Administratiegrens | E12: Netto inkoop (€) | F12: Categorie | G12: Cumulatief (€) | H12: Cumulatief aandeel | I12: Emissie (ton) | J12: Categorie totaal | L12: Inkoop 2025 (€) | M12: Aandeel inkoop | N12: Cumulatief | O12: Grootte | P12: Invloed | Q12: Stakeholders | R12: Frequentie | S12: Relevantie | T12: Gem. factor | U12: Eenheid | V12: Emissie kg CO₂e | W12: Emissie ton CO₂e | X12: Fysieke emissie kg | Y12: Fysieke emissie ton | Z12: Toelichting
B14: 2025 | C14: E & ER Infra Consult B.V. | D14: Aangeleverd | E14: 1011470.8 | F14: Onderaanneming | G14: 1011470.8 | H14: 0.37570817 | I14: 216.92906 | J14: Uitzendbureau / dienstverlening | L14: 732366.43 | M14: 0.27733749 | N14: 0.27733749 | O14: niet gewogen | P14: niet gewogen | Q14: niet gewogen | R14: niet gewogen | S14: niet gebruikt | T14: 0.044249692 | U14: kg CO₂e / EUR2025 | V14: 32406.989 | W14: 32.406989 | X14: 32406.989 | Y14: 32.406989 | Z14: Relevantie heeft geen invloed op het emissietotaal. Indeling en factor per boekingsregel.
B15: 2025 | C15: Flexxgroup Safety en Infra B.V. | D15: Aangeleverd | E15: 163056.03 | F15: Uitzendbureau / dienstverlening | G15: 1174526.8 | H15: 0.43627491 | I15: 7.2151791 | J15: Inkopen diensten hoog | L15: 108187.1 | M15: 0.040969025 | N15: 0.31830651 | O15: niet gewogen | P15: niet gewogen | Q15: niet gewogen | R15: niet gewogen | S15: niet gebruikt | T15: 0.13001848 | U15: kg CO₂e / EUR2025 | V15: 14066.323 | W15: 14.066323 | X15: 14066.323 | Y15: 14.066323 | Z15: Relevantie heeft geen invloed op het emissietotaal. Indeling en factor per boekingsregel.
B16: 2025 | C16: SNA Infrastructuur | D16: Aangeleverd | E16: 151887.25 | F16: Onderaanneming | G16: 1326414 | H16: 0.49269303 | I16: 32.575098 | J16: Inhuur machines | L16: 175964.34 | M16: 0.06663537 | N16: 0.38494188 | O16: niet gewogen | P16: niet gewogen | Q16: niet gewogen | R16: niet gewogen | S16: niet gebruikt | T16: 0.10484127 | U16: kg CO₂e / EUR2025 | V16: 18448.325 | W16: 18.448325 | X16: 18448.325 | Y16: 18.448325 | Z16: Relevantie heeft geen invloed op het emissietotaal. Indeling en factor per boekingsregel.
B17: 2025 | C17: Oflaz Verkeerstechniek | D17: Aangeleverd | E17: 138833.36 | F17: Onderaanneming | G17: 1465247.4 | H17: 0.54426232 | I17: 39.396208 | J17: Onderaanneming | L17: 1603892.8 | M17: 0.607373 | N17: 0.99231488 | O17: niet gewogen | P17: niet gewogen | Q17: niet gewogen | R17: niet gewogen | S17: niet gebruikt | T17: 0.22512197 | U17: kg CO₂e / EUR2025 | V17: 361071.5 | W17: 361.0715 | X17: 361071.5 | Y17: 361.0715 | Z17: Relevantie heeft geen invloed op het emissietotaal. Indeling en factor per boekingsregel.
B18: 2025 | C18: Intro / Team Intro | D18: Aangeleverd | E18: 109895.26 | F18: Uitzendbureau / dienstverlening | G18: 1575142.7 | H18: 0.58508262 | I18: 4.8628314 | J18: Inkopen van materialen projecten | L18: 772.39 | M18: 0.00029249388 | N18: 0.99260738 | O18: niet gewogen | P18: niet gewogen | Q18: niet gewogen | R18: niet gewogen | S18: niet gebruikt | T18: 0.55023417 | U18: kg CO₂e / EUR2025 | V18: 424.99537 | W18: 0.42499537 | X18: 424.99537 | Y18: 0.42499537 | Z18: Relevantie heeft geen invloed op het emissietotaal. Indeling en factor per boekingsregel.
B19: 2025 | C19: A. Unal | D19: Aangeleverd | E19: 106913.59 | F19: Uitzendbureau / dienstverlening | G19: 1682056.2 | H19: 0.6247954 | I19: 4.7308934 | J19: Inkopen hulpmiddelen | L19: 19521.73 | M19: 0.0073926211 | N19: 1 | O19: niet gewogen | P19: niet gewogen | Q19: niet gewogen | R19: niet gewogen | S19: niet gebruikt | T19: 0.57740154 | U19: kg CO₂e / EUR2025 | V19: 11271.877 | W19: 11.271877 | X19: 11271.877 | Y19: 11.271877 | Z19: Relevantie heeft geen invloed op het emissietotaal. Indeling en factor per boekingsregel.
B20: 2025 | C20: Spoba | D20: Aangeleverd | E20: 94463.51 | F20: Inkopen diensten hoog | G20: 1776519.8 | H20: 0.65988362 | I20: 12.341609 | J20: Totaal berekende inkopen | L20: 2640704.8 | M20: 1 | V20: 437690.01 | W20: 437.69001 | X20: 437690.01 | Y20: 437.69001
B21: 2025 | C21: Binck Verkeer B.V. | D21: Aangeleverd | E21: 67456.78 | F21: Uitzendbureau / dienstverlening | G21: 1843976.5 | H21: 0.68494027 | I21: 2.9849417
B22: 2025 | C22: ALTDAY | D22: Aangeleverd | E22: 63066.27 | F22: Uitzendbureau / dienstverlening | G22: 1907042.8 | H22: 0.70836607 | I22: 2.790663
B23: 2025 | C23: Ada Grondwerk | D23: Aangeleverd | E23: 52974.75 | F23: Onderaanneming | G23: 1960017.6 | H23: 0.7280434 | I23: 11.361439 | J23: Geen 80%-afkap toegepast: alle 1.818 regels zijn beoordeeld. De gesorteerde leverancierslijst is een weergave van de huidige invoer; sorteer opnieuw bij gewijzigde bedragen.
B24: 2025 | C24: WHA Groep | D24: Aangeleverd | E24: 52517 | F24: Uitzendbureau / dienstverlening | G24: 2012534.6 | H24: 0.7475507 | I24: 2.3238611
B25: 2025 | C25: Loon- en Verhuurbedrijf Haag | D25: Aangeleverd | E25: 45258.75 | F25: Uitzendbureau / dienstverlening | G25: 2057793.3 | H25: 0.76436195 | I25: 2.0026857
B26: 2025 | C26: Heemelaar Diensten | D26: Aangeleverd | E26: 44483.25 | F26: Uitzendbureau / dienstverlening | G26: 2102276.6 | H26: 0.78088513 | I26: 1.9683701
B27: 2025 | C27: Van Schie B.V. | D27: Aangeleverd | E27: 42876.85 | F27: Inhuur machines | G27: 2145153.4 | H27: 0.79681163 | I27: 4.4952635 | J27: Aansluiting bronbestanden | L27: Regels bron | M27: Saldo bron (€) | N27: Regels verwerkt | O27: Saldo verwerkt (€) | P27: Verschil (€)
B28: 2025 | C28: Sinan Infra | D28: Aangeleverd | E28: 35264.63 | F28: Onderaanneming | G28: 2180418 | H28: 0.80991058 | I28: 7.5631678 | J28: huur mat. groepsmy uitzend.xls | L28: 1 | M28: 16429 | N28: 1 | O28: 16429 | P28: 0
B29: 2025 | C29: Desinvestering verhuurinventaris div | D29: Aangeleverd | E29: 33659 | F29: Uitgesloten | G29: 2214077 | H29: 0.82241313 | I29: 0 | J29: Inkopen 0% RKS.xls | L29: 8 | M29: 940.54 | N29: 8 | O29: 940.54 | P29: 0
B30: 2025 | C30: Loxam | D30: Aangeleverd | E30: 32995.71 | F30: Inhuur machines | G30: 2247072.8 | H30: 0.8346693 | I30: 3.4593122 | J30: werk derden rks.xls | L30: 202 | M30: 424327.32 | N30: 202 | O30: 424327.32 | P30: 0
B31: 2025 | C31: Yigit Infra | D31: Aangeleverd | E31: 32453.75 | F31: Onderaanneming | G31: 2279526.5 | H31: 0.84672416 | I31: 6.9603214 | J31: werk derden btw rks.xls | L31: 361 | M31: 472307.59 | N31: 361 | O31: 472307.59 | P31: 0
B32: 2025 | C32: Traffic Crew Nederland B.V. | D32: Aangeleverd | E32: 31545.25 | F32: Onderaanneming | G32: 2311071.8 | H32: 0.85844156 | I32: 8.951474 | J32: Werk derden uitzend.xls | L32: 275 | M32: 1411433.3 | N32: 275 | O32: 1411433.3 | P32: 0
B33: 2025 | C33: VIOSS B.V. | D33: Aangeleverd | E33: 30402.03 | F33: Onderaanneming | G33: 2341473.8 | H33: 0.86973432 | I33: 8.6270669 | J33: huur machines mat. rks.xls | L33: 152 | M33: 175981.67 | N33: 152 | O33: 175981.67 | P33: 0
B34: 2025 | C34: Core Bouw & Infra | D34: Aangeleverd | E34: 29228.5 | F34: Onderaanneming | G34: 2370702.3 | H34: 0.88059117 | I34: 6.2686054 | J34: ink. hulpmid. rks.xls | L34: 51 | M34: 18209.51 | N34: 51 | O34: 18209.51 | P34: 0
B35: 2025 | C35: MS Infra Techniek | D35: Aangeleverd | E35: 26613.5 | F35: Onderaanneming | G35: 2397315.8 | H35: 0.89047668 | I35: 5.7077692 | J35: Inkopen hoog uitzend.xls | L35: 9 | M35: 2229.57 | N35: 9 | O35: 2229.57 | P35: 0
B36: 2025 | C36: G.E. Trans B.V. | D36: Aangeleverd | E36: 23065 | F36: Inhuur machines | G36: 2420380.8 | H36: 0.89904411 | I36: 2.4181639 | J36: Inkopen hoog rks.xls | L36: 748 | M36: 169586.89 | N36: 748 | O36: 169586.89 | P36: 0
B37: 2025 | C37: VIOSS B.V. | D37: Aangeleverd | E37: 22753.42 | F37: Inhuur machines | G37: 2443134.2 | H37: 0.90749581 | I37: 2.3854975 | J37: inkopen hulp.mid. uitzend.xls | L37: 11 | M37: 287.89 | N37: 11 | O37: 287.89 | P37: 0
B38: 2025 | C38: Uitzendbureau Sahaset | D38: Aangeleverd | E38: 22197.5 | F38: Uitzendbureau / dienstverlening | G38: 2465331.7 | H38: 0.91574102 | I38: 0.98223254
B39: 2025 | C39: Corne Heijsteeg Dienstverlening | D39: Aangeleverd | E39: 20247.25 | F39: Uitzendbureau / dienstverlening | G39: 2485578.9 | H39: 0.9232618 | I39: 0.89593457
B40: 2025 | C40: DSR Uitzendbureau | D40: Aangeleverd | E40: 18031 | F40: Uitzendbureau / dienstverlening | G40: 2503609.9 | H40: 0.92995937 | I40: 0.79786619
B41: 2025 | C41: Visscher Traffic | D41: Aangeleverd | E41: 18000 | F41: Inhuur machines | G41: 2521609.9 | H41: 0.93664542 | I41: 1.8871429
B42: 2025 | C42: Unsal Holding B.V. | D42: Aangeleverd | E42: 16429 | F42: Inhuur machines | G42: 2538038.9 | H42: 0.94274793 | I42: 0 | J42: Creditnota’s blijven negatief. Memoriaalregels voor Unal A. (€ 1.585) en GE Trans (€ 934,40) blijven inbegrepen. De omzetkorting De Omleiding (€ -879) vermindert de inkoop. Desinvestering (€ 33.659) is apart uitgesloten.
B43: 2025 | C43: IGEPA Group | D43: Aangeleverd | E43: 15781.56 | F43: Inkopen hulpmiddelen | G43: 2553820.5 | H43: 0.94860995 | I43: 9.287449
B44: 2025 | C44: OSR Traffic | D44: Aangeleverd | E44: 14074.29 | F44: Onderaanneming | G44: 2567894.8 | H44: 0.95383781 | I44: 3.993807
B45: 2025 | C45: Binck Verkeer B.V. | D45: Aangeleverd | E45: 12280 | F45: Inhuur machines | G45: 2580174.8 | H45: 0.95839919 | I45: 1.2874508
B46: 2025 | C46: G.E. Trans B.V. | D46: Aangeleverd | E46: 10204.8 | F46: Onderaanneming | G46: 2590379.6 | H46: 0.96218973 | I46: 2.8957768
B47: 2025 | C47: W-SIGN | D47: Aangeleverd | E47: 9222.31 | F47: Inhuur machines | G47: 2599601.9 | H47: 0.96561533 | I47: 0.96687871
B48: 2025 | C48: Russon Infra BV | D48: Aangeleverd | E48: 9100 | F48: Onderaanneming | G48: 2608701.9 | H48: 0.96899551 | I48: 1.9516674
B49: 2025 | C49: FT Uitzendbureau | D49: Aangeleverd | E49: 8349 | F49: Uitzendbureau / dienstverlening | G49: 2617050.9 | H49: 0.97209672 | I49: 0.36944068
B50: 2025 | C50: De Omleiding B.V. | D50: Aangeleverd | E50: 7911.01 | F50: Inkopen diensten hoog | G50: 2624961.9 | H50: 0.97503524 | I50: 1.0335694
...

Sheet 4.A.1. kwalitatieve analyse
A1: Kolom1 | B1: Kolom2 | C1: Kolom3 | D1: Kolom4 | E1: Kolom5 | F1: Kolom6 | G1: Kolom7 | H1: Kolom8 | I1: Kolom9 | J1: Kolom10
A3: 4.A.1. Kwalitatieve analyse 2025
A7: Activiteit / PMC | B7: Omzetaandeel 2025 | C7: Afbakening | D7: Belangrijkste ketenpartijen | E7: Emissieactiviteiten | F7: Belang | G7: Invloed | H7: Benodigde verbetering | I7: Prioriteit | J7: Basis
A8: Spoorwerken | B8: =C28 -> 0.04418 | C8: Ünsal; niet per entiteit gesplitst | D8: Spoorbeheerder en onderaannemers | E8: Grondwerk, materieel, vervoer, inhuur | F8: Relevant | G8: Uitvoering en logistiek | H8: Brandstof/uren onderaannemers opvragen | I8: Hoog | J8: Activiteiten totaal Unsal.xlsx
A9: Aanleg openbare verlichting (OV) | B9: =C29 -> 0.38164 | C9: Ünsal; niet per entiteit gesplitst | D9: Opdrachtgever, materiaalpartijen | E9: Aanleg, grondwerk, materieel, voorgeschreven materialen | F9: Groot activiteitenaandeel | G9: Uitvoering; materiaalkeuze beperkt | H9: Vastleggen wie materialen koopt en eigendom draagt | I9: Hoog | J9: Activiteiten totaal Unsal.xlsx
A10: Aanleg middenspanning (MS) | B10: =C30 -> 0.24346 | C10: Ünsal; niet per entiteit gesplitst | D10: Netbeheerder en onderaannemers | E10: Kabelaanleg, grondwerk en logistiek | F10: Relevant | G10: Werkmethode en onderaanneming | H10: Projecthoeveelheden en onderaannemersgegevens | I10: Hoog | J10: Activiteiten totaal Unsal.xlsx
A11: Aanleg laagspanning (LS) | B11: =C31 -> 0.13066 | C11: Ünsal; niet per entiteit gesplitst | D11: Netbeheerder en onderaannemers | E11: Kabelaanleg, grondwerk en logistiek | F11: Relevant | G11: Werkmethode en onderaanneming | H11: Projecthoeveelheden en onderaannemersgegevens | I11: Hoog | J11: Activiteiten totaal Unsal.xlsx
A12: Aanleg hoogspanning (HS) | B12: =C32 -> 0.04606 | C12: Ünsal; niet per entiteit gesplitst | D12: Netbeheerder en onderaannemers | E12: Kabelaanleg, grondwerk en materieel | F12: Relevant | G12: Uitvoering en logistiek | H12: Projecthoeveelheden en onderaannemersgegevens | I12: Hoog | J12: Activiteiten totaal Unsal.xlsx
A13: Kantooractiviteiten | B13: =C33 -> 0.094 | C13: Ünsal; niet per entiteit gesplitst | D13: ICT, advies, vervoer | E13: Diensten, ICT en woon-werkverkeer | F13: Relevant | G13: Inkoop en reisbeleid | H13: Reisregistratie verfijnen en leveranciersgegevens verbeteren | I13: Midden | J13: Activiteiten totaal Unsal.xlsx
A14: Plaatsen van verkeersmaatregelen | B14: =C34 -> 0.06 | C14: Ünsal / RKS; uitvoering verkeersmaatregelen | D14: Opdrachtgevers, materieelleveranciers en onderaannemers | E14: Plaatsing en verwijdering, vervoer, borden, afzettingen en VRI’s | F14: 6% van omzet volgens opgave | G14: Logistiek, hergebruik en materieelinzet | H14: Projectgegevens aan inkoop- en energieadministratie koppelen | I14: Hoog | J14: Aanvulling opdrachtgever 24-10-2026
A16: E & ER Infra Consult voert als onderaannemer grondwerkzaamheden uit. Deze inkoop is categorie 1. Materieel en brandstof van de onderaannemer vallen in de ingekochte prestatie; eigen brandstof mag niet nogmaals worden toegevoegd.
A18: Voorgeschreven materialen: als Ünsal ze koopt of verkrijgt voor de opdracht, blijven ze onderdeel van de categoriebeoordeling. Beperkte keuzevrijheid verandert de emissie niet. Door de opdrachtgever rechtstreeks gekochte en beheerde materialen apart afbakenen.
A22: Som herziene omzetaandelen | B22: =IF(COUNT(B8:B14)=7,SUM(B8:B14),"invoer ontbreekt") -> 1
A24: Omzet 2025 (€) | B24: 39510000
A25: Aandeel verkeersmaatregelen | B25: 0.06
A27: Activiteit | B27: Oorspronkelijk aandeel | C27: Herzien omzetaandeel | D27: Toegerekende omzet (€) | E27: Basis
A28: =A8 -> Spoorwerken | B28: 0.047 | C28: =IF(COUNT(B28,$B$25)=2,B28*(1-$B$25),"invoer ontbreekt") -> 0.04418 | D28: =IF(COUNT(C28,$B$24)=2,C28*$B$24,"invoer ontbreekt") -> 1745551.8 | E28: Oorspronkelijk aandeel × (1 − aandeel verkeersmaatregelen)
A29: =A9 -> Aanleg openbare verlichting (OV) | B29: 0.406 | C29: =IF(COUNT(B29,$B$25)=2,B29*(1-$B$25),"invoer ontbreekt") -> 0.38164 | D29: =IF(COUNT(C29,$B$24)=2,C29*$B$24,"invoer ontbreekt") -> 15078596 | E29: Oorspronkelijk aandeel × (1 − aandeel verkeersmaatregelen)
A30: =A10 -> Aanleg middenspanning (MS) | B30: 0.259 | C30: =IF(COUNT(B30,$B$25)=2,B30*(1-$B$25),"invoer ontbreekt") -> 0.24346 | D30: =IF(COUNT(C30,$B$24)=2,C30*$B$24,"invoer ontbreekt") -> 9619104.6 | E30: Oorspronkelijk aandeel × (1 − aandeel verkeersmaatregelen)
A31: =A11 -> Aanleg laagspanning (LS) | B31: 0.139 | C31: =IF(COUNT(B31,$B$25)=2,B31*(1-$B$25),"invoer ontbreekt") -> 0.13066 | D31: =IF(COUNT(C31,$B$24)=2,C31*$B$24,"invoer ontbreekt") -> 5162376.6 | E31: Oorspronkelijk aandeel × (1 − aandeel verkeersmaatregelen)
A32: =A12 -> Aanleg hoogspanning (HS) | B32: 0.049 | C32: =IF(COUNT(B32,$B$25)=2,B32*(1-$B$25),"invoer ontbreekt") -> 0.04606 | D32: =IF(COUNT(C32,$B$24)=2,C32*$B$24,"invoer ontbreekt") -> 1819830.6 | E32: Oorspronkelijk aandeel × (1 − aandeel verkeersmaatregelen)
A33: =A13 -> Kantooractiviteiten | B33: 0.1 | C33: =IF(COUNT(B33,$B$25)=2,B33*(1-$B$25),"invoer ontbreekt") -> 0.094 | D33: =IF(COUNT(C33,$B$24)=2,C33*$B$24,"invoer ontbreekt") -> 3713940 | E33: Oorspronkelijk aandeel × (1 − aandeel verkeersmaatregelen)
A34: =A14 -> Plaatsen van verkeersmaatregelen | C34: =IF(ISNUMBER($B$25),$B$25,"invoer ontbreekt") -> 0.06 | D34: =IF(COUNT(C34,$B$24)=2,C34*$B$24,"invoer ontbreekt") -> 2370600 | E34: Aandeel rechtstreeks opgegeven door opdrachtgever
A35: Totaal | B35: =SUM(B28:B33) -> 1 | C35: =IF(COUNT(C28:C34)=7,SUM(C28:C34),"invoer ontbreekt") -> 1 | D35: =IF(COUNT(D28:D34)=7,SUM(D28:D34),"invoer ontbreekt") -> 39510000

Sheet 5.A.1. kwantitatieve analyse
B2: 5.A.1. Kwantitatieve analyse 2025
B4: Gekwantificeerd: inkopen en diensten inclusief drinkwater, kapitaalgoederen, energievoorketen en woon-werkverkeer. Overige stromen zijn volgens de opdrachtgever in de onderliggende rapportages verwerkt; er wordt niets dubbel opgeteld. Uitkomsten zonder relevantieweging.
A8: GHG | B8: Emissiestroom | C8: Aanwezig | D8: In scope 1/2 | E8: Projectrelatie | F8: ton CO₂e | G8: Beïnvloedbaar | H8: Rang | I8: Actie / beperking | J8: Ketenpartijen
A9: Kolom1 | B9: Kolom2 | C9: Kolom3 | D9: Kolom4 | E9: Kolom5 | F9: Kolom6 | G9: Kolom7 | H9: Kolom8 | I9: Kolom9 | J9: Kolom10
A11: 1 | B11: Uitzendbureau / dienstverlening | C11: ja | D11: niet als kostenpost | E11: voornamelijk | F11: =inkoopanalyse!W14 -> 32.406989 | G11: via inkoop | H11: =RANK(F11,$F$11:$F$16,0) -> 2 | I11: Leveranciersdata en apart vervoer opvragen.
A12: 1 | B12: Inkopen diensten hoog | C12: ja | D12: niet als kostenpost | E12: voornamelijk | F12: =inkoopanalyse!W15 -> 14.066323 | G12: via inkoop | H12: =RANK(F12,$F$11:$F$16,0) -> 4 | I12: Digitale werkprocessen en leveranciersinformatie.
A13: 1 | B13: Inhuur machines | C13: ja | D13: niet als kostenpost | E13: voornamelijk | F13: =inkoopanalyse!W16 -> 18.448325 | G13: via inkoop | H13: =RANK(F13,$F$11:$F$16,0) -> 3 | I13: Energie en contractvorm bepalen.
A14: 1 | B14: Onderaanneming | C14: ja | D14: niet als kostenpost | E14: voornamelijk | F14: =inkoopanalyse!W17 -> 361.0715 | G14: via inkoop | H14: =RANK(F14,$F$11:$F$16,0) -> 1 | I14: E & ER grondwerk bevestigd. Vraag leveranciersdata over brandstof en materieel op.
A15: 1 | B15: Inkopen van materialen projecten | C15: ja | D15: niet als kostenpost | E15: voornamelijk | F15: =inkoopanalyse!W18 -> 0.42499537 | G15: via inkoop | H15: =RANK(F15,$F$11:$F$16,0) -> 6 | I15: Materiaalhoeveelheden en product-EPD’s opvragen.
A16: 1 | B16: Inkopen hulpmiddelen | C16: ja | D16: niet als kostenpost | E16: voornamelijk | F16: =inkoopanalyse!W19 -> 11.271877 | G16: via inkoop | H16: =RANK(F16,$F$11:$F$16,0) -> 5 | I16: Vinyl/inkt uitsplitsen; afval en hergebruik onderbouwen.
A17: 1 | B17: Drinkwater | C17: Ja | D17: Nee | E17: organisatie | F17: ='Energievoorketen 2025'!B12 -> 0.08 | G17: via gebruik | I17: Afgeronde emissie overgenomen uit voortgangsverslag p. 8–9. | J17: Waterleverancier
A19: 2 | B19: Kapitaalgoederen | C19: Aanvullend geraamd | D19: zie GHG-afbakening | E19: project/organisatie | F19: ='Kapitaalgoederen 2025'!H6 -> 157.69132 | G19: zie kwalitatieve analyse | I19: Facturen, activeringsdatum KMT, product-footprints en entiteit.
A20: 3 | B20: Brandstof- en energievoortraject | C20: Afgeleid uit rapportages | D20: zie GHG-afbakening | E20: project/organisatie | F20: ='Energievoorketen 2025'!B11 -> 152.26 | G20: zie kwalitatieve analyse | I20: 637,54 − 485,20 − 0,08 ton. Aansluitingsraming; geen dubbeltelling met brede energievoetafdruk.
A21: 4 | B21: Upstream transport en distributie | C21: Volgens opgave verwerkt; niet apart uitgesplitst | D21: zie GHG-afbakening | E21: project/organisatie | F21: niet afzonderlijk | G21: zie kwalitatieve analyse | I21: Geen extra transportbedrag naast verwerkte prestaties; geen afzonderlijke transportwaarde in deze PDF’s.
A22: 5 | B22: Afval uit bedrijfsvoering | C22: Volgens opgave verwerkt; niet apart uitgesplitst | D22: zie GHG-afbakening | E22: project/organisatie | F22: niet afzonderlijk | G22: zie kwalitatieve analyse | I22: Volgens opgave in onderliggende rapportages verwerkt. In de PDF’s geen afzonderlijke afvalemissie zichtbaar.
A23: 6 | B23: Zakelijke reizen | C23: Volgens opgave verwerkt; niet apart uitgesplitst | D23: zie GHG-afbakening | E23: project/organisatie | F23: niet afzonderlijk | G23: zie kwalitatieve analyse | I23: Energiebeoordeling p. 17: geen zakelijke vluchten. Bedrijfsautoritten al in scope 1/2. Geen apart bedrag voor overige zakenreizen.
A24: 7 | B24: Woon-werkverkeer | C24: Geraamd; meerijders afgebakend | D24: zie GHG-afbakening | E24: project/organisatie | F24: ='Woon-werk 2025'!J18 -> 63.56832 | G24: zie kwalitatieve analyse | I24: 22 medewerkers in categorie 7. Bedrijfsautoritten van 78 medewerkers en 30 meerijders al in scope 1/2.
A25: 8 | B25: Upstream geleaste activa | C25: Geen voertuiglease | D25: zie GHG-afbakening | E25: project/organisatie | F25: Geen geleaste activa aangetroffen | G25: zie kwalitatieve analyse | I25: Uitgesloten
A26: 9 | B26: Downstream transport en distributie | C26: Geen reguliere stroom; nevenverkopen open | D26: zie GHG-afbakening | E26: project/organisatie | F26: Niet aangetroffen | G26: zie kwalitatieve analyse | I26: Uitgesloten
A27: 10 | B27: Verwerking verkochte producten | C27: Niet van toepassing op opgegeven diensten | D27: zie GHG-afbakening | E27: project/organisatie | F27: n.v.t. | G27: zie kwalitatieve analyse | I27: Herbeoordelen als daadwerkelijk halffabricaten worden verkocht.
A28: 11 | B28: Gebruik verkochte goederen/diensten | C28: Diensten afgebakend; afstotingen niet berekend | D28: zie GHG-afbakening | E28: project/organisatie | F28: n.v.t. | G28: zie kwalitatieve analyse | I28: Contractuele levering; resterend gebruik, km en brandstof verkochte voertuigen.
A29: 12 | B29: Einde levensduur verkochte producten | C29: Niet berekend voor nevenverkopen | D29: zie GHG-afbakening | E29: project/organisatie | F29: Uitsluitend plaatsen van materialen (keuze) OG | G29: zie kwalitatieve analyse | I29: Mogelijk vanuit engineering in 2026-2027
A30: 13 | B30: Downstream geleaste activa | C30: Niet van toepassing op opgegeven diensten | D30: zie GHG-afbakening | E30: project/organisatie | F30: n.v.t. | G30: zie kwalitatieve analyse | I30: Verhuurcontracten, gebruiker en energiegebruik.
A31: 14 | B31: Franchises | C31: Niet vastgesteld als van toepassing | D31: zie GHG-afbakening | E31: project/organisatie | F31: n.v.t. | G31: zie kwalitatieve analyse | I31: Bevestigen bij vaststelling groepsgrens.
A32: 15 | B32: Investeringen / deelnemingen | C32: Geen sprake van deelnemingen /externe investments. | D32: zie GHG-afbakening | E32: project/organisatie | F32: n.v.t. | G32: zie kwalitatieve analyse | I32: Volledige deelnemingenlijst en consolidatiemethode.
B34: Totaal berekend deel | F34: =IF(COUNT(F11:F17,F19:F20,F24)=10,SUM(F11:F17,F19:F20,F24),"invoer ontbreekt") -> 811.28965

Sheet CO2 diverse bronnen
A2: Emissiefactoren en aannames 2025
A4: Parameter | B4: Waarde | C4: Eenheid
A5: EUR naar GBP | B5: 0.85679 | C5: GBP per EUR, gemiddelde 2025
A6: UK CPI 2023 | B6: 130.5 | C6: 2015 = 100
A7: UK CPI 2025 | B7: 138.4 | C7: 2015 = 100
A8: Prijsaanpassing | B8: =B6/B7 -> 0.94291908 | C8: GBP2023 per GBP2025
A9: E & ER-factor | B9: INFRA | C9: Bevestigd op 22-10-2026: onderaannemer grondwerk. Factor INFRA.
A10: Interne huur | B10: 0 | C10: 0 = elimineren binnen Unsal-groep; 1 = meetellen bij afzonderlijke entiteit
A13: Factorcode | B13: Toepassing / inkoop | C13: SIC-code | D13: kg CO₂e / GBP2023 | E13: GBP per EUR2025 | F13: Prijsfactor | G13: kg CO₂e / EUR2025
A14: Kolom1 | B14: Kolom2 | C14: Kolom3 | D14: Kolom4 | E14: Kolom5 | F14: Kolom6 | G14: Kolom7
A15: ARBEID | B15: Inhuur personeel / uitzenddiensten | C15: 78 | D15: 0.054772358 | E15: =$B$5 -> 0.85679 | F15: =$B$8 -> 0.94291908 | G15: =D15*E15*F15 -> 0.044249692
A16: VERKEER | B16: Verkeersmaatregelen en verkeersdiensten | C16: 52 | D16: 0.35124631 | E16: =$B$5 -> 0.85679 | F16: =$B$8 -> 0.94291908 | G16: =D16*E16*F16 -> 0.28376615
A17: INFRA | B17: Uitbesteed infra- en grondwerk | C17: 42.1-2 | D17: 0.26547009 | E17: =$B$5 -> 0.85679 | F17: =$B$8 -> 0.94291908 | G17: =D17*E17*F17 -> 0.21446894
A18: ADVIES | B18: Engineering, verkeersplannen en keuringen | C18: 71 | D18: 0.1617182 | E18: =$B$5 -> 0.85679 | F18: =$B$8 -> 0.94291908 | G18: =D18*E18*F18 -> 0.13064949
A19: HUUR | B19: Verhuur van materieel (dienstverlening) | C19: 77 | D19: 0.12977274 | E19: =$B$5 -> 0.85679 | F19: =$B$8 -> 0.94291908 | G19: =D19*E19*F19 -> 0.10484127
A20: KUNSTSTOF | B20: Kunststof, vinyl en tape | C20: 22 | D20: 0.64371622 | E20: =$B$5 -> 0.85679 | F20: =$B$8 -> 0.94291908 | G20: =D20*E20*F20 -> 0.5200478
A21: INKT | B21: Inkt, verf en coatings | C21: 20.3 | D21: 0.99334156 | E21: =$B$5 -> 0.85679 | F21: =$B$8 -> 0.94291908 | G21: =D21*E21*F21 -> 0.80250439
A22: HOUT | B22: Pallets, hout en piketpalen | C22: 16 | D22: 0.43274676 | E22: =$B$5 -> 0.85679 | F22: =$B$8 -> 0.94291908 | G22: =D22*E22*F22 -> 0.34960902
A23: METAAL | B23: Metalen hulpstukken en gereedschap | C23: 25OTHER | D23: 0.56772744 | E23: =$B$5 -> 0.85679 | F23: =$B$8 -> 0.94291908 | G23: =D23*E23*F23 -> 0.45865771
A24: ELEKTRA | B24: Elektrische hulpmiddelen | C24: 27 | D24: 0.84277394 | E24: =$B$5 -> 0.85679 | F24: =$B$8 -> 0.94291908 | G24: =D24*E24*F24 -> 0.68086327
A25: GOEDEREN | B25: Overige ingekochte goederen (proxy) | C25: 32 | D25: 0.67801031 | E25: =$B$5 -> 0.85679 | F25: =$B$8 -> 0.94291908 | G25: =D25*E25*F25 -> 0.54775344
A26: OPL | B26: Opleidingen en toegangscertificaten | C26: 85 | D26: 0.11973017 | E26: =$B$5 -> 0.85679 | F26: =$B$8 -> 0.94291908 | G26: =D26*E26*F26 -> 0.096728047
... A29: VERVOER | B29: Wegtransport (alleen bij bevestigd transport) | C29: 49.3-5 | D29: 0.5748807 | E29: =$B$5 -> 0.85679 | F29: =$B$8 -> 0.94291908 | G29: =D29*E29*F29 -> 0.46443671
A30: Sectorfactoren omvatten de toeleveringsketen. Uitgaven × factor = geschatte emissie. Invloed, relevantie en frequentie verminderen de fysieke uitstoot niet.
A33: Bronnen en rekenmethode
A34: Factorbron | B34: Defra / University of Leeds, uitgave 30 juni 2026; emissie- en prijsjaar 2023. SIC_multipliers_2023, kolom Greenhouse gases. SIC-bedragen zijn exclusief btw.
B35: https://www.gov.uk/government/statistics/uks-carbon-footprint
A37: Download | B37: Spend-based emissions multipliers 1997 to 2023. De 2023-sectorfactoren zijn de recentste in de geraadpleegde publicatie.
B38: https://assets.publishing.service.gov.uk/media/6a3ce5fa33bc5beefd3c4983/spend_based_emissions_multipliers_1997_to_2023.ods
A40: Valuta | B40: ECB-referentiekoers via Oesterreichische Nationalbank. Jaarmiddeling 2025: 0,85679 GBP per EUR.
B41: https://www.oenb.at/isawebstat/stabfrage/createReport?lang=EN&report=2.14
A43: Prijspeil | B43: ONS D7BT, UK CPI all items (2015 = 100). Jaargemiddelde 2023: 130,5; 2025: 138,4. Algemene CPI als benadering; geen sectorspecifieke producentenindex.
B44: https://www.ons.gov.uk/economy/inflationandpriceindices/timeseries/d7bt/mm23
A46: Methode | B46: GHG Protocol Scope 3 Calculation Guidance. Spend-based schatting waar hoeveelheden en leveranciersfootprints ontbreken.
B47: https://ghgprotocol.org/scope-3-calculation-guidance-2
A50: Geografische beperking: Britse ketengemiddelden benaderen Nederlandse inkopen. Valuta en inflatie worden gecorrigeerd; techniek, energiemix en leveranciersprestaties niet. Er is geen onderbouwde statistische foutmarge beschikbaar.
A52: ARBEID omvat de keten van arbeidsbemiddeling. Extra vervoer en energie van ingeleende medewerkers worden alleen toegevoegd als zij niet al in scope 1/2 of in de ingekochte prestatie zitten. HUUR is een dienstproxy; niet automatisch het energiegebruik van het gehuurde materieel.
A56: Factorcode | B56: Toepassing / inkoop | C56: SIC-code | D56: kg CO₂e / GBP2023 | E56: GBP per EUR2025 | F56: Prijsfactor | G56: kg CO₂e / EUR2025
A57: VOERTUIG | B57: Voertuigen, aanhangers en opleggers | C57: 29 | D57: 0.46345763 | E57: =$B$5 -> 0.85679 | F57: =$B$8 -> 0.94291908 | G57: =D57*E57*F57 -> 0.37441984
A59: Defra SIC_multipliers_2023, sector 29, Greenhouse gases. Dezelfde bron en prijs-/valutaomrekening als de bestaande analyse. Aanschafwaarde exclusief btw en apart geboekte BPM; geen afschrijving of saldering met verkopen.
...

Sheet GhG protocollen
A2: GHG-afbakening en gegevensdekking
A5: GHG | B5: Categorie | C5: Rekenkundige afbakening | D5: Toepassing 2025 | E5: Status | F5: Onderbouwing / aandachtspunt
A6: Kolom1 | B6: Kolom2 | C6: Kolom3 | D6: Kolom4 | E6: Kolom5 | F6: Kolom6
A7: 1 | B7: Ingekochte goederen en diensten | C7: Externe goederen en diensten voor de bedrijfsvoering, voor zover niet onder categorie 2–8. | D7: Onderaanneming inclusief E & ER grondwerk, personeel, diensten, eigen materiaalinkoop en drinkwater. | E7: Geraamd + rapportage water | F7: Inkoopkaarten en water uit voortgangsverslag. Volgens opgave zijn leveranciersfacturen in de onderliggende rapportages verwerkt.
A8: 2 | B8: Kapitaalgoederen | C8: Productie van in 2025 verkregen vaste activa. Volledig in het aanschafjaar; geen afschrijving van emissies. | D8: Voertuigen/aanhangers in eigendom op de balans. Beginbalans, verkopen en boekwaarden niet salderen. | E8: Aanvullend geraamd | F8: Facturen, activeringsdatum KMT, product-footprints en entiteit.
A9: 3 | B9: Brandstof- en energievoortraject | C9: Productie en transport van ingekochte brandstof/energie en relevante verliezen buiten scope 1/2. | D9: Voorketen eigen energie: afgeleid uit verschil tussen 637,54 en 485,20 ton, na aftrek van 0,08 ton water. | E9: Afgeleid: 152,26 ton | F9: Energievoorketen 2025 toont bronbedragen, afrondingen en aansluiting. Ongesplitste elektrische voorketen/netverliezen uit bron overgenomen.
A10: 4 | B10: Upstream transport en distributie | C10: Ingekocht vervoer door derden; transport van leverancier naar Ünsal/project. | D10: Niet toegepast | E10: Verwerkt | F10: In deze PDF’s geen aparte transportemissie. Alleen een afzonderlijke post toevoegen als deze aantoonbaar nog niet in de verwerkte dienst zit.
A11: 5 | B11: Afval uit bedrijfsvoering | C11: Verwerking door derden van afval uit eigen werkzaamheden. | D11: Aparte registratie (vanuit ISO14001) minimaal | E11: Volgens opgave verwerkt; niet apart uitgesplitst | F11: Aparte overzichten. Levert uiteindelijk geld op door verkoop.
A12: 6 | B12: Zakelijke reizen | C12: Zakelijke personenreizen in voertuigen buiten eigendom/beheersing van Ünsal. | D12: Privéauto, OV en eventuele vluchten voor zakelijke ritten. Eigen bedrijfsauto is scope 1/2. | E12: Volgens opgave verwerkt; niet apart uitgesplitst | F12: Energiebeoordeling p. 17: geen zakelijke vluchten. Overige zakenreizen niet afzonderlijk in deze PDF’s; bedrijfsauto’s zijn scope 1/2.
A13: 7 | B13: Woon-werkverkeer | C13: Vervoer medewerkers tussen woning en werkplek buiten eigen scope 1/2. | D13: 15 eigen vervoer, 5 OV, 2 fiets geraamd. Bedrijfsautoritten van 78 medewerkers en 30 thuis opgehaalde meerijders in scope 1/2. | E13: Geraamd; vervoer afgebakend | F13: Reisfrequentie en gemiddelde modaliteitsfactoren blijven aannames. Meerijders vragen geen extra categorie 7-emissie.
A14: 8 | B14: Upstream geleaste activa | C14: Gebruik van gehuurde/geleaste activa, alleen voor zover buiten eigen scope 1/2. | D14: Geen voertuiglease volgens opgave. Externe materieelhuur/VRI’s apart beoordelen; interne groepshuur elimineren. | E14: Geen voertuiglease; overige huur beoordelen | F14: Huurcontracten, operationele beheersing en energiegebruik.
A15: 9 | B15: Downstream transport en distributie | C15: Vervoer van verkochte goederen na verkoop, niet betaald door Ünsal. | D15: Geen reguliere productstroom opgegeven. Transport na verkoop van gebruikte voertuigen apart screenen. | E15: Geen reguliere stroom; nevenverkopen open | F15: Wie betaalt transport en welke afstand na afstoting?
A16: 10 | B16: Verwerking verkochte producten | C16: Verdere verwerking door derden van verkochte halffabricaten. | D16: Dienstverlening zonder verkoop van halffabricaten. Voorgeschreven materialen maken Ünsal niet automatisch producent. | E16: Niet van toepassing op opgegeven diensten | F16: Herbeoordelen als daadwerkelijk halffabricaten worden verkocht.
A17: 11 | B17: Gebruik verkochte goederen/diensten | C17: Directe gebruiksemissies van verkochte goederen/diensten over de resterende/verwachte levensduur. | D17: Geen eigen productportfolio opgegeven. Niet het gehele elektriciteitsnet toerekenen aan aanleg. Verkochte gebruikte auto’s apart beoordelen. | E17: Diensten afgebakend; | F17: Contractuele levering; resterend gebruik, km en brandstof verkochte voertuigen. Verwerkt in overizhten.
A18: 12 | B18: Einde levensduur verkochte producten | C18: Afvalverwerking aan het einde van de levensduur van verkochte goederen. | D18: Betreft niet de scope van de organisatie (levering materialen) verkochte voertuigen zijn verwerkt. Geen verkochte goederen. Uitsluitend vanuit OG geleverde materialen. Of voorgeschreven materialen. | E18: Niet berekend voor nevenverkopen | F18: Massa, materialen en verwachte verwerking van verkochte activa.
... A21: 15 | B21: Investeringen / deelnemingen | C21: Relevante beleggingen/deelnemingen buiten de geconsolideerde scope 1/2. | D21: Voertuigaankopen zijn categorie 2. Holding, Infra, Uitzendbureau en RKS zijn in de energiebron geconsolideerd; dochters niet dubbel tellen. | E21: N.v.t. | F21: Volledige deelnemingenlijst en consolidatiemethode wanneer van toepassing.
A23: Ünsal levert diensten: spoorwerken, aanleg openbare verlichting, MS/LS/HS, kantooractiviteiten en het plaatsen van verkeersmaatregelen. Materialen worden voorgeschreven. Dit beperkt de keuzevrijheid; de inkoop- en eigendomsgrens bepalen de GHG-verwerking.
A25: Eigen/verkregen materialen: opnemen bij de passende categorie. Rechtstreeks door de opdrachtgever gekochte en beheerde materialen: niet zonder meer als inkoop van Ünsal opvoeren. Contractueel controleren of Ünsal alleen arbeid levert of zelf een installatie/materialen overdraagt. Bij een daadwerkelijke levering opnieuw categorieën 9–12 beoordelen.
A26: Eigen voertuigen: brandstofverbranding in scope 1; opwekking ingekochte laadstroom in scope 2; energievoorketen in categorie 3; productie van aangekochte voertuigen in categorie 2. Geen voertuiglease. Bedrijfsautoritten van 78 medewerkers en 30 thuis opgehaalde meerijders niet opnieuw in categorie 7.
A28: GHG Protocol Technical Guidance, categorieën 1, 2 en 7: https://ghgprotocol.org/sites/default/files/standards_supporting/Chapter1.pdf ; Chapter2.pdf ; Chapter7.pdf (zelfde map).
A30: GHG Protocol, gebruik en einde levensduur van verkochte producten: https://ghgprotocol.org/sites/default/files/standards_supporting/Chapter11.pdf en https://ghgprotocol.org/sites/default/files/standards_supporting/Chapter12.pdf
A32: Overzicht alle categorieën en rekenmethoden: https://ghgprotocol.org/scope-3-calculation-guidance-2 . De toepassing op Ünsal is gebaseerd op de ontvangen gegevens en de expliciet vermelde afbakeningen.
A34: Categorie 3 en TTW/WTT-afbakening: https://ghgprotocol.org/sites/default/files/standards_supporting/Chapter3.pdf . De aansluiting van de aangeleverde energiegegevens en de gebruikte interpretatie staan op Energievoorketen 2025.

Sheet Kapitaalgoederen 2025
A2: Kapitaalgoederen en desinvesteringen 2025
A5: Onderdeel | B5: Bedrag (€) | C5: GHG-behandeling | H5: Categorie 2 (ton CO₂e)
A6: Beginbalans | B6: =SUMIFS($F$25:$F$54,$G$25:$G$54,"Beginbalans") -> 816115.04 | C6: Geen nieuwe aankoop 2025 | H6: =M55 -> 157.69132
A7: Aankopen excl. BPM | B7: =SUMIFS($F$25:$F$54,$G$25:$G$54,"Aankoop") -> 421161.76 | C7: Categorie 2; volledige raming in aanschafjaar
A8: BPM aankopen | B8: =SUMIFS($F$25:$F$54,$G$25:$G$54,"BPM aankoop") -> 12329.54 | C8: Belasting buiten spend-grondslag
A9: Verkoop/inruil excl. BPM | B9: =SUMIFS($F$25:$F$54,$G$25:$G$54,"Verkoop") -> -35412.43 | C9: Geen negatieve categorie 2-emissie | H9: Controle | I9: Berekend (€) | J9: Bron (€) | K9: Verschil (€)
A10: BPM verkopen | B10: =SUMIFS($F$25:$F$54,$G$25:$G$54,"BPM verkoop") -> -5041.01 | C10: Geen emissiecredit | H10: Debet | I10: =SUM(D25:D54) -> 1216619.2 | J10: 1216619.2 | K10: =ROUND(I10-J10,2) -> 0
A11: Boekwaarde afstotingen | B11: =SUMIFS($F$25:$F$54,$G$25:$G$54,"Boekwaarde afstoting") -> -88127.56 | C11: Boekhoudkundige post; geen emissiecredit | H11: Credit | I11: =SUM(E25:E54) -> 95593.83 | J11: 95593.83 | K11: =ROUND(I11-J11,2) -> 0
A12: Eindsaldo bronkaart | B12: =SUM(B6:B11) -> 1121025.3 | C12: Financiële aansluiting, geen emissiegrondslag | H12: Saldo | I12: =SUM(F25:F54) -> 1121025.3 | J12: 1121025.3 | K12: =ROUND(I12-J12,2) -> 0
A15: Aankoop en desinvestering worden afzonderlijk beoordeeld. De beginbalans, verkoopopbrengst, inruil, BPM en afgeboekte boekwaarde krijgen geen productie-emissie. Aankopen worden bruto meegenomen. Het gebruik van eigen voertuigen blijft scope 1/2; er is volgens de opgave geen voertuiglease.
A17: De twee KMT-termijnen van ieder € 63.300 zijn gekoppeld aan dezelfde meetwagen (totaal € 126.600). Aanname: het voertuig is in 2025 ontvangen/geactiveerd. Als een termijn alleen een vooruitbetaling voor een later jaar is, pas de inclusie aan na controle van de factuur/activering.
A21: Verkoop van gebruikte voertuigen is een nevenactiviteit. Categorieën 9, 11 en 12 worden daarvoor afzonderlijk beoordeeld; resterende levensduur, gebruik, transport en afvalverwerking ontbreken. Deze mogelijke downstreamemissies zijn niet berekend en worden niet op nul gesteld.
A24: Boekdatum | B24: Boekingsnummer | C24: Omschrijving uit bron | D24: Debet (€) | E24: Credit (€) | F24: Saldo (€) | G24: Boekingstype | H24: Object | I24: Meetellen (1/0) | J24: Grondslag cat. 2 (€) | K24: kg CO₂e / € | L24: Emissie kg CO₂e | M24: Emissie ton CO₂e | N24: Toelichting
A25: 45658 | B25: 62 | C25: Year-end 2024 | D25: 816115.04 | E25: 0 | F25: =D25-E25 -> 816115.04 | G25: Beginbalans | I25: 0 | J25: =IF(COUNT(F25,I25)=2,F25*I25,"invoer ontbreekt") -> 0 | K25: ='CO2 diverse bronnen'!$G$57 -> 0.37441984 | L25: =IF(ISNUMBER(J25),J25*K25,"invoer ontbreekt") -> 0 | M25: =IF(ISNUMBER(L25),L25/1000,"invoer ontbreekt") -> 0 | N25: Geen aankoop 2025
A26: 45677 | B26: 202501371 | C26: KMT Nieuw voertuig 3-VZT-71 50% aanbet. | D26: 63300 | E26: 0 | F26: =D26-E26 -> 63300 | G26: Aankoop | H26: 3-VZT-71 | I26: 1 | J26: =IF(COUNT(F26,I26)=2,F26*I26,"invoer ontbreekt") -> 63300 | K26: ='CO2 diverse bronnen'!$G$57 -> 0.37441984 | L26: =IF(ISNUMBER(J26),J26*K26,"invoer ontbreekt") -> 23700.776 | M26: =IF(ISNUMBER(L26),L26/1000,"invoer ontbreekt") -> 23.700776 | N26: Eerste termijn; samen met slottermijn één voertuig
A27: 45743 | B27: 202501737 | C27: Combi Cars aankoop HFG-95-V | D27: 29949.09 | E27: 0 | F27: =D27-E27 -> 29949.09 | G27: Aankoop | H27: HFG-95-V | I27: 1 | J27: =IF(COUNT(F27,I27)=2,F27*I27,"invoer ontbreekt") -> 29949.09 | K27: ='CO2 diverse bronnen'!$G$57 -> 0.37441984 | L27: =IF(ISNUMBER(J27),J27*K27,"invoer ontbreekt") -> 11213.533 | M27: =IF(ISNUMBER(L27),L27/1000,"invoer ontbreekt") -> 11.213533
A28: 45743 | B28: 202501737 | C28: Combi Cars aankoop HFG-95-V Rest BPM | D28: 417.34 | E28: 0 | F28: =D28-E28 -> 417.34 | G28: BPM aankoop | H28: HFG-95-V | I28: 0 | J28: =IF(COUNT(F28,I28)=2,F28*I28,"invoer ontbreekt") -> 0 | K28: ='CO2 diverse bronnen'!$G$57 -> 0.37441984 | L28: =IF(ISNUMBER(J28),J28*K28,"invoer ontbreekt") -> 0 | M28: =IF(ISNUMBER(L28),L28/1000,"invoer ontbreekt") -> 0 | N28: Belasting buiten emissiegrondslag
A29: 45743 | B29: 202501737 | C29: Verkoop R-190-GR | D29: -9830.57 | E29: 0 | F29: =D29-E29 -> -9830.57 | G29: Verkoop | H29: R-190-GR | I29: 0 | J29: =IF(COUNT(F29,I29)=2,F29*I29,"invoer ontbreekt") -> 0 | K29: ='CO2 diverse bronnen'!$G$57 -> 0.37441984 | L29: =IF(ISNUMBER(J29),J29*K29,"invoer ontbreekt") -> 0 | M29: =IF(ISNUMBER(L29),L29/1000,"invoer ontbreekt") -> 0 | N29: Geen aftrek van emissies aankopen
A30: 45743 | B30: 202501737 | C30: Verkoop R-190-GR Rest BPM | D30: -605.01 | E30: 0 | F30: =D30-E30 -> -605.01 | G30: BPM verkoop | H30: R-190-GR | I30: 0 | J30: =IF(COUNT(F30,I30)=2,F30*I30,"invoer ontbreekt") -> 0 | K30: ='CO2 diverse bronnen'!$G$57 -> 0.37441984 | L30: =IF(ISNUMBER(J30),J30*K30,"invoer ontbreekt") -> 0 | M30: =IF(ISNUMBER(L30),L30/1000,"invoer ontbreekt") -> 0
A31: 45743 | B31: 202500055 | C31: Desinvestering Skoda R-190-GR | D31: 0 | E31: 20726.42 | F31: =D31-E31 -> -20726.42 | G31: Boekwaarde afstoting | H31: R-190-GR | I31: 0 | J31: =IF(COUNT(F31,I31)=2,F31*I31,"invoer ontbreekt") -> 0 | K31: ='CO2 diverse bronnen'!$G$57 -> 0.37441984 | L31: =IF(ISNUMBER(J31),J31*K31,"invoer ontbreekt") -> 0 | M31: =IF(ISNUMBER(L31),L31/1000,"invoer ontbreekt") -> 0 | N31: Geen fysieke inkoop; geen emissiecredit
A32: 45749 | B32: 202503601 | C32: Hulco Terax T2 88-WNP-BX | D32: 8900 | E32: 0 | F32: =D32-E32 -> 8900 | G32: Aankoop | H32: 88-WNP-BX | I32: 1 | J32: =IF(COUNT(F32,I32)=2,F32*I32,"invoer ontbreekt") -> 8900 | K32: ='CO2 diverse bronnen'!$G$57 -> 0.37441984 | L32: =IF(ISNUMBER(J32),J32*K32,"invoer ontbreekt") -> 3332.3366 | M32: =IF(ISNUMBER(L32),L32/1000,"invoer ontbreekt") -> 3.3323366 | N32: Aanhanger, sectorfactor voertuigen/aanhangers
A33: 45749 | B33: 202503601 | C33: Inruil: Humbaur 29-WB-BX | D33: -800 | E33: 0 | F33: =D33-E33 -> -800 | G33: Verkoop | H33: 29-WB-BX | I33: 0 | J33: =IF(COUNT(F33,I33)=2,F33*I33,"invoer ontbreekt") -> 0 | K33: ='CO2 diverse bronnen'!$G$57 -> 0.37441984 | L33: =IF(ISNUMBER(J33),J33*K33,"invoer ontbreekt") -> 0 | M33: =IF(ISNUMBER(L33),L33/1000,"invoer ontbreekt") -> 0 | N33: Inruil apart gehouden van bruto aankoop
A34: 45749 | B34: 202500056 | C34: Desinvestering Humbaur 29-WB-BX | D34: 0 | E34: 4390 | F34: =D34-E34 -> -4390 | G34: Boekwaarde afstoting | H34: 29-WB-BX | I34: 0 | J34: =IF(COUNT(F34,I34)=2,F34*I34,"invoer ontbreekt") -> 0 | K34: ='CO2 diverse bronnen'!$G$57 -> 0.37441984 | L34: =IF(ISNUMBER(J34),J34*K34,"invoer ontbreekt") -> 0 | M34: =IF(ISNUMBER(L34),L34/1000,"invoer ontbreekt") -> 0
A35: 45757 | B35: 202502031 | C35: Muijlwijk aankoop HGT-28-D | D35: 30894.45 | E35: 0 | F35: =D35-E35 -> 30894.45 | G35: Aankoop | H35: HGT-28-D | I35: 1 | J35: =IF(COUNT(F35,I35)=2,F35*I35,"invoer ontbreekt") -> 30894.45 | K35: ='CO2 diverse bronnen'!$G$57 -> 0.37441984 | L35: =IF(ISNUMBER(J35),J35*K35,"invoer ontbreekt") -> 11567.495 | M35: =IF(ISNUMBER(L35),L35/1000,"invoer ontbreekt") -> 11.567495
A36: 45757 | B36: 202502031 | C36: Muijlwijk aankoop HGT-28-D BPM | D36: 10051 | E36: 0 | F36: =D36-E36 -> 10051 | G36: BPM aankoop | H36: HGT-28-D | I36: 0 | J36: =IF(COUNT(F36,I36)=2,F36*I36,"invoer ontbreekt") -> 0 | K36: ='CO2 diverse bronnen'!$G$57 -> 0.37441984 | L36: =IF(ISNUMBER(J36),J36*K36,"invoer ontbreekt") -> 0 | M36: =IF(ISNUMBER(L36),L36/1000,"invoer ontbreekt") -> 0
A37: 45757 | B37: 202502031 | C37: Muijlwijk verkoop K-366-KH | D37: -12280.21 | E37: 0 | F37: =D37-E37 -> -12280.21 | G37: Verkoop | H37: K-366-KH | I37: 0 | J37: =IF(COUNT(F37,I37)=2,F37*I37,"invoer ontbreekt") -> 0 | K37: ='CO2 diverse bronnen'!$G$57 -> 0.37441984 | L37: =IF(ISNUMBER(J37),J37*K37,"invoer ontbreekt") -> 0 | M37: =IF(ISNUMBER(L37),L37/1000,"invoer ontbreekt") -> 0
A38: 45757 | B38: 202502031 | C38: Muijlwijk verkoop K-366-KH rest BPM | D38: -663 | E38: 0 | F38: =D38-E38 -> -663 | G38: BPM verkoop | H38: K-366-KH | I38: 0 | J38: =IF(COUNT(F38,I38)=2,F38*I38,"invoer ontbreekt") -> 0 | K38: ='CO2 diverse bronnen'!$G$57 -> 0.37441984 | L38: =IF(ISNUMBER(J38),J38*K38,"invoer ontbreekt") -> 0 | M38: =IF(ISNUMBER(L38),L38/1000,"invoer ontbreekt") -> 0
A39: 45757 | B39: 202500057 | C39: Desinvestering KIA K-366-KH | D39: 0 | E39: 15667.79 | F39: =D39-E39 -> -15667.79 | G39: Boekwaarde afstoting | H39: K-366-KH | I39: 0 | J39: =IF(COUNT(F39,I39)=2,F39*I39,"invoer ontbreekt") -> 0 | K39: ='CO2 diverse bronnen'!$G$57 -> 0.37441984 | L39: =IF(ISNUMBER(J39),J39*K39,"invoer ontbreekt") -> 0 | M39: =IF(ISNUMBER(L39),L39/1000,"invoer ontbreekt") -> 0
A40: 45853 | B40: 202503955 | C40: Cupra HXB-83-K | D40: 35055.53 | E40: 0 | F40: =D40-E40 -> 35055.53 | G40: Aankoop | H40: HXB-83-K | I40: 1 | J40: =IF(COUNT(F40,I40)=2,F40*I40,"invoer ontbreekt") -> 35055.53 | K40: ='CO2 diverse bronnen'!$G$57 -> 0.37441984 | L40: =IF(ISNUMBER(J40),J40*K40,"invoer ontbreekt") -> 13125.486 | M40: =IF(ISNUMBER(L40),L40/1000,"invoer ontbreekt") -> 13.125486
A41: 45853 | B41: 202503955 | C41: Cupra HXB-83-K BPM Kosten | D41: 687 | E41: 0 | F41: =D41-E41 -> 687 | G41: BPM aankoop | H41: HXB-83-K | I41: 0 | J41: =IF(COUNT(F41,I41)=2,F41*I41,"invoer ontbreekt") -> 0 | K41: ='CO2 diverse bronnen'!$G$57 -> 0.37441984 | L41: =IF(ISNUMBER(J41),J41*K41,"invoer ontbreekt") -> 0 | M41: =IF(ISNUMBER(L41),L41/1000,"invoer ontbreekt") -> 0
A42: 45856 | B42: 202500058 | C42: Desinvestering Seat R-324-JV | D42: 0 | E42: 17714.73 | F42: =D42-E42 -> -17714.73 | G42: Boekwaarde afstoting | H42: R-324-JV | I42: 0 | J42: =IF(COUNT(F42,I42)=2,F42*I42,"invoer ontbreekt") -> 0 | K42: ='CO2 diverse bronnen'!$G$57 -> 0.37441984 | L42: =IF(ISNUMBER(J42),J42*K42,"invoer ontbreekt") -> 0 | M42: =IF(ISNUMBER(L42),L42/1000,"invoer ontbreekt") -> 0 | N42: Omschrijving in screenshot afgebroken; kenteken afgeleid uit verkoopregel
A43: 45856 | B43: 202501376 | C43: Autobedr. V/D Udenhout Verk. R-324-JV | D43: 0 | E43: 6827.27 | F43: =D43-E43 -> -6827.27 | G43: Verkoop | H43: R-324-JV | I43: 0 | J43: =IF(COUNT(F43,I43)=2,F43*I43,"invoer ontbreekt") -> 0 | K43: ='CO2 diverse bronnen'!$G$57 -> 0.37441984 | L43: =IF(ISNUMBER(J43),J43*K43,"invoer ontbreekt") -> 0 | M43: =IF(ISNUMBER(L43),L43/1000,"invoer ontbreekt") -> 0
A44: 45856 | B44: 202501376 | C44: Autobedr. V/D Udenhout Verk. R-324-JV BPM | D44: 0 | E44: 639 | F44: =D44-E44 -> -639 | G44: BPM verkoop | H44: R-324-JV | I44: 0 | J44: =IF(COUNT(F44,I44)=2,F44*I44,"invoer ontbreekt") -> 0 | K44: ='CO2 diverse bronnen'!$G$57 -> 0.37441984 | L44: =IF(ISNUMBER(J44),J44*K44,"invoer ontbreekt") -> 0 | M44: =IF(ISNUMBER(L44),L44/1000,"invoer ontbreekt") -> 0
A45: 45863 | B45: 202504201 | C45: Mercuur B.V. aankoop V-10-FNF | D45: 32500 | E45: 0 | F45: =D45-E45 -> 32500 | G45: Aankoop | H45: V-10-FNF | I45: 1 | J45: =IF(COUNT(F45,I45)=2,F45*I45,"invoer ontbreekt") -> 32500 | K45: ='CO2 diverse bronnen'!$G$57 -> 0.37441984 | L45: =IF(ISNUMBER(J45),J45*K45,"invoer ontbreekt") -> 12168.645 | M45: =IF(ISNUMBER(L45),L45/1000,"invoer ontbreekt") -> 12.168645 | N45: Kenteken overgenomen zoals zichtbaar in bron
A46: 45902 | B46: 202504812 | C46: Meerman jr. aankoop haspelwagen | D46: 72120 | E46: 0 | F46: =D46-E46 -> 72120 | G46: Aankoop | H46: Haspelwagen | I46: 1 | J46: =IF(COUNT(F46,I46)=2,F46*I46,"invoer ontbreekt") -> 72120 | K46: ='CO2 diverse bronnen'!$G$57 -> 0.37441984 | L46: =IF(ISNUMBER(J46),J46*K46,"invoer ontbreekt") -> 27003.159 | M46: =IF(ISNUMBER(L46),L46/1000,"invoer ontbreekt") -> 27.003159 | N46: Getrokken voertuig, sectorfactor voertuigen/aanhangers
A47: 45905 | B47: 202504715 | C47: Vallei Auto Groep aank. Seat HSH-08-K | D47: 33983.64 | E47: 0 | F47: =D47-E47 -> 33983.64 | G47: Aankoop | H47: HSH-08-K | I47: 1 | J47: =IF(COUNT(F47,I47)=2,F47*I47,"invoer ontbreekt") -> 33983.64 | K47: ='CO2 diverse bronnen'!$G$57 -> 0.37441984 | L47: =IF(ISNUMBER(J47),J47*K47,"invoer ontbreekt") -> 12724.149 | M47: =IF(ISNUMBER(L47),L47/1000,"invoer ontbreekt") -> 12.724149
A48: 45905 | B48: 202504715 | C48: Vallei Auto Groep Seat HSH-08-K BPM | D48: 379.8 | E48: 0 | F48: =D48-E48 -> 379.8 | G48: BPM aankoop | H48: HSH-08-K | I48: 0 | J48: =IF(COUNT(F48,I48)=2,F48*I48,"invoer ontbreekt") -> 0 | K48: ='CO2 diverse bronnen'!$G$57 -> 0.37441984 | L48: =IF(ISNUMBER(J48),J48*K48,"invoer ontbreekt") -> 0 | M48: =IF(ISNUMBER(L48),L48/1000,"invoer ontbreekt") -> 0
A49: 45967 | B49: 202506335 | C49: Inkoop JKN-37-T | D49: 51159.05 | E49: 0 | F49: =D49-E49 -> 51159.05 | G49: Aankoop | H49: JKN-37-T | I49: 1 | J49: =IF(COUNT(F49,I49)=2,F49*I49,"invoer ontbreekt") -> 51159.05 | K49: ='CO2 diverse bronnen'!$G$57 -> 0.37441984 | L49: =IF(ISNUMBER(J49),J49*K49,"invoer ontbreekt") -> 19154.963 | M49: =IF(ISNUMBER(L49),L49/1000,"invoer ontbreekt") -> 19.154963
A50: 45967 | B50: 202506335 | C50: BPM JKN-37-T | D50: 794.4 | E50: 0 | F50: =D50-E50 -> 794.4 | G50: BPM aankoop | H50: JKN-37-T | I50: 0 | J50: =IF(COUNT(F50,I50)=2,F50*I50,"invoer ontbreekt") -> 0 | K50: ='CO2 diverse bronnen'!$G$57 -> 0.37441984 | L50: =IF(ISNUMBER(J50),J50*K50,"invoer ontbreekt") -> 0 | M50: =IF(ISNUMBER(L50),L50/1000,"invoer ontbreekt") -> 0
A51: 45967 | B51: 202506335 | C51: VRK AUTO K-450-NV | D51: -5674.38 | E51: 0 | F51: =D51-E51 -> -5674.38 | G51: Verkoop | H51: K-450-NV | I51: 0 | J51: =IF(COUNT(F51,I51)=2,F51*I51,"invoer ontbreekt") -> 0 | K51: ='CO2 diverse bronnen'!$G$57 -> 0.37441984 | L51: =IF(ISNUMBER(J51),J51*K51,"invoer ontbreekt") -> 0 | M51: =IF(ISNUMBER(L51),L51/1000,"invoer ontbreekt") -> 0
...

Sheet Woon-werk 2025
A2: Woon-werkverkeer 2025
A3: Bron: Scope 3 rijden naar het werk.xlsx, Blad1. 130 medewerkers. Reispatroon als representatief voor 2025 gebruikt; de bron bevat geen peildatum of individuele jaarroosters.
A5: Ramingaannamen | B5: Waarde | C5: Eenheid | E5: 32 uur per week wordt geraamd als 4 reisdagen, 40 uur als 5 reisdagen. Geen extra vermenigvuldiging met het aantal medewerkers: 900, 60 en 36 km zijn de totale enkele reisafstanden per modaliteit. Alleen de drie opgegeven modaliteiten met afstanden zijn gekwantificeerd.
A6: Effectieve reisweken | B6: 46 | C6: weken per jaar
A7: Uren per werkdag | B7: 8 | C7: uren
A8: Heen en terug | B8: 2 | C8: ritten per reisdag
A11: Modaliteit | B11: Medewerkers | C11: Totaal enkele reis km/dag | D11: Uren/week | E11: Reisdagen/week | F11: Reisdagen/jaar | G11: km/jaar | H11: kg CO₂e/km | I11: Emissie kg CO₂e | J11: Emissie ton CO₂e | K11: GHG-indeling | L11: Beoordeling
A12: Auto van de zaak | B12: =SUM(B35:B164) -> 78 | K12: Scope 1/2 | L12: Eigen bedrijfsvoertuigen; hier niet dubbel tellen. Energievoortraject hoort in categorie 3.
A13: Eigen vervoer | B13: =SUM(C35:C164) -> 15 | C13: 900 | D13: 32 | E13: =D13/$B$7 -> 4 | F13: =E13*$B$6 -> 184 | G13: =C13*$B$8*F13 -> 331200 | H13: ='CO2 diverse bronnen'!B65 -> 0.191 | I13: =IF(COUNT(C13:D13,$B$6:$B$8,H13)=6,G13*H13,"invoer ontbreekt") -> 63259.2 | J13: =IF(ISNUMBER(I13),I13/1000,"invoer ontbreekt") -> 63.2592 | K13: Scope 3, categorie 7 | L13: Eigen vervoer voorlopig als privéauto gemiddeld, één bestuurder per voertuig. Andere modaliteit of carpool corrigeren.
A14: Meerijden met collega | B14: =SUM(D35:D164) -> 30 | I14: 0 | J14: 0 | K14: Scope 1/2 | L14: 30 werknemers worden thuis opgehaald met bedrijfsvoertuigen. Geen extra categorie 7; ritverbruik zit in scope 1/2 en voorketen in categorie 3.
A15: Gebruik van OV | B15: =SUM(E35:E164) -> 5 | C15: 60 | D15: 32 | E15: =D15/$B$7 -> 4 | F15: =E15*$B$6 -> 184 | G15: =C15*$B$8*F15 -> 22080 | H15: ='CO2 diverse bronnen'!B66 -> 0.014 | I15: =IF(COUNT(C15:D15,$B$6:$B$8,H15)=6,G15*H15,"invoer ontbreekt") -> 309.12 | J15: =IF(ISNUMBER(I15),I15/1000,"invoer ontbreekt") -> 0.30912 | K15: Scope 3, categorie 7 | L15: OV-type onbekend; gemiddelde mix 2025 gebruikt.
A16: Fiets | B16: =SUM(F35:F164) -> 2 | C16: 36 | D16: 40 | E16: =D16/$B$7 -> 5 | F16: =E16*$B$6 -> 230 | G16: =C16*$B$8*F16 -> 16560 | H16: ='CO2 diverse bronnen'!B67 -> 0 | I16: =IF(COUNT(C16:D16,$B$6:$B$8,H16)=6,G16*H16,"invoer ontbreekt") -> 0 | J16: =IF(ISNUMBER(I16),I16/1000,"invoer ontbreekt") -> 0 | K16: Scope 3, categorie 7 | L16: Gewone fiets aangenomen; e-bikegebruik vraagt een aangepaste factor.
A17: Overig | B17: =SUM(G35:G164) -> 0 | K17: Geen opgaven | L17: geen opmerkingen
A18: Totaal categorie 7 (22 medewerkers) | B18: =SUM(B13,B15,B16) -> 22 | G18: =SUM(G12:G17) -> 369840 | I18: =IF(COUNT(I13,I15,I16)=3,SUM(I13,I15,I16),"invoer ontbreekt") -> 63568.32 | J18: =IF(ISNUMBER(I18),I18/1000,"invoer ontbreekt") -> 63.56832
A23: Effectieve reisweken | B23: ton CO₂e | D23: De 30 meerijders zijn afgebakend: opgehaald met bedrijfsvoertuigen, zonder eigen extra rit voor deze berekening. Hun nul in categorie 7 betekent geen extra optelling, niet dat de rit emissievrij is. Ramingaannames blijven de reisdagen, het eigen vervoertype en gewone fiets/e-bike.
A24: 44 | B24: =(C13*$B$8*E13*H13+C15*$B$8*E15*H15+C16*$B$8*E16*H16)*A24/1000 -> 60.80448
A25: 46 | B25: =(C13*$B$8*E13*H13+C15*$B$8*E15*H15+C16*$B$8*E16*H16)*A25/1000 -> 63.56832
A26: 48 | B26: =(C13*$B$8*E13*H13+C15*$B$8*E15*H15+C16*$B$8*E16*H16)*A26/1000 -> 66.33216
A30: WTW-factoren voor privéauto/OV omvatten de energievoorketen. De gewone fiets heeft geen motorenergie-emissies. De voertuigritten van 78 medewerkers met bedrijfsauto en 30 meerijders zijn al in scope 1/2 opgenomen; de voorketen van eigen energie valt in categorie 3.
A34: Werknemer | B34: Auto van de zaak | C34: Eigen vervoer | D34: Meerijden | E34: OV | F34: Fiets | G34: Overig | H34: Bronregel
A35: Werknemer 1 | B35: 0 | C35: 0 | D35: 1 | E35: 0 | F35: 0 | G35: 0 | H35: 6
A36: Werknemer 2 | B36: 0 | C36: 1 | D36: 0 | E36: 0 | F36: 0 | G36: 0 | H36: 7
A37: Werknemer 3 | B37: 1 | C37: 0 | D37: 0 | E37: 0 | F37: 0 | G37: 0 | H37: 8
A38: Werknemer 4 | B38: 0 | C38: 0 | D38: 1 | E38: 0 | F38: 0 | G38: 0 | H38: 9
A39: Werknemer 5 | B39: 0 | C39: 0 | D39: 1 | E39: 0 | F39: 0 | G39: 0 | H39: 10
A40: Werknemer 6 | B40: 0 | C40: 1 | D40: 0 | E40: 0 | F40: 0 | G40: 0 | H40: 11
A41: Werknemer 7 | B41: 0 | C41: 0 | D41: 1 | E41: 0 | F41: 0 | G41: 0 | H41: 12
A42: Werknemer 8 | B42: 0 | C42: 0 | D42: 1 | E42: 0 | F42: 0 | G42: 0 | H42: 13
A43: Werknemer 9 | B43: 0 | C43: 0 | D43: 1 | E43: 0 | F43: 0 | G43: 0 | H43: 14
A44: Werknemer 10 | B44: 1 | C44: 0 | D44: 0 | E44: 0 | F44: 0 | G44: 0 | H44: 15
A45: Werknemer 11 | B45: 0 | C45: 0 | D45: 1 | E45: 0 | F45: 0 | G45: 0 | H45: 16
A46: Werknemer 12 | B46: 1 | C46: 0 | D46: 0 | E46: 0 | F46: 0 | G46: 0 | H46: 17
... A164: Werknemer 130 | B164: 0 | C164: 0 | D164: 1 | E164: 0 | F164: 0 | G164: 0 | H164: 135
A165: Totaal bronopgaven | B165: =SUM(B35:B164) -> 78 | C165: =SUM(C35:C164) -> 15 | D165: =SUM(D35:D164) -> 30 | E165: =SUM(E35:E164) -> 5 | F165: =SUM(F35:F164) -> 2 | G165: =SUM(G35:G164) -> 0

Sheet Energievoorketen 2025
A2: Energievoorketen en GHG-afbakening 2025
A3: De rapportages gebruiken twee grenzen voor dezelfde energieactiviteiten. De voorketen is hier afgeleid uit het verschil. Drinkwater wordt afzonderlijk aan categorie 1 toegerekend.
A5: Broninput / jaarbedrag | B5: ton CO₂e | C5: Bron en betekenis
A6: Voetafdruk inclusief voorketen en water | B6: 637.54 | C6: CO2 voortgangsverslag en energie actieplan 2025, p. 8–9 en p. 11: gepubliceerd jaartotaal 637,54 ton.
A7: Directe emissies + elektriciteitsopwekking | B7: 485.2 | C7: Energiebeoordeling 2025, p. 7: jaartotaal 485,20 ton. Scope 1 p. 15: 478,77 ton; elektrisch rijden p. 7: 6,43 ton.
A8: Drinkwater in brede voetafdruk | B8: 0.08 | C8: CO2 voortgangsverslag en energie actieplan 2025, p. 8–9: drinkwater 0,08 ton. Ingekocht water is categorie 1.
A10: Berekening scope 3 | B10: ton CO₂e
A11: Categorie 3: energievoorketen | B11: =IF(COUNT(B6:B8)=3,B6-B7-B8,"invoer ontbreekt") -> 152.26 | C11: Brede voetafdruk minus scope 1/2 minus drinkwater. Afgeleid uit afgeronde rapportages; geen tweede optelling bovenop de brede voetafdruk.
A12: Categorie 1: ingekocht drinkwater | B12: =IF(ISNUMBER(B8),B8,"invoer ontbreekt") -> 0.08 | C12: Toevoeging naast de bestaande inkoopraming; geen afzonderlijke waterpost aangetroffen in de eerder verwerkte inkoopkaarten.
A14: Aanvulling op eerdere scope 3-raming | B14: =IF(COUNT(B11:B12)=2,SUM(B11:B12),"invoer ontbreekt") -> 152.34
A16: Onderbouwing per energiestroom. Kolom B komt uit het voortgangsverslag, kolom C uit de energiebeoordeling. Afgeronde regels kunnen afwijken van het gepubliceerde jaartotaal.
