Workbook

Sheet P1. Project Title 
A1: Green Iron and Steel Value Chain Analysis Tool
A3: Title: | B3: Green Iron and Steel Value Chain Analysis Tool
A4: Developers: | B4: Dr. Peter Ellersdorfer
B5: Dr. Muhammad Haider Ali Khan
A7: Acknowledgements: | B7: The Authors acknowledge the Australian Government Department of Climate Change, Energy, the Environment and Water (DCCEEW) for funding this project
A10: Affiliations: | B10: University of New South Wales (UNSW)
B11: Particles and Catalysis Research Group (PartCat), UNSW
B12: School of Minerals and Energy Resources Engineering (MERE), UNSW
B13: ARC Training Centre for The Global Hydrogen Economy (GlobH2E)
A15: Contact Person
A16: Name: | B16: Dr. Muhammad Haider Ali Khan/Dr. Rahman Daiyan
A17: Affiliation: | B17: School of Minerals and Energy Resources Engineering (MERE), UNSW
A18: Email: | B18: muhammadhaiderali.khan@unsw.edu.au
B19: r.daiyan@unsw.edu.au
A21: Copyright Information
A22: Disclaimer:
A23: Open source use of the tool is encouraged for independent use or contribute improvements to the design and functionality of the overall tool under the term of the distribution license and appropriate acknowledgements.
A24: Distribution License:
A25: Copyright 2025 University of New South Wales (UNSW)
A26: Permission is hereby granted, free of charge, to any person obtaining a copy of this software and associated documentation files (the "Software"), to deal in the Software without restriction, including without limitation the rights to use, copy, modify, merge, publish, distribute, sublicense, and/or sell copies of the Software, and to permit persons to whom the Software is furnished to do so, subject to the following conditions:
A27: The above copyright notice and this permission notice shall be included in all copies or substantial portions of the Software.
A28: THE SOFTWARE IS PROVIDED "AS IS", WITHOUT WARRANTY OF ANY KIND, EXPRESS OR IMPLIED, INCLUDING BUT NOT LIMITED TO THE WARRANTIES OF MERCHANTABILITY, FITNESS FOR A PARTICULAR PURPOSE AND NONINFRINGEMENT. IN NO EVENT SHALL THE AUTHORS OR COPYRIGHT HOLDERS BE LIABLE FOR ANY CLAIM, DAMAGES OR OTHER LIABILITY, WHETHER IN AN ACTION OF CONTRACT, TORT OR OTHERWISE, ARISING FROM, OUT OF OR IN CONNECTION WITH THE SOFTWARE OR THE USE OR OTHER DEALINGS IN THE SOFTWARE.
A29: Citation:
A30: While the tool is published under the conditions of the open source MIT license, making sure that the code can be used, edited, and re-distributed by others, we would appreciate if the tool developers are acknowledged by citing the work to which this model is attributed.
A31: P. Ellersdorfer, T.C. Leung, M.H.A. Khan, C. Wang, I. Canbulat, S. Saydam, I. MacGill, R. Daiyan (2025). “Cost Estimates for an Australian Germany Green Iron and Steel Value Chain”. UNSW Sydney, Australia.

Sheet P2. Project Description
A1: Project Description
A3: Project Statement
A4: The Green Iron and Steel Mining, Transport and Shipping Analysis Tool has been developed to evaluate the levelised cost iron ore extraction, rail transport and shipping as well as the costs associated with decarbonisation options associated with each aspect of the value chain.
A6: Tool Competencies
A7: The tool is a living tool with additional features being and expected to be added after consultation with various stakeholders. We also encourage feedback from the user to help us improve the tool. Feedback can be provided to Dr. Rahman Daiyan (r.daiyan@unsw.edu.au)
A9: Analysis Methodology
A10: Full details on the assumptions and values used are contained in the associated publication.

Sheet Index
A1: Table of Contents
A3: Cell Colour Coding
A4: Note: The cells have been colour coded based on the following functions
A5: Name | B5: Representation | C5: Function
A6: Input | B6: XXX | C6: Cells that can be changed
A7: Output | B7: XXX | C7: Computed key outputs that should not be changed
A8: Calculation | B8: XXX | C8: Represent intermediate calculations to achieve key outputs. Do not change these cells.
A9: Important Note | B9: XXX | C9: Used to highlight important instructions
A10: Value not in use | B10: XXX | C10: Cell is not used in calculations based on the set configuration

Sheet S1. Ore_Extraction
A1: S1. Ore Extraction and Transport Model
A3: Parameter | B3: Value | C3: Unit | D3: Note | E3: Default Value
A4: Financial Assumptions
A5: USD:AUD Conversion Rate | B5: =0.7 -> 0.7 | C5: - | E5: =0.7 -> 0.7
A6: Interest Rate | B6: 7 | C6: % | D6: Annual Interest Rate | E6: 7
A7: Economic Life | B7: 30 | C7: years | D7: Economic life of the mine site, process plant and mining vehicles | E7: 30
A8: CRF | B8: =(($B$6/100)*(1+$B$6/100)^$B$7)/(((1+$B$6/100)^$B$7)-1)*100 -> 8.0586404 | C8: % | D8: Capital Recovery Factor
A9: Capex Increase Compared to Benchmarked Costs | B9: 100 | C9: % of Benchmarked Cost | D9: Applied to all capital costs | E9: 100%
A11: System Sizing
A12: Mine Capacity | B12: 5000000 | C12: tonne/yr | D12: Annual Production of Iron Ore
B13: =(B12/365) -> 13698.63 | C13: tonne/day | D13: Daily Production of Iron Ore
A14: Process Plant Availability | B14: 90 | C14: % | D14: Only Applies to process plant availability
A15: Mine Site and Processing Capital Cost Estimates
A16: Crushing, Grinding & Screening
A17: Crushing and Screening Plant Building Cost | B17: 0.6 | C17: Factor | E17: "Costs and Cost Estimation" T. Alan, O'Hara and Stanley C.Suboleski https://nubeminera.cl/wp-content/uploads/2019/05/Nube-Minera-OHara-Subolewsky.pdf
B18: 1 | C18: tonne/day
B19: 59955 | C19: USD
B20: =B19*((B13/B18)^B17)*B9/100 -> 18189958 | C20: USD | D20: Includes capital cost loading (if applied)
A21: Primary Crushing Plant Cost | B21: 0.7 | C21: Factor | E21: "Costs and Cost Estimation" T. Alan, O'Hara and Stanley C.Suboleski https://nubeminera.cl/wp-content/uploads/2019/05/Nube-Minera-OHara-Subolewsky.pdf
B22: 1 | C22: tonne/day
B23: 33308 | C23: USD
B24: =B23*((B13/B22)^B21)*B9/100 -> 26195250 | C24: USD | D24: Includes capital cost loading (if applied)
A25: Fine Ore Crushing and Conveyors Cost | B25: 0.7 | C25: Factor | E25: "Costs and Cost Estimation" T. Alan, O'Hara and Stanley C.Suboleski https://nubeminera.cl/wp-content/uploads/2019/05/Nube-Minera-OHara-Subolewsky.pdf
B26: 1 | C26: tonne/day
B27: 39970 | C27: USD
B28: =B27*((B13/B26)^B25)*B9/100 -> 31434615 | C28: USD | D28: Includes capital cost loading (if applied)
A29: Grinding and Storage | B29: 0.7 | C29: Factor | E29: "Costs and Cost Estimation" T. Alan, O'Hara and Stanley C.Suboleski https://nubeminera.cl/wp-content/uploads/2019/05/Nube-Minera-OHara-Subolewsky.pdf
B30: 1 | C30: tonne/day
B31: 41524 | C31: USD
B32: =B31*((B13/B30)^B29)*B9/100 -> 32656766 | C32: USD | D32: Includes capital cost loading (if applied)
A33: Tailings Dam Storage
A34: Tailings Dam Storage Cost | B34: 0.5 | C34: Factor | E34: "Costs and Cost Estimation" T. Alan, O'Hara and Stanley C.Suboleski https://nubeminera.cl/wp-content/uploads/2019/05/Nube-Minera-OHara-Subolewsky.pdf
B35: 1 | C35: tonne/day
B36: 44411 | C36: USD
B37: =B36*((B13/B35)^B34)*B9/100 -> 5197914.4 | C37: USD | D37: Includes capital cost loading (if applied)
A38: Additional Capital Costs
A39: Additional Capital Costs | B39: 0 | C39: USD/yr | D39: User input value to account for any additional operating costs unaccounted for by this model
A40: Drilling, Loading and Hauling Capital Cost Estimates
A41: Drilling Equipment
A42: Number of Drills | B42: 2 | C42: Integer | D42: Number of drills required for the minesite. | E42: 2-4 drills for an open pit mine of less than 60,000 tpd. "Costs and Cost Estimation" T. Alan, O'Hara and Stanley C.Suboleski https://nubeminera.cl/wp-content/uploads/2019/05/Nube-Minera-OHara-Subolewsky.pdf
...

Sheet S1. Ore_Extraction_Benef_Pellet
A1: S1. Ore Extraction and Transport Model
A3: Parameter | B3: Value | C3: Unit | D3: Note | E3: Default Value
A4: Financial Assumptions
A5: USD:AUD Conversion Rate | B5: =0.7 -> 0.7 | C5: - | E5: =0.7 -> 0.7
A6: Interest Rate | B6: 7 | C6: % | D6: Annual Interest Rate | E6: 7
A7: Economic Life | B7: 30 | C7: years | D7: Economic life of the mine site, process plant and mining vehicles | E7: 30
A8: CRF | B8: =(($B$6/100)*(1+$B$6/100)^$B$7)/(((1+$B$6/100)^$B$7)-1)*100 -> 8.0586404 | C8: % | D8: Capital Recovery Factor
A9: Capex Increase Compared to Benchmarked Costs | B9: 100 | C9: % of Benchmarked Cost | D9: Applied to all capital costs | E9: 100%
A11: System Sizing
A12: Mine Capacity | B12: 5000000 | C12: tonne/yr | D12: Annual Production of Iron Ore
B13: =(B12/365) -> 13698.63 | C13: tonne/day | D13: Daily Production of Iron Ore
A14: Process Plant Availability | B14: 90 | C14: % | D14: Only Applies to process plant availability
A15: Mine Site and Processing Capital Cost Estimates
A16: Crushing, Grinding & Screening
A17: Crushing and Screening Plant Building Cost | B17: 0.6 | C17: Factor | E17: "Costs and Cost Estimation" T. Alan, O'Hara and Stanley C.Suboleski https://nubeminera.cl/wp-content/uploads/2019/05/Nube-Minera-OHara-Subolewsky.pdf
B18: 1 | C18: tonne/day
B19: 59955 | C19: USD
B20: =B19*((B13/B18)^B17)*B9/100 -> 18189958 | C20: USD | D20: Includes capital cost loading (if applied)
A21: Primary Crushing Plant Cost | B21: 0.7 | C21: Factor | E21: "Costs and Cost Estimation" T. Alan, O'Hara and Stanley C.Suboleski https://nubeminera.cl/wp-content/uploads/2019/05/Nube-Minera-OHara-Subolewsky.pdf
B22: 1 | C22: tonne/day
B23: 33308 | C23: USD
B24: =B23*((B13/B22)^B21)*B9/100 -> 26195250 | C24: USD | D24: Includes capital cost loading (if applied)
A25: Fine Ore Crushing and Conveyors Cost | B25: 0.7 | C25: Factor | E25: "Costs and Cost Estimation" T. Alan, O'Hara and Stanley C.Suboleski https://nubeminera.cl/wp-content/uploads/2019/05/Nube-Minera-OHara-Subolewsky.pdf
B26: 1 | C26: tonne/day
B27: 39970 | C27: USD
B28: =B27*((B13/B26)^B25)*B9/100 -> 31434615 | C28: USD | D28: Includes capital cost loading (if applied)
A29: Grinding and Storage | B29: 0.7 | C29: Factor | E29: "Costs and Cost Estimation" T. Alan, O'Hara and Stanley C.Suboleski https://nubeminera.cl/wp-content/uploads/2019/05/Nube-Minera-OHara-Subolewsky.pdf
B30: 1 | C30: tonne/day
B31: 41524 | C31: USD
B32: =B31*((B13/B30)^B29)*B9/100 -> 32656766 | C32: USD | D32: Includes capital cost loading (if applied)
A33: Beneficiation (Concentration) | B33: 0.6 | C33: Factor | E33: Based on concetrating plant from: "Costs and Cost Estimation" T. Alan, O'Hara and Stanley C.Suboleski https://nubeminera.cl/wp-content/uploads/2019/05/Nube-Minera-OHara-Subolewsky.pdf Compared this to a cost of 38millUSD for a Pellet Feed Concentrate Plant of 1million tpa. Costs are similar if assuming the 38million accounts for crushing plant. https://www.zanagairon.com/wp-content/uploads/2019/06/ZIOC-IP-28.03.19.pdf
B34: 1 | C34: tonne/day
B35: 45743 | C35: USD
B36: =B35*((B13/B34)^B33)*B9/100 -> 13878129 | C36: USD | D36: Includes capital cost loading (if applied) | G36: Pelletisation Thermal Energy Fuel Consumption | K36: Notes/ Reference
A37: Pelletisation | B37: 0.65 | C37: Factor | E37: Based on MRIWA estimates: 1059 MUSD for 2.8Mtpa and 1470 MUSD for 4.8 Mtpa Other estimates of 470M USD for 4.0Mtpa are provided here: https://strategic-res.com/news/2024/strategic-resources-announces-robust-economic-results-from-its-iron-pellet-plant-study/; https://www.prnewswire.com/news-releases/strategic-resources-announces-robust-economic-results-from-its-iron-pellet-plant-study-302086091.html | G37: Fuel Source | H37: Natural Gas | I37: Electricity | J37: Hydrogen | K37: Natural Gas Default Value | L37: Electricity Default Value | M37: Hydrogen Default Value
B38: 7671 | C38: tonne/day | G38: Fuel Price (USD/kWh) | H38: 0.03 | I38: =B118 -> 0.083 | J38: 0.186 | K38: natural gas price of 12AUD/GJ (8.4 USD/GJ) | L38: See linked cell | M38: 0.30USD/kWh based on 10USD/kg and LHV of 33.3kWh/kg. Green Hydrogen Cost Current Range: AUD8-14/kg; Gladstone Project: AUD3/kg; Target: AUD2/kg
B39: 360865773 | C39: USD | G39: Emissions Factor (kgCO2/kWh) | H39: 0.186 | I39: =B132 -> 0.63 | J39: 0 | K39: Natural Gas: 51.53 kgCO2-e/GJ (0.186 kg/kWh)https://www.dcceew.gov.au/sites/default/files/documents/national-greenhouse-account-factors-2024.pdf | L39: See linked cell | M39: Assuming 0 for Green Hydrogen
B40: =B39*((B13/B38)^B37)*B9/100 -> 5.2605608e+08 | C40: USD | D40: Includes capital cost loading (if applied)
A41: Pelletisation Fuel Source for Thermal Energy | B41: Natural Gas | D41: See assumptions table to the right
A42: Tailings Dam Storage
...

Sheet S1. Rail Transport
A1: S1. Ore Extraction and Transport Model
A3: Parameter | B3: Value | C3: Unit | D3: Note | E3: Default Value
A4: Financial Assumptions
A5: USD:AUD Conversion Rate | B5: =0.7 -> 0.7 | C5: - | E5: =0.7 -> 0.7
A6: Interest Rate | B6: 7 | C6: % | D6: Annual Interest Rate | E6: 7
A7: Economic Life | B7: 20 | C7: years | D7: Economic life of the locomotives and additional capital | E7: 20 years. Based on the useful life of a locomotive. https://journals.sagepub.com/doi/pdf/10.1177/0954409719867495
A8: CRF | B8: =(($B$6/100)*(1+$B$6/100)^$B$7)/(((1+$B$6/100)^$B$7)-1)*100 -> 9.4392926 | C8: % | D8: Capital Recovery Factor
A9: Capex Increase Compared to Benchmarked Costs | B9: 100 | C9: % of Benchmarked Cost | D9: Applied to all capital costs | E9: 100%
A11: Rail Transportation
A12: Journey Assumptions
A13: One-way distance travelled by rail | B13: 250 | C13: km | E13: Assumed
A14: Total time to load train | B14: 3 | C14: hrs | E14: Assumed similar to unloading time
A15: Total time to unload train | B15: 3 | C15: hrs | E15: Unloading time: 3hrs. Port Hedland Facts About the Industry of Port Hedland https://www.phic-hedland.com.au/wp-content/uploads/2023/08/PC05694_PHIC-20222023-Industry-Booklet_v9.1.pdf
A16: Average speed | B16: 70 | C16: km/h | E16: up to 80km/h https://www.railexpress.com.au/worlds-heaviest-haul-railway-fmg/
A17: Days per year in operation | B17: 350 | C17: days | E17: Assumed
A18: Capital Cost Assumptions
A19: Wagon Capacity | B19: 110 | C19: tonne/wagon | D19: Wagon capacity | E19: 105-110 tonne/wagon https://www.pilbararailways.com.au/bhp/waggons.php https://www.railway-technology.com/projects/hamersley-freight-line/
A20: Wagon Length | B20: 16.1 | C20: m/wagon | D20: Wagon length | E20: 32.3 m per 2 wagons https://www.artc.com.au/library/GI_10_loco_rs_data.pdf?v=2.1
A21: Number of Wagons per Train | B21: 230 | C21: integer | D21: Number of wagons per train | E21: 226-270 wagons/train https://www.railway-technology.com/projects/hamersley-freight-line/?cf-view https://www.bhp.com/news/media-centre/releases/2022/01/bhp-orders-four-battery-electric-locomotives-for-waio-rail-network
A22: Wagon Cost | B22: 150000 | C22: USD/wagon | E22: (100,000-188,017 USD/wagon) 150,000 AUD/wagon (adjsuted to present day costs 268,595 AUD/wagon) https://agrifutures.com.au/wp-content/uploads/publications/07-185.pdf; 100,000 USD/wagon https://www.made-in-china.com/price/ore-wagon-price.html
A23: Wagon Empty Weight | B23: 21.7 | C23: tonne/wagon | E23: 21.7 tare weight of coal wagon https://www.artc.com.au/library/GI_10_loco_rs_data.pdf?v=2.1
A24: Type of Locomotive | B24: Diesel | C24: -
A25: Number of Locomotives per Train | B25: 4 | C25: integer | E25: 3-4 Locomotives/train https://www.bhp.com/news/media-centre/releases/2022/01/bhp-orders-four-battery-electric-locomotives-for-waio-rail-network https://www.pilbararailways.com.au/rt/rio.php
A26: Locomotove Length | B26: 15 | C26: m/locomotive | E26: Diesel locomotove length (12-17.8m) https://www.artc.com.au/library/GI_10_loco_rs_data.pdf?v=2.1
A27: Locomotive Cost | B27: =HLOOKUP(B24,G30:K37,2,FALSE) -> 3940000 | C27: USD/locomotive | E27: Refer to Locomotive Assumptions Table
A28: Locomotive Empty Weight | B28: =HLOOKUP(B24,G30:K37,3,FALSE) -> 123.7 | C28: tonne/locomotive | E28: Refer to Locomotive Assumptions Table
A29: Total Wagon Capital Cost | B29: =B22*B21*(B9/100) -> 34500000 | C29: USD/train | D29: Includes capital cost loading (if applied) | G29: Locomotive and Fuel Assumptions | L29: Notes/ Reference
A30: Total Locomotive Capital Cost | B30: =B25*B27*(B9/100) -> 15760000 | C30: USD/train | D30: Includes capital cost loading (if applied) | G30: Fuel Source | H30: Diesel | I30: Electric | J30: Battery Electric | K30: Hydrogen | L30: Diesel Default Value | M30: Catenary Electric Default Value | N30: Battery Electric Default Value | O30: Hydrogen Fuel Cell Default Value
A31: Total Train Capacity (Total Train Net Weight) | B31: =B19*B21 -> 25300 | C31: tonne | G31: Locomotive Cost (USD/locomotive) | H31: 3940000 | I31: 5470000 | J31: =$I$31+14500*247 -> 9051500 | K31: =$I$31+247*2+5636*3280+27*38800 -> 25004174 | L31: 2.95 million USD (3.94 adjusted to present-day costs) for a 3.28MW diesel locomotive https://journals.sagepub.com/doi/pdf/10.1177/0954409719867495 | M31: 4.1 million USD (5.47 adjsuted to present-day costs) for a 3.28MW electric locomotive https://journals.sagepub.com/doi/pdf/10.1177/0954409719867495 | N31: Electric Locomotive Cost + Battery Cost Battery Cost (247 USD/kWh) CSIRO. GenCost 2023-24 Final Report. 2024. Battery Capacity 14500kWh. Based on battery wagon capacity https://www.bhp.com/news/media-centre/releases/2022/01/bhp-orders-four-battery-electric-locomotives-for-waio-rail-network | O31: Electric Locomotive Cost + Fuel Cell Battery Cost + Fuel Cell Cost + Hydrogen Storage Cost Battery Cost (247 USD/kWh) CSIRO. GenCost 2023-24 Final Report. 2024. Battery Capacity (2kWh) based on fuel cell battery capacity https://doi.org/10.1016/j.matpr.2023.02.039 Fuel Cell Capacity (3,280 kW) based on Electric Locomotive Power https://journals.sagepub.com/doi/pdf/10.1177/0954409719867495 Fuel Cell Cost (5636 USD/kWh) CSIRO. GenCost 2023-24 Final Report. 2024. Hydrogen Storage Costs (27 USD/kWh) DOI: 10.1177/0954409719867495 Hydrogen Storage Tank Capacity (38800kWh) Based on Diesel Locomotive Tank Capacity of 4,000L
A32: Total Train Tare Weight | B32: =(B21*B23)+(B25*B28) -> 5485.8 | C32: tonne | G32: Locomotive Empty Weight (tonne/locomotive) | H32: 123.7 | I32: 138 | J32: 138 | K32: 138 | L32: Diesel: 123.7 tonne. http://dx.doi.org/10.1080/15472450.2012.719456 120 tonne (for Ex Westrail NB class loco Fuel 4000 litres diesel locomotive) https://www.artc.com.au/library/GI_10_loco_rs_data.pdf?v=2.1 | M32: Electric: 138.0 tonne. http://dx.doi.org/10.1080/15472450.2012.719456 | N32: Assumed same weight as the electric locomotive | O32: Assumed same weight as the electric locomotive
A33: Total Train Length | B33: =(B20*B21+B26*B25)/1000 -> 3.763 | C33: km | G33: Caternary Line Installation Cost (USD/km) | H33: 0 | I33: 2350000 | J33: 0 | K33: 0 | L33: 0 no need for caternary lines for diesel powered train | M33: 1.76 million USD/km (2.35 adjusted to present-day costs) https://journals.sagepub.com/doi/pdf/10.1177/0954409719867495 | N33: 0 no need for caternary lines for battery powered train | O33: 0 no need for caternary lines for hydrogen powered train
A34: Total Train Gross Weight | B34: =SUM(B31:B32) -> 30785.8 | C34: tonne | G34: Locomotive Maintenance ((USD/km)/locomotive) | H34: 7.08 | I34: 4.04 | J34: 4.04 | K34: 4.04 | L34: Diesel: 5.31USD/km (7.08 adjsuted to present-day costs) https://journals.sagepub.com/doi/pdf/10.1177/0954409719867495 | M34: Electric: 3.03 USD/km (4.04 adjusted to present-day costs) https://journals.sagepub.com/doi/pdf/10.1177/0954409719867495 | N34: Assumed same as the electric locomotive | O34: Assumed same as the electric locomotive
A35: Caternary Line Installation Cost | B35: =HLOOKUP(B24,G30:K37,4,FALSE)*(B9/100) -> 0 | C35: USD/km | D35: Caternary lines for for electic powered locomotives Includes capital cost loading (if applied) | E35: Refer to Locomotive Assumptions Table | G35: Fuel Consumption (kWh per tonne kilometer) | H35: 0.117 | I35: 0.052 | J35: 0.052 | K35: =$I$35/0.55 -> 0.094545455 | L35: Diesel: 0.117kWh per tonne kilometer (gentle topography) http://dx.doi.org/10.1080/15472450.2012.719456 | M35: Electric: 0.052 per tonne kilometer (gentle topography) http://dx.doi.org/10.1080/15472450.2012.719456 | N35: Assumed same as the electric locomotive | O35: Electric Locomotive Power/Fuel Cell Efficiency Assuming an electric train power requirements of 0.052kWh/tonnekm ((gentle topography) http://dx.doi.org/10.1080/15472450.2012.719456) Fuel Cell Efficiency (55%, 60%, 62% & 64% for 2024,2030,2040 & 2050) https://journals.sagepub.com/doi/pdf/10.1177/0954409719867495, DOI: 10.1177/0954409719867495
A36: Operating Cost Assumptions | G36: Fuel Price (USD/kWh) | H36: 0.138 | I36: 0.083 | J36: =$I$36 -> 0.083 | K36: 0.186 | L36: 0.131 USD/kWh assumign an energy density of 0.0386GJ/L (https://www.dcceew.gov.au/sites/default/files/documents/national-greenhouse-accounts-factors-2022.pdf) and a price of 1.40 USD/L (2 AUD/L (assuming 0.7:1 USD:AUD) https://www.aip.com.au/pricing/terminal-gate-prices) | M36: Australian Electricity Price: 237.53 USD/MWh https://www.iea.org/data-and-statistics/data-tools/end-use-prices-data-explorer?tab=Yearly+prices | O36: 0.30USD/kWh based on 10USD/kg and LHV of 33.3kWh/kg. Green Hydrogen Cost Current Range: AUD8-14/kg; Gladstonnee Project: AUD3/kg; Target: AUD2/kg
A37: Flag-fall Rail Access Fees | B37: 2.8 | C37: USD/km | D37: Flag-fall rail access fees. Model assumes this is applied each way of the journey. | E37: Heavy Freight price AUD 3.998 (2.799 USD) per train kilometer https://www.artc.com.au/uploads/Pricing-Schedule-Effective-01072023.pdf | G37: Emissions Factor (kgCO2/kWh) | H37: 0.253 | I37: 0.63 | J37: =$I$37 -> 0.63 | K37: 0 | L37: 70.4 kgCO2/GJ (0.253 kgCO2/kWh) https://www.dcceew.gov.au/sites/default/files/documents/national-greenhouse-accounts-factors-2022.pdf | M37: South Australia 0.25 kgCO2/kWh; Western Australia - South West Interconnected System (SWIS) 0.51 kgCO2/kWh; Western Australia - North Western Interconnected System (NWIS) 0.58 kgCO2/kWh; https://www.dcceew.gov.au/sites/default/files/documents/national-greenhouse-accounts-factors-2022.pdf | O37: Assuming 0 for Green Hydrogen
A38: Variable Rail Access Fees | B38: 0.0054 | C38: USD/tkm | D38: Variable rail access fees. Model assumes this is applied each way of the journey. | E38: Heavy Freight price AUD 7.758 (5.431 USD) per 1000 gross tonne kilometer https://www.artc.com.au/uploads/Pricing-Schedule-Effective-01072023.pdf
A39: Locomotive Maintenance & Repair | B39: =HLOOKUP(B24,G30:K37,5,FALSE) -> 7.08 | C39: (USD/km)/locomotive | E39: Refer to Locomotive Assumptions Table
A40: Wagon Maintenance & Repair | B40: 0.06 | C40: (USD/km)/wagon | E40: 45-50 AUD/1000km (adjusted to present-day costs: 81-90 AUD/1000km) The Costs of Road and Rail Freight —Neutrality and efficiency in the farm-to-port logistics chain. Australian Government Rural Industries Research and Development Corporation—https://agrifutures.com.au/wp-content/uploads/publications/07-185.pdf
A41: Rail Network Maintenance & Repair | B41: 0.002 | C41: USD/tkm | E41: 1.60 AUD per 1000 gross tonne kilometer (adjusted to present-day costs: 2.87 AUD per 1000 gross tonne kilometer) The Costs of Road and Rail Freight —Neutrality and efficiency in the farm-to-port logistics chain. Australian Government Rural Industries Research and Development Corporation—https://agrifutures.com.au/wp-content/uploads/publications/07-185.pdf
A42: Cargo Insurance | B42: 0.001 | C42: USD/ntkm | D42: Insurance per net tonne kilometer is only paid for the payload of ore, and is not applied to the return journey | E42: 0.07 USD cents per net tonne kilometer (adjusted to present-day costs: 0.12 USD cents per net tonne kilometer) The Costs of Road and Rail Freight —Neutrality and efficiency in the farm-to-port logistics chain. Australian Government Rural Industries Research and Development Corporation—https://agrifutures.com.au/wp-content/uploads/publications/07-185.pdf
...

Sheet S1. Dry Bulk Shipping
A1: S1. Shipping Model
A3: Parameter | B3: Value | C3: Unit | D3: Note | E3: Default Value
A4: Financial Assumptions
A5: USD:AUD Conversion Rate | B5: =0.7 -> 0.7 | C5: - | E5: =0.7 -> 0.7
A6: Interest Rate | B6: 7 | C6: % | D6: Annual Interest Rate | E6: 7
A7: Economic Life | B7: 30 | C7: years | D7: Economic life of the ship and additional capital costs | E7: 30
A8: CRF | B8: =(($B$6/100)*(1+$B$6/100)^$B$7)/(((1+$B$6/100)^$B$7)-1)*100 -> 8.0586404 | C8: % | D8: Capital Recovery Factor
A9: Capex Increase Compared to Benchmarked Costs | B9: 100 | C9: % of Benchmarked Cost | D9: Applied to all capital costs | E9: 100%
A11: Shipping Route
A12: Preset Shipping Route
A13: Port of Departure | B13: Port Hedland (WA) | C13: N/A | D13: If using custom ports, "Custom" MUST be selected for both ports, if selected, model will take values from "Custom Shipping Route Inputs" below
A14: Port of Arrival | B14: Port of Hamburg (Germany) | C14: N/A
A15: Suez Canal | B15: {=_xlfn.XLOOKUP('S1. Dry Bulk Shipping'!$B13,'S3. Shipping Route Data'!$A$18:$A$28,_xlfn.XLOOKUP('S1. Dry Bulk Shipping'!$B14,'S3. Shipping Route Data'!$B$17:$D$17,'S3. Shipping Route Data'!$B$18:$D$28))} -> YES | C15: yes/no | D15: Shows if the shipping route will pass through the Suez Canal
A16: Panama Canal | B16: {=_xlfn.XLOOKUP('S1. Dry Bulk Shipping'!$B13,'S3. Shipping Route Data'!$A$31:$A$41,_xlfn.XLOOKUP('S1. Dry Bulk Shipping'!$B14,'S3. Shipping Route Data'!$B$30:$D$30,'S3. Shipping Route Data'!$B$31:$D$41))} -> NO | C16: yes/no | D16: Shows if the shipping route will pass through the Panama Canal
A17: Custom Shipping Route
A18: Distance | C18: Nautical Miles | D18: Route Distance. Cells are active if port departure and arrival are set to "Custom"
A19: Suez Canal | B19: YES | C19: yes/no | D19: Input "YES" if route passes Suez Canal. Cells are active if port departure and arrival are set to "Custom"
A20: Panama Canal | B20: NO | C20: yes/no | D20: Input "YES" if route passes Panama Canal. Cells are active if port departure and arrival are set to "Custom"
A22: Canal and Port Assumptions
A23: Suez Canal Cost | B23: 400000 | C23: USD | D23: One-way canal cost | E23: Shipping the sunshine: An open-source model for costing renewable hydrogen transport from Australia https://doi.org/10.1016/j.ijhydene.2022.04.156
A24: Panama Canal Cost | B24: 350000 | C24: USD | D24: One-way canal cost | E24: Shipping the sunshine: An open-source model for costing renewable hydrogen transport from Australia https://doi.org/10.1016/j.ijhydene.2022.04.156
A25: Port Days | B25: 3000 | C25: tonne/hr | D25: Time taken to load/unload ship at port | E25: Average Ship Dry-bulk Loading Rate: 2,500-3,000 tonne/hr Port Hedland Facts About the Industry of Port Hedland https://www.phic-hedland.com.au/wp-content/uploads/2023/08/PC05694_PHIC-20222023-Industry-Booklet_v9.1.pdf
B26: =(B35/B25)/24 -> 1.6666667 | C26: days to load/unload
A27: Port Pilotage Charges | B27: 15291 | C27: USD/vessel | D27: Cost to dock at port (including cost to load and unload ship) | E27: 15,071.37-21,844.98 AUD/vessel (10,549.96-15,291.49 USD/vessel) Pilbara Ports Authority, Scehdule of Port Charges Effective 1 July 2023 https://www.pilbaraports.com.au/about-pilbara-ports/publications/forms-and-publications/forms-and-publications/other/2023/may/july-2023-schedule-of-charges-port-of-port-hedland
A28: Port Tonnage Charge | B28: 0.35 | C28: USD/tonne | D28: Port tonnage is charges per "Gross Registered Tonnage (GRT)" | E28: 0.4928 AUD/tonne (0.3450 USD/tonne) Pilbara Ports Authority, Scehdule of Port Charges Effective 1 July 2023 https://www.pilbaraports.com.au/about-pilbara-ports/publications/forms-and-publications/forms-and-publications/other/2023/may/july-2023-schedule-of-charges-port-of-port-hedland
A29: Port Wharfage Charge | B29: 1.86 | C29: USD/tonne | E29: 2.66 AUD/tonne (1.86 USD/tonne) Pilbara Ports Authority, Scehdule of Port Charges Effective 1 July 2023 https://www.pilbaraports.com.au/about-pilbara-ports/publications/forms-and-publications/forms-and-publications/other/2023/may/july-2023-schedule-of-charges-port-of-port-hedland
A30: Port Berthage Charge | B30: 315 | C30: USD/hr | E30: 360.56-450.70 AUD/hr (252.39-315.49 USD/hr) Pilbara Ports Authority, Scehdule of Port Charges Effective 1 July 2023 https://www.pilbaraports.com.au/about-pilbara-ports/publications/forms-and-publications/forms-and-publications/other/2023/may/july-2023-schedule-of-charges-port-of-port-hedland
A32: Ship Size and Characteristics | G32: Ship Assumptions | M32: Notes / Reference
A33: Ship Characteristics | G33: Ship Details | H33: Handysize | I33: Supramax | J33: Panamax | K33: HandyCape | L33: Capesize | M33: These vessel types are ocean going vessels that transport dry bulk and break bulk commodities. Typical dry-bulk commodities include iron ore, coal, grain, cement and aggregate. Typical break-bulk commodities include reels and rolls, steel girders, structural steel, heavy or oversized goods, manufacturing equipment, construction equipment and vehicles. http://dx.doi.org/10.1016/j.trd.2014.04.001 New build costs were adjusted to present-day values using CEPCI indexes. Supramax new build cost: 30-33.5 Million USD (38.5-40 for e-ammonia) https://doi.org/10.1016/j.oceaneng.2022.112798 Newbuild prices for capesize and handysize are almost at the same levels – $64m and $30m – compared to 2022’s highs. https://splash247.com/trajectory-of-soaring-newbuild-prices-divides-opinion/#:~:text=Newbuild%20prices%20for%20capesize%20and,9%25%20depending%20on%20ship%20size.
A34: Ship Type | B34: HandyCape | C34: - | G34: Length – lpp (m) | H34: 155 | I34: 190 | J34: 220 | K34: 240 | L34: 287
A35: Dead weight (ship capacity) | B35: =HLOOKUP(B34,'S1. Dry Bulk Shipping'!G33:L43,6,FALSE) -> 120000 | C35: tonne | D35: Assumes capacity is the same between dry-bulk commodity (e.g. iron ore) or break-bulk commodity (e.g. iron/steel) | E35: Refer to Ship Assumptions Table | G35: Beam (m) | H35: 22.5 | I35: 32.3 | J35: 32.3 | K35: 43 | L35: 45
A36: Installed power (ship engine capacity) | B36: =HLOOKUP(B34,'S1. Dry Bulk Shipping'!G33:L43,7,FALSE) -> 13.5 | C36: MW | E36: Refer to Ship Assumptions Table | G36: Draft (m) | H36: 10.2 | I36: 12.9 | J36: 14.5 | K36: 15.2 | L36: 18.2
A37: Design speed | B37: =HLOOKUP(B34,'S1. Dry Bulk Shipping'!G33:L43,8,FALSE) -> 15 | C37: knots | E37: Refer to Ship Assumptions Table | G37: Displacement (tonne) | H37: 31000 | I37: 70000 | J37: 92000 | K37: 135000 | L37: 203000
A38: Can Travel Suez Canal? | B38: =HLOOKUP(B34,'S1. Dry Bulk Shipping'!G33:L43,10,FALSE) -> YES | C38: yes/no | D38: States if ship can pass through suez canal | E38: Refer to Ship Assumptions Table | G38: Dead weight (tonne) | H38: 25000 | I38: 60000 | J38: 80000 | K38: 120000 | L38: 180000
A39: Warnings for Suez Canal | B39: =IF(AND(B15="YES", B38="NO"),"Cannot pass canal","No Warnings") -> No Warnings | C39: - | D39: Produces a warning if selected ship type cannot pass through canal. | G39: Installed power (MW) | H39: 5.5 | I39: 9 | J39: 10.5 | K39: 13.5 | L39: 16.5
A40: Can Travel Panama Canal? | B40: =HLOOKUP(B34,'S1. Dry Bulk Shipping'!G33:L43,11,FALSE) -> NO | C40: yes/no | D40: States if ship can pass through panama canal | E40: Refer to Ship Assumptions Table | G40: Design speed (knots) | H40: 14 | I40: 15 | J40: 15 | K40: 15 | L40: 15
A41: Warnings for Panama Canal | B41: =IF(AND(B16="YES", B40="NO"),"Cannot pass canal","No Warnings") -> No Warnings | C41: - | D41: Produces a warning if selected ship type cannot pass through canal. | G41: Newbuild cost (USD) | H41: 27613262 | I41: 37277903 | J41: 41419892 | K41: 55226523 | L41: 69033154
A42: Ship Cost Assumptions | G42: Can Travel Suez Canal? | H42: YES | I42: YES | J42: YES | K42: YES | L42: NO | M42: Based on dimensions of Suezmax (length: 275m, dwt:12000-200000 and draft: 20.1m)
A43: Base vessel Capital Cost | B43: =HLOOKUP(B34,'S1. Dry Bulk Shipping'!G33:L43,9,FALSE) -> 55226523 | C43: USD | G43: Can Travel Panama Canal? | H43: YES | I43: YES | J43: YES | K43: NO | L43: NO | M43: Panamax is largest ship size that can fit though the panama canal
A44: Modified Vessel Capital Cost | B44: =(B43-((B36*1000)*HLOOKUP(B57,'S1. Dry Bulk Shipping'!G51:L54,2,FALSE))+((B36*1000)*HLOOKUP(B57,'S1. Dry Bulk Shipping'!G51:L54,3,FALSE))+((B36*1000)*HLOOKUP(B57,'S1. Dry Bulk Shipping'!G51:L54,4,FALSE)))*(B9/100) -> 55226523 | C44: USD | D44: Modified vessel capital costs included any modification costs associated with running on ammonia or methanol fuels, such as engine covnersion costs and tank and scrubber costs. Includes captial cost loading (if applied) | E44: See Vessel Modification Assumptions Table
...

Sheet S1. Ironmaking_DRI_ESF
A1: S1. Ore Extraction and Transport Model
A3: Parameter | B3: Value | C3: Unit | D3: Note | E3: Default Value
A4: Financial Assumptions
A5: USD:AUD Conversion Rate | B5: =0.7 -> 0.7 | C5: - | E5: =0.7 -> 0.7
A6: Interest Rate | B6: 7 | C6: % | D6: Annual Interest Rate | E6: 7
A7: Economic Life | B7: 30 | C7: years
A8: CRF | B8: =(($B$6/100)*(1+$B$6/100)^$B$7)/(((1+$B$6/100)^$B$7)-1)*100 -> 8.0586404 | C8: % | D8: Capital Recovery Factor
A9: Capex Increase Compared to Benchmarked Costs | B9: 100 | C9: % of Benchmarked Cost | D9: This factor is applied to plant that is constructed in Australia, to account for increased costs compared to international costs. Use this if cost correlations are from international costs. This is not applied to equipmet that is delivered as is, such as vehicle costs. | E9: 100%
A11: System Sizing
A12: Plant Capacity | B12: 1000000 | C12: tonne/yr | D12: Annual Production
A13: Process Plant Availability | B13: 90 | C13: % | D13: Only Applies to process plant availability
A14: DRI Plant Parameters
A15: DRI Process Inputs (for Overall DRI Process)
A16: Reducing Gas | B16: Natural Gas | C16: - | D16: Fuel source for reducing iron ore to DRI
B17: =HLOOKUP(B16,H22:I31,4,FALSE) -> 0.2 | C17: tonneGas/tonneHotMetal | D17: Reducing Gas required to produce 1 tonne of hotmetal Calculated value, please do not change this cell | E17: Refer to iron ore reducing gas table
B18: =HLOOKUP(B16,H22:I31,5,FALSE) -> 13.9 | C18: kWh/kgGas | D18: Reducing Gas required to produce 1 tonne of hotmetal Calculated value, please do not change this cell | E18: Refer to iron ore reducing gas table
B19: =B18*1000*B17 -> 2780 | C19: kWh/tonneHotMetal | D19: Reducing Gas required to produce 1 tonne of hotmetal Calculated value, please do not change this cell | E19: Refer to iron ore reducing gas table
A20: Oxygen Gas | B20: =HLOOKUP(B16,H22:I31,6,FALSE) -> 0.003 | C20: tonneO2/tonneHotMetal | D20: Oxygen required to produce 1 tonne of iron. Oxygen is injected into the furnace (or upstream of the shaft furnace) to raise the operating temperature of the shaft furnace, which improves reaction kinetics. (DOI: 10.1039/d3ee01077e) | E20: Refer to iron ore reducing gas table
A21: Electricity | B21: 70 | C21: kWh/tonneHotMetal | D21: Electricity required to produce 1 tonne of iron (assumes operation of shaft furnace, reformer, recycle compressor & cooling tower) | E21: DRI Plant: 67-85 kWh/tonneHotMetal DOI: 10.1016/j.jclepro.2022.135146, https://www.energiron.com/wp-content/uploads/2020/01/Energiron_Brochure-2020.pdf | G21: Iron Ore Reducing Gas | J21: Notes/ Reference
A22: Iron Ore Requirements | B22: 67 | C22: % Fe (w/w) | D22: Iron ore grade (assuming pellet) | E22: >65% For DRI Process Dutta, S.K. and Chokshi, Y.B., 2020. Basic concepts of Iron and steel making. Springer Nature. | G22: Fuel Source | H22: Natural Gas | I22: Hydrogen | J22: Natural Gas Default Value | K22: Hydrogen Default Value
B23: 95 | C23: % Fe (w/w) | D23: Total Fe in end product (ie hot metal) (in metallic form and residual oxidised form) | G23: Fuel Price (USD/kWh) | H23: 0.03 | I23: 0.186 | J23: Natural gas price of 12AUD/GJ (8.4 USD/GJ) | K23: 0.30USD/kWh based on 10USD/kg and LHV of 33.3kWh/kg. Green Hydrogen Cost Current Range: AUD8-14/kg; Gladstone Project: AUD3/kg; Target: AUD2/kg
B24: =(((B23/100)*B26)/(B22/100))/B26 -> 1.4179104 | C24: tonneOre/tonneHotMetal | D24: Iron ore required to produce 1 tonne of iron. This takes into account grade of iron ore and metallisation rate of DRI process. Calculated value, please do not change this cell | G24: Emissions Factor (kgCO2/kWh) | H24: 0.186 | I24: 0 | J24: Natural Gas: 51.53 kgCO2-e/GJ (0.186 kg/kWh)https://www.dcceew.gov.au/sites/default/files/documents/national-greenhouse-account-factors-2024.pdf | K24: Assume 0 for hydrogen
A25: Shaft Furnace | G25: Reducing Gas Requirements (tonneGas/tonneHotMetal) | H25: 0.2 | I25: 0.062 | J25: 0.17-0.23 tonneNG/tonneIron | K25: 0.062 tonneH2/tonneIron
A26: Shaft Furncace Capacity | B26: =B12 -> 1000000 | C26: tonne/yr | D26: Rated capacity Calculated value, please do not change this cell | G26: Reducing Gas Energy Content (kWh/kg) | H26: 13.9 | I26: 33.3 | J26: 13.9 kWh/kg https://www.engineeringtoolbox.com/fuels-higher-calorific-values-d_169.html | K26: 33.3 kWh/kg https://www.engineeringtoolbox.com/fuels-higher-calorific-values-d_169.html
A27: Shaft Furnace Capital Costs | B27: 0.6538 | C27: Factor | D27: Uses the scale index formula: https://evcvaluation.com/the-cost-to-capacity-method-and-scale-factors/ | E27: DOI: 10.1039/d3ee01077e | G27: Oxygen gas requirements (tonneO2/tonneHotMetal) | H27: 0.003 | I27: 0.055 | J27: 0.1kmolO2/tonneHotMetal (0.003 tonneO2/tonneHotMetal) DOI: 10.1039/d3ee01077e | K27: 0.055 tonneO2/tonneIron DOI: 10.1039/d3ee01077e
B28: 8.76 | C28: tonne/yr | D28: Reference Capacity (based on product flow) | G28: Reformer / Hydrogen pre-heater Sizing (MWh/tonneHotMetal) | H28: 0.71 | I28: 0.25
B29: 47841 | C29: USD | D29: Unit Cost at the Reference Capacity | G29: Reformer / Hydrogen pre-heater CAPEX Scale Factor | H29: 0.6505 | I29: 0.7848 | J29: DOI: 10.1039/d3ee01077e | K29: DOI: 10.1039/d3ee01077e
B30: =B29*((B12/B28)^B27)*B9/100 -> 96915014 | C30: USD | D30: Includes capital cost loading (if applied) | G30: Reformer / Hydrogen pre-heater CAPEX Reference Capacity (MW) | H30: 1 | I30: 1 | J30: DOI: 10.1039/d3ee01077e | K30: DOI: 10.1039/d3ee01077e
A31: Annual Maintenance Costs | B31: 1.5 | C31: % of CAPEX | D31: Annual Maintenance Costs | E31: 1.5% installed cost DOI: 10.1016/j.jclepro.2022.131339 | G31: Reformer / Hydrogen pre-heater CAPEX Reference Cost (USD) | H31: 4806408 | I31: 223082 | J31: DOI: 10.1039/d3ee01077e | K31: DOI: 10.1039/d3ee01077e
A32: Reformer / Hydrogen Pre-heater (Based on Reducing Gas Selection) | G32: Carbon Content of DRI (%C) | H32: 2 | I32: 0 | J32: DRI from natural gas DRI (1-4.5% Carbon) | K32: DRI from H2 DRI (0% carbon)
A33: Reformer Sizing | B33: =HLOOKUP(B16,H22:I31,7,FALSE) -> 0.71 | C33: MWh/tonneHotMetal | D33: Reformer rating for plant capacity | E33: 0.71 MWh/tonneIron 10.1039/d3ee01077e
B34: =(B26/(365*24))*B33 -> 81.050228 | C34: MW | D34: Rated Capacity Based on DRI Output Calculated value, please do not change this cell
A35: Capital Costs | B35: =HLOOKUP(B16,H22:I31,8,FALSE) -> 0.6505 | C35: Factor | D35: Uses the scale index formula: https://evcvaluation.com/the-cost-to-capacity-method-and-scale-factors/
B36: =HLOOKUP(B16,H22:I31,9,FALSE) -> 1 | C36: MW | D36: Reference Capacity (based on heat exchange capacity)
B37: =HLOOKUP(B16,H22:I31,10,FALSE) -> 4806408 | C37: USD | D37: Unit Cost at the Reference Capacity
B38: =B37*((B34/B36)^B35)*B9/100 -> 83842703 | C38: USD | D38: Includes capital cost loading (if applied)
A39: Annual Maintenance Costs | B39: 1.5 | C39: % of CAPEX | D39: Annual Maintenance Costs | E39: 1.5% installed cost DOI: 10.1016/j.jclepro.2022.131339
A40: Recycle Compressor Capital Costs
A41: Recycle Compressor Sizing | B41: 0.023 | C41: MWh/tonneIron | D41: Recycle compressor rating for plant capacity | E41: 0.023 MWh/tonneIron 10.1039/d3ee01077e
B42: =(B26/(365*24))*B41 -> 2.6255708 | C42: MW | D42: Rated Capacity Based on DRI Output Calculated value, please do not change this cell
...

Sheet S1. Ironmaking_DRI_HBI
A1: S1. Ore Extraction and Transport Model
A3: Parameter | B3: Value | C3: Unit | D3: Note | E3: Default Value
A4: Financial Assumptions
A5: USD:AUD Conversion Rate | B5: =0.7 -> 0.7 | C5: - | E5: =0.7 -> 0.7
A6: Interest Rate | B6: 7 | C6: % | D6: Annual Interest Rate | E6: 7
A7: Economic Life | B7: 30 | C7: years
A8: CRF | B8: =(($B$6/100)*(1+$B$6/100)^$B$7)/(((1+$B$6/100)^$B$7)-1)*100 -> 8.0586404 | C8: % | D8: Capital Recovery Factor
A9: Capex Increase Compared to Benchmarked Costs | B9: 100 | C9: % of Benchmarked Cost | D9: This factor is applied to plant that is constructed in Australia, to account for increased costs compared to international costs. Use this if cost correlations are from international costs. This is not applied to equipmet that is delivered as is, such as vehicle costs. | E9: 100%
A11: System Sizing
A12: Plant Capacity | B12: 1000000 | C12: tonne/yr | D12: Annual Production
A13: Process Plant Availability | B13: 90 | C13: % | D13: Only Applies to process plant availability
A14: DRI Plant Parameters
A15: DRI Process Inputs (for Overall DRI Process)
A16: Reducing Gas | B16: Natural Gas | C16: - | D16: Fuel source for reducing iron ore to DRI
B17: =HLOOKUP(B16,H22:I31,4,FALSE) -> 0.2 | C17: tonneGas/tonneHotMetal | D17: Reducing Gas required to produce 1 tonne of hotmetal Calculated value, please do not change this cell | E17: Refer to iron ore reducing gas table
B18: =HLOOKUP(B16,H22:I31,5,FALSE) -> 13.9 | C18: kWh/kgGas | D18: Reducing Gas required to produce 1 tonne of hotmetal Calculated value, please do not change this cell | E18: Refer to iron ore reducing gas table
B19: =B18*1000*B17 -> 2780 | C19: kWh/tonneHotMetal | D19: Reducing Gas required to produce 1 tonne of hotmetal Calculated value, please do not change this cell | E19: Refer to iron ore reducing gas table
A20: Oxygen Gas | B20: =HLOOKUP(B16,H22:I31,6,FALSE) -> 0.003 | C20: tonneO2/tonneHotMetal | D20: Oxygen required to produce 1 tonne of iron. Oxygen is injected into the furnace (or upstream of the shaft furnace) to raise the operating temperature of the shaft furnace, which improves reaction kinetics. (DOI: 10.1039/d3ee01077e) | E20: Refer to iron ore reducing gas table
A21: Electricity | B21: 70 | C21: kWh/tonneHotMetal | D21: Electricity required to produce 1 tonne of iron (assumes operation of shaft furnace, reformer, recycle compressor & cooling tower) | E21: DRI Plant: 67-85 kWh/tonneHotMetal DOI: 10.1016/j.jclepro.2022.135146, https://www.energiron.com/wp-content/uploads/2020/01/Energiron_Brochure-2020.pdf | G21: Iron Ore Reducing Gas | J21: Notes/ Reference
A22: Iron Ore Requirements | B22: 67 | C22: % Fe (w/w) | D22: Iron ore grade (assuming pellet) | E22: >65% For DRI Process Dutta, S.K. and Chokshi, Y.B., 2020. Basic concepts of Iron and steel making. Springer Nature. | G22: Fuel Source | H22: Natural Gas | I22: Hydrogen | J22: Natural Gas Default Value | K22: Hydrogen Default Value
B23: 95 | C23: % Fe (w/w) | D23: Total Fe in end product (ie hot metal) (in metallic form and residual oxidised form) | G23: Fuel Price (USD/kWh) | H23: 0.03 | I23: 0.186 | J23: Natural gas price of 12AUD/GJ (8.4 USD/GJ) | K23: 0.30USD/kWh based on 10USD/kg and LHV of 33.3kWh/kg. Green Hydrogen Cost Current Range: AUD8-14/kg; Gladstone Project: AUD3/kg; Target: AUD2/kg
B24: =(((B23/100)*B26)/(B22/100))/B26 -> 1.4179104 | C24: tonneOre/tonneHotMetal | D24: Iron ore required to produce 1 tonne of iron. This takes into account grade of iron ore and metallisation rate of DRI process. Calculated value, please do not change this cell | G24: Emissions Factor (kgCO2/kWh) | H24: 0.186 | I24: 0 | J24: Natural Gas: 51.53 kgCO2-e/GJ (0.186 kg/kWh)https://www.dcceew.gov.au/sites/default/files/documents/national-greenhouse-account-factors-2024.pdf | K24: Assume 0 for hydrogen
A25: Shaft Furnace | G25: Reducing Gas Requirements (tonneGas/tonneHotMetal) | H25: 0.2 | I25: 0.062 | J25: 0.17-0.23 tonneNG/tonneIron | K25: 0.062 tonneH2/tonneIron
A26: Shaft Furncace Capacity | B26: =B12 -> 1000000 | C26: tonne/yr | D26: Rated capacity Calculated value, please do not change this cell | G26: Reducing Gas Energy Content (kWh/kg) | H26: 13.9 | I26: 33.3 | J26: 13.9 kWh/kg https://www.engineeringtoolbox.com/fuels-higher-calorific-values-d_169.html | K26: 33.3 kWh/kg https://www.engineeringtoolbox.com/fuels-higher-calorific-values-d_169.html
A27: Shaft Furnace Capital Costs | B27: 0.6538 | C27: Factor | D27: Uses the scale index formula: https://evcvaluation.com/the-cost-to-capacity-method-and-scale-factors/ | E27: DOI: 10.1039/d3ee01077e | G27: Oxygen gas requirements (tonneO2/tonneHotMetal) | H27: 0.003 | I27: 0.055 | J27: 0.1kmolO2/tonneHotMetal (0.003 tonneO2/tonneHotMetal) DOI: 10.1039/d3ee01077e | K27: 0.055 tonneO2/tonneIron DOI: 10.1039/d3ee01077e
B28: 8.76 | C28: tonne/yr | D28: Reference Capacity (based on product flow) | G28: Reformer / Hydrogen pre-heater Sizing (MWh/tonneHotMetal) | H28: 0.71 | I28: 0.25
B29: 47841 | C29: USD | D29: Unit Cost at the Reference Capacity | G29: Reformer / Hydrogen pre-heater CAPEX Scale Factor | H29: 0.6505 | I29: 0.7848 | J29: DOI: 10.1039/d3ee01077e | K29: DOI: 10.1039/d3ee01077e
B30: =B29*((B12/B28)^B27)*B9/100 -> 96915014 | C30: USD | D30: Includes capital cost loading (if applied) | G30: Reformer / Hydrogen pre-heater CAPEX Reference Capacity (MW) | H30: 1 | I30: 1 | J30: DOI: 10.1039/d3ee01077e | K30: DOI: 10.1039/d3ee01077e
A31: Annual Maintenance Costs | B31: 1.5 | C31: % of CAPEX | D31: Annual Maintenance Costs | E31: 1.5% installed cost DOI: 10.1016/j.jclepro.2022.131339 | G31: Reformer / Hydrogen pre-heater CAPEX Reference Cost (USD) | H31: 4806408 | I31: 223082 | J31: DOI: 10.1039/d3ee01077e | K31: DOI: 10.1039/d3ee01077e
A32: Reformer / Hydrogen Pre-heater (Based on Reducing Gas Selection) | G32: Carbon Content of DRI (%C) | H32: 2 | I32: 0 | J32: DRI from natural gas DRI (1-4.5% Carbon) | K32: DRI from H2 DRI (0% carbon)
A33: Reformer / Hydrogen Pre-heater Sizing | B33: =HLOOKUP(B16,H22:I31,7,FALSE) -> 0.71 | C33: MWh/tonneHotMetal | D33: Reformer rating for plant capacity | E33: 0.71 MWh/tonneIron 10.1039/d3ee01077e
B34: =(B26/(365*24))*B33 -> 81.050228 | C34: MW | D34: Rated Capacity Based on DRI Output Calculated value, please do not change this cell
A35: Capital Costs | B35: =HLOOKUP(B16,H22:I31,8,FALSE) -> 0.6505 | C35: Factor | D35: Uses the scale index formula: https://evcvaluation.com/the-cost-to-capacity-method-and-scale-factors/
B36: =HLOOKUP(B16,H22:I31,9,FALSE) -> 1 | C36: MW | D36: Reference Capacity (based on heat exchange capacity)
B37: =HLOOKUP(B16,H22:I31,10,FALSE) -> 4806408 | C37: USD | D37: Unit Cost at the Reference Capacity
B38: =B37*((B34/B36)^B35)*B9/100 -> 83842703 | C38: USD | D38: Includes capital cost loading (if applied)
A39: Annual Maintenance Costs | B39: 1.5 | C39: % of CAPEX | D39: Annual Maintenance Costs | E39: 1.5% installed cost DOI: 10.1016/j.jclepro.2022.131339
A40: Recycle Compressor Capital Costs
A41: Recycle Compressor Sizing | B41: 0.023 | C41: MWh/tonneIron | D41: Recycle compressor rating for plant capacity | E41: 0.023 MWh/tonneIron 10.1039/d3ee01077e
B42: =(B26/(365*24))*B41 -> 2.6255708 | C42: MW | D42: Rated Capacity Based on DRI Output Calculated value, please do not change this cell
...

Sheet S1. Steelmaking_DRI_ESF_BOF
A1: S1. Ore Extraction and Transport Model
A3: Parameter | B3: Value | C3: Unit | D3: Note | E3: Default Value
A4: Financial Assumptions
A5: USD:AUD Conversion Rate | B5: =0.7 -> 0.7 | C5: - | E5: =0.7 -> 0.7
A6: Interest Rate | B6: 7 | C6: % | D6: Annual Interest Rate | E6: 7
A7: Economic Life | B7: 30 | C7: years
A8: CRF | B8: =(($B$6/100)*(1+$B$6/100)^$B$7)/(((1+$B$6/100)^$B$7)-1)*100 -> 8.0586404 | C8: % | D8: Capital Recovery Factor
A9: Capex Increase Compared to Benchmarked Costs | B9: 100 | C9: % of Benchmarked Cost | D9: This factor is applied to plant that is constructed in Australia, to account for increased costs compared to international costs. Use this if cost correlations are from international costs. This is not applied to equipmet that is delivered as is, such as vehicle costs. | E9: 100%
A11: System Sizing
A12: Plant Capacity | B12: 1000000 | C12: tonne/yr | D12: Annual Production
A13: Process Plant Availability | B13: 90 | C13: % | D13: Only Applies to process plant availability
A14: DRI Plant Parameters
A15: DRI Process Inputs (for Overall DRI Process)
A16: Reducing Gas | B16: Natural Gas | C16: - | D16: Fuel source for reducing iron ore to DRI
B17: =HLOOKUP(B16,H23:I32,4,FALSE) -> 0.2 | C17: tonneGas/tonneHotMetal | D17: Reducing Gas required to produce 1 tonne of hotmetal Calculated value, please do not change this cell | E17: Refer to iron ore reducing gas table
B18: =HLOOKUP(B16,H23:I32,5,FALSE) -> 13.9 | C18: kWh/kgGas | D18: Reducing Gas required to produce 1 tonne of hotmetal Calculated value, please do not change this cell | E18: Refer to iron ore reducing gas table
B19: =B18*1000*B17 -> 2780 | C19: kWh/tonneHotMetal | D19: Reducing Gas required to produce 1 tonne of hotmetal Calculated value, please do not change this cell | E19: Refer to iron ore reducing gas table
A20: Oxygen Gas | B20: =HLOOKUP(B16,H23:I32,6,FALSE) -> 0.003 | C20: tonneO2/tonneHotMetal | D20: Oxygen required to produce 1 tonne of iron. Oxygen is injected into the furnace (or upstream of the shaft furnace) to raise the operating temperature of the shaft furnace, which improves reaction kinetics. (DOI: 10.1039/d3ee01077e) | E20: Refer to iron ore reducing gas table
A21: Electricity | B21: 70 | C21: kWh/tonneHotMetal | D21: Electricity required to produce 1 tonne of iron (assumes operation of shaft furnace, reformer, recycle compressor & cooling tower) | E21: DRI Plant: 67-85 kWh/tonneHotMetal DOI: 10.1016/j.jclepro.2022.135146, https://www.energiron.com/wp-content/uploads/2020/01/Energiron_Brochure-2020.pdf
A22: Iron Ore Requirements | B22: 67 | C22: % Fe (w/w) | D22: Iron ore grade (assuming pellet) | E22: >65% For DRI Process Dutta, S.K. and Chokshi, Y.B., 2020. Basic concepts of Iron and steel making. Springer Nature. | G22: Iron Ore Reducing Gas | J22: Notes/ Reference
B23: 95 | C23: % Fe (w/w) | D23: Total Fe in end product (ie hot metal) (in metallic form and residual oxidised form) | G23: Fuel Source | H23: Natural Gas | I23: Hydrogen | J23: Natural Gas Default Value | K23: Hydrogen Default Value
B24: =(((B23/100)*B26)/(B22/100))/B26 -> 1.4179104 | C24: tonneOre/tonneHotMetal | D24: Iron ore required to produce 1 tonne of iron. This takes into account grade of iron ore and metallisation rate of DRI process. Calculated value, please do not change this cell | G24: Fuel Price (USD/kWh) | H24: 0.03 | I24: 0.186 | J24: Natural gas price of 12AUD/GJ (8.4 USD/GJ) | K24: 0.30USD/kWh based on 10USD/kg and LHV of 33.3kWh/kg. Green Hydrogen Cost Current Range: AUD8-14/kg; Gladstone Project: AUD3/kg; Target: AUD2/kg
A25: Shaft Furnace | G25: Emissions Factor (kgCO2/kWh) | H25: 0.186 | I25: 0 | J25: Natural Gas: 51.53 kgCO2-e/GJ (0.186 kg/kWh)https://www.dcceew.gov.au/sites/default/files/documents/national-greenhouse-account-factors-2024.pdf | K25: Assume 0 for hydrogen
A26: Shaft Furncace Capacity | B26: =B12 -> 1000000 | C26: tonne/yr | D26: Rated capacity Calculated value, please do not change this cell | G26: Reducing Gas Requirements (tonneGas/tonneHotMetal) | H26: 0.2 | I26: 0.062 | J26: 0.17-0.23 tonneNG/tonneIron | K26: 0.062 tonneH2/tonneIron
A27: Shaft Furnace Capital Costs | B27: 0.6538 | C27: Factor | D27: Uses the scale index formula: https://evcvaluation.com/the-cost-to-capacity-method-and-scale-factors/ | E27: DOI: 10.1039/d3ee01077e | G27: Reducing Gas Energy Content (kWh/kg) | H27: 13.9 | I27: 33.3 | J27: 13.9 kWh/kg https://www.engineeringtoolbox.com/fuels-higher-calorific-values-d_169.html | K27: 33.3 kWh/kg https://www.engineeringtoolbox.com/fuels-higher-calorific-values-d_169.html
B28: 8.76 | C28: tonne/yr | D28: Reference Capacity (based on product flow) | G28: Oxygen gas requirements (tonneO2/tonneHotMetal) | H28: 0.003 | I28: 0.055 | J28: 0.1kmolO2/tonneHotMetal (0.003 tonneO2/tonneHotMetal) DOI: 10.1039/d3ee01077e | K28: 0.055 tonneO2/tonneIron DOI: 10.1039/d3ee01077e
B29: 47841 | C29: USD | D29: Unit Cost at the Reference Capacity | G29: Reformer / Hydrogen pre-heater Sizing (MWh/tonneHotMetal) | H29: 0.71 | I29: 0.25
B30: =B29*((B12/B28)^B27)*B9/100 -> 96915014 | C30: USD | D30: Includes capital cost loading (if applied) | G30: Reformer / Hydrogen pre-heater CAPEX Scale Factor | H30: 0.6505 | I30: 0.7848 | J30: DOI: 10.1039/d3ee01077e | K30: DOI: 10.1039/d3ee01077e
A31: Annual Maintenance Costs | B31: 1.5 | C31: % of CAPEX | D31: Annual Maintenance Costs | E31: 1.5% installed cost DOI: 10.1016/j.jclepro.2022.131339 | G31: Reformer / Hydrogen pre-heater CAPEX Reference Capacity (MW) | H31: 1 | I31: 1 | J31: DOI: 10.1039/d3ee01077e | K31: DOI: 10.1039/d3ee01077e
A32: Reformer / Hydrogen Pre-heater (Based on Reducing Gas Selection) | G32: Reformer / Hydrogen pre-heater CAPEX Reference Cost (USD) | H32: 4806408 | I32: 223082 | J32: DOI: 10.1039/d3ee01077e | K32: DOI: 10.1039/d3ee01077e
A33: Reformer Sizing | B33: =HLOOKUP(B16,H23:I32,7,FALSE) -> 0.71 | C33: MWh/tonneHotMetal | D33: Reformer rating for plant capacity | E33: 0.71 MWh/tonneIron 10.1039/d3ee01077e | G33: Carbon Content of DRI (%C) | H33: 2 | I33: 0 | J33: DRI from natural gas DRI (1-4.5% Carbon) | K33: DRI from H2 DRI (0% carbon)
B34: =(B26/(365*24))*B33 -> 81.050228 | C34: MW | D34: Rated Capacity Based on DRI Output Calculated value, please do not change this cell
A35: Capital Costs | B35: =HLOOKUP(B16,H23:I32,8,FALSE) -> 0.6505 | C35: Factor | D35: Uses the scale index formula: https://evcvaluation.com/the-cost-to-capacity-method-and-scale-factors/
B36: =HLOOKUP(B16,H23:I32,9,FALSE) -> 1 | C36: MW | D36: Reference Capacity (based on heat exchange capacity)
B37: =HLOOKUP(B16,H23:I32,10,FALSE) -> 4806408 | C37: USD | D37: Unit Cost at the Reference Capacity
B38: =B37*((B34/B36)^B35)*B9/100 -> 83842703 | C38: USD | D38: Includes capital cost loading (if applied)
A39: Annual Maintenance Costs | B39: 1.5 | C39: % of CAPEX | D39: Annual Maintenance Costs | E39: 1.5% installed cost DOI: 10.1016/j.jclepro.2022.131339
A40: Recycle Compressor Capital Costs
A41: Recycle Compressor Sizing | B41: 0.023 | C41: MWh/tonneIron | D41: Recycle compressor rating for plant capacity | E41: 0.023 MWh/tonneIron Refer to tab 'A3. Compressor Sizing' for details
B42: =(B26/(365*24))*B41 -> 2.6255708 | C42: MW | D42: Rated Capacity Based on DRI Output Calculated value, please do not change this cell
...

Sheet S1. Steelmaking_DRI_EAF
A1: S1. Ore Extraction and Transport Model
A3: Parameter | B3: Value | C3: Unit | D3: Note | E3: Default Value
A4: Financial Assumptions
A5: USD:AUD Conversion Rate | B5: =0.7 -> 0.7 | C5: - | E5: =0.7 -> 0.7
A6: Interest Rate | B6: 7 | C6: % | D6: Annual Interest Rate | E6: 7
A7: Economic Life | B7: 30 | C7: years
A8: CRF | B8: =(($B$6/100)*(1+$B$6/100)^$B$7)/(((1+$B$6/100)^$B$7)-1)*100 -> 8.0586404 | C8: % | D8: Capital Recovery Factor
A9: Capex Increase Compared to Benchmarked Costs | B9: 100 | C9: % of Benchmarked Cost | D9: This factor is applied to plant that is constructed in Australia, to account for increased costs compared to international costs. Use this if cost correlations are from international costs. This is not applied to equipmet that is delivered as is, such as vehicle costs. | E9: 100%
A11: System Sizing
A12: Plant Capacity | B12: 1000000 | C12: tonne/yr | D12: Annual Production
A13: Process Plant Availability | B13: 90 | C13: % | D13: Only Applies to process plant availability
A14: DRI Plant Parameters
A15: DRI Process Inputs (for Overall DRI Process)
A16: Reducing Gas | B16: Natural Gas | C16: - | D16: Fuel source for reducing iron ore to DRI
B17: =HLOOKUP(B16,H23:I32,4,FALSE) -> 0.2 | C17: tonneGas/tonneHotMetal | D17: Reducing Gas required to produce 1 tonne of hotmetal Calculated value, please do not change this cell | E17: Refer to iron ore reducing gas table
B18: =HLOOKUP(B16,H23:I32,5,FALSE) -> 13.9 | C18: kWh/kgGas | D18: Reducing Gas required to produce 1 tonne of hotmetal Calculated value, please do not change this cell | E18: Refer to iron ore reducing gas table
B19: =B18*1000*B17 -> 2780 | C19: kWh/tonneHotMetal | D19: Reducing Gas required to produce 1 tonne of hotmetal Calculated value, please do not change this cell | E19: Refer to iron ore reducing gas table
A20: Oxygen Gas | B20: =HLOOKUP(B16,H23:I32,6,FALSE) -> 0.003 | C20: tonneO2/tonneHotMetal | D20: Oxygen required to produce 1 tonne of iron. Oxygen is injected into the furnace (or upstream of the shaft furnace) to raise the operating temperature of the shaft furnace, which improves reaction kinetics. (DOI: 10.1039/d3ee01077e) | E20: Refer to iron ore reducing gas table
A21: Electricity | B21: 70 | C21: kWh/tonneHotMetal | D21: Electricity required to produce 1 tonne of iron (assumes operation of shaft furnace, reformer, recycle compressor & cooling tower) | E21: DRI Plant: 67-85 kWh/tonneHotMetal DOI: 10.1016/j.jclepro.2022.135146, https://www.energiron.com/wp-content/uploads/2020/01/Energiron_Brochure-2020.pdf
A22: Iron Ore Requirements | B22: 67 | C22: % Fe (w/w) | D22: Iron ore grade (assuming pellet) | E22: >65% For DRI Process Dutta, S.K. and Chokshi, Y.B., 2020. Basic concepts of Iron and steel making. Springer Nature. | G22: Iron Ore Reducing Gas | J22: Notes/ Reference
B23: 95 | C23: % Fe (w/w) | D23: Total Fe in end product (ie hot metal) (in metallic form and residual oxidised form) | G23: Fuel Source | H23: Natural Gas | I23: Hydrogen | J23: Natural Gas Default Value | K23: Hydrogen Default Value
B24: =(((B23/100)*B26)/(B22/100))/B26 -> 1.4179104 | C24: tonneOre/tonneHotMetal | D24: Iron ore required to produce 1 tonne of iron. This takes into account grade of iron ore and metallisation rate of DRI process. Calculated value, please do not change this cell | G24: Fuel Price (USD/kWh) | H24: 0.03 | I24: 0.186 | J24: Natural gas price of 12AUD/GJ (8.4 USD/GJ) | K24: 0.30USD/kWh based on 10USD/kg and LHV of 33.3kWh/kg. Green Hydrogen Cost Current Range: AUD8-14/kg; Gladstone Project: AUD3/kg; Target: AUD2/kg
A25: Shaft Furnace | G25: Emissions Factor (kgCO2/kWh) | H25: 0.186 | I25: 0 | J25: Natural Gas: 51.53 kgCO2-e/GJ (0.186 kg/kWh)https://www.dcceew.gov.au/sites/default/files/documents/national-greenhouse-account-factors-2024.pdf | K25: Assume 0 for hydrogen
A26: Shaft Furncace Capacity | B26: =B12 -> 1000000 | C26: tonne/yr | D26: Rated capacity Calculated value, please do not change this cell | G26: Reducing Gas Requirements (tonneGas/tonneHotMetal) | H26: 0.2 | I26: 0.062 | J26: 0.17-0.23 tonneNG/tonneIron | K26: 0.062 tonneH2/tonneIron
A27: Shaft Furnace Capital Costs | B27: 0.6538 | C27: Factor | D27: Uses the scale index formula: https://evcvaluation.com/the-cost-to-capacity-method-and-scale-factors/ | E27: DOI: 10.1039/d3ee01077e | G27: Reducing Gas Energy Content (kWh/kg) | H27: 13.9 | I27: 33.3 | J27: 13.9 kWh/kg https://www.engineeringtoolbox.com/fuels-higher-calorific-values-d_169.html | K27: 33.3 kWh/kg https://www.engineeringtoolbox.com/fuels-higher-calorific-values-d_169.html
B28: 8.76 | C28: tonne/yr | D28: Reference Capacity (based on product flow) | G28: Oxygen gas requirements (tonneO2/tonneHotMetal) | H28: 0.003 | I28: 0.055 | J28: 0.1kmolO2/tonneHotMetal (0.003 tonneO2/tonneHotMetal) DOI: 10.1039/d3ee01077e | K28: 0.055 tonneO2/tonneIron DOI: 10.1039/d3ee01077e
B29: 47841 | C29: USD | D29: Unit Cost at the Reference Capacity | G29: Reformer / Hydrogen pre-heater Sizing (MWh/tonneHotMetal) | H29: 0.71 | I29: 0.25
B30: =B29*((B12/B28)^B27)*B9/100 -> 96915014 | C30: USD | D30: Includes capital cost loading (if applied) | G30: Reformer / Hydrogen pre-heater CAPEX Scale Factor | H30: 0.6505 | I30: 0.7848 | J30: DOI: 10.1039/d3ee01077e | K30: DOI: 10.1039/d3ee01077e
