Workbook

Sheet Cover Sheet
C5: Campaign Name | D5: Pre Holiday Campaign
C6: MI Created on | D6: 46235
C7: Campaign Live Date | D7: 46280
C8: Campaign Code | D8: ABC - Preholiday - 2610
C10: MI Sheet Version | D10: 1
C11: Issued by | D11: Dayparter Team
C13: Creatives Required
C15: Channel | D15: Publisher | E15: Creatives Required | F15: Number of variations | G15: MI Date | H15: Activity Live Date | I15: Creative Required By
C17: Display | D17: Example Website | E17: IAB Standard Display | F17: 2 | G17: 46235 | H17: 46280 | I17: =H17-14 -> 46266
C18: Rich media | D18: Example Rich Media | E18: Publisher-produced Interscrollers | F18: 1 | G18: 46235 | H18: 46280 | I18: =H18-14 -> 46266
C19: Video | D19: Example CTV Publishers | E19: Video Pre-Rolls (VAST Served) | F19: 3 | G19: 46235 | H19: 46280 | I19: =H19-14 -> 46266
C20: Social | D20: Example Social App | E20: Shortform Scrolling Video | F20: 3 | G20: 46235 | H20: 46280 | I20: =H20-14 -> 46266

Sheet Display
C5: Campaign Name | D5: ='Cover Sheet'!D5 -> Pre Holiday Campaign
C6: MI Created on | D6: ='Cover Sheet'!D6 -> 46235
C7: Campaign Live Date | D7: ='Cover Sheet'!D7 -> 46280
C8: Campaign Code | D8: ='Cover Sheet'!D8 -> ABC - Preholiday - 2610
C10: Display Creative Requirements
C12: Publisher / Sales House | D12: Channel | E12: Placement Name | F12: Creative Variations Required | G12: MI Date | H12: Activity Live Date | I12: Creative Required By | J12: Creative Type | K12: Dimensions | L12: Accepted File Types | M12: Maximum File Size | N12: Detailed Specifications (describe or provide link) | O12: Dispatch Process | P12: Additional Notes
C14: Example Website | D14: Standard Display | E14: ROS Display | F14: 2 | G14: 46235 | H14: 46280 | I14: =H14-14 -> 46266 | J14: IAB Standard Display | K14: 300x600, 970x250, 300x250, 728x90 | L14: HTML5 .zip, .JPG, .PNG | M14: 150kb initial load 2.2mb limit | N14: https://www.iabaustralia.com.au/guideline/display-mobile-advertising-standards-specifications/ | O14: Upload assets on agency sharepoint | P14: HTML5 assets are preferred as best practise.

Sheet Rich media
C5: Campaign Name | D5: ='Cover Sheet'!D5 -> Pre Holiday Campaign
C6: MI Created on | D6: ='Cover Sheet'!D6 -> 46235
C7: Campaign Live Date | D7: ='Cover Sheet'!D7 -> 46280
C8: Campaign Code | D8: ='Cover Sheet'!D8 -> ABC - Preholiday - 2610
C10: Rich Media Creative Requirements
C12: Publisher / Sales House | D12: Channel | E12: Placement Name | F12: Creative Variations Required | G12: MI Date | H12: Activity Live Date | I12: Creative Required By | J12: Creative Built By | K12: Required Files | L12: Detailed Specifications (describe or provide link) | M12: Dispatch Process | N12: Additional Notes
C14: Example Rich Media | D14: Interscrollers | E14: Premium Interscroller | F14: 1 | G14: 46235 | H14: 46280 | I14: =H14-14 -> 46266 | J14: Publisher | K14: .PSD Mock up High-resolution imagery 1080P Video files Copy text Brand guidelines / colour pallet | L14: Link to publisher spec here | M14: Zip files together and share directly to publisher | N14: Two rounds of creative review / variation included

Sheet Video
C5: Campaign Name | D5: ='Cover Sheet'!D5 -> Pre Holiday Campaign
C6: MI Created on | D6: ='Cover Sheet'!D6 -> 46235
C7: Campaign Live Date | D7: ='Cover Sheet'!D7 -> 46280
C8: Campaign Code | D8: ='Cover Sheet'!D8 -> ABC - Preholiday - 2610
C10: Video Creative Requirements
C12: Publisher / Sales House | D12: Channel | E12: Placement Name | F12: Creative Variations Required | G12: MI Date | H12: Activity Live Date | I12: Creative Required By | J12: Creative Type | K12: Dimensions | L12: Accepted File Types | M12: Maximum File Size | N12: Video / Audio Quality Specs | P12: Ad unit technical specifications | Q12: Dispatch Process | R12: Additional Notes
C14: Example CTV Company | D14: Pre-Roll CTV Ads | E14: Comedy genre CTV Pre-Rolls | F14: 3 | G14: 46235 | H14: 46280 | I14: =H14-14 -> 46266 | J14: VAST-served video | K14: 1920x1080 15" | L14: .mp4 | M14: 1GB max raw filesize (before transcoding) | N14: Audio Requirements | O14: Audio codec: AAC Audio bitrate Minimums: 48 kHZ, Stereo, 128 kbps Audio level/Loudness: -21dB to -9dB max. -24 LKFS (+/- 2.0 dB) | P14: Link to ad specs here | Q14: Upload assets on agency sharepoint | R14: Please double check audio loudness before exporting video
N15: Video Requirements | O15: Aspect Ratio: 16x9 Resolution: 1280x720 or 1920x1080 Frame rate: 23.97, 24, 25 fps Codec: h.264 Bitrate: 9Mbps

Sheet Social
C5: Campaign Name | D5: ='Cover Sheet'!D5 -> Pre Holiday Campaign
C6: MI Created on | D6: ='Cover Sheet'!D6 -> 46235
C7: Campaign Live Date | D7: ='Cover Sheet'!D7 -> 46280
C8: Campaign Code | D8: ='Cover Sheet'!D8 -> ABC - Preholiday - 2610
C10: Social Creative Requirements
C12: Publisher / Sales House | D12: Channel | E12: Placement Name | F12: Creative Variations Required | G12: MI Date | H12: Activity Live Date | I12: Creative Required By | J12: Creative Type | K12: Dimensions | L12: Accepted File Types | M12: Maximum File Size | N12: Copy Requirements | P12: Ad unit technical specifications | Q12: Dispatch Process | R12: Additional Notes
C14: Example Social App | D14: Social Video | E14: Shortform Scrolling Video | F14: 3 | G14: 46235 | H14: 46280 | I14: =H14-14 -> 46266 | J14: Social Ad post (dark post) | K14: 1080x1920 6" | L14: .mp4 | M14: 1GB max raw filesize (before transcoding) | N14: Headline | O14: 15-30 characters | P14: Link to ad specs here | Q14: Upload assets on agency SharePoint | R14: Check ad specs link and review required safe zones for this social media publishers.
N15: Post copy | O15: No fixed length Recommend maximum 2 short sentences
