Workbook

Sheet Overview
L2: Budget Management Sheet
C6: Client | D6: Client name | F6: On-pace band (±) | G6: 0.1 | U6: How to use
C7: Campaign Name | D7: Campaign name | F7: Alert threshold (±) | G7: 0.2 | U7: Running the sheet
C8: Campaign Code | D8: Campaign code | F8: Currency | G8: USD | U8: 1. Fill in the campaign details, then a start date, end date and budget for each channel you're running. Leave unused rows blank.
C9: Prepared By | D9: Name | F9: Data up to | G9: =I33 -> 46289
C11: Summary | U11: 2. Each day, export spend from each platform and paste it into that channel's tab: Date, Campaign, Line item, Spend. Use Paste Values (Ctrl+Shift+V, or Cmd+Shift+V on Mac) so the tab keeps its formatting.
C12: Total budget | D12: Spend to date | F12: Remaining | H12: Overall pacing | J12: Status
C13: =F33 -> 210000 | D13: =H33 -> 169739.05 | F13: =O33 -> 40260.95 | H13: =K33 -> 1.0103515 | J13: =L33 -> On pace | U13: 3. Pacing = budget spent % ÷ flight elapsed %, assuming even daily spend. 100% is on pace, 120% is 20% over, 80% is 20% under. Each channel is measured to the latest date in its own data, not today's date.
C15: Channel pacing | U15: 4. Optional: list line items and their budgets on a channel tab to pace them individually. The Daily tab shows spend by day for every channel. 5. Update client details, currency, and pacing alerts using the cells at the top of this page.
C17: Channel (must match tab name) | D17: Start Date | E17: End Date | F17: ="Budget ("&$G$8&")" -> Budget (USD) | G17: Planned Daily | H17: Spend to Date | I17: Data up to | J17: Expected to Date | K17: Pacing | L17: Status | M17: Flight Elapsed | N17: Budget Spent | O17: Remaining | P17: Days Left | Q17: Required Daily | R17: Projected Spend
C18: Meta | D18: 46266 | E18: 46295 | F18: 50000 | G18: =IF(OR(D18="",E18="",F18=""),"",F18/(E18-D18+1)) -> 1666.6667 | H18: =IF(OR($C18="",D18="",E18=""),"",IFERROR(SUMIFS(INDIRECT("'"&$C18&"'!$F$14:$F$10013"),INDIRECT("'"&$C18&"'!$C$14:$C$10013"),">="&D18,INDIRECT("'"&$C18&"'!$C$14:$C$10013"),"<="&E18),"")) -> 39494.85 | I18: =IF(H18="","",IFERROR(IF(COUNTIFS(INDIRECT("'"&$C18&"'!$C$14:$C$10013"),">="&D18,INDIRECT("'"&$C18&"'!$C$14:$C$10013"),"<="&E18)=0,"",_xlfn.MAXIFS(INDIRECT("'"&$C18&"'!$C$14:$C$10013"),INDIRECT("'"&$C18&"'!$C$14:$C$10013"),">="&D18,INDIRECT("'"&$C18&"'!$C$14:$C$10013"),"<="&E18)),"")) -> 46289 | J18: =IF(OR(F18="",M18=""),"",F18*M18) -> 40000 | K18: =IF(OR(J18="",J18=0),"",H18/J18) -> 0.98737125 | L18: =IF($C18="","",IF(NOT(ISREF(INDIRECT("'"&$C18&"'!$A$1"))),"Tab not found",IF(K18="","",IF(K18-1>Overview!$G$7,"Overpacing",IF(1-K18>Overview!$G$7,"Underpacing",IF(K18-1>Overview!$G$6,"Slightly over",IF(1-K18>Overview!$G$6,"Slightly under","On pace"))))))) -> On pace | M18: =IF(I18="","",(I18-D18+1)/(E18-D18+1)) -> 0.8 | N18: =IF(OR(F18="",F18=0,H18=""),"",H18/F18) -> 0.789897 | O18: =IF(OR(F18="",H18=""),"",F18-H18) -> 10505.15 | P18: =IF(OR(D18="",E18=""),"",IF(I18="",E18-D18+1,E18-I18)) -> 6 | Q18: =IF(OR(O18="",P18="",P18=0),"",MAX(0,O18)/P18) -> 1750.8583 | R18: =IF(K18="","",H18/M18) -> 49368.562 | U18: Adding a channel
C19: TikTok | D19: 46266 | E19: 46295 | F19: 30000 | G19: =IF(OR(D19="",E19="",F19=""),"",F19/(E19-D19+1)) -> 1000 | H19: =IF(OR($C19="",D19="",E19=""),"",IFERROR(SUMIFS(INDIRECT("'"&$C19&"'!$F$14:$F$10013"),INDIRECT("'"&$C19&"'!$C$14:$C$10013"),">="&D19,INDIRECT("'"&$C19&"'!$C$14:$C$10013"),"<="&E19),"")) -> 20554.22 | I19: =IF(H19="","",IFERROR(IF(COUNTIFS(INDIRECT("'"&$C19&"'!$C$14:$C$10013"),">="&D19,INDIRECT("'"&$C19&"'!$C$14:$C$10013"),"<="&E19)=0,"",_xlfn.MAXIFS(INDIRECT("'"&$C19&"'!$C$14:$C$10013"),INDIRECT("'"&$C19&"'!$C$14:$C$10013"),">="&D19,INDIRECT("'"&$C19&"'!$C$14:$C$10013"),"<="&E19)),"")) -> 46289 | J19: =IF(OR(F19="",M19=""),"",F19*M19) -> 24000 | K19: =IF(OR(J19="",J19=0),"",H19/J19) -> 0.85642583 | L19: =IF($C19="","",IF(NOT(ISREF(INDIRECT("'"&$C19&"'!$A$1"))),"Tab not found",IF(K19="","",IF(K19-1>Overview!$G$7,"Overpacing",IF(1-K19>Overview!$G$7,"Underpacing",IF(K19-1>Overview!$G$6,"Slightly over",IF(1-K19>Overview!$G$6,"Slightly under","On pace"))))))) -> Slightly under | M19: =IF(I19="","",(I19-D19+1)/(E19-D19+1)) -> 0.8 | N19: =IF(OR(F19="",F19=0,H19=""),"",H19/F19) -> 0.68514067 | O19: =IF(OR(F19="",H19=""),"",F19-H19) -> 9445.78 | P19: =IF(OR(D19="",E19=""),"",IF(I19="",E19-D19+1,E19-I19)) -> 6 | Q19: =IF(OR(O19="",P19="",P19=0),"",MAX(0,O19)/P19) -> 1574.2967 | R19: =IF(K19="","",H19/M19) -> 25692.775 | U19: 5. Right-click the Other tab (or any empty channel tab) and choose Move or Copy, tick Create a copy, then OK.
C20: LinkedIn | D20: 46266 | E20: 46295 | F20: 20000 | G20: =IF(OR(D20="",E20="",F20=""),"",F20/(E20-D20+1)) -> 666.66667 | H20: =IF(OR($C20="",D20="",E20=""),"",IFERROR(SUMIFS(INDIRECT("'"&$C20&"'!$F$14:$F$10013"),INDIRECT("'"&$C20&"'!$C$14:$C$10013"),">="&D20,INDIRECT("'"&$C20&"'!$C$14:$C$10013"),"<="&E20),"")) -> 11143.36 | I20: =IF(H20="","",IFERROR(IF(COUNTIFS(INDIRECT("'"&$C20&"'!$C$14:$C$10013"),">="&D20,INDIRECT("'"&$C20&"'!$C$14:$C$10013"),"<="&E20)=0,"",_xlfn.MAXIFS(INDIRECT("'"&$C20&"'!$C$14:$C$10013"),INDIRECT("'"&$C20&"'!$C$14:$C$10013"),">="&D20,INDIRECT("'"&$C20&"'!$C$14:$C$10013"),"<="&E20)),"")) -> 46289 | J20: =IF(OR(F20="",M20=""),"",F20*M20) -> 16000 | K20: =IF(OR(J20="",J20=0),"",H20/J20) -> 0.69646 | L20: =IF($C20="","",IF(NOT(ISREF(INDIRECT("'"&$C20&"'!$A$1"))),"Tab not found",IF(K20="","",IF(K20-1>Overview!$G$7,"Overpacing",IF(1-K20>Overview!$G$7,"Underpacing",IF(K20-1>Overview!$G$6,"Slightly over",IF(1-K20>Overview!$G$6,"Slightly under","On pace"))))))) -> Underpacing | M20: =IF(I20="","",(I20-D20+1)/(E20-D20+1)) -> 0.8 | N20: =IF(OR(F20="",F20=0,H20=""),"",H20/F20) -> 0.557168 | O20: =IF(OR(F20="",H20=""),"",F20-H20) -> 8856.64 | P20: =IF(OR(D20="",E20=""),"",IF(I20="",E20-D20+1,E20-I20)) -> 6 | Q20: =IF(OR(O20="",P20="",P20=0),"",MAX(0,O20)/P20) -> 1476.1067 | R20: =IF(K20="","",H20/M20) -> 13929.2
C21: Pinterest | G21: =IF(OR(D21="",E21="",F21=""),"",F21/(E21-D21+1)) | H21: =IF(OR($C21="",D21="",E21=""),"",IFERROR(SUMIFS(INDIRECT("'"&$C21&"'!$F$14:$F$10013"),INDIRECT("'"&$C21&"'!$C$14:$C$10013"),">="&D21,INDIRECT("'"&$C21&"'!$C$14:$C$10013"),"<="&E21),"")) | I21: =IF(H21="","",IFERROR(IF(COUNTIFS(INDIRECT("'"&$C21&"'!$C$14:$C$10013"),">="&D21,INDIRECT("'"&$C21&"'!$C$14:$C$10013"),"<="&E21)=0,"",_xlfn.MAXIFS(INDIRECT("'"&$C21&"'!$C$14:$C$10013"),INDIRECT("'"&$C21&"'!$C$14:$C$10013"),">="&D21,INDIRECT("'"&$C21&"'!$C$14:$C$10013"),"<="&E21)),"")) | J21: =IF(OR(F21="",M21=""),"",F21*M21) | K21: =IF(OR(J21="",J21=0),"",H21/J21) | L21: =IF($C21="","",IF(NOT(ISREF(INDIRECT("'"&$C21&"'!$A$1"))),"Tab not found",IF(K21="","",IF(K21-1>Overview!$G$7,"Overpacing",IF(1-K21>Overview!$G$7,"Underpacing",IF(K21-1>Overview!$G$6,"Slightly over",IF(1-K21>Overview!$G$6,"Slightly under","On pace"))))))) | M21: =IF(I21="","",(I21-D21+1)/(E21-D21+1)) | N21: =IF(OR(F21="",F21=0,H21=""),"",H21/F21) | O21: =IF(OR(F21="",H21=""),"",F21-H21) | P21: =IF(OR(D21="",E21=""),"",IF(I21="",E21-D21+1,E21-I21)) | Q21: =IF(OR(O21="",P21="",P21=0),"",MAX(0,O21)/P21) | R21: =IF(K21="","",H21/M21) | U21: 6. Rename the new tab, e.g. Reddit, and type the same name into cell D6 on that tab.
C22: Google Ads | D22: 46266 | E22: 46295 | F22: 60000 | G22: =IF(OR(D22="",E22="",F22=""),"",F22/(E22-D22+1)) -> 2000 | H22: =IF(OR($C22="",D22="",E22=""),"",IFERROR(SUMIFS(INDIRECT("'"&$C22&"'!$F$14:$F$10013"),INDIRECT("'"&$C22&"'!$C$14:$C$10013"),">="&D22,INDIRECT("'"&$C22&"'!$C$14:$C$10013"),"<="&E22),"")) -> 49604.14 | I22: =IF(H22="","",IFERROR(IF(COUNTIFS(INDIRECT("'"&$C22&"'!$C$14:$C$10013"),">="&D22,INDIRECT("'"&$C22&"'!$C$14:$C$10013"),"<="&E22)=0,"",_xlfn.MAXIFS(INDIRECT("'"&$C22&"'!$C$14:$C$10013"),INDIRECT("'"&$C22&"'!$C$14:$C$10013"),">="&D22,INDIRECT("'"&$C22&"'!$C$14:$C$10013"),"<="&E22)),"")) -> 46289 | J22: =IF(OR(F22="",M22=""),"",F22*M22) -> 48000 | K22: =IF(OR(J22="",J22=0),"",H22/J22) -> 1.0334196 | L22: =IF($C22="","",IF(NOT(ISREF(INDIRECT("'"&$C22&"'!$A$1"))),"Tab not found",IF(K22="","",IF(K22-1>Overview!$G$7,"Overpacing",IF(1-K22>Overview!$G$7,"Underpacing",IF(K22-1>Overview!$G$6,"Slightly over",IF(1-K22>Overview!$G$6,"Slightly under","On pace"))))))) -> On pace | M22: =IF(I22="","",(I22-D22+1)/(E22-D22+1)) -> 0.8 | N22: =IF(OR(F22="",F22=0,H22=""),"",H22/F22) -> 0.82673567 | O22: =IF(OR(F22="",H22=""),"",F22-H22) -> 10395.86 | P22: =IF(OR(D22="",E22=""),"",IF(I22="",E22-D22+1,E22-I22)) -> 6 | Q22: =IF(OR(O22="",P22="",P22=0),"",MAX(0,O22)/P22) -> 1732.6433 | R22: =IF(K22="","",H22/M22) -> 62005.175
C23: Microsoft Ads | D23: 46266 | E23: 46295 | F23: 10000 | G23: =IF(OR(D23="",E23="",F23=""),"",F23/(E23-D23+1)) -> 333.33333 | H23: =IF(OR($C23="",D23="",E23=""),"",IFERROR(SUMIFS(INDIRECT("'"&$C23&"'!$F$14:$F$10013"),INDIRECT("'"&$C23&"'!$C$14:$C$10013"),">="&D23,INDIRECT("'"&$C23&"'!$C$14:$C$10013"),"<="&E23),"")) -> 9051.51 | I23: =IF(H23="","",IFERROR(IF(COUNTIFS(INDIRECT("'"&$C23&"'!$C$14:$C$10013"),">="&D23,INDIRECT("'"&$C23&"'!$C$14:$C$10013"),"<="&E23)=0,"",_xlfn.MAXIFS(INDIRECT("'"&$C23&"'!$C$14:$C$10013"),INDIRECT("'"&$C23&"'!$C$14:$C$10013"),">="&D23,INDIRECT("'"&$C23&"'!$C$14:$C$10013"),"<="&E23)),"")) -> 46289 | J23: =IF(OR(F23="",M23=""),"",F23*M23) -> 8000 | K23: =IF(OR(J23="",J23=0),"",H23/J23) -> 1.1314388 | L23: =IF($C23="","",IF(NOT(ISREF(INDIRECT("'"&$C23&"'!$A$1"))),"Tab not found",IF(K23="","",IF(K23-1>Overview!$G$7,"Overpacing",IF(1-K23>Overview!$G$7,"Underpacing",IF(K23-1>Overview!$G$6,"Slightly over",IF(1-K23>Overview!$G$6,"Slightly under","On pace"))))))) -> Slightly over | M23: =IF(I23="","",(I23-D23+1)/(E23-D23+1)) -> 0.8 | N23: =IF(OR(F23="",F23=0,H23=""),"",H23/F23) -> 0.905151 | O23: =IF(OR(F23="",H23=""),"",F23-H23) -> 948.49 | P23: =IF(OR(D23="",E23=""),"",IF(I23="",E23-D23+1,E23-I23)) -> 6 | Q23: =IF(OR(O23="",P23="",P23=0),"",MAX(0,O23)/P23) -> 158.08167 | R23: =IF(K23="","",H23/M23) -> 11314.388 | U23: 7. Type the same name into an empty row of the Channel column on this sheet and add its dates and budget. Pacing, totals and the Daily tab pick it up automatically.
C24: Programmatic | D24: 46266 | E24: 46295 | F24: 40000 | G24: =IF(OR(D24="",E24="",F24=""),"",F24/(E24-D24+1)) -> 1333.3333 | H24: =IF(OR($C24="",D24="",E24=""),"",IFERROR(SUMIFS(INDIRECT("'"&$C24&"'!$F$14:$F$10013"),INDIRECT("'"&$C24&"'!$C$14:$C$10013"),">="&D24,INDIRECT("'"&$C24&"'!$C$14:$C$10013"),"<="&E24),"")) -> 39890.97 | I24: =IF(H24="","",IFERROR(IF(COUNTIFS(INDIRECT("'"&$C24&"'!$C$14:$C$10013"),">="&D24,INDIRECT("'"&$C24&"'!$C$14:$C$10013"),"<="&E24)=0,"",_xlfn.MAXIFS(INDIRECT("'"&$C24&"'!$C$14:$C$10013"),INDIRECT("'"&$C24&"'!$C$14:$C$10013"),">="&D24,INDIRECT("'"&$C24&"'!$C$14:$C$10013"),"<="&E24)),"")) -> 46289 | J24: =IF(OR(F24="",M24=""),"",F24*M24) -> 32000 | K24: =IF(OR(J24="",J24=0),"",H24/J24) -> 1.2465928 | L24: =IF($C24="","",IF(NOT(ISREF(INDIRECT("'"&$C24&"'!$A$1"))),"Tab not found",IF(K24="","",IF(K24-1>Overview!$G$7,"Overpacing",IF(1-K24>Overview!$G$7,"Underpacing",IF(K24-1>Overview!$G$6,"Slightly over",IF(1-K24>Overview!$G$6,"Slightly under","On pace"))))))) -> Overpacing | M24: =IF(I24="","",(I24-D24+1)/(E24-D24+1)) -> 0.8 | N24: =IF(OR(F24="",F24=0,H24=""),"",H24/F24) -> 0.99727425 | O24: =IF(OR(F24="",H24=""),"",F24-H24) -> 109.03 | P24: =IF(OR(D24="",E24=""),"",IF(I24="",E24-D24+1,E24-I24)) -> 6 | Q24: =IF(OR(O24="",P24="",P24=0),"",MAX(0,O24)/P24) -> 18.171667 | R24: =IF(K24="","",H24/M24) -> 49863.713
C25: Other | G25: =IF(OR(D25="",E25="",F25=""),"",F25/(E25-D25+1)) | H25: =IF(OR($C25="",D25="",E25=""),"",IFERROR(SUMIFS(INDIRECT("'"&$C25&"'!$F$14:$F$10013"),INDIRECT("'"&$C25&"'!$C$14:$C$10013"),">="&D25,INDIRECT("'"&$C25&"'!$C$14:$C$10013"),"<="&E25),"")) | I25: =IF(H25="","",IFERROR(IF(COUNTIFS(INDIRECT("'"&$C25&"'!$C$14:$C$10013"),">="&D25,INDIRECT("'"&$C25&"'!$C$14:$C$10013"),"<="&E25)=0,"",_xlfn.MAXIFS(INDIRECT("'"&$C25&"'!$C$14:$C$10013"),INDIRECT("'"&$C25&"'!$C$14:$C$10013"),">="&D25,INDIRECT("'"&$C25&"'!$C$14:$C$10013"),"<="&E25)),"")) | J25: =IF(OR(F25="",M25=""),"",F25*M25) | K25: =IF(OR(J25="",J25=0),"",H25/J25) | L25: =IF($C25="","",IF(NOT(ISREF(INDIRECT("'"&$C25&"'!$A$1"))),"Tab not found",IF(K25="","",IF(K25-1>Overview!$G$7,"Overpacing",IF(1-K25>Overview!$G$7,"Underpacing",IF(K25-1>Overview!$G$6,"Slightly over",IF(1-K25>Overview!$G$6,"Slightly under","On pace"))))))) | M25: =IF(I25="","",(I25-D25+1)/(E25-D25+1)) | N25: =IF(OR(F25="",F25=0,H25=""),"",H25/F25) | O25: =IF(OR(F25="",H25=""),"",F25-H25) | P25: =IF(OR(D25="",E25=""),"",IF(I25="",E25-D25+1,E25-I25)) | Q25: =IF(OR(O25="",P25="",P25=0),"",MAX(0,O25)/P25) | R25: =IF(K25="","",H25/M25)
G26: =IF(OR(D26="",E26="",F26=""),"",F26/(E26-D26+1)) | H26: =IF(OR($C26="",D26="",E26=""),"",IFERROR(SUMIFS(INDIRECT("'"&$C26&"'!$F$14:$F$10013"),INDIRECT("'"&$C26&"'!$C$14:$C$10013"),">="&D26,INDIRECT("'"&$C26&"'!$C$14:$C$10013"),"<="&E26),"")) | I26: =IF(H26="","",IFERROR(IF(COUNTIFS(INDIRECT("'"&$C26&"'!$C$14:$C$10013"),">="&D26,INDIRECT("'"&$C26&"'!$C$14:$C$10013"),"<="&E26)=0,"",_xlfn.MAXIFS(INDIRECT("'"&$C26&"'!$C$14:$C$10013"),INDIRECT("'"&$C26&"'!$C$14:$C$10013"),">="&D26,INDIRECT("'"&$C26&"'!$C$14:$C$10013"),"<="&E26)),"")) | J26: =IF(OR(F26="",M26=""),"",F26*M26) | K26: =IF(OR(J26="",J26=0),"",H26/J26) | L26: =IF($C26="","",IF(NOT(ISREF(INDIRECT("'"&$C26&"'!$A$1"))),"Tab not found",IF(K26="","",IF(K26-1>Overview!$G$7,"Overpacing",IF(1-K26>Overview!$G$7,"Underpacing",IF(K26-1>Overview!$G$6,"Slightly over",IF(1-K26>Overview!$G$6,"Slightly under","On pace"))))))) | M26: =IF(I26="","",(I26-D26+1)/(E26-D26+1)) | N26: =IF(OR(F26="",F26=0,H26=""),"",H26/F26) | O26: =IF(OR(F26="",H26=""),"",F26-H26) | P26: =IF(OR(D26="",E26=""),"",IF(I26="",E26-D26+1,E26-I26)) | Q26: =IF(OR(O26="",P26="",P26=0),"",MAX(0,O26)/P26) | R26: =IF(K26="","",H26/M26) | U26: 8. Names must match exactly, spaces included. Status shows Tab not found if the name here doesn't match a tab.
G27: =IF(OR(D27="",E27="",F27=""),"",F27/(E27-D27+1)) | H27: =IF(OR($C27="",D27="",E27=""),"",IFERROR(SUMIFS(INDIRECT("'"&$C27&"'!$F$14:$F$10013"),INDIRECT("'"&$C27&"'!$C$14:$C$10013"),">="&D27,INDIRECT("'"&$C27&"'!$C$14:$C$10013"),"<="&E27),"")) | I27: =IF(H27="","",IFERROR(IF(COUNTIFS(INDIRECT("'"&$C27&"'!$C$14:$C$10013"),">="&D27,INDIRECT("'"&$C27&"'!$C$14:$C$10013"),"<="&E27)=0,"",_xlfn.MAXIFS(INDIRECT("'"&$C27&"'!$C$14:$C$10013"),INDIRECT("'"&$C27&"'!$C$14:$C$10013"),">="&D27,INDIRECT("'"&$C27&"'!$C$14:$C$10013"),"<="&E27)),"")) | J27: =IF(OR(F27="",M27=""),"",F27*M27) | K27: =IF(OR(J27="",J27=0),"",H27/J27) | L27: =IF($C27="","",IF(NOT(ISREF(INDIRECT("'"&$C27&"'!$A$1"))),"Tab not found",IF(K27="","",IF(K27-1>Overview!$G$7,"Overpacing",IF(1-K27>Overview!$G$7,"Underpacing",IF(K27-1>Overview!$G$6,"Slightly over",IF(1-K27>Overview!$G$6,"Slightly under","On pace"))))))) | M27: =IF(I27="","",(I27-D27+1)/(E27-D27+1)) | N27: =IF(OR(F27="",F27=0,H27=""),"",H27/F27) | O27: =IF(OR(F27="",H27=""),"",F27-H27) | P27: =IF(OR(D27="",E27=""),"",IF(I27="",E27-D27+1,E27-I27)) | Q27: =IF(OR(O27="",P27="",P27=0),"",MAX(0,O27)/P27) | R27: =IF(K27="","",H27/M27)
G28: =IF(OR(D28="",E28="",F28=""),"",F28/(E28-D28+1)) | H28: =IF(OR($C28="",D28="",E28=""),"",IFERROR(SUMIFS(INDIRECT("'"&$C28&"'!$F$14:$F$10013"),INDIRECT("'"&$C28&"'!$C$14:$C$10013"),">="&D28,INDIRECT("'"&$C28&"'!$C$14:$C$10013"),"<="&E28),"")) | I28: =IF(H28="","",IFERROR(IF(COUNTIFS(INDIRECT("'"&$C28&"'!$C$14:$C$10013"),">="&D28,INDIRECT("'"&$C28&"'!$C$14:$C$10013"),"<="&E28)=0,"",_xlfn.MAXIFS(INDIRECT("'"&$C28&"'!$C$14:$C$10013"),INDIRECT("'"&$C28&"'!$C$14:$C$10013"),">="&D28,INDIRECT("'"&$C28&"'!$C$14:$C$10013"),"<="&E28)),"")) | J28: =IF(OR(F28="",M28=""),"",F28*M28) | K28: =IF(OR(J28="",J28=0),"",H28/J28) | L28: =IF($C28="","",IF(NOT(ISREF(INDIRECT("'"&$C28&"'!$A$1"))),"Tab not found",IF(K28="","",IF(K28-1>Overview!$G$7,"Overpacing",IF(1-K28>Overview!$G$7,"Underpacing",IF(K28-1>Overview!$G$6,"Slightly over",IF(1-K28>Overview!$G$6,"Slightly under","On pace"))))))) | M28: =IF(I28="","",(I28-D28+1)/(E28-D28+1)) | N28: =IF(OR(F28="",F28=0,H28=""),"",H28/F28) | O28: =IF(OR(F28="",H28=""),"",F28-H28) | P28: =IF(OR(D28="",E28=""),"",IF(I28="",E28-D28+1,E28-I28)) | Q28: =IF(OR(O28="",P28="",P28=0),"",MAX(0,O28)/P28) | R28: =IF(K28="","",H28/M28) | U28: 9. There are 15 channel rows. For more, insert a row in the middle of the list and copy the row above into it. The Daily tab shows the first 15.
G29: =IF(OR(D29="",E29="",F29=""),"",F29/(E29-D29+1)) | H29: =IF(OR($C29="",D29="",E29=""),"",IFERROR(SUMIFS(INDIRECT("'"&$C29&"'!$F$14:$F$10013"),INDIRECT("'"&$C29&"'!$C$14:$C$10013"),">="&D29,INDIRECT("'"&$C29&"'!$C$14:$C$10013"),"<="&E29),"")) | I29: =IF(H29="","",IFERROR(IF(COUNTIFS(INDIRECT("'"&$C29&"'!$C$14:$C$10013"),">="&D29,INDIRECT("'"&$C29&"'!$C$14:$C$10013"),"<="&E29)=0,"",_xlfn.MAXIFS(INDIRECT("'"&$C29&"'!$C$14:$C$10013"),INDIRECT("'"&$C29&"'!$C$14:$C$10013"),">="&D29,INDIRECT("'"&$C29&"'!$C$14:$C$10013"),"<="&E29)),"")) | J29: =IF(OR(F29="",M29=""),"",F29*M29) | K29: =IF(OR(J29="",J29=0),"",H29/J29) | L29: =IF($C29="","",IF(NOT(ISREF(INDIRECT("'"&$C29&"'!$A$1"))),"Tab not found",IF(K29="","",IF(K29-1>Overview!$G$7,"Overpacing",IF(1-K29>Overview!$G$7,"Underpacing",IF(K29-1>Overview!$G$6,"Slightly over",IF(1-K29>Overview!$G$6,"Slightly under","On pace"))))))) | M29: =IF(I29="","",(I29-D29+1)/(E29-D29+1)) | N29: =IF(OR(F29="",F29=0,H29=""),"",H29/F29) | O29: =IF(OR(F29="",H29=""),"",F29-H29) | P29: =IF(OR(D29="",E29=""),"",IF(I29="",E29-D29+1,E29-I29)) | Q29: =IF(OR(O29="",P29="",P29=0),"",MAX(0,O29)/P29) | R29: =IF(K29="","",H29/M29)
G30: =IF(OR(D30="",E30="",F30=""),"",F30/(E30-D30+1)) | H30: =IF(OR($C30="",D30="",E30=""),"",IFERROR(SUMIFS(INDIRECT("'"&$C30&"'!$F$14:$F$10013"),INDIRECT("'"&$C30&"'!$C$14:$C$10013"),">="&D30,INDIRECT("'"&$C30&"'!$C$14:$C$10013"),"<="&E30),"")) | I30: =IF(H30="","",IFERROR(IF(COUNTIFS(INDIRECT("'"&$C30&"'!$C$14:$C$10013"),">="&D30,INDIRECT("'"&$C30&"'!$C$14:$C$10013"),"<="&E30)=0,"",_xlfn.MAXIFS(INDIRECT("'"&$C30&"'!$C$14:$C$10013"),INDIRECT("'"&$C30&"'!$C$14:$C$10013"),">="&D30,INDIRECT("'"&$C30&"'!$C$14:$C$10013"),"<="&E30)),"")) | J30: =IF(OR(F30="",M30=""),"",F30*M30) | K30: =IF(OR(J30="",J30=0),"",H30/J30) | L30: =IF($C30="","",IF(NOT(ISREF(INDIRECT("'"&$C30&"'!$A$1"))),"Tab not found",IF(K30="","",IF(K30-1>Overview!$G$7,"Overpacing",IF(1-K30>Overview!$G$7,"Underpacing",IF(K30-1>Overview!$G$6,"Slightly over",IF(1-K30>Overview!$G$6,"Slightly under","On pace"))))))) | M30: =IF(I30="","",(I30-D30+1)/(E30-D30+1)) | N30: =IF(OR(F30="",F30=0,H30=""),"",H30/F30) | O30: =IF(OR(F30="",H30=""),"",F30-H30) | P30: =IF(OR(D30="",E30=""),"",IF(I30="",E30-D30+1,E30-I30)) | Q30: =IF(OR(O30="",P30="",P30=0),"",MAX(0,O30)/P30) | R30: =IF(K30="","",H30/M30)
G31: =IF(OR(D31="",E31="",F31=""),"",F31/(E31-D31+1)) | H31: =IF(OR($C31="",D31="",E31=""),"",IFERROR(SUMIFS(INDIRECT("'"&$C31&"'!$F$14:$F$10013"),INDIRECT("'"&$C31&"'!$C$14:$C$10013"),">="&D31,INDIRECT("'"&$C31&"'!$C$14:$C$10013"),"<="&E31),"")) | I31: =IF(H31="","",IFERROR(IF(COUNTIFS(INDIRECT("'"&$C31&"'!$C$14:$C$10013"),">="&D31,INDIRECT("'"&$C31&"'!$C$14:$C$10013"),"<="&E31)=0,"",_xlfn.MAXIFS(INDIRECT("'"&$C31&"'!$C$14:$C$10013"),INDIRECT("'"&$C31&"'!$C$14:$C$10013"),">="&D31,INDIRECT("'"&$C31&"'!$C$14:$C$10013"),"<="&E31)),"")) | J31: =IF(OR(F31="",M31=""),"",F31*M31) | K31: =IF(OR(J31="",J31=0),"",H31/J31) | L31: =IF($C31="","",IF(NOT(ISREF(INDIRECT("'"&$C31&"'!$A$1"))),"Tab not found",IF(K31="","",IF(K31-1>Overview!$G$7,"Overpacing",IF(1-K31>Overview!$G$7,"Underpacing",IF(K31-1>Overview!$G$6,"Slightly over",IF(1-K31>Overview!$G$6,"Slightly under","On pace"))))))) | M31: =IF(I31="","",(I31-D31+1)/(E31-D31+1)) | N31: =IF(OR(F31="",F31=0,H31=""),"",H31/F31) | O31: =IF(OR(F31="",H31=""),"",F31-H31) | P31: =IF(OR(D31="",E31=""),"",IF(I31="",E31-D31+1,E31-I31)) | Q31: =IF(OR(O31="",P31="",P31=0),"",MAX(0,O31)/P31) | R31: =IF(K31="","",H31/M31) | U31: Removing a channel
G32: =IF(OR(D32="",E32="",F32=""),"",F32/(E32-D32+1)) | H32: =IF(OR($C32="",D32="",E32=""),"",IFERROR(SUMIFS(INDIRECT("'"&$C32&"'!$F$14:$F$10013"),INDIRECT("'"&$C32&"'!$C$14:$C$10013"),">="&D32,INDIRECT("'"&$C32&"'!$C$14:$C$10013"),"<="&E32),"")) | I32: =IF(H32="","",IFERROR(IF(COUNTIFS(INDIRECT("'"&$C32&"'!$C$14:$C$10013"),">="&D32,INDIRECT("'"&$C32&"'!$C$14:$C$10013"),"<="&E32)=0,"",_xlfn.MAXIFS(INDIRECT("'"&$C32&"'!$C$14:$C$10013"),INDIRECT("'"&$C32&"'!$C$14:$C$10013"),">="&D32,INDIRECT("'"&$C32&"'!$C$14:$C$10013"),"<="&E32)),"")) | J32: =IF(OR(F32="",M32=""),"",F32*M32) | K32: =IF(OR(J32="",J32=0),"",H32/J32) | L32: =IF($C32="","",IF(NOT(ISREF(INDIRECT("'"&$C32&"'!$A$1"))),"Tab not found",IF(K32="","",IF(K32-1>Overview!$G$7,"Overpacing",IF(1-K32>Overview!$G$7,"Underpacing",IF(K32-1>Overview!$G$6,"Slightly over",IF(1-K32>Overview!$G$6,"Slightly under","On pace"))))))) | M32: =IF(I32="","",(I32-D32+1)/(E32-D32+1)) | N32: =IF(OR(F32="",F32=0,H32=""),"",H32/F32) | O32: =IF(OR(F32="",H32=""),"",F32-H32) | P32: =IF(OR(D32="",E32=""),"",IF(I32="",E32-D32+1,E32-I32)) | Q32: =IF(OR(O32="",P32="",P32=0),"",MAX(0,O32)/P32) | R32: =IF(K32="","",H32/M32) | U32: 10. Clear its name, dates and budget from the Channel column, then delete the tab if you want.
C33: Total | D33: =IF(COUNT(D18:D32)=0,"",MIN(D18:D32)) -> 46266 | E33: =IF(COUNT(E18:E32)=0,"",MAX(E18:E32)) -> 46295 | F33: =IF(COUNT(F18:F32)=0,"",SUM(F18:F32)) -> 210000 | G33: =IF(COUNT(G18:G32)=0,"",SUM(G18:G32)) -> 7000 | H33: =IF(COUNT(H18:H32)=0,"",SUM(H18:H32)) -> 169739.05 | I33: =IF(COUNT(I18:I32)=0,"",MAX(I18:I32)) -> 46289 | J33: =IF(COUNT(J18:J32)=0,"",SUM(J18:J32)) -> 168000 | K33: =IF(OR(J33="",J33=0),"",SUMIFS(H18:H32,J18:J32,"<>")/J33) -> 1.0103515 | L33: =IF(K33="","",IF(K33-1>Overview!$G$7,"Overpacing",IF(1-K33>Overview!$G$7,"Underpacing",IF(K33-1>Overview!$G$6,"Slightly over",IF(1-K33>Overview!$G$6,"Slightly under","On pace"))))) -> On pace | M33: =IF(OR(I33="",D33="",E33=""),"",(I33-D33+1)/(E33-D33+1)) -> 0.8 | N33: =IF(OR(F33="",F33=0,H33=""),"",H33/F33) -> 0.80828119 | O33: =IF(COUNT(O18:O32)=0,"",SUM(O18:O32)) -> 40260.95 | P33: =IF(OR(D33="",E33=""),"",IF(I33="",E33-D33+1,E33-I33)) -> 6 | Q33: =IF(COUNT(Q18:Q32)=0,"",SUM(Q18:Q32)) -> 6710.1583 | R33: =IF(COUNT(R18:R32)=0,"",SUM(R18:R32)) -> 212173.81
C35: Key
D36: Type here
D37: Calculated, leave as is
C38: On pace | D38: Within the on-pace band
C39: Slightly over / under | D39: Outside the band, inside the alert threshold
C40: Overpacing / Underpacing | D40: Beyond the alert threshold, or a tab name that doesn't match

Sheet Daily
S2: Daily Spend
C6: Campaign Name | D6: =Overview!D7 -> Campaign name
C7: Data up to | D7: =Overview!G9 -> 46289
C9: Daily spend by channel
C10: Nothing to enter here. Planned spend assumes even daily spend within each channel's flight; cumulative pacing runs to the latest data date.
C11: Date | D11: =IF(Overview!$C$18="","",Overview!$C$18) -> Meta | E11: =IF(Overview!$C$19="","",Overview!$C$19) -> TikTok | F11: =IF(Overview!$C$20="","",Overview!$C$20) -> LinkedIn | G11: =IF(Overview!$C$21="","",Overview!$C$21) -> Pinterest | H11: =IF(Overview!$C$22="","",Overview!$C$22) -> Google Ads | I11: =IF(Overview!$C$23="","",Overview!$C$23) -> Microsoft Ads | J11: =IF(Overview!$C$24="","",Overview!$C$24) -> Programmatic | K11: =IF(Overview!$C$25="","",Overview!$C$25) -> Other | L11: =IF(Overview!$C$26="","",Overview!$C$26) | M11: =IF(Overview!$C$27="","",Overview!$C$27) | N11: =IF(Overview!$C$28="","",Overview!$C$28) | O11: =IF(Overview!$C$29="","",Overview!$C$29) | P11: =IF(Overview!$C$30="","",Overview!$C$30) | Q11: =IF(Overview!$C$31="","",Overview!$C$31) | R11: =IF(Overview!$C$32="","",Overview!$C$32) | S11: Total Spend | T11: Planned Spend | U11: Cumulative Spend | V11: Cumulative Planned | W11: Cumulative Pacing
C12: =IF(OR(Overview!$D$33="",Overview!$E$33=""),"",IF(Overview!$D$33+0>Overview!$E$33,"",Overview!$D$33+0)) -> 46266 | D12: =IF(OR($C12="",D$11=""),"",IFERROR(SUMIFS(INDIRECT("'"&D$11&"'!$F$14:$F$10013"),INDIRECT("'"&D$11&"'!$C$14:$C$10013"),$C12),"")) -> 1533.15 | E12: =IF(OR($C12="",E$11=""),"",IFERROR(SUMIFS(INDIRECT("'"&E$11&"'!$F$14:$F$10013"),INDIRECT("'"&E$11&"'!$C$14:$C$10013"),$C12),"")) -> 893.37 | F12: =IF(OR($C12="",F$11=""),"",IFERROR(SUMIFS(INDIRECT("'"&F$11&"'!$F$14:$F$10013"),INDIRECT("'"&F$11&"'!$C$14:$C$10013"),$C12),"")) -> 488.19 | G12: =IF(OR($C12="",G$11=""),"",IFERROR(SUMIFS(INDIRECT("'"&G$11&"'!$F$14:$F$10013"),INDIRECT("'"&G$11&"'!$C$14:$C$10013"),$C12),"")) -> 0 | H12: =IF(OR($C12="",H$11=""),"",IFERROR(SUMIFS(INDIRECT("'"&H$11&"'!$F$14:$F$10013"),INDIRECT("'"&H$11&"'!$C$14:$C$10013"),$C12),"")) -> 1958.22 | I12: =IF(OR($C12="",I$11=""),"",IFERROR(SUMIFS(INDIRECT("'"&I$11&"'!$F$14:$F$10013"),INDIRECT("'"&I$11&"'!$C$14:$C$10013"),$C12),"")) -> 322.65 | J12: =IF(OR($C12="",J$11=""),"",IFERROR(SUMIFS(INDIRECT("'"&J$11&"'!$F$14:$F$10013"),INDIRECT("'"&J$11&"'!$C$14:$C$10013"),$C12),"")) -> 1668.68 | K12: =IF(OR($C12="",K$11=""),"",IFERROR(SUMIFS(INDIRECT("'"&K$11&"'!$F$14:$F$10013"),INDIRECT("'"&K$11&"'!$C$14:$C$10013"),$C12),"")) -> 0 | ... R12: =IF(OR($C12="",R$11=""),"",IFERROR(SUMIFS(INDIRECT("'"&R$11&"'!$F$14:$F$10013"),INDIRECT("'"&R$11&"'!$C$14:$C$10013"),$C12),"")) | S12: =IF($C12="","",SUM(D12:R12)) -> 6864.26 | T12: =IF($C12="","",SUMIFS(Overview!$G$18:$G$32,Overview!$D$18:$D$32,"<="&$C12,Overview!$E$18:$E$32,">="&$C12)) -> 7000 | U12: =IF(OR($C12="",Overview!$I$33=""),"",IF($C12>Overview!$I$33,"",SUM($S$12:S12))) -> 6864.26 | V12: =IF($C12="","",SUM($T$12:T12)) -> 7000 | W12: =IF(OR(U12="",V12="",V12=0),"",U12/V12) -> 0.98060857
C13: =IF(OR(Overview!$D$33="",Overview!$E$33=""),"",IF(Overview!$D$33+1>Overview!$E$33,"",Overview!$D$33+1)) -> 46267 | D13: =IF(OR($C13="",D$11=""),"",IFERROR(SUMIFS(INDIRECT("'"&D$11&"'!$F$14:$F$10013"),INDIRECT("'"&D$11&"'!$C$14:$C$10013"),$C13),"")) -> 1645.28 | E13: =IF(OR($C13="",E$11=""),"",IFERROR(SUMIFS(INDIRECT("'"&E$11&"'!$F$14:$F$10013"),INDIRECT("'"&E$11&"'!$C$14:$C$10013"),$C13),"")) -> 936.21 | F13: =IF(OR($C13="",F$11=""),"",IFERROR(SUMIFS(INDIRECT("'"&F$11&"'!$F$14:$F$10013"),INDIRECT("'"&F$11&"'!$C$14:$C$10013"),$C13),"")) -> 513.66 | G13: =IF(OR($C13="",G$11=""),"",IFERROR(SUMIFS(INDIRECT("'"&G$11&"'!$F$14:$F$10013"),INDIRECT("'"&G$11&"'!$C$14:$C$10013"),$C13),"")) -> 0 | H13: =IF(OR($C13="",H$11=""),"",IFERROR(SUMIFS(INDIRECT("'"&H$11&"'!$F$14:$F$10013"),INDIRECT("'"&H$11&"'!$C$14:$C$10013"),$C13),"")) -> 1849.83 | I13: =IF(OR($C13="",I$11=""),"",IFERROR(SUMIFS(INDIRECT("'"&I$11&"'!$F$14:$F$10013"),INDIRECT("'"&I$11&"'!$C$14:$C$10013"),$C13),"")) -> 428.78 | J13: =IF(OR($C13="",J$11=""),"",IFERROR(SUMIFS(INDIRECT("'"&J$11&"'!$F$14:$F$10013"),INDIRECT("'"&J$11&"'!$C$14:$C$10013"),$C13),"")) -> 1574.18 | K13: =IF(OR($C13="",K$11=""),"",IFERROR(SUMIFS(INDIRECT("'"&K$11&"'!$F$14:$F$10013"),INDIRECT("'"&K$11&"'!$C$14:$C$10013"),$C13),"")) -> 0 | ... R13: =IF(OR($C13="",R$11=""),"",IFERROR(SUMIFS(INDIRECT("'"&R$11&"'!$F$14:$F$10013"),INDIRECT("'"&R$11&"'!$C$14:$C$10013"),$C13),"")) | S13: =IF($C13="","",SUM(D13:R13)) -> 6947.94 | T13: =IF($C13="","",SUMIFS(Overview!$G$18:$G$32,Overview!$D$18:$D$32,"<="&$C13,Overview!$E$18:$E$32,">="&$C13)) -> 7000 | U13: =IF(OR($C13="",Overview!$I$33=""),"",IF($C13>Overview!$I$33,"",SUM($S$12:S13))) -> 13812.2 | V13: =IF($C13="","",SUM($T$12:T13)) -> 14000 | W13: =IF(OR(U13="",V13="",V13=0),"",U13/V13) -> 0.98658571
C14: =IF(OR(Overview!$D$33="",Overview!$E$33=""),"",IF(Overview!$D$33+2>Overview!$E$33,"",Overview!$D$33+2)) -> 46268 | D14: =IF(OR($C14="",D$11=""),"",IFERROR(SUMIFS(INDIRECT("'"&D$11&"'!$F$14:$F$10013"),INDIRECT("'"&D$11&"'!$C$14:$C$10013"),$C14),"")) -> 1678.11 | E14: =IF(OR($C14="",E$11=""),"",IFERROR(SUMIFS(INDIRECT("'"&E$11&"'!$F$14:$F$10013"),INDIRECT("'"&E$11&"'!$C$14:$C$10013"),$C14),"")) -> 866.82 | F14: =IF(OR($C14="",F$11=""),"",IFERROR(SUMIFS(INDIRECT("'"&F$11&"'!$F$14:$F$10013"),INDIRECT("'"&F$11&"'!$C$14:$C$10013"),$C14),"")) -> 421.58 | G14: =IF(OR($C14="",G$11=""),"",IFERROR(SUMIFS(INDIRECT("'"&G$11&"'!$F$14:$F$10013"),INDIRECT("'"&G$11&"'!$C$14:$C$10013"),$C14),"")) -> 0 | H14: =IF(OR($C14="",H$11=""),"",IFERROR(SUMIFS(INDIRECT("'"&H$11&"'!$F$14:$F$10013"),INDIRECT("'"&H$11&"'!$C$14:$C$10013"),$C14),"")) -> 1877.31 | I14: =IF(OR($C14="",I$11=""),"",IFERROR(SUMIFS(INDIRECT("'"&I$11&"'!$F$14:$F$10013"),INDIRECT("'"&I$11&"'!$C$14:$C$10013"),$C14),"")) -> 384.86 | J14: =IF(OR($C14="",J$11=""),"",IFERROR(SUMIFS(INDIRECT("'"&J$11&"'!$F$14:$F$10013"),INDIRECT("'"&J$11&"'!$C$14:$C$10013"),$C14),"")) -> 1737.35 | K14: =IF(OR($C14="",K$11=""),"",IFERROR(SUMIFS(INDIRECT("'"&K$11&"'!$F$14:$F$10013"),INDIRECT("'"&K$11&"'!$C$14:$C$10013"),$C14),"")) -> 0 | ... R14: =IF(OR($C14="",R$11=""),"",IFERROR(SUMIFS(INDIRECT("'"&R$11&"'!$F$14:$F$10013"),INDIRECT("'"&R$11&"'!$C$14:$C$10013"),$C14),"")) | S14: =IF($C14="","",SUM(D14:R14)) -> 6966.03 | T14: =IF($C14="","",SUMIFS(Overview!$G$18:$G$32,Overview!$D$18:$D$32,"<="&$C14,Overview!$E$18:$E$32,">="&$C14)) -> 7000 | U14: =IF(OR($C14="",Overview!$I$33=""),"",IF($C14>Overview!$I$33,"",SUM($S$12:S14))) -> 20778.23 | V14: =IF($C14="","",SUM($T$12:T14)) -> 21000 | W14: =IF(OR(U14="",V14="",V14=0),"",U14/V14) -> 0.98943952
C15: =IF(OR(Overview!$D$33="",Overview!$E$33=""),"",IF(Overview!$D$33+3>Overview!$E$33,"",Overview!$D$33+3)) -> 46269 | D15: =IF(OR($C15="",D$11=""),"",IFERROR(SUMIFS(INDIRECT("'"&D$11&"'!$F$14:$F$10013"),INDIRECT("'"&D$11&"'!$C$14:$C$10013"),$C15),"")) -> 1521.68 | E15: =IF(OR($C15="",E$11=""),"",IFERROR(SUMIFS(INDIRECT("'"&E$11&"'!$F$14:$F$10013"),INDIRECT("'"&E$11&"'!$C$14:$C$10013"),$C15),"")) -> 775.06 | F15: =IF(OR($C15="",F$11=""),"",IFERROR(SUMIFS(INDIRECT("'"&F$11&"'!$F$14:$F$10013"),INDIRECT("'"&F$11&"'!$C$14:$C$10013"),$C15),"")) -> 445.71 | G15: =IF(OR($C15="",G$11=""),"",IFERROR(SUMIFS(INDIRECT("'"&G$11&"'!$F$14:$F$10013"),INDIRECT("'"&G$11&"'!$C$14:$C$10013"),$C15),"")) -> 0 | H15: =IF(OR($C15="",H$11=""),"",IFERROR(SUMIFS(INDIRECT("'"&H$11&"'!$F$14:$F$10013"),INDIRECT("'"&H$11&"'!$C$14:$C$10013"),$C15),"")) -> 2087.01 | I15: =IF(OR($C15="",I$11=""),"",IFERROR(SUMIFS(INDIRECT("'"&I$11&"'!$F$14:$F$10013"),INDIRECT("'"&I$11&"'!$C$14:$C$10013"),$C15),"")) -> 419.83 | J15: =IF(OR($C15="",J$11=""),"",IFERROR(SUMIFS(INDIRECT("'"&J$11&"'!$F$14:$F$10013"),INDIRECT("'"&J$11&"'!$C$14:$C$10013"),$C15),"")) -> 1808.2 | K15: =IF(OR($C15="",K$11=""),"",IFERROR(SUMIFS(INDIRECT("'"&K$11&"'!$F$14:$F$10013"),INDIRECT("'"&K$11&"'!$C$14:$C$10013"),$C15),"")) -> 0 | ... R15: =IF(OR($C15="",R$11=""),"",IFERROR(SUMIFS(INDIRECT("'"&R$11&"'!$F$14:$F$10013"),INDIRECT("'"&R$11&"'!$C$14:$C$10013"),$C15),"")) | S15: =IF($C15="","",SUM(D15:R15)) -> 7057.49 | T15: =IF($C15="","",SUMIFS(Overview!$G$18:$G$32,Overview!$D$18:$D$32,"<="&$C15,Overview!$E$18:$E$32,">="&$C15)) -> 7000 | U15: =IF(OR($C15="",Overview!$I$33=""),"",IF($C15>Overview!$I$33,"",SUM($S$12:S15))) -> 27835.72 | V15: =IF($C15="","",SUM($T$12:T15)) -> 28000 | W15: =IF(OR(U15="",V15="",V15=0),"",U15/V15) -> 0.99413286
C16: =IF(OR(Overview!$D$33="",Overview!$E$33=""),"",IF(Overview!$D$33+4>Overview!$E$33,"",Overview!$D$33+4)) -> 46270 | D16: =IF(OR($C16="",D$11=""),"",IFERROR(SUMIFS(INDIRECT("'"&D$11&"'!$F$14:$F$10013"),INDIRECT("'"&D$11&"'!$C$14:$C$10013"),$C16),"")) -> 1493.25 | E16: =IF(OR($C16="",E$11=""),"",IFERROR(SUMIFS(INDIRECT("'"&E$11&"'!$F$14:$F$10013"),INDIRECT("'"&E$11&"'!$C$14:$C$10013"),$C16),"")) -> 766.4 | F16: =IF(OR($C16="",F$11=""),"",IFERROR(SUMIFS(INDIRECT("'"&F$11&"'!$F$14:$F$10013"),INDIRECT("'"&F$11&"'!$C$14:$C$10013"),$C16),"")) -> 475.18 | G16: =IF(OR($C16="",G$11=""),"",IFERROR(SUMIFS(INDIRECT("'"&G$11&"'!$F$14:$F$10013"),INDIRECT("'"&G$11&"'!$C$14:$C$10013"),$C16),"")) -> 0 | H16: =IF(OR($C16="",H$11=""),"",IFERROR(SUMIFS(INDIRECT("'"&H$11&"'!$F$14:$F$10013"),INDIRECT("'"&H$11&"'!$C$14:$C$10013"),$C16),"")) -> 1841.14 | I16: =IF(OR($C16="",I$11=""),"",IFERROR(SUMIFS(INDIRECT("'"&I$11&"'!$F$14:$F$10013"),INDIRECT("'"&I$11&"'!$C$14:$C$10013"),$C16),"")) -> 372.05 | J16: =IF(OR($C16="",J$11=""),"",IFERROR(SUMIFS(INDIRECT("'"&J$11&"'!$F$14:$F$10013"),INDIRECT("'"&J$11&"'!$C$14:$C$10013"),$C16),"")) -> 1686.39 | K16: =IF(OR($C16="",K$11=""),"",IFERROR(SUMIFS(INDIRECT("'"&K$11&"'!$F$14:$F$10013"),INDIRECT("'"&K$11&"'!$C$14:$C$10013"),$C16),"")) -> 0 | ... R16: =IF(OR($C16="",R$11=""),"",IFERROR(SUMIFS(INDIRECT("'"&R$11&"'!$F$14:$F$10013"),INDIRECT("'"&R$11&"'!$C$14:$C$10013"),$C16),"")) | S16: =IF($C16="","",SUM(D16:R16)) -> 6634.41 | T16: =IF($C16="","",SUMIFS(Overview!$G$18:$G$32,Overview!$D$18:$D$32,"<="&$C16,Overview!$E$18:$E$32,">="&$C16)) -> 7000 | U16: =IF(OR($C16="",Overview!$I$33=""),"",IF($C16>Overview!$I$33,"",SUM($S$12:S16))) -> 34470.13 | V16: =IF($C16="","",SUM($T$12:T16)) -> 35000 | W16: =IF(OR(U16="",V16="",V16=0),"",U16/V16) -> 0.98486086
C17: =IF(OR(Overview!$D$33="",Overview!$E$33=""),"",IF(Overview!$D$33+5>Overview!$E$33,"",Overview!$D$33+5)) -> 46271 | D17: =IF(OR($C17="",D$11=""),"",IFERROR(SUMIFS(INDIRECT("'"&D$11&"'!$F$14:$F$10013"),INDIRECT("'"&D$11&"'!$C$14:$C$10013"),$C17),"")) -> 1413.17 | E17: =IF(OR($C17="",E$11=""),"",IFERROR(SUMIFS(INDIRECT("'"&E$11&"'!$F$14:$F$10013"),INDIRECT("'"&E$11&"'!$C$14:$C$10013"),$C17),"")) -> 931.25 | F17: =IF(OR($C17="",F$11=""),"",IFERROR(SUMIFS(INDIRECT("'"&F$11&"'!$F$14:$F$10013"),INDIRECT("'"&F$11&"'!$C$14:$C$10013"),$C17),"")) -> 412.66 | G17: =IF(OR($C17="",G$11=""),"",IFERROR(SUMIFS(INDIRECT("'"&G$11&"'!$F$14:$F$10013"),INDIRECT("'"&G$11&"'!$C$14:$C$10013"),$C17),"")) -> 0 | H17: =IF(OR($C17="",H$11=""),"",IFERROR(SUMIFS(INDIRECT("'"&H$11&"'!$F$14:$F$10013"),INDIRECT("'"&H$11&"'!$C$14:$C$10013"),$C17),"")) -> 2332.69 | I17: =IF(OR($C17="",I$11=""),"",IFERROR(SUMIFS(INDIRECT("'"&I$11&"'!$F$14:$F$10013"),INDIRECT("'"&I$11&"'!$C$14:$C$10013"),$C17),"")) -> 310.52 | J17: =IF(OR($C17="",J$11=""),"",IFERROR(SUMIFS(INDIRECT("'"&J$11&"'!$F$14:$F$10013"),INDIRECT("'"&J$11&"'!$C$14:$C$10013"),$C17),"")) -> 1698.8 | K17: =IF(OR($C17="",K$11=""),"",IFERROR(SUMIFS(INDIRECT("'"&K$11&"'!$F$14:$F$10013"),INDIRECT("'"&K$11&"'!$C$14:$C$10013"),$C17),"")) -> 0 | ... R17: =IF(OR($C17="",R$11=""),"",IFERROR(SUMIFS(INDIRECT("'"&R$11&"'!$F$14:$F$10013"),INDIRECT("'"&R$11&"'!$C$14:$C$10013"),$C17),"")) | S17: =IF($C17="","",SUM(D17:R17)) -> 7099.09 | T17: =IF($C17="","",SUMIFS(Overview!$G$18:$G$32,Overview!$D$18:$D$32,"<="&$C17,Overview!$E$18:$E$32,">="&$C17)) -> 7000 | U17: =IF(OR($C17="",Overview!$I$33=""),"",IF($C17>Overview!$I$33,"",SUM($S$12:S17))) -> 41569.22 | V17: =IF($C17="","",SUM($T$12:T17)) -> 42000 | W17: =IF(OR(U17="",V17="",V17=0),"",U17/V17) -> 0.98974333
C18: =IF(OR(Overview!$D$33="",Overview!$E$33=""),"",IF(Overview!$D$33+6>Overview!$E$33,"",Overview!$D$33+6)) -> 46272 | D18: =IF(OR($C18="",D$11=""),"",IFERROR(SUMIFS(INDIRECT("'"&D$11&"'!$F$14:$F$10013"),INDIRECT("'"&D$11&"'!$C$14:$C$10013"),$C18),"")) -> 1758.1 | E18: =IF(OR($C18="",E$11=""),"",IFERROR(SUMIFS(INDIRECT("'"&E$11&"'!$F$14:$F$10013"),INDIRECT("'"&E$11&"'!$C$14:$C$10013"),$C18),"")) -> 931.2 | F18: =IF(OR($C18="",F$11=""),"",IFERROR(SUMIFS(INDIRECT("'"&F$11&"'!$F$14:$F$10013"),INDIRECT("'"&F$11&"'!$C$14:$C$10013"),$C18),"")) -> 468.14 | G18: =IF(OR($C18="",G$11=""),"",IFERROR(SUMIFS(INDIRECT("'"&G$11&"'!$F$14:$F$10013"),INDIRECT("'"&G$11&"'!$C$14:$C$10013"),$C18),"")) -> 0 | H18: =IF(OR($C18="",H$11=""),"",IFERROR(SUMIFS(INDIRECT("'"&H$11&"'!$F$14:$F$10013"),INDIRECT("'"&H$11&"'!$C$14:$C$10013"),$C18),"")) -> 1877.1 | I18: =IF(OR($C18="",I$11=""),"",IFERROR(SUMIFS(INDIRECT("'"&I$11&"'!$F$14:$F$10013"),INDIRECT("'"&I$11&"'!$C$14:$C$10013"),$C18),"")) -> 418.58 | J18: =IF(OR($C18="",J$11=""),"",IFERROR(SUMIFS(INDIRECT("'"&J$11&"'!$F$14:$F$10013"),INDIRECT("'"&J$11&"'!$C$14:$C$10013"),$C18),"")) -> 1782.65 | K18: =IF(OR($C18="",K$11=""),"",IFERROR(SUMIFS(INDIRECT("'"&K$11&"'!$F$14:$F$10013"),INDIRECT("'"&K$11&"'!$C$14:$C$10013"),$C18),"")) -> 0 | ... R18: =IF(OR($C18="",R$11=""),"",IFERROR(SUMIFS(INDIRECT("'"&R$11&"'!$F$14:$F$10013"),INDIRECT("'"&R$11&"'!$C$14:$C$10013"),$C18),"")) | S18: =IF($C18="","",SUM(D18:R18)) -> 7235.77 | T18: =IF($C18="","",SUMIFS(Overview!$G$18:$G$32,Overview!$D$18:$D$32,"<="&$C18,Overview!$E$18:$E$32,">="&$C18)) -> 7000 | U18: =IF(OR($C18="",Overview!$I$33=""),"",IF($C18>Overview!$I$33,"",SUM($S$12:S18))) -> 48804.99 | V18: =IF($C18="","",SUM($T$12:T18)) -> 49000 | W18: =IF(OR(U18="",V18="",V18=0),"",U18/V18) -> 0.9960202
C19: =IF(OR(Overview!$D$33="",Overview!$E$33=""),"",IF(Overview!$D$33+7>Overview!$E$33,"",Overview!$D$33+7)) -> 46273 | D19: =IF(OR($C19="",D$11=""),"",IFERROR(SUMIFS(INDIRECT("'"&D$11&"'!$F$14:$F$10013"),INDIRECT("'"&D$11&"'!$C$14:$C$10013"),$C19),"")) -> 1471.23 | E19: =IF(OR($C19="",E$11=""),"",IFERROR(SUMIFS(INDIRECT("'"&E$11&"'!$F$14:$F$10013"),INDIRECT("'"&E$11&"'!$C$14:$C$10013"),$C19),"")) -> 916.77 | F19: =IF(OR($C19="",F$11=""),"",IFERROR(SUMIFS(INDIRECT("'"&F$11&"'!$F$14:$F$10013"),INDIRECT("'"&F$11&"'!$C$14:$C$10013"),$C19),"")) -> 549.35 | G19: =IF(OR($C19="",G$11=""),"",IFERROR(SUMIFS(INDIRECT("'"&G$11&"'!$F$14:$F$10013"),INDIRECT("'"&G$11&"'!$C$14:$C$10013"),$C19),"")) -> 0 | H19: =IF(OR($C19="",H$11=""),"",IFERROR(SUMIFS(INDIRECT("'"&H$11&"'!$F$14:$F$10013"),INDIRECT("'"&H$11&"'!$C$14:$C$10013"),$C19),"")) -> 2155.65 | I19: =IF(OR($C19="",I$11=""),"",IFERROR(SUMIFS(INDIRECT("'"&I$11&"'!$F$14:$F$10013"),INDIRECT("'"&I$11&"'!$C$14:$C$10013"),$C19),"")) -> 417.47 | J19: =IF(OR($C19="",J$11=""),"",IFERROR(SUMIFS(INDIRECT("'"&J$11&"'!$F$14:$F$10013"),INDIRECT("'"&J$11&"'!$C$14:$C$10013"),$C19),"")) -> 1815.55 | K19: =IF(OR($C19="",K$11=""),"",IFERROR(SUMIFS(INDIRECT("'"&K$11&"'!$F$14:$F$10013"),INDIRECT("'"&K$11&"'!$C$14:$C$10013"),$C19),"")) -> 0 | ... R19: =IF(OR($C19="",R$11=""),"",IFERROR(SUMIFS(INDIRECT("'"&R$11&"'!$F$14:$F$10013"),INDIRECT("'"&R$11&"'!$C$14:$C$10013"),$C19),"")) | S19: =IF($C19="","",SUM(D19:R19)) -> 7326.02 | T19: =IF($C19="","",SUMIFS(Overview!$G$18:$G$32,Overview!$D$18:$D$32,"<="&$C19,Overview!$E$18:$E$32,">="&$C19)) -> 7000 | U19: =IF(OR($C19="",Overview!$I$33=""),"",IF($C19>Overview!$I$33,"",SUM($S$12:S19))) -> 56131.01 | V19: =IF($C19="","",SUM($T$12:T19)) -> 56000 | W19: =IF(OR(U19="",V19="",V19=0),"",U19/V19) -> 1.0023395
C20: =IF(OR(Overview!$D$33="",Overview!$E$33=""),"",IF(Overview!$D$33+8>Overview!$E$33,"",Overview!$D$33+8)) -> 46274 | D20: =IF(OR($C20="",D$11=""),"",IFERROR(SUMIFS(INDIRECT("'"&D$11&"'!$F$14:$F$10013"),INDIRECT("'"&D$11&"'!$C$14:$C$10013"),$C20),"")) -> 1873.77 | E20: =IF(OR($C20="",E$11=""),"",IFERROR(SUMIFS(INDIRECT("'"&E$11&"'!$F$14:$F$10013"),INDIRECT("'"&E$11&"'!$C$14:$C$10013"),$C20),"")) -> 874.72 | F20: =IF(OR($C20="",F$11=""),"",IFERROR(SUMIFS(INDIRECT("'"&F$11&"'!$F$14:$F$10013"),INDIRECT("'"&F$11&"'!$C$14:$C$10013"),$C20),"")) -> 489.83 | G20: =IF(OR($C20="",G$11=""),"",IFERROR(SUMIFS(INDIRECT("'"&G$11&"'!$F$14:$F$10013"),INDIRECT("'"&G$11&"'!$C$14:$C$10013"),$C20),"")) -> 0 | H20: =IF(OR($C20="",H$11=""),"",IFERROR(SUMIFS(INDIRECT("'"&H$11&"'!$F$14:$F$10013"),INDIRECT("'"&H$11&"'!$C$14:$C$10013"),$C20),"")) -> 1931.79 | I20: =IF(OR($C20="",I$11=""),"",IFERROR(SUMIFS(INDIRECT("'"&I$11&"'!$F$14:$F$10013"),INDIRECT("'"&I$11&"'!$C$14:$C$10013"),$C20),"")) -> 406.29 | J20: =IF(OR($C20="",J$11=""),"",IFERROR(SUMIFS(INDIRECT("'"&J$11&"'!$F$14:$F$10013"),INDIRECT("'"&J$11&"'!$C$14:$C$10013"),$C20),"")) -> 1827.9 | K20: =IF(OR($C20="",K$11=""),"",IFERROR(SUMIFS(INDIRECT("'"&K$11&"'!$F$14:$F$10013"),INDIRECT("'"&K$11&"'!$C$14:$C$10013"),$C20),"")) -> 0 | ... R20: =IF(OR($C20="",R$11=""),"",IFERROR(SUMIFS(INDIRECT("'"&R$11&"'!$F$14:$F$10013"),INDIRECT("'"&R$11&"'!$C$14:$C$10013"),$C20),"")) | S20: =IF($C20="","",SUM(D20:R20)) -> 7404.3 | T20: =IF($C20="","",SUMIFS(Overview!$G$18:$G$32,Overview!$D$18:$D$32,"<="&$C20,Overview!$E$18:$E$32,">="&$C20)) -> 7000 | U20: =IF(OR($C20="",Overview!$I$33=""),"",IF($C20>Overview!$I$33,"",SUM($S$12:S20))) -> 63535.31 | V20: =IF($C20="","",SUM($T$12:T20)) -> 63000 | W20: =IF(OR(U20="",V20="",V20=0),"",U20/V20) -> 1.008497
C21: =IF(OR(Overview!$D$33="",Overview!$E$33=""),"",IF(Overview!$D$33+9>Overview!$E$33,"",Overview!$D$33+9)) -> 46275 | D21: =IF(OR($C21="",D$11=""),"",IFERROR(SUMIFS(INDIRECT("'"&D$11&"'!$F$14:$F$10013"),INDIRECT("'"&D$11&"'!$C$14:$C$10013"),$C21),"")) -> 1703.36 | E21: =IF(OR($C21="",E$11=""),"",IFERROR(SUMIFS(INDIRECT("'"&E$11&"'!$F$14:$F$10013"),INDIRECT("'"&E$11&"'!$C$14:$C$10013"),$C21),"")) -> 987.75 | F21: =IF(OR($C21="",F$11=""),"",IFERROR(SUMIFS(INDIRECT("'"&F$11&"'!$F$14:$F$10013"),INDIRECT("'"&F$11&"'!$C$14:$C$10013"),$C21),"")) -> 472.02 | G21: =IF(OR($C21="",G$11=""),"",IFERROR(SUMIFS(INDIRECT("'"&G$11&"'!$F$14:$F$10013"),INDIRECT("'"&G$11&"'!$C$14:$C$10013"),$C21),"")) -> 0 | H21: =IF(OR($C21="",H$11=""),"",IFERROR(SUMIFS(INDIRECT("'"&H$11&"'!$F$14:$F$10013"),INDIRECT("'"&H$11&"'!$C$14:$C$10013"),$C21),"")) -> 2347.13 | I21: =IF(OR($C21="",I$11=""),"",IFERROR(SUMIFS(INDIRECT("'"&I$11&"'!$F$14:$F$10013"),INDIRECT("'"&I$11&"'!$C$14:$C$10013"),$C21),"")) -> 370.2 | J21: =IF(OR($C21="",J$11=""),"",IFERROR(SUMIFS(INDIRECT("'"&J$11&"'!$F$14:$F$10013"),INDIRECT("'"&J$11&"'!$C$14:$C$10013"),$C21),"")) -> 1460.18 | K21: =IF(OR($C21="",K$11=""),"",IFERROR(SUMIFS(INDIRECT("'"&K$11&"'!$F$14:$F$10013"),INDIRECT("'"&K$11&"'!$C$14:$C$10013"),$C21),"")) -> 0 | ... R21: =IF(OR($C21="",R$11=""),"",IFERROR(SUMIFS(INDIRECT("'"&R$11&"'!$F$14:$F$10013"),INDIRECT("'"&R$11&"'!$C$14:$C$10013"),$C21),"")) | S21: =IF($C21="","",SUM(D21:R21)) -> 7340.64 | T21: =IF($C21="","",SUMIFS(Overview!$G$18:$G$32,Overview!$D$18:$D$32,"<="&$C21,Overview!$E$18:$E$32,">="&$C21)) -> 7000 | U21: =IF(OR($C21="",Overview!$I$33=""),"",IF($C21>Overview!$I$33,"",SUM($S$12:S21))) -> 70875.95 | V21: =IF($C21="","",SUM($T$12:T21)) -> 70000 | W21: =IF(OR(U21="",V21="",V21=0),"",U21/V21) -> 1.0125136
C22: =IF(OR(Overview!$D$33="",Overview!$E$33=""),"",IF(Overview!$D$33+10>Overview!$E$33,"",Overview!$D$33+10)) -> 46276 | D22: =IF(OR($C22="",D$11=""),"",IFERROR(SUMIFS(INDIRECT("'"&D$11&"'!$F$14:$F$10013"),INDIRECT("'"&D$11&"'!$C$14:$C$10013"),$C22),"")) -> 1770.98 | E22: =IF(OR($C22="",E$11=""),"",IFERROR(SUMIFS(INDIRECT("'"&E$11&"'!$F$14:$F$10013"),INDIRECT("'"&E$11&"'!$C$14:$C$10013"),$C22),"")) -> 870.7 | F22: =IF(OR($C22="",F$11=""),"",IFERROR(SUMIFS(INDIRECT("'"&F$11&"'!$F$14:$F$10013"),INDIRECT("'"&F$11&"'!$C$14:$C$10013"),$C22),"")) -> 548.67 | G22: =IF(OR($C22="",G$11=""),"",IFERROR(SUMIFS(INDIRECT("'"&G$11&"'!$F$14:$F$10013"),INDIRECT("'"&G$11&"'!$C$14:$C$10013"),$C22),"")) -> 0 | H22: =IF(OR($C22="",H$11=""),"",IFERROR(SUMIFS(INDIRECT("'"&H$11&"'!$F$14:$F$10013"),INDIRECT("'"&H$11&"'!$C$14:$C$10013"),$C22),"")) -> 2168 | I22: =IF(OR($C22="",I$11=""),"",IFERROR(SUMIFS(INDIRECT("'"&I$11&"'!$F$14:$F$10013"),INDIRECT("'"&I$11&"'!$C$14:$C$10013"),$C22),"")) -> 342.99 | J22: =IF(OR($C22="",J$11=""),"",IFERROR(SUMIFS(INDIRECT("'"&J$11&"'!$F$14:$F$10013"),INDIRECT("'"&J$11&"'!$C$14:$C$10013"),$C22),"")) -> 1409.65 | K22: =IF(OR($C22="",K$11=""),"",IFERROR(SUMIFS(INDIRECT("'"&K$11&"'!$F$14:$F$10013"),INDIRECT("'"&K$11&"'!$C$14:$C$10013"),$C22),"")) -> 0 | ... R22: =IF(OR($C22="",R$11=""),"",IFERROR(SUMIFS(INDIRECT("'"&R$11&"'!$F$14:$F$10013"),INDIRECT("'"&R$11&"'!$C$14:$C$10013"),$C22),"")) | S22: =IF($C22="","",SUM(D22:R22)) -> 7110.99 | T22: =IF($C22="","",SUMIFS(Overview!$G$18:$G$32,Overview!$D$18:$D$32,"<="&$C22,Overview!$E$18:$E$32,">="&$C22)) -> 7000 | U22: =IF(OR($C22="",Overview!$I$33=""),"",IF($C22>Overview!$I$33,"",SUM($S$12:S22))) -> 77986.94 | V22: =IF($C22="","",SUM($T$12:T22)) -> 77000 | W22: =IF(OR(U22="",V22="",V22=0),"",U22/V22) -> 1.0128174
C23: =IF(OR(Overview!$D$33="",Overview!$E$33=""),"",IF(Overview!$D$33+11>Overview!$E$33,"",Overview!$D$33+11)) -> 46277 | D23: =IF(OR($C23="",D$11=""),"",IFERROR(SUMIFS(INDIRECT("'"&D$11&"'!$F$14:$F$10013"),INDIRECT("'"&D$11&"'!$C$14:$C$10013"),$C23),"")) -> 1789.03 | E23: =IF(OR($C23="",E$11=""),"",IFERROR(SUMIFS(INDIRECT("'"&E$11&"'!$F$14:$F$10013"),INDIRECT("'"&E$11&"'!$C$14:$C$10013"),$C23),"")) -> 775 | F23: =IF(OR($C23="",F$11=""),"",IFERROR(SUMIFS(INDIRECT("'"&F$11&"'!$F$14:$F$10013"),INDIRECT("'"&F$11&"'!$C$14:$C$10013"),$C23),"")) -> 546.76 | G23: =IF(OR($C23="",G$11=""),"",IFERROR(SUMIFS(INDIRECT("'"&G$11&"'!$F$14:$F$10013"),INDIRECT("'"&G$11&"'!$C$14:$C$10013"),$C23),"")) -> 0 | H23: =IF(OR($C23="",H$11=""),"",IFERROR(SUMIFS(INDIRECT("'"&H$11&"'!$F$14:$F$10013"),INDIRECT("'"&H$11&"'!$C$14:$C$10013"),$C23),"")) -> 1901.91 | I23: =IF(OR($C23="",I$11=""),"",IFERROR(SUMIFS(INDIRECT("'"&I$11&"'!$F$14:$F$10013"),INDIRECT("'"&I$11&"'!$C$14:$C$10013"),$C23),"")) -> 368.84 | J23: =IF(OR($C23="",J$11=""),"",IFERROR(SUMIFS(INDIRECT("'"&J$11&"'!$F$14:$F$10013"),INDIRECT("'"&J$11&"'!$C$14:$C$10013"),$C23),"")) -> 1829.53 | K23: =IF(OR($C23="",K$11=""),"",IFERROR(SUMIFS(INDIRECT("'"&K$11&"'!$F$14:$F$10013"),INDIRECT("'"&K$11&"'!$C$14:$C$10013"),$C23),"")) -> 0 | ... R23: =IF(OR($C23="",R$11=""),"",IFERROR(SUMIFS(INDIRECT("'"&R$11&"'!$F$14:$F$10013"),INDIRECT("'"&R$11&"'!$C$14:$C$10013"),$C23),"")) | S23: =IF($C23="","",SUM(D23:R23)) -> 7211.07 | T23: =IF($C23="","",SUMIFS(Overview!$G$18:$G$32,Overview!$D$18:$D$32,"<="&$C23,Overview!$E$18:$E$32,">="&$C23)) -> 7000 | U23: =IF(OR($C23="",Overview!$I$33=""),"",IF($C23>Overview!$I$33,"",SUM($S$12:S23))) -> 85198.01 | V23: =IF($C23="","",SUM($T$12:T23)) -> 84000 | W23: =IF(OR(U23="",V23="",V23=0),"",U23/V23) -> 1.014262
C24: =IF(OR(Overview!$D$33="",Overview!$E$33=""),"",IF(Overview!$D$33+12>Overview!$E$33,"",Overview!$D$33+12)) -> 46278 | D24: =IF(OR($C24="",D$11=""),"",IFERROR(SUMIFS(INDIRECT("'"&D$11&"'!$F$14:$F$10013"),INDIRECT("'"&D$11&"'!$C$14:$C$10013"),$C24),"")) -> 1450.9 | E24: =IF(OR($C24="",E$11=""),"",IFERROR(SUMIFS(INDIRECT("'"&E$11&"'!$F$14:$F$10013"),INDIRECT("'"&E$11&"'!$C$14:$C$10013"),$C24),"")) -> 946.32 | F24: =IF(OR($C24="",F$11=""),"",IFERROR(SUMIFS(INDIRECT("'"&F$11&"'!$F$14:$F$10013"),INDIRECT("'"&F$11&"'!$C$14:$C$10013"),$C24),"")) -> 459.78 | G24: =IF(OR($C24="",G$11=""),"",IFERROR(SUMIFS(INDIRECT("'"&G$11&"'!$F$14:$F$10013"),INDIRECT("'"&G$11&"'!$C$14:$C$10013"),$C24),"")) -> 0 | H24: =IF(OR($C24="",H$11=""),"",IFERROR(SUMIFS(INDIRECT("'"&H$11&"'!$F$14:$F$10013"),INDIRECT("'"&H$11&"'!$C$14:$C$10013"),$C24),"")) -> 1805.4 | I24: =IF(OR($C24="",I$11=""),"",IFERROR(SUMIFS(INDIRECT("'"&I$11&"'!$F$14:$F$10013"),INDIRECT("'"&I$11&"'!$C$14:$C$10013"),$C24),"")) -> 354.84 | J24: =IF(OR($C24="",J$11=""),"",IFERROR(SUMIFS(INDIRECT("'"&J$11&"'!$F$14:$F$10013"),INDIRECT("'"&J$11&"'!$C$14:$C$10013"),$C24),"")) -> 1638.44 | K24: =IF(OR($C24="",K$11=""),"",IFERROR(SUMIFS(INDIRECT("'"&K$11&"'!$F$14:$F$10013"),INDIRECT("'"&K$11&"'!$C$14:$C$10013"),$C24),"")) -> 0 | ... R24: =IF(OR($C24="",R$11=""),"",IFERROR(SUMIFS(INDIRECT("'"&R$11&"'!$F$14:$F$10013"),INDIRECT("'"&R$11&"'!$C$14:$C$10013"),$C24),"")) | S24: =IF($C24="","",SUM(D24:R24)) -> 6655.68 | T24: =IF($C24="","",SUMIFS(Overview!$G$18:$G$32,Overview!$D$18:$D$32,"<="&$C24,Overview!$E$18:$E$32,">="&$C24)) -> 7000 | U24: =IF(OR($C24="",Overview!$I$33=""),"",IF($C24>Overview!$I$33,"",SUM($S$12:S24))) -> 91853.69 | V24: =IF($C24="","",SUM($T$12:T24)) -> 91000 | W24: =IF(OR(U24="",V24="",V24=0),"",U24/V24) -> 1.0093812
C25: =IF(OR(Overview!$D$33="",Overview!$E$33=""),"",IF(Overview!$D$33+13>Overview!$E$33,"",Overview!$D$33+13)) -> 46279 | D25: =IF(OR($C25="",D$11=""),"",IFERROR(SUMIFS(INDIRECT("'"&D$11&"'!$F$14:$F$10013"),INDIRECT("'"&D$11&"'!$C$14:$C$10013"),$C25),"")) -> 1707.85 | E25: =IF(OR($C25="",E$11=""),"",IFERROR(SUMIFS(INDIRECT("'"&E$11&"'!$F$14:$F$10013"),INDIRECT("'"&E$11&"'!$C$14:$C$10013"),$C25),"")) -> 915.29 | F25: =IF(OR($C25="",F$11=""),"",IFERROR(SUMIFS(INDIRECT("'"&F$11&"'!$F$14:$F$10013"),INDIRECT("'"&F$11&"'!$C$14:$C$10013"),$C25),"")) -> 439.54 | G25: =IF(OR($C25="",G$11=""),"",IFERROR(SUMIFS(INDIRECT("'"&G$11&"'!$F$14:$F$10013"),INDIRECT("'"&G$11&"'!$C$14:$C$10013"),$C25),"")) -> 0 | H25: =IF(OR($C25="",H$11=""),"",IFERROR(SUMIFS(INDIRECT("'"&H$11&"'!$F$14:$F$10013"),INDIRECT("'"&H$11&"'!$C$14:$C$10013"),$C25),"")) -> 2275.54 | I25: =IF(OR($C25="",I$11=""),"",IFERROR(SUMIFS(INDIRECT("'"&I$11&"'!$F$14:$F$10013"),INDIRECT("'"&I$11&"'!$C$14:$C$10013"),$C25),"")) -> 391.5 | J25: =IF(OR($C25="",J$11=""),"",IFERROR(SUMIFS(INDIRECT("'"&J$11&"'!$F$14:$F$10013"),INDIRECT("'"&J$11&"'!$C$14:$C$10013"),$C25),"")) -> 1724.8 | K25: =IF(OR($C25="",K$11=""),"",IFERROR(SUMIFS(INDIRECT("'"&K$11&"'!$F$14:$F$10013"),INDIRECT("'"&K$11&"'!$C$14:$C$10013"),$C25),"")) -> 0 | ... R25: =IF(OR($C25="",R$11=""),"",IFERROR(SUMIFS(INDIRECT("'"&R$11&"'!$F$14:$F$10013"),INDIRECT("'"&R$11&"'!$C$14:$C$10013"),$C25),"")) | S25: =IF($C25="","",SUM(D25:R25)) -> 7454.52 | T25: =IF($C25="","",SUMIFS(Overview!$G$18:$G$32,Overview!$D$18:$D$32,"<="&$C25,Overview!$E$18:$E$32,">="&$C25)) -> 7000 | U25: =IF(OR($C25="",Overview!$I$33=""),"",IF($C25>Overview!$I$33,"",SUM($S$12:S25))) -> 99308.21 | V25: =IF($C25="","",SUM($T$12:T25)) -> 98000 | W25: =IF(OR(U25="",V25="",V25=0),"",U25/V25) -> 1.0133491
C26: =IF(OR(Overview!$D$33="",Overview!$E$33=""),"",IF(Overview!$D$33+14>Overview!$E$33,"",Overview!$D$33+14)) -> 46280 | D26: =IF(OR($C26="",D$11=""),"",IFERROR(SUMIFS(INDIRECT("'"&D$11&"'!$F$14:$F$10013"),INDIRECT("'"&D$11&"'!$C$14:$C$10013"),$C26),"")) -> 1591.94 | E26: =IF(OR($C26="",E$11=""),"",IFERROR(SUMIFS(INDIRECT("'"&E$11&"'!$F$14:$F$10013"),INDIRECT("'"&E$11&"'!$C$14:$C$10013"),$C26),"")) -> 849.9 | F26: =IF(OR($C26="",F$11=""),"",IFERROR(SUMIFS(INDIRECT("'"&F$11&"'!$F$14:$F$10013"),INDIRECT("'"&F$11&"'!$C$14:$C$10013"),$C26),"")) -> 396.3 | G26: =IF(OR($C26="",G$11=""),"",IFERROR(SUMIFS(INDIRECT("'"&G$11&"'!$F$14:$F$10013"),INDIRECT("'"&G$11&"'!$C$14:$C$10013"),$C26),"")) -> 0 | H26: =IF(OR($C26="",H$11=""),"",IFERROR(SUMIFS(INDIRECT("'"&H$11&"'!$F$14:$F$10013"),INDIRECT("'"&H$11&"'!$C$14:$C$10013"),$C26),"")) -> 2422.44 | I26: =IF(OR($C26="",I$11=""),"",IFERROR(SUMIFS(INDIRECT("'"&I$11&"'!$F$14:$F$10013"),INDIRECT("'"&I$11&"'!$C$14:$C$10013"),$C26),"")) -> 364.07 | J26: =IF(OR($C26="",J$11=""),"",IFERROR(SUMIFS(INDIRECT("'"&J$11&"'!$F$14:$F$10013"),INDIRECT("'"&J$11&"'!$C$14:$C$10013"),$C26),"")) -> 1667.07 | K26: =IF(OR($C26="",K$11=""),"",IFERROR(SUMIFS(INDIRECT("'"&K$11&"'!$F$14:$F$10013"),INDIRECT("'"&K$11&"'!$C$14:$C$10013"),$C26),"")) -> 0 | ... R26: =IF(OR($C26="",R$11=""),"",IFERROR(SUMIFS(INDIRECT("'"&R$11&"'!$F$14:$F$10013"),INDIRECT("'"&R$11&"'!$C$14:$C$10013"),$C26),"")) | S26: =IF($C26="","",SUM(D26:R26)) -> 7291.72 | T26: =IF($C26="","",SUMIFS(Overview!$G$18:$G$32,Overview!$D$18:$D$32,"<="&$C26,Overview!$E$18:$E$32,">="&$C26)) -> 7000 | U26: =IF(OR($C26="",Overview!$I$33=""),"",IF($C26>Overview!$I$33,"",SUM($S$12:S26))) -> 106599.93 | V26: =IF($C26="","",SUM($T$12:T26)) -> 105000 | W26: =IF(OR(U26="",V26="",V26=0),"",U26/V26) -> 1.0152374
C27: =IF(OR(Overview!$D$33="",Overview!$E$33=""),"",IF(Overview!$D$33+15>Overview!$E$33,"",Overview!$D$33+15)) -> 46281 | D27: =IF(OR($C27="",D$11=""),"",IFERROR(SUMIFS(INDIRECT("'"&D$11&"'!$F$14:$F$10013"),INDIRECT("'"&D$11&"'!$C$14:$C$10013"),$C27),"")) -> 1721.97 | E27: =IF(OR($C27="",E$11=""),"",IFERROR(SUMIFS(INDIRECT("'"&E$11&"'!$F$14:$F$10013"),INDIRECT("'"&E$11&"'!$C$14:$C$10013"),$C27),"")) -> 741.08 | F27: =IF(OR($C27="",F$11=""),"",IFERROR(SUMIFS(INDIRECT("'"&F$11&"'!$F$14:$F$10013"),INDIRECT("'"&F$11&"'!$C$14:$C$10013"),$C27),"")) -> 420.96 | G27: =IF(OR($C27="",G$11=""),"",IFERROR(SUMIFS(INDIRECT("'"&G$11&"'!$F$14:$F$10013"),INDIRECT("'"&G$11&"'!$C$14:$C$10013"),$C27),"")) -> 0 | H27: =IF(OR($C27="",H$11=""),"",IFERROR(SUMIFS(INDIRECT("'"&H$11&"'!$F$14:$F$10013"),INDIRECT("'"&H$11&"'!$C$14:$C$10013"),$C27),"")) -> 1842.35 | I27: =IF(OR($C27="",I$11=""),"",IFERROR(SUMIFS(INDIRECT("'"&I$11&"'!$F$14:$F$10013"),INDIRECT("'"&I$11&"'!$C$14:$C$10013"),$C27),"")) -> 418.24 | J27: =IF(OR($C27="",J$11=""),"",IFERROR(SUMIFS(INDIRECT("'"&J$11&"'!$F$14:$F$10013"),INDIRECT("'"&J$11&"'!$C$14:$C$10013"),$C27),"")) -> 1818.32 | K27: =IF(OR($C27="",K$11=""),"",IFERROR(SUMIFS(INDIRECT("'"&K$11&"'!$F$14:$F$10013"),INDIRECT("'"&K$11&"'!$C$14:$C$10013"),$C27),"")) -> 0 | ... R27: =IF(OR($C27="",R$11=""),"",IFERROR(SUMIFS(INDIRECT("'"&R$11&"'!$F$14:$F$10013"),INDIRECT("'"&R$11&"'!$C$14:$C$10013"),$C27),"")) | S27: =IF($C27="","",SUM(D27:R27)) -> 6962.92 | T27: =IF($C27="","",SUMIFS(Overview!$G$18:$G$32,Overview!$D$18:$D$32,"<="&$C27,Overview!$E$18:$E$32,">="&$C27)) -> 7000 | U27: =IF(OR($C27="",Overview!$I$33=""),"",IF($C27>Overview!$I$33,"",SUM($S$12:S27))) -> 113562.85 | V27: =IF($C27="","",SUM($T$12:T27)) -> 112000 | W27: =IF(OR(U27="",V27="",V27=0),"",U27/V27) -> 1.013954
C28: =IF(OR(Overview!$D$33="",Overview!$E$33=""),"",IF(Overview!$D$33+16>Overview!$E$33,"",Overview!$D$33+16)) -> 46282 | D28: =IF(OR($C28="",D$11=""),"",IFERROR(SUMIFS(INDIRECT("'"&D$11&"'!$F$14:$F$10013"),INDIRECT("'"&D$11&"'!$C$14:$C$10013"),$C28),"")) -> 1600.56 | E28: =IF(OR($C28="",E$11=""),"",IFERROR(SUMIFS(INDIRECT("'"&E$11&"'!$F$14:$F$10013"),INDIRECT("'"&E$11&"'!$C$14:$C$10013"),$C28),"")) -> 740.55 | F28: =IF(OR($C28="",F$11=""),"",IFERROR(SUMIFS(INDIRECT("'"&F$11&"'!$F$14:$F$10013"),INDIRECT("'"&F$11&"'!$C$14:$C$10013"),$C28),"")) -> 429.97 | G28: =IF(OR($C28="",G$11=""),"",IFERROR(SUMIFS(INDIRECT("'"&G$11&"'!$F$14:$F$10013"),INDIRECT("'"&G$11&"'!$C$14:$C$10013"),$C28),"")) -> 0 | H28: =IF(OR($C28="",H$11=""),"",IFERROR(SUMIFS(INDIRECT("'"&H$11&"'!$F$14:$F$10013"),INDIRECT("'"&H$11&"'!$C$14:$C$10013"),$C28),"")) -> 1865.7 | I28: =IF(OR($C28="",I$11=""),"",IFERROR(SUMIFS(INDIRECT("'"&I$11&"'!$F$14:$F$10013"),INDIRECT("'"&I$11&"'!$C$14:$C$10013"),$C28),"")) -> 409.64 | J28: =IF(OR($C28="",J$11=""),"",IFERROR(SUMIFS(INDIRECT("'"&J$11&"'!$F$14:$F$10013"),INDIRECT("'"&J$11&"'!$C$14:$C$10013"),$C28),"")) -> 1550.51 | K28: =IF(OR($C28="",K$11=""),"",IFERROR(SUMIFS(INDIRECT("'"&K$11&"'!$F$14:$F$10013"),INDIRECT("'"&K$11&"'!$C$14:$C$10013"),$C28),"")) -> 0 | ... R28: =IF(OR($C28="",R$11=""),"",IFERROR(SUMIFS(INDIRECT("'"&R$11&"'!$F$14:$F$10013"),INDIRECT("'"&R$11&"'!$C$14:$C$10013"),$C28),"")) | S28: =IF($C28="","",SUM(D28:R28)) -> 6596.93 | T28: =IF($C28="","",SUMIFS(Overview!$G$18:$G$32,Overview!$D$18:$D$32,"<="&$C28,Overview!$E$18:$E$32,">="&$C28)) -> 7000 | U28: =IF(OR($C28="",Overview!$I$33=""),"",IF($C28>Overview!$I$33,"",SUM($S$12:S28))) -> 120159.78 | V28: =IF($C28="","",SUM($T$12:T28)) -> 119000 | W28: =IF(OR(U28="",V28="",V28=0),"",U28/V28) -> 1.0097461
C29: =IF(OR(Overview!$D$33="",Overview!$E$33=""),"",IF(Overview!$D$33+17>Overview!$E$33,"",Overview!$D$33+17)) -> 46283 | D29: =IF(OR($C29="",D$11=""),"",IFERROR(SUMIFS(INDIRECT("'"&D$11&"'!$F$14:$F$10013"),INDIRECT("'"&D$11&"'!$C$14:$C$10013"),$C29),"")) -> 1440.34 | E29: =IF(OR($C29="",E$11=""),"",IFERROR(SUMIFS(INDIRECT("'"&E$11&"'!$F$14:$F$10013"),INDIRECT("'"&E$11&"'!$C$14:$C$10013"),$C29),"")) -> 781.48 | F29: =IF(OR($C29="",F$11=""),"",IFERROR(SUMIFS(INDIRECT("'"&F$11&"'!$F$14:$F$10013"),INDIRECT("'"&F$11&"'!$C$14:$C$10013"),$C29),"")) -> 394.2 | G29: =IF(OR($C29="",G$11=""),"",IFERROR(SUMIFS(INDIRECT("'"&G$11&"'!$F$14:$F$10013"),INDIRECT("'"&G$11&"'!$C$14:$C$10013"),$C29),"")) -> 0 | H29: =IF(OR($C29="",H$11=""),"",IFERROR(SUMIFS(INDIRECT("'"&H$11&"'!$F$14:$F$10013"),INDIRECT("'"&H$11&"'!$C$14:$C$10013"),$C29),"")) -> 2271.1 | I29: =IF(OR($C29="",I$11=""),"",IFERROR(SUMIFS(INDIRECT("'"&I$11&"'!$F$14:$F$10013"),INDIRECT("'"&I$11&"'!$C$14:$C$10013"),$C29),"")) -> 379.65 | J29: =IF(OR($C29="",J$11=""),"",IFERROR(SUMIFS(INDIRECT("'"&J$11&"'!$F$14:$F$10013"),INDIRECT("'"&J$11&"'!$C$14:$C$10013"),$C29),"")) -> 1510.34 | K29: =IF(OR($C29="",K$11=""),"",IFERROR(SUMIFS(INDIRECT("'"&K$11&"'!$F$14:$F$10013"),INDIRECT("'"&K$11&"'!$C$14:$C$10013"),$C29),"")) -> 0 | ... R29: =IF(OR($C29="",R$11=""),"",IFERROR(SUMIFS(INDIRECT("'"&R$11&"'!$F$14:$F$10013"),INDIRECT("'"&R$11&"'!$C$14:$C$10013"),$C29),"")) | S29: =IF($C29="","",SUM(D29:R29)) -> 6777.11 | T29: =IF($C29="","",SUMIFS(Overview!$G$18:$G$32,Overview!$D$18:$D$32,"<="&$C29,Overview!$E$18:$E$32,">="&$C29)) -> 7000 | U29: =IF(OR($C29="",Overview!$I$33=""),"",IF($C29>Overview!$I$33,"",SUM($S$12:S29))) -> 126936.89 | V29: =IF($C29="","",SUM($T$12:T29)) -> 126000 | W29: =IF(OR(U29="",V29="",V29=0),"",U29/V29) -> 1.0074356
C30: =IF(OR(Overview!$D$33="",Overview!$E$33=""),"",IF(Overview!$D$33+18>Overview!$E$33,"",Overview!$D$33+18)) -> 46284 | D30: =IF(OR($C30="",D$11=""),"",IFERROR(SUMIFS(INDIRECT("'"&D$11&"'!$F$14:$F$10013"),INDIRECT("'"&D$11&"'!$C$14:$C$10013"),$C30),"")) -> 1753.91 | E30: =IF(OR($C30="",E$11=""),"",IFERROR(SUMIFS(INDIRECT("'"&E$11&"'!$F$14:$F$10013"),INDIRECT("'"&E$11&"'!$C$14:$C$10013"),$C30),"")) -> 744.7 | F30: =IF(OR($C30="",F$11=""),"",IFERROR(SUMIFS(INDIRECT("'"&F$11&"'!$F$14:$F$10013"),INDIRECT("'"&F$11&"'!$C$14:$C$10013"),$C30),"")) -> 421.09 | G30: =IF(OR($C30="",G$11=""),"",IFERROR(SUMIFS(INDIRECT("'"&G$11&"'!$F$14:$F$10013"),INDIRECT("'"&G$11&"'!$C$14:$C$10013"),$C30),"")) -> 0 | H30: =IF(OR($C30="",H$11=""),"",IFERROR(SUMIFS(INDIRECT("'"&H$11&"'!$F$14:$F$10013"),INDIRECT("'"&H$11&"'!$C$14:$C$10013"),$C30),"")) -> 2137.93 | I30: =IF(OR($C30="",I$11=""),"",IFERROR(SUMIFS(INDIRECT("'"&I$11&"'!$F$14:$F$10013"),INDIRECT("'"&I$11&"'!$C$14:$C$10013"),$C30),"")) -> 334.57 | J30: =IF(OR($C30="",J$11=""),"",IFERROR(SUMIFS(INDIRECT("'"&J$11&"'!$F$14:$F$10013"),INDIRECT("'"&J$11&"'!$C$14:$C$10013"),$C30),"")) -> 1609.81 | K30: =IF(OR($C30="",K$11=""),"",IFERROR(SUMIFS(INDIRECT("'"&K$11&"'!$F$14:$F$10013"),INDIRECT("'"&K$11&"'!$C$14:$C$10013"),$C30),"")) -> 0 | ... R30: =IF(OR($C30="",R$11=""),"",IFERROR(SUMIFS(INDIRECT("'"&R$11&"'!$F$14:$F$10013"),INDIRECT("'"&R$11&"'!$C$14:$C$10013"),$C30),"")) | S30: =IF($C30="","",SUM(D30:R30)) -> 7002.01 | T30: =IF($C30="","",SUMIFS(Overview!$G$18:$G$32,Overview!$D$18:$D$32,"<="&$C30,Overview!$E$18:$E$32,">="&$C30)) -> 7000 | U30: =IF(OR($C30="",Overview!$I$33=""),"",IF($C30>Overview!$I$33,"",SUM($S$12:S30))) -> 133938.9 | V30: =IF($C30="","",SUM($T$12:T30)) -> 133000 | W30: =IF(OR(U30="",V30="",V30=0),"",U30/V30) -> 1.0070594
C31: =IF(OR(Overview!$D$33="",Overview!$E$33=""),"",IF(Overview!$D$33+19>Overview!$E$33,"",Overview!$D$33+19)) -> 46285 | D31: =IF(OR($C31="",D$11=""),"",IFERROR(SUMIFS(INDIRECT("'"&D$11&"'!$F$14:$F$10013"),INDIRECT("'"&D$11&"'!$C$14:$C$10013"),$C31),"")) -> 1647.44 | E31: =IF(OR($C31="",E$11=""),"",IFERROR(SUMIFS(INDIRECT("'"&E$11&"'!$F$14:$F$10013"),INDIRECT("'"&E$11&"'!$C$14:$C$10013"),$C31),"")) -> 872.07 | F31: =IF(OR($C31="",F$11=""),"",IFERROR(SUMIFS(INDIRECT("'"&F$11&"'!$F$14:$F$10013"),INDIRECT("'"&F$11&"'!$C$14:$C$10013"),$C31),"")) -> 445.94 | G31: =IF(OR($C31="",G$11=""),"",IFERROR(SUMIFS(INDIRECT("'"&G$11&"'!$F$14:$F$10013"),INDIRECT("'"&G$11&"'!$C$14:$C$10013"),$C31),"")) -> 0 | H31: =IF(OR($C31="",H$11=""),"",IFERROR(SUMIFS(INDIRECT("'"&H$11&"'!$F$14:$F$10013"),INDIRECT("'"&H$11&"'!$C$14:$C$10013"),$C31),"")) -> 2302.74 | I31: =IF(OR($C31="",I$11=""),"",IFERROR(SUMIFS(INDIRECT("'"&I$11&"'!$F$14:$F$10013"),INDIRECT("'"&I$11&"'!$C$14:$C$10013"),$C31),"")) -> 344.41 | J31: =IF(OR($C31="",J$11=""),"",IFERROR(SUMIFS(INDIRECT("'"&J$11&"'!$F$14:$F$10013"),INDIRECT("'"&J$11&"'!$C$14:$C$10013"),$C31),"")) -> 1498.17 | K31: =IF(OR($C31="",K$11=""),"",IFERROR(SUMIFS(INDIRECT("'"&K$11&"'!$F$14:$F$10013"),INDIRECT("'"&K$11&"'!$C$14:$C$10013"),$C31),"")) -> 0 | ... R31: =IF(OR($C31="",R$11=""),"",IFERROR(SUMIFS(INDIRECT("'"&R$11&"'!$F$14:$F$10013"),INDIRECT("'"&R$11&"'!$C$14:$C$10013"),$C31),"")) | S31: =IF($C31="","",SUM(D31:R31)) -> 7110.77 | T31: =IF($C31="","",SUMIFS(Overview!$G$18:$G$32,Overview!$D$18:$D$32,"<="&$C31,Overview!$E$18:$E$32,">="&$C31)) -> 7000 | U31: =IF(OR($C31="",Overview!$I$33=""),"",IF($C31>Overview!$I$33,"",SUM($S$12:S31))) -> 141049.67 | V31: =IF($C31="","",SUM($T$12:T31)) -> 140000 | W31: =IF(OR(U31="",V31="",V31=0),"",U31/V31) -> 1.0074976
C32: =IF(OR(Overview!$D$33="",Overview!$E$33=""),"",IF(Overview!$D$33+20>Overview!$E$33,"",Overview!$D$33+20)) -> 46286 | D32: =IF(OR($C32="",D$11=""),"",IFERROR(SUMIFS(INDIRECT("'"&D$11&"'!$F$14:$F$10013"),INDIRECT("'"&D$11&"'!$C$14:$C$10013"),$C32),"")) -> 1626.44 | E32: =IF(OR($C32="",E$11=""),"",IFERROR(SUMIFS(INDIRECT("'"&E$11&"'!$F$14:$F$10013"),INDIRECT("'"&E$11&"'!$C$14:$C$10013"),$C32),"")) -> 753.76 | F32: =IF(OR($C32="",F$11=""),"",IFERROR(SUMIFS(INDIRECT("'"&F$11&"'!$F$14:$F$10013"),INDIRECT("'"&F$11&"'!$C$14:$C$10013"),$C32),"")) -> 470.62 | G32: =IF(OR($C32="",G$11=""),"",IFERROR(SUMIFS(INDIRECT("'"&G$11&"'!$F$14:$F$10013"),INDIRECT("'"&G$11&"'!$C$14:$C$10013"),$C32),"")) -> 0 | H32: =IF(OR($C32="",H$11=""),"",IFERROR(SUMIFS(INDIRECT("'"&H$11&"'!$F$14:$F$10013"),INDIRECT("'"&H$11&"'!$C$14:$C$10013"),$C32),"")) -> 2028.7 | I32: =IF(OR($C32="",I$11=""),"",IFERROR(SUMIFS(INDIRECT("'"&I$11&"'!$F$14:$F$10013"),INDIRECT("'"&I$11&"'!$C$14:$C$10013"),$C32),"")) -> 373.82 | J32: =IF(OR($C32="",J$11=""),"",IFERROR(SUMIFS(INDIRECT("'"&J$11&"'!$F$14:$F$10013"),INDIRECT("'"&J$11&"'!$C$14:$C$10013"),$C32),"")) -> 1616.92 | K32: =IF(OR($C32="",K$11=""),"",IFERROR(SUMIFS(INDIRECT("'"&K$11&"'!$F$14:$F$10013"),INDIRECT("'"&K$11&"'!$C$14:$C$10013"),$C32),"")) -> 0 | ... R32: =IF(OR($C32="",R$11=""),"",IFERROR(SUMIFS(INDIRECT("'"&R$11&"'!$F$14:$F$10013"),INDIRECT("'"&R$11&"'!$C$14:$C$10013"),$C32),"")) | S32: =IF($C32="","",SUM(D32:R32)) -> 6870.26 | T32: =IF($C32="","",SUMIFS(Overview!$G$18:$G$32,Overview!$D$18:$D$32,"<="&$C32,Overview!$E$18:$E$32,">="&$C32)) -> 7000 | U32: =IF(OR($C32="",Overview!$I$33=""),"",IF($C32>Overview!$I$33,"",SUM($S$12:S32))) -> 147919.93 | V32: =IF($C32="","",SUM($T$12:T32)) -> 147000 | W32: =IF(OR(U32="",V32="",V32=0),"",U32/V32) -> 1.006258
C33: =IF(OR(Overview!$D$33="",Overview!$E$33=""),"",IF(Overview!$D$33+21>Overview!$E$33,"",Overview!$D$33+21)) -> 46287 | D33: =IF(OR($C33="",D$11=""),"",IFERROR(SUMIFS(INDIRECT("'"&D$11&"'!$F$14:$F$10013"),INDIRECT("'"&D$11&"'!$C$14:$C$10013"),$C33),"")) -> 1874.24 | E33: =IF(OR($C33="",E$11=""),"",IFERROR(SUMIFS(INDIRECT("'"&E$11&"'!$F$14:$F$10013"),INDIRECT("'"&E$11&"'!$C$14:$C$10013"),$C33),"")) -> 911.48 | F33: =IF(OR($C33="",F$11=""),"",IFERROR(SUMIFS(INDIRECT("'"&F$11&"'!$F$14:$F$10013"),INDIRECT("'"&F$11&"'!$C$14:$C$10013"),$C33),"")) -> 438.82 | G33: =IF(OR($C33="",G$11=""),"",IFERROR(SUMIFS(INDIRECT("'"&G$11&"'!$F$14:$F$10013"),INDIRECT("'"&G$11&"'!$C$14:$C$10013"),$C33),"")) -> 0 | H33: =IF(OR($C33="",H$11=""),"",IFERROR(SUMIFS(INDIRECT("'"&H$11&"'!$F$14:$F$10013"),INDIRECT("'"&H$11&"'!$C$14:$C$10013"),$C33),"")) -> 2072.9 | I33: =IF(OR($C33="",I$11=""),"",IFERROR(SUMIFS(INDIRECT("'"&I$11&"'!$F$14:$F$10013"),INDIRECT("'"&I$11&"'!$C$14:$C$10013"),$C33),"")) -> 354.52 | J33: =IF(OR($C33="",J$11=""),"",IFERROR(SUMIFS(INDIRECT("'"&J$11&"'!$F$14:$F$10013"),INDIRECT("'"&J$11&"'!$C$14:$C$10013"),$C33),"")) -> 1926.38 | K33: =IF(OR($C33="",K$11=""),"",IFERROR(SUMIFS(INDIRECT("'"&K$11&"'!$F$14:$F$10013"),INDIRECT("'"&K$11&"'!$C$14:$C$10013"),$C33),"")) -> 0 | ... R33: =IF(OR($C33="",R$11=""),"",IFERROR(SUMIFS(INDIRECT("'"&R$11&"'!$F$14:$F$10013"),INDIRECT("'"&R$11&"'!$C$14:$C$10013"),$C33),"")) | S33: =IF($C33="","",SUM(D33:R33)) -> 7578.34 | T33: =IF($C33="","",SUMIFS(Overview!$G$18:$G$32,Overview!$D$18:$D$32,"<="&$C33,Overview!$E$18:$E$32,">="&$C33)) -> 7000 | U33: =IF(OR($C33="",Overview!$I$33=""),"",IF($C33>Overview!$I$33,"",SUM($S$12:S33))) -> 155498.27 | V33: =IF($C33="","",SUM($T$12:T33)) -> 154000 | W33: =IF(OR(U33="",V33="",V33=0),"",U33/V33) -> 1.009729
C34: =IF(OR(Overview!$D$33="",Overview!$E$33=""),"",IF(Overview!$D$33+22>Overview!$E$33,"",Overview!$D$33+22)) -> 46288 | D34: =IF(OR($C34="",D$11=""),"",IFERROR(SUMIFS(INDIRECT("'"&D$11&"'!$F$14:$F$10013"),INDIRECT("'"&D$11&"'!$C$14:$C$10013"),$C34),"")) -> 1615.83 | E34: =IF(OR($C34="",E$11=""),"",IFERROR(SUMIFS(INDIRECT("'"&E$11&"'!$F$14:$F$10013"),INDIRECT("'"&E$11&"'!$C$14:$C$10013"),$C34),"")) -> 974.44 | F34: =IF(OR($C34="",F$11=""),"",IFERROR(SUMIFS(INDIRECT("'"&F$11&"'!$F$14:$F$10013"),INDIRECT("'"&F$11&"'!$C$14:$C$10013"),$C34),"")) -> 437.7 | G34: =IF(OR($C34="",G$11=""),"",IFERROR(SUMIFS(INDIRECT("'"&G$11&"'!$F$14:$F$10013"),INDIRECT("'"&G$11&"'!$C$14:$C$10013"),$C34),"")) -> 0 | H34: =IF(OR($C34="",H$11=""),"",IFERROR(SUMIFS(INDIRECT("'"&H$11&"'!$F$14:$F$10013"),INDIRECT("'"&H$11&"'!$C$14:$C$10013"),$C34),"")) -> 2073.38 | I34: =IF(OR($C34="",I$11=""),"",IFERROR(SUMIFS(INDIRECT("'"&I$11&"'!$F$14:$F$10013"),INDIRECT("'"&I$11&"'!$C$14:$C$10013"),$C34),"")) -> 395.35 | J34: =IF(OR($C34="",J$11=""),"",IFERROR(SUMIFS(INDIRECT("'"&J$11&"'!$F$14:$F$10013"),INDIRECT("'"&J$11&"'!$C$14:$C$10013"),$C34),"")) -> 1418.39 | K34: =IF(OR($C34="",K$11=""),"",IFERROR(SUMIFS(INDIRECT("'"&K$11&"'!$F$14:$F$10013"),INDIRECT("'"&K$11&"'!$C$14:$C$10013"),$C34),"")) -> 0 | ... R34: =IF(OR($C34="",R$11=""),"",IFERROR(SUMIFS(INDIRECT("'"&R$11&"'!$F$14:$F$10013"),INDIRECT("'"&R$11&"'!$C$14:$C$10013"),$C34),"")) | S34: =IF($C34="","",SUM(D34:R34)) -> 6915.09 | T34: =IF($C34="","",SUMIFS(Overview!$G$18:$G$32,Overview!$D$18:$D$32,"<="&$C34,Overview!$E$18:$E$32,">="&$C34)) -> 7000 | U34: =IF(OR($C34="",Overview!$I$33=""),"",IF($C34>Overview!$I$33,"",SUM($S$12:S34))) -> 162413.36 | V34: =IF($C34="","",SUM($T$12:T34)) -> 161000 | W34: =IF(OR(U34="",V34="",V34=0),"",U34/V34) -> 1.0087786
C35: =IF(OR(Overview!$D$33="",Overview!$E$33=""),"",IF(Overview!$D$33+23>Overview!$E$33,"",Overview!$D$33+23)) -> 46289 | D35: =IF(OR($C35="",D$11=""),"",IFERROR(SUMIFS(INDIRECT("'"&D$11&"'!$F$14:$F$10013"),INDIRECT("'"&D$11&"'!$C$14:$C$10013"),$C35),"")) -> 1812.32 | E35: =IF(OR($C35="",E$11=""),"",IFERROR(SUMIFS(INDIRECT("'"&E$11&"'!$F$14:$F$10013"),INDIRECT("'"&E$11&"'!$C$14:$C$10013"),$C35),"")) -> 797.9 | F35: =IF(OR($C35="",F$11=""),"",IFERROR(SUMIFS(INDIRECT("'"&F$11&"'!$F$14:$F$10013"),INDIRECT("'"&F$11&"'!$C$14:$C$10013"),$C35),"")) -> 556.69 | G35: =IF(OR($C35="",G$11=""),"",IFERROR(SUMIFS(INDIRECT("'"&G$11&"'!$F$14:$F$10013"),INDIRECT("'"&G$11&"'!$C$14:$C$10013"),$C35),"")) -> 0 | H35: =IF(OR($C35="",H$11=""),"",IFERROR(SUMIFS(INDIRECT("'"&H$11&"'!$F$14:$F$10013"),INDIRECT("'"&H$11&"'!$C$14:$C$10013"),$C35),"")) -> 2178.18 | I35: =IF(OR($C35="",I$11=""),"",IFERROR(SUMIFS(INDIRECT("'"&I$11&"'!$F$14:$F$10013"),INDIRECT("'"&I$11&"'!$C$14:$C$10013"),$C35),"")) -> 367.84 | J35: =IF(OR($C35="",J$11=""),"",IFERROR(SUMIFS(INDIRECT("'"&J$11&"'!$F$14:$F$10013"),INDIRECT("'"&J$11&"'!$C$14:$C$10013"),$C35),"")) -> 1612.76 | K35: =IF(OR($C35="",K$11=""),"",IFERROR(SUMIFS(INDIRECT("'"&K$11&"'!$F$14:$F$10013"),INDIRECT("'"&K$11&"'!$C$14:$C$10013"),$C35),"")) -> 0 | ... R35: =IF(OR($C35="",R$11=""),"",IFERROR(SUMIFS(INDIRECT("'"&R$11&"'!$F$14:$F$10013"),INDIRECT("'"&R$11&"'!$C$14:$C$10013"),$C35),"")) | S35: =IF($C35="","",SUM(D35:R35)) -> 7325.69 | T35: =IF($C35="","",SUMIFS(Overview!$G$18:$G$32,Overview!$D$18:$D$32,"<="&$C35,Overview!$E$18:$E$32,">="&$C35)) -> 7000 | U35: =IF(OR($C35="",Overview!$I$33=""),"",IF($C35>Overview!$I$33,"",SUM($S$12:S35))) -> 169739.05 | V35: =IF($C35="","",SUM($T$12:T35)) -> 168000 | W35: =IF(OR(U35="",V35="",V35=0),"",U35/V35) -> 1.0103515
C36: =IF(OR(Overview!$D$33="",Overview!$E$33=""),"",IF(Overview!$D$33+24>Overview!$E$33,"",Overview!$D$33+24)) -> 46290 | D36: =IF(OR($C36="",D$11=""),"",IFERROR(SUMIFS(INDIRECT("'"&D$11&"'!$F$14:$F$10013"),INDIRECT("'"&D$11&"'!$C$14:$C$10013"),$C36),"")) -> 0 | E36: =IF(OR($C36="",E$11=""),"",IFERROR(SUMIFS(INDIRECT("'"&E$11&"'!$F$14:$F$10013"),INDIRECT("'"&E$11&"'!$C$14:$C$10013"),$C36),"")) -> 0 | F36: =IF(OR($C36="",F$11=""),"",IFERROR(SUMIFS(INDIRECT("'"&F$11&"'!$F$14:$F$10013"),INDIRECT("'"&F$11&"'!$C$14:$C$10013"),$C36),"")) -> 0 | G36: =IF(OR($C36="",G$11=""),"",IFERROR(SUMIFS(INDIRECT("'"&G$11&"'!$F$14:$F$10013"),INDIRECT("'"&G$11&"'!$C$14:$C$10013"),$C36),"")) -> 0 | H36: =IF(OR($C36="",H$11=""),"",IFERROR(SUMIFS(INDIRECT("'"&H$11&"'!$F$14:$F$10013"),INDIRECT("'"&H$11&"'!$C$14:$C$10013"),$C36),"")) -> 0 | I36: =IF(OR($C36="",I$11=""),"",IFERROR(SUMIFS(INDIRECT("'"&I$11&"'!$F$14:$F$10013"),INDIRECT("'"&I$11&"'!$C$14:$C$10013"),$C36),"")) -> 0 | J36: =IF(OR($C36="",J$11=""),"",IFERROR(SUMIFS(INDIRECT("'"&J$11&"'!$F$14:$F$10013"),INDIRECT("'"&J$11&"'!$C$14:$C$10013"),$C36),"")) -> 0 | K36: =IF(OR($C36="",K$11=""),"",IFERROR(SUMIFS(INDIRECT("'"&K$11&"'!$F$14:$F$10013"),INDIRECT("'"&K$11&"'!$C$14:$C$10013"),$C36),"")) -> 0 | ... R36: =IF(OR($C36="",R$11=""),"",IFERROR(SUMIFS(INDIRECT("'"&R$11&"'!$F$14:$F$10013"),INDIRECT("'"&R$11&"'!$C$14:$C$10013"),$C36),"")) | S36: =IF($C36="","",SUM(D36:R36)) -> 0 | T36: =IF($C36="","",SUMIFS(Overview!$G$18:$G$32,Overview!$D$18:$D$32,"<="&$C36,Overview!$E$18:$E$32,">="&$C36)) -> 7000 | U36: =IF(OR($C36="",Overview!$I$33=""),"",IF($C36>Overview!$I$33,"",SUM($S$12:S36))) | V36: =IF($C36="","",SUM($T$12:T36)) -> 175000 | W36: =IF(OR(U36="",V36="",V36=0),"",U36/V36)
C37: =IF(OR(Overview!$D$33="",Overview!$E$33=""),"",IF(Overview!$D$33+25>Overview!$E$33,"",Overview!$D$33+25)) -> 46291 | D37: =IF(OR($C37="",D$11=""),"",IFERROR(SUMIFS(INDIRECT("'"&D$11&"'!$F$14:$F$10013"),INDIRECT("'"&D$11&"'!$C$14:$C$10013"),$C37),"")) -> 0 | E37: =IF(OR($C37="",E$11=""),"",IFERROR(SUMIFS(INDIRECT("'"&E$11&"'!$F$14:$F$10013"),INDIRECT("'"&E$11&"'!$C$14:$C$10013"),$C37),"")) -> 0 | F37: =IF(OR($C37="",F$11=""),"",IFERROR(SUMIFS(INDIRECT("'"&F$11&"'!$F$14:$F$10013"),INDIRECT("'"&F$11&"'!$C$14:$C$10013"),$C37),"")) -> 0 | G37: =IF(OR($C37="",G$11=""),"",IFERROR(SUMIFS(INDIRECT("'"&G$11&"'!$F$14:$F$10013"),INDIRECT("'"&G$11&"'!$C$14:$C$10013"),$C37),"")) -> 0 | H37: =IF(OR($C37="",H$11=""),"",IFERROR(SUMIFS(INDIRECT("'"&H$11&"'!$F$14:$F$10013"),INDIRECT("'"&H$11&"'!$C$14:$C$10013"),$C37),"")) -> 0 | I37: =IF(OR($C37="",I$11=""),"",IFERROR(SUMIFS(INDIRECT("'"&I$11&"'!$F$14:$F$10013"),INDIRECT("'"&I$11&"'!$C$14:$C$10013"),$C37),"")) -> 0 | J37: =IF(OR($C37="",J$11=""),"",IFERROR(SUMIFS(INDIRECT("'"&J$11&"'!$F$14:$F$10013"),INDIRECT("'"&J$11&"'!$C$14:$C$10013"),$C37),"")) -> 0 | K37: =IF(OR($C37="",K$11=""),"",IFERROR(SUMIFS(INDIRECT("'"&K$11&"'!$F$14:$F$10013"),INDIRECT("'"&K$11&"'!$C$14:$C$10013"),$C37),"")) -> 0 | ... R37: =IF(OR($C37="",R$11=""),"",IFERROR(SUMIFS(INDIRECT("'"&R$11&"'!$F$14:$F$10013"),INDIRECT("'"&R$11&"'!$C$14:$C$10013"),$C37),"")) | S37: =IF($C37="","",SUM(D37:R37)) -> 0 | T37: =IF($C37="","",SUMIFS(Overview!$G$18:$G$32,Overview!$D$18:$D$32,"<="&$C37,Overview!$E$18:$E$32,">="&$C37)) -> 7000 | U37: =IF(OR($C37="",Overview!$I$33=""),"",IF($C37>Overview!$I$33,"",SUM($S$12:S37))) | V37: =IF($C37="","",SUM($T$12:T37)) -> 182000 | W37: =IF(OR(U37="",V37="",V37=0),"",U37/V37)
C38: =IF(OR(Overview!$D$33="",Overview!$E$33=""),"",IF(Overview!$D$33+26>Overview!$E$33,"",Overview!$D$33+26)) -> 46292 | D38: =IF(OR($C38="",D$11=""),"",IFERROR(SUMIFS(INDIRECT("'"&D$11&"'!$F$14:$F$10013"),INDIRECT("'"&D$11&"'!$C$14:$C$10013"),$C38),"")) -> 0 | E38: =IF(OR($C38="",E$11=""),"",IFERROR(SUMIFS(INDIRECT("'"&E$11&"'!$F$14:$F$10013"),INDIRECT("'"&E$11&"'!$C$14:$C$10013"),$C38),"")) -> 0 | F38: =IF(OR($C38="",F$11=""),"",IFERROR(SUMIFS(INDIRECT("'"&F$11&"'!$F$14:$F$10013"),INDIRECT("'"&F$11&"'!$C$14:$C$10013"),$C38),"")) -> 0 | G38: =IF(OR($C38="",G$11=""),"",IFERROR(SUMIFS(INDIRECT("'"&G$11&"'!$F$14:$F$10013"),INDIRECT("'"&G$11&"'!$C$14:$C$10013"),$C38),"")) -> 0 | H38: =IF(OR($C38="",H$11=""),"",IFERROR(SUMIFS(INDIRECT("'"&H$11&"'!$F$14:$F$10013"),INDIRECT("'"&H$11&"'!$C$14:$C$10013"),$C38),"")) -> 0 | I38: =IF(OR($C38="",I$11=""),"",IFERROR(SUMIFS(INDIRECT("'"&I$11&"'!$F$14:$F$10013"),INDIRECT("'"&I$11&"'!$C$14:$C$10013"),$C38),"")) -> 0 | J38: =IF(OR($C38="",J$11=""),"",IFERROR(SUMIFS(INDIRECT("'"&J$11&"'!$F$14:$F$10013"),INDIRECT("'"&J$11&"'!$C$14:$C$10013"),$C38),"")) -> 0 | K38: =IF(OR($C38="",K$11=""),"",IFERROR(SUMIFS(INDIRECT("'"&K$11&"'!$F$14:$F$10013"),INDIRECT("'"&K$11&"'!$C$14:$C$10013"),$C38),"")) -> 0 | ... R38: =IF(OR($C38="",R$11=""),"",IFERROR(SUMIFS(INDIRECT("'"&R$11&"'!$F$14:$F$10013"),INDIRECT("'"&R$11&"'!$C$14:$C$10013"),$C38),"")) | S38: =IF($C38="","",SUM(D38:R38)) -> 0 | T38: =IF($C38="","",SUMIFS(Overview!$G$18:$G$32,Overview!$D$18:$D$32,"<="&$C38,Overview!$E$18:$E$32,">="&$C38)) -> 7000 | U38: =IF(OR($C38="",Overview!$I$33=""),"",IF($C38>Overview!$I$33,"",SUM($S$12:S38))) | V38: =IF($C38="","",SUM($T$12:T38)) -> 189000 | W38: =IF(OR(U38="",V38="",V38=0),"",U38/V38)
C39: =IF(OR(Overview!$D$33="",Overview!$E$33=""),"",IF(Overview!$D$33+27>Overview!$E$33,"",Overview!$D$33+27)) -> 46293 | D39: =IF(OR($C39="",D$11=""),"",IFERROR(SUMIFS(INDIRECT("'"&D$11&"'!$F$14:$F$10013"),INDIRECT("'"&D$11&"'!$C$14:$C$10013"),$C39),"")) -> 0 | E39: =IF(OR($C39="",E$11=""),"",IFERROR(SUMIFS(INDIRECT("'"&E$11&"'!$F$14:$F$10013"),INDIRECT("'"&E$11&"'!$C$14:$C$10013"),$C39),"")) -> 0 | F39: =IF(OR($C39="",F$11=""),"",IFERROR(SUMIFS(INDIRECT("'"&F$11&"'!$F$14:$F$10013"),INDIRECT("'"&F$11&"'!$C$14:$C$10013"),$C39),"")) -> 0 | G39: =IF(OR($C39="",G$11=""),"",IFERROR(SUMIFS(INDIRECT("'"&G$11&"'!$F$14:$F$10013"),INDIRECT("'"&G$11&"'!$C$14:$C$10013"),$C39),"")) -> 0 | H39: =IF(OR($C39="",H$11=""),"",IFERROR(SUMIFS(INDIRECT("'"&H$11&"'!$F$14:$F$10013"),INDIRECT("'"&H$11&"'!$C$14:$C$10013"),$C39),"")) -> 0 | I39: =IF(OR($C39="",I$11=""),"",IFERROR(SUMIFS(INDIRECT("'"&I$11&"'!$F$14:$F$10013"),INDIRECT("'"&I$11&"'!$C$14:$C$10013"),$C39),"")) -> 0 | J39: =IF(OR($C39="",J$11=""),"",IFERROR(SUMIFS(INDIRECT("'"&J$11&"'!$F$14:$F$10013"),INDIRECT("'"&J$11&"'!$C$14:$C$10013"),$C39),"")) -> 0 | K39: =IF(OR($C39="",K$11=""),"",IFERROR(SUMIFS(INDIRECT("'"&K$11&"'!$F$14:$F$10013"),INDIRECT("'"&K$11&"'!$C$14:$C$10013"),$C39),"")) -> 0 | ... R39: =IF(OR($C39="",R$11=""),"",IFERROR(SUMIFS(INDIRECT("'"&R$11&"'!$F$14:$F$10013"),INDIRECT("'"&R$11&"'!$C$14:$C$10013"),$C39),"")) | S39: =IF($C39="","",SUM(D39:R39)) -> 0 | T39: =IF($C39="","",SUMIFS(Overview!$G$18:$G$32,Overview!$D$18:$D$32,"<="&$C39,Overview!$E$18:$E$32,">="&$C39)) -> 7000 | U39: =IF(OR($C39="",Overview!$I$33=""),"",IF($C39>Overview!$I$33,"",SUM($S$12:S39))) | V39: =IF($C39="","",SUM($T$12:T39)) -> 196000 | W39: =IF(OR(U39="",V39="",V39=0),"",U39/V39)
C40: =IF(OR(Overview!$D$33="",Overview!$E$33=""),"",IF(Overview!$D$33+28>Overview!$E$33,"",Overview!$D$33+28)) -> 46294 | D40: =IF(OR($C40="",D$11=""),"",IFERROR(SUMIFS(INDIRECT("'"&D$11&"'!$F$14:$F$10013"),INDIRECT("'"&D$11&"'!$C$14:$C$10013"),$C40),"")) -> 0 | E40: =IF(OR($C40="",E$11=""),"",IFERROR(SUMIFS(INDIRECT("'"&E$11&"'!$F$14:$F$10013"),INDIRECT("'"&E$11&"'!$C$14:$C$10013"),$C40),"")) -> 0 | F40: =IF(OR($C40="",F$11=""),"",IFERROR(SUMIFS(INDIRECT("'"&F$11&"'!$F$14:$F$10013"),INDIRECT("'"&F$11&"'!$C$14:$C$10013"),$C40),"")) -> 0 | G40: =IF(OR($C40="",G$11=""),"",IFERROR(SUMIFS(INDIRECT("'"&G$11&"'!$F$14:$F$10013"),INDIRECT("'"&G$11&"'!$C$14:$C$10013"),$C40),"")) -> 0 | H40: =IF(OR($C40="",H$11=""),"",IFERROR(SUMIFS(INDIRECT("'"&H$11&"'!$F$14:$F$10013"),INDIRECT("'"&H$11&"'!$C$14:$C$10013"),$C40),"")) -> 0 | I40: =IF(OR($C40="",I$11=""),"",IFERROR(SUMIFS(INDIRECT("'"&I$11&"'!$F$14:$F$10013"),INDIRECT("'"&I$11&"'!$C$14:$C$10013"),$C40),"")) -> 0 | J40: =IF(OR($C40="",J$11=""),"",IFERROR(SUMIFS(INDIRECT("'"&J$11&"'!$F$14:$F$10013"),INDIRECT("'"&J$11&"'!$C$14:$C$10013"),$C40),"")) -> 0 | K40: =IF(OR($C40="",K$11=""),"",IFERROR(SUMIFS(INDIRECT("'"&K$11&"'!$F$14:$F$10013"),INDIRECT("'"&K$11&"'!$C$14:$C$10013"),$C40),"")) -> 0 | ... R40: =IF(OR($C40="",R$11=""),"",IFERROR(SUMIFS(INDIRECT("'"&R$11&"'!$F$14:$F$10013"),INDIRECT("'"&R$11&"'!$C$14:$C$10013"),$C40),"")) | S40: =IF($C40="","",SUM(D40:R40)) -> 0 | T40: =IF($C40="","",SUMIFS(Overview!$G$18:$G$32,Overview!$D$18:$D$32,"<="&$C40,Overview!$E$18:$E$32,">="&$C40)) -> 7000 | U40: =IF(OR($C40="",Overview!$I$33=""),"",IF($C40>Overview!$I$33,"",SUM($S$12:S40))) | V40: =IF($C40="","",SUM($T$12:T40)) -> 203000 | W40: =IF(OR(U40="",V40="",V40=0),"",U40/V40)
C41: =IF(OR(Overview!$D$33="",Overview!$E$33=""),"",IF(Overview!$D$33+29>Overview!$E$33,"",Overview!$D$33+29)) -> 46295 | D41: =IF(OR($C41="",D$11=""),"",IFERROR(SUMIFS(INDIRECT("'"&D$11&"'!$F$14:$F$10013"),INDIRECT("'"&D$11&"'!$C$14:$C$10013"),$C41),"")) -> 0 | E41: =IF(OR($C41="",E$11=""),"",IFERROR(SUMIFS(INDIRECT("'"&E$11&"'!$F$14:$F$10013"),INDIRECT("'"&E$11&"'!$C$14:$C$10013"),$C41),"")) -> 0 | F41: =IF(OR($C41="",F$11=""),"",IFERROR(SUMIFS(INDIRECT("'"&F$11&"'!$F$14:$F$10013"),INDIRECT("'"&F$11&"'!$C$14:$C$10013"),$C41),"")) -> 0 | G41: =IF(OR($C41="",G$11=""),"",IFERROR(SUMIFS(INDIRECT("'"&G$11&"'!$F$14:$F$10013"),INDIRECT("'"&G$11&"'!$C$14:$C$10013"),$C41),"")) -> 0 | H41: =IF(OR($C41="",H$11=""),"",IFERROR(SUMIFS(INDIRECT("'"&H$11&"'!$F$14:$F$10013"),INDIRECT("'"&H$11&"'!$C$14:$C$10013"),$C41),"")) -> 0 | I41: =IF(OR($C41="",I$11=""),"",IFERROR(SUMIFS(INDIRECT("'"&I$11&"'!$F$14:$F$10013"),INDIRECT("'"&I$11&"'!$C$14:$C$10013"),$C41),"")) -> 0 | J41: =IF(OR($C41="",J$11=""),"",IFERROR(SUMIFS(INDIRECT("'"&J$11&"'!$F$14:$F$10013"),INDIRECT("'"&J$11&"'!$C$14:$C$10013"),$C41),"")) -> 0 | K41: =IF(OR($C41="",K$11=""),"",IFERROR(SUMIFS(INDIRECT("'"&K$11&"'!$F$14:$F$10013"),INDIRECT("'"&K$11&"'!$C$14:$C$10013"),$C41),"")) -> 0 | ... R41: =IF(OR($C41="",R$11=""),"",IFERROR(SUMIFS(INDIRECT("'"&R$11&"'!$F$14:$F$10013"),INDIRECT("'"&R$11&"'!$C$14:$C$10013"),$C41),"")) | S41: =IF($C41="","",SUM(D41:R41)) -> 0 | T41: =IF($C41="","",SUMIFS(Overview!$G$18:$G$32,Overview!$D$18:$D$32,"<="&$C41,Overview!$E$18:$E$32,">="&$C41)) -> 7000 | U41: =IF(OR($C41="",Overview!$I$33=""),"",IF($C41>Overview!$I$33,"",SUM($S$12:S41))) | V41: =IF($C41="","",SUM($T$12:T41)) -> 210000 | W41: =IF(OR(U41="",V41="",V41=0),"",U41/V41)
C42: =IF(OR(Overview!$D$33="",Overview!$E$33=""),"",IF(Overview!$D$33+30>Overview!$E$33,"",Overview!$D$33+30)) | D42: =IF(OR($C42="",D$11=""),"",IFERROR(SUMIFS(INDIRECT("'"&D$11&"'!$F$14:$F$10013"),INDIRECT("'"&D$11&"'!$C$14:$C$10013"),$C42),"")) | E42: =IF(OR($C42="",E$11=""),"",IFERROR(SUMIFS(INDIRECT("'"&E$11&"'!$F$14:$F$10013"),INDIRECT("'"&E$11&"'!$C$14:$C$10013"),$C42),"")) | F42: =IF(OR($C42="",F$11=""),"",IFERROR(SUMIFS(INDIRECT("'"&F$11&"'!$F$14:$F$10013"),INDIRECT("'"&F$11&"'!$C$14:$C$10013"),$C42),"")) | G42: =IF(OR($C42="",G$11=""),"",IFERROR(SUMIFS(INDIRECT("'"&G$11&"'!$F$14:$F$10013"),INDIRECT("'"&G$11&"'!$C$14:$C$10013"),$C42),"")) | H42: =IF(OR($C42="",H$11=""),"",IFERROR(SUMIFS(INDIRECT("'"&H$11&"'!$F$14:$F$10013"),INDIRECT("'"&H$11&"'!$C$14:$C$10013"),$C42),"")) | I42: =IF(OR($C42="",I$11=""),"",IFERROR(SUMIFS(INDIRECT("'"&I$11&"'!$F$14:$F$10013"),INDIRECT("'"&I$11&"'!$C$14:$C$10013"),$C42),"")) | J42: =IF(OR($C42="",J$11=""),"",IFERROR(SUMIFS(INDIRECT("'"&J$11&"'!$F$14:$F$10013"),INDIRECT("'"&J$11&"'!$C$14:$C$10013"),$C42),"")) | K42: =IF(OR($C42="",K$11=""),"",IFERROR(SUMIFS(INDIRECT("'"&K$11&"'!$F$14:$F$10013"),INDIRECT("'"&K$11&"'!$C$14:$C$10013"),$C42),"")) | ... R42: =IF(OR($C42="",R$11=""),"",IFERROR(SUMIFS(INDIRECT("'"&R$11&"'!$F$14:$F$10013"),INDIRECT("'"&R$11&"'!$C$14:$C$10013"),$C42),"")) | S42: =IF($C42="","",SUM(D42:R42)) | T42: =IF($C42="","",SUMIFS(Overview!$G$18:$G$32,Overview!$D$18:$D$32,"<="&$C42,Overview!$E$18:$E$32,">="&$C42)) | U42: =IF(OR($C42="",Overview!$I$33=""),"",IF($C42>Overview!$I$33,"",SUM($S$12:S42))) | V42: =IF($C42="","",SUM($T$12:T42)) | W42: =IF(OR(U42="",V42="",V42=0),"",U42/V42)
C43: =IF(OR(Overview!$D$33="",Overview!$E$33=""),"",IF(Overview!$D$33+31>Overview!$E$33,"",Overview!$D$33+31)) | D43: =IF(OR($C43="",D$11=""),"",IFERROR(SUMIFS(INDIRECT("'"&D$11&"'!$F$14:$F$10013"),INDIRECT("'"&D$11&"'!$C$14:$C$10013"),$C43),"")) | E43: =IF(OR($C43="",E$11=""),"",IFERROR(SUMIFS(INDIRECT("'"&E$11&"'!$F$14:$F$10013"),INDIRECT("'"&E$11&"'!$C$14:$C$10013"),$C43),"")) | F43: =IF(OR($C43="",F$11=""),"",IFERROR(SUMIFS(INDIRECT("'"&F$11&"'!$F$14:$F$10013"),INDIRECT("'"&F$11&"'!$C$14:$C$10013"),$C43),"")) | G43: =IF(OR($C43="",G$11=""),"",IFERROR(SUMIFS(INDIRECT("'"&G$11&"'!$F$14:$F$10013"),INDIRECT("'"&G$11&"'!$C$14:$C$10013"),$C43),"")) | H43: =IF(OR($C43="",H$11=""),"",IFERROR(SUMIFS(INDIRECT("'"&H$11&"'!$F$14:$F$10013"),INDIRECT("'"&H$11&"'!$C$14:$C$10013"),$C43),"")) | I43: =IF(OR($C43="",I$11=""),"",IFERROR(SUMIFS(INDIRECT("'"&I$11&"'!$F$14:$F$10013"),INDIRECT("'"&I$11&"'!$C$14:$C$10013"),$C43),"")) | J43: =IF(OR($C43="",J$11=""),"",IFERROR(SUMIFS(INDIRECT("'"&J$11&"'!$F$14:$F$10013"),INDIRECT("'"&J$11&"'!$C$14:$C$10013"),$C43),"")) | K43: =IF(OR($C43="",K$11=""),"",IFERROR(SUMIFS(INDIRECT("'"&K$11&"'!$F$14:$F$10013"),INDIRECT("'"&K$11&"'!$C$14:$C$10013"),$C43),"")) | ... R43: =IF(OR($C43="",R$11=""),"",IFERROR(SUMIFS(INDIRECT("'"&R$11&"'!$F$14:$F$10013"),INDIRECT("'"&R$11&"'!$C$14:$C$10013"),$C43),"")) | S43: =IF($C43="","",SUM(D43:R43)) | T43: =IF($C43="","",SUMIFS(Overview!$G$18:$G$32,Overview!$D$18:$D$32,"<="&$C43,Overview!$E$18:$E$32,">="&$C43)) | U43: =IF(OR($C43="",Overview!$I$33=""),"",IF($C43>Overview!$I$33,"",SUM($S$12:S43))) | V43: =IF($C43="","",SUM($T$12:T43)) | W43: =IF(OR(U43="",V43="",V43=0),"",U43/V43)
C44: =IF(OR(Overview!$D$33="",Overview!$E$33=""),"",IF(Overview!$D$33+32>Overview!$E$33,"",Overview!$D$33+32)) | D44: =IF(OR($C44="",D$11=""),"",IFERROR(SUMIFS(INDIRECT("'"&D$11&"'!$F$14:$F$10013"),INDIRECT("'"&D$11&"'!$C$14:$C$10013"),$C44),"")) | E44: =IF(OR($C44="",E$11=""),"",IFERROR(SUMIFS(INDIRECT("'"&E$11&"'!$F$14:$F$10013"),INDIRECT("'"&E$11&"'!$C$14:$C$10013"),$C44),"")) | F44: =IF(OR($C44="",F$11=""),"",IFERROR(SUMIFS(INDIRECT("'"&F$11&"'!$F$14:$F$10013"),INDIRECT("'"&F$11&"'!$C$14:$C$10013"),$C44),"")) | G44: =IF(OR($C44="",G$11=""),"",IFERROR(SUMIFS(INDIRECT("'"&G$11&"'!$F$14:$F$10013"),INDIRECT("'"&G$11&"'!$C$14:$C$10013"),$C44),"")) | H44: =IF(OR($C44="",H$11=""),"",IFERROR(SUMIFS(INDIRECT("'"&H$11&"'!$F$14:$F$10013"),INDIRECT("'"&H$11&"'!$C$14:$C$10013"),$C44),"")) | I44: =IF(OR($C44="",I$11=""),"",IFERROR(SUMIFS(INDIRECT("'"&I$11&"'!$F$14:$F$10013"),INDIRECT("'"&I$11&"'!$C$14:$C$10013"),$C44),"")) | J44: =IF(OR($C44="",J$11=""),"",IFERROR(SUMIFS(INDIRECT("'"&J$11&"'!$F$14:$F$10013"),INDIRECT("'"&J$11&"'!$C$14:$C$10013"),$C44),"")) | K44: =IF(OR($C44="",K$11=""),"",IFERROR(SUMIFS(INDIRECT("'"&K$11&"'!$F$14:$F$10013"),INDIRECT("'"&K$11&"'!$C$14:$C$10013"),$C44),"")) | ... R44: =IF(OR($C44="",R$11=""),"",IFERROR(SUMIFS(INDIRECT("'"&R$11&"'!$F$14:$F$10013"),INDIRECT("'"&R$11&"'!$C$14:$C$10013"),$C44),"")) | S44: =IF($C44="","",SUM(D44:R44)) | T44: =IF($C44="","",SUMIFS(Overview!$G$18:$G$32,Overview!$D$18:$D$32,"<="&$C44,Overview!$E$18:$E$32,">="&$C44)) | U44: =IF(OR($C44="",Overview!$I$33=""),"",IF($C44>Overview!$I$33,"",SUM($S$12:S44))) | V44: =IF($C44="","",SUM($T$12:T44)) | W44: =IF(OR(U44="",V44="",V44=0),"",U44/V44)
C45: =IF(OR(Overview!$D$33="",Overview!$E$33=""),"",IF(Overview!$D$33+33>Overview!$E$33,"",Overview!$D$33+33)) | D45: =IF(OR($C45="",D$11=""),"",IFERROR(SUMIFS(INDIRECT("'"&D$11&"'!$F$14:$F$10013"),INDIRECT("'"&D$11&"'!$C$14:$C$10013"),$C45),"")) | E45: =IF(OR($C45="",E$11=""),"",IFERROR(SUMIFS(INDIRECT("'"&E$11&"'!$F$14:$F$10013"),INDIRECT("'"&E$11&"'!$C$14:$C$10013"),$C45),"")) | F45: =IF(OR($C45="",F$11=""),"",IFERROR(SUMIFS(INDIRECT("'"&F$11&"'!$F$14:$F$10013"),INDIRECT("'"&F$11&"'!$C$14:$C$10013"),$C45),"")) | G45: =IF(OR($C45="",G$11=""),"",IFERROR(SUMIFS(INDIRECT("'"&G$11&"'!$F$14:$F$10013"),INDIRECT("'"&G$11&"'!$C$14:$C$10013"),$C45),"")) | H45: =IF(OR($C45="",H$11=""),"",IFERROR(SUMIFS(INDIRECT("'"&H$11&"'!$F$14:$F$10013"),INDIRECT("'"&H$11&"'!$C$14:$C$10013"),$C45),"")) | I45: =IF(OR($C45="",I$11=""),"",IFERROR(SUMIFS(INDIRECT("'"&I$11&"'!$F$14:$F$10013"),INDIRECT("'"&I$11&"'!$C$14:$C$10013"),$C45),"")) | J45: =IF(OR($C45="",J$11=""),"",IFERROR(SUMIFS(INDIRECT("'"&J$11&"'!$F$14:$F$10013"),INDIRECT("'"&J$11&"'!$C$14:$C$10013"),$C45),"")) | K45: =IF(OR($C45="",K$11=""),"",IFERROR(SUMIFS(INDIRECT("'"&K$11&"'!$F$14:$F$10013"),INDIRECT("'"&K$11&"'!$C$14:$C$10013"),$C45),"")) | ... R45: =IF(OR($C45="",R$11=""),"",IFERROR(SUMIFS(INDIRECT("'"&R$11&"'!$F$14:$F$10013"),INDIRECT("'"&R$11&"'!$C$14:$C$10013"),$C45),"")) | S45: =IF($C45="","",SUM(D45:R45)) | T45: =IF($C45="","",SUMIFS(Overview!$G$18:$G$32,Overview!$D$18:$D$32,"<="&$C45,Overview!$E$18:$E$32,">="&$C45)) | U45: =IF(OR($C45="",Overview!$I$33=""),"",IF($C45>Overview!$I$33,"",SUM($S$12:S45))) | V45: =IF($C45="","",SUM($T$12:T45)) | W45: =IF(OR(U45="",V45="",V45=0),"",U45/V45)
C46: =IF(OR(Overview!$D$33="",Overview!$E$33=""),"",IF(Overview!$D$33+34>Overview!$E$33,"",Overview!$D$33+34)) | D46: =IF(OR($C46="",D$11=""),"",IFERROR(SUMIFS(INDIRECT("'"&D$11&"'!$F$14:$F$10013"),INDIRECT("'"&D$11&"'!$C$14:$C$10013"),$C46),"")) | E46: =IF(OR($C46="",E$11=""),"",IFERROR(SUMIFS(INDIRECT("'"&E$11&"'!$F$14:$F$10013"),INDIRECT("'"&E$11&"'!$C$14:$C$10013"),$C46),"")) | F46: =IF(OR($C46="",F$11=""),"",IFERROR(SUMIFS(INDIRECT("'"&F$11&"'!$F$14:$F$10013"),INDIRECT("'"&F$11&"'!$C$14:$C$10013"),$C46),"")) | G46: =IF(OR($C46="",G$11=""),"",IFERROR(SUMIFS(INDIRECT("'"&G$11&"'!$F$14:$F$10013"),INDIRECT("'"&G$11&"'!$C$14:$C$10013"),$C46),"")) | H46: =IF(OR($C46="",H$11=""),"",IFERROR(SUMIFS(INDIRECT("'"&H$11&"'!$F$14:$F$10013"),INDIRECT("'"&H$11&"'!$C$14:$C$10013"),$C46),"")) | I46: =IF(OR($C46="",I$11=""),"",IFERROR(SUMIFS(INDIRECT("'"&I$11&"'!$F$14:$F$10013"),INDIRECT("'"&I$11&"'!$C$14:$C$10013"),$C46),"")) | J46: =IF(OR($C46="",J$11=""),"",IFERROR(SUMIFS(INDIRECT("'"&J$11&"'!$F$14:$F$10013"),INDIRECT("'"&J$11&"'!$C$14:$C$10013"),$C46),"")) | K46: =IF(OR($C46="",K$11=""),"",IFERROR(SUMIFS(INDIRECT("'"&K$11&"'!$F$14:$F$10013"),INDIRECT("'"&K$11&"'!$C$14:$C$10013"),$C46),"")) | ... R46: =IF(OR($C46="",R$11=""),"",IFERROR(SUMIFS(INDIRECT("'"&R$11&"'!$F$14:$F$10013"),INDIRECT("'"&R$11&"'!$C$14:$C$10013"),$C46),"")) | S46: =IF($C46="","",SUM(D46:R46)) | T46: =IF($C46="","",SUMIFS(Overview!$G$18:$G$32,Overview!$D$18:$D$32,"<="&$C46,Overview!$E$18:$E$32,">="&$C46)) | U46: =IF(OR($C46="",Overview!$I$33=""),"",IF($C46>Overview!$I$33,"",SUM($S$12:S46))) | V46: =IF($C46="","",SUM($T$12:T46)) | W46: =IF(OR(U46="",V46="",V46=0),"",U46/V46)
C47: =IF(OR(Overview!$D$33="",Overview!$E$33=""),"",IF(Overview!$D$33+35>Overview!$E$33,"",Overview!$D$33+35)) | D47: =IF(OR($C47="",D$11=""),"",IFERROR(SUMIFS(INDIRECT("'"&D$11&"'!$F$14:$F$10013"),INDIRECT("'"&D$11&"'!$C$14:$C$10013"),$C47),"")) | E47: =IF(OR($C47="",E$11=""),"",IFERROR(SUMIFS(INDIRECT("'"&E$11&"'!$F$14:$F$10013"),INDIRECT("'"&E$11&"'!$C$14:$C$10013"),$C47),"")) | F47: =IF(OR($C47="",F$11=""),"",IFERROR(SUMIFS(INDIRECT("'"&F$11&"'!$F$14:$F$10013"),INDIRECT("'"&F$11&"'!$C$14:$C$10013"),$C47),"")) | G47: =IF(OR($C47="",G$11=""),"",IFERROR(SUMIFS(INDIRECT("'"&G$11&"'!$F$14:$F$10013"),INDIRECT("'"&G$11&"'!$C$14:$C$10013"),$C47),"")) | H47: =IF(OR($C47="",H$11=""),"",IFERROR(SUMIFS(INDIRECT("'"&H$11&"'!$F$14:$F$10013"),INDIRECT("'"&H$11&"'!$C$14:$C$10013"),$C47),"")) | I47: =IF(OR($C47="",I$11=""),"",IFERROR(SUMIFS(INDIRECT("'"&I$11&"'!$F$14:$F$10013"),INDIRECT("'"&I$11&"'!$C$14:$C$10013"),$C47),"")) | J47: =IF(OR($C47="",J$11=""),"",IFERROR(SUMIFS(INDIRECT("'"&J$11&"'!$F$14:$F$10013"),INDIRECT("'"&J$11&"'!$C$14:$C$10013"),$C47),"")) | K47: =IF(OR($C47="",K$11=""),"",IFERROR(SUMIFS(INDIRECT("'"&K$11&"'!$F$14:$F$10013"),INDIRECT("'"&K$11&"'!$C$14:$C$10013"),$C47),"")) | ... R47: =IF(OR($C47="",R$11=""),"",IFERROR(SUMIFS(INDIRECT("'"&R$11&"'!$F$14:$F$10013"),INDIRECT("'"&R$11&"'!$C$14:$C$10013"),$C47),"")) | S47: =IF($C47="","",SUM(D47:R47)) | T47: =IF($C47="","",SUMIFS(Overview!$G$18:$G$32,Overview!$D$18:$D$32,"<="&$C47,Overview!$E$18:$E$32,">="&$C47)) | U47: =IF(OR($C47="",Overview!$I$33=""),"",IF($C47>Overview!$I$33,"",SUM($S$12:S47))) | V47: =IF($C47="","",SUM($T$12:T47)) | W47: =IF(OR(U47="",V47="",V47=0),"",U47/V47)
C48: =IF(OR(Overview!$D$33="",Overview!$E$33=""),"",IF(Overview!$D$33+36>Overview!$E$33,"",Overview!$D$33+36)) | D48: =IF(OR($C48="",D$11=""),"",IFERROR(SUMIFS(INDIRECT("'"&D$11&"'!$F$14:$F$10013"),INDIRECT("'"&D$11&"'!$C$14:$C$10013"),$C48),"")) | E48: =IF(OR($C48="",E$11=""),"",IFERROR(SUMIFS(INDIRECT("'"&E$11&"'!$F$14:$F$10013"),INDIRECT("'"&E$11&"'!$C$14:$C$10013"),$C48),"")) | F48: =IF(OR($C48="",F$11=""),"",IFERROR(SUMIFS(INDIRECT("'"&F$11&"'!$F$14:$F$10013"),INDIRECT("'"&F$11&"'!$C$14:$C$10013"),$C48),"")) | G48: =IF(OR($C48="",G$11=""),"",IFERROR(SUMIFS(INDIRECT("'"&G$11&"'!$F$14:$F$10013"),INDIRECT("'"&G$11&"'!$C$14:$C$10013"),$C48),"")) | H48: =IF(OR($C48="",H$11=""),"",IFERROR(SUMIFS(INDIRECT("'"&H$11&"'!$F$14:$F$10013"),INDIRECT("'"&H$11&"'!$C$14:$C$10013"),$C48),"")) | I48: =IF(OR($C48="",I$11=""),"",IFERROR(SUMIFS(INDIRECT("'"&I$11&"'!$F$14:$F$10013"),INDIRECT("'"&I$11&"'!$C$14:$C$10013"),$C48),"")) | J48: =IF(OR($C48="",J$11=""),"",IFERROR(SUMIFS(INDIRECT("'"&J$11&"'!$F$14:$F$10013"),INDIRECT("'"&J$11&"'!$C$14:$C$10013"),$C48),"")) | K48: =IF(OR($C48="",K$11=""),"",IFERROR(SUMIFS(INDIRECT("'"&K$11&"'!$F$14:$F$10013"),INDIRECT("'"&K$11&"'!$C$14:$C$10013"),$C48),"")) | ... R48: =IF(OR($C48="",R$11=""),"",IFERROR(SUMIFS(INDIRECT("'"&R$11&"'!$F$14:$F$10013"),INDIRECT("'"&R$11&"'!$C$14:$C$10013"),$C48),"")) | S48: =IF($C48="","",SUM(D48:R48)) | T48: =IF($C48="","",SUMIFS(Overview!$G$18:$G$32,Overview!$D$18:$D$32,"<="&$C48,Overview!$E$18:$E$32,">="&$C48)) | U48: =IF(OR($C48="",Overview!$I$33=""),"",IF($C48>Overview!$I$33,"",SUM($S$12:S48))) | V48: =IF($C48="","",SUM($T$12:T48)) | W48: =IF(OR(U48="",V48="",V48=0),"",U48/V48)
C49: =IF(OR(Overview!$D$33="",Overview!$E$33=""),"",IF(Overview!$D$33+37>Overview!$E$33,"",Overview!$D$33+37)) | D49: =IF(OR($C49="",D$11=""),"",IFERROR(SUMIFS(INDIRECT("'"&D$11&"'!$F$14:$F$10013"),INDIRECT("'"&D$11&"'!$C$14:$C$10013"),$C49),"")) | E49: =IF(OR($C49="",E$11=""),"",IFERROR(SUMIFS(INDIRECT("'"&E$11&"'!$F$14:$F$10013"),INDIRECT("'"&E$11&"'!$C$14:$C$10013"),$C49),"")) | F49: =IF(OR($C49="",F$11=""),"",IFERROR(SUMIFS(INDIRECT("'"&F$11&"'!$F$14:$F$10013"),INDIRECT("'"&F$11&"'!$C$14:$C$10013"),$C49),"")) | G49: =IF(OR($C49="",G$11=""),"",IFERROR(SUMIFS(INDIRECT("'"&G$11&"'!$F$14:$F$10013"),INDIRECT("'"&G$11&"'!$C$14:$C$10013"),$C49),"")) | H49: =IF(OR($C49="",H$11=""),"",IFERROR(SUMIFS(INDIRECT("'"&H$11&"'!$F$14:$F$10013"),INDIRECT("'"&H$11&"'!$C$14:$C$10013"),$C49),"")) | I49: =IF(OR($C49="",I$11=""),"",IFERROR(SUMIFS(INDIRECT("'"&I$11&"'!$F$14:$F$10013"),INDIRECT("'"&I$11&"'!$C$14:$C$10013"),$C49),"")) | J49: =IF(OR($C49="",J$11=""),"",IFERROR(SUMIFS(INDIRECT("'"&J$11&"'!$F$14:$F$10013"),INDIRECT("'"&J$11&"'!$C$14:$C$10013"),$C49),"")) | K49: =IF(OR($C49="",K$11=""),"",IFERROR(SUMIFS(INDIRECT("'"&K$11&"'!$F$14:$F$10013"),INDIRECT("'"&K$11&"'!$C$14:$C$10013"),$C49),"")) | ... R49: =IF(OR($C49="",R$11=""),"",IFERROR(SUMIFS(INDIRECT("'"&R$11&"'!$F$14:$F$10013"),INDIRECT("'"&R$11&"'!$C$14:$C$10013"),$C49),"")) | S49: =IF($C49="","",SUM(D49:R49)) | T49: =IF($C49="","",SUMIFS(Overview!$G$18:$G$32,Overview!$D$18:$D$32,"<="&$C49,Overview!$E$18:$E$32,">="&$C49)) | U49: =IF(OR($C49="",Overview!$I$33=""),"",IF($C49>Overview!$I$33,"",SUM($S$12:S49))) | V49: =IF($C49="","",SUM($T$12:T49)) | W49: =IF(OR(U49="",V49="",V49=0),"",U49/V49)
C50: =IF(OR(Overview!$D$33="",Overview!$E$33=""),"",IF(Overview!$D$33+38>Overview!$E$33,"",Overview!$D$33+38)) | D50: =IF(OR($C50="",D$11=""),"",IFERROR(SUMIFS(INDIRECT("'"&D$11&"'!$F$14:$F$10013"),INDIRECT("'"&D$11&"'!$C$14:$C$10013"),$C50),"")) | E50: =IF(OR($C50="",E$11=""),"",IFERROR(SUMIFS(INDIRECT("'"&E$11&"'!$F$14:$F$10013"),INDIRECT("'"&E$11&"'!$C$14:$C$10013"),$C50),"")) | F50: =IF(OR($C50="",F$11=""),"",IFERROR(SUMIFS(INDIRECT("'"&F$11&"'!$F$14:$F$10013"),INDIRECT("'"&F$11&"'!$C$14:$C$10013"),$C50),"")) | G50: =IF(OR($C50="",G$11=""),"",IFERROR(SUMIFS(INDIRECT("'"&G$11&"'!$F$14:$F$10013"),INDIRECT("'"&G$11&"'!$C$14:$C$10013"),$C50),"")) | H50: =IF(OR($C50="",H$11=""),"",IFERROR(SUMIFS(INDIRECT("'"&H$11&"'!$F$14:$F$10013"),INDIRECT("'"&H$11&"'!$C$14:$C$10013"),$C50),"")) | I50: =IF(OR($C50="",I$11=""),"",IFERROR(SUMIFS(INDIRECT("'"&I$11&"'!$F$14:$F$10013"),INDIRECT("'"&I$11&"'!$C$14:$C$10013"),$C50),"")) | J50: =IF(OR($C50="",J$11=""),"",IFERROR(SUMIFS(INDIRECT("'"&J$11&"'!$F$14:$F$10013"),INDIRECT("'"&J$11&"'!$C$14:$C$10013"),$C50),"")) | K50: =IF(OR($C50="",K$11=""),"",IFERROR(SUMIFS(INDIRECT("'"&K$11&"'!$F$14:$F$10013"),INDIRECT("'"&K$11&"'!$C$14:$C$10013"),$C50),"")) | ... R50: =IF(OR($C50="",R$11=""),"",IFERROR(SUMIFS(INDIRECT("'"&R$11&"'!$F$14:$F$10013"),INDIRECT("'"&R$11&"'!$C$14:$C$10013"),$C50),"")) | S50: =IF($C50="","",SUM(D50:R50)) | T50: =IF($C50="","",SUMIFS(Overview!$G$18:$G$32,Overview!$D$18:$D$32,"<="&$C50,Overview!$E$18:$E$32,">="&$C50)) | U50: =IF(OR($C50="",Overview!$I$33=""),"",IF($C50>Overview!$I$33,"",SUM($S$12:S50))) | V50: =IF($C50="","",SUM($T$12:T50)) | W50: =IF(OR(U50="",V50="",V50=0),"",U50/V50)
C51: =IF(OR(Overview!$D$33="",Overview!$E$33=""),"",IF(Overview!$D$33+39>Overview!$E$33,"",Overview!$D$33+39)) | D51: =IF(OR($C51="",D$11=""),"",IFERROR(SUMIFS(INDIRECT("'"&D$11&"'!$F$14:$F$10013"),INDIRECT("'"&D$11&"'!$C$14:$C$10013"),$C51),"")) | E51: =IF(OR($C51="",E$11=""),"",IFERROR(SUMIFS(INDIRECT("'"&E$11&"'!$F$14:$F$10013"),INDIRECT("'"&E$11&"'!$C$14:$C$10013"),$C51),"")) | F51: =IF(OR($C51="",F$11=""),"",IFERROR(SUMIFS(INDIRECT("'"&F$11&"'!$F$14:$F$10013"),INDIRECT("'"&F$11&"'!$C$14:$C$10013"),$C51),"")) | G51: =IF(OR($C51="",G$11=""),"",IFERROR(SUMIFS(INDIRECT("'"&G$11&"'!$F$14:$F$10013"),INDIRECT("'"&G$11&"'!$C$14:$C$10013"),$C51),"")) | H51: =IF(OR($C51="",H$11=""),"",IFERROR(SUMIFS(INDIRECT("'"&H$11&"'!$F$14:$F$10013"),INDIRECT("'"&H$11&"'!$C$14:$C$10013"),$C51),"")) | I51: =IF(OR($C51="",I$11=""),"",IFERROR(SUMIFS(INDIRECT("'"&I$11&"'!$F$14:$F$10013"),INDIRECT("'"&I$11&"'!$C$14:$C$10013"),$C51),"")) | J51: =IF(OR($C51="",J$11=""),"",IFERROR(SUMIFS(INDIRECT("'"&J$11&"'!$F$14:$F$10013"),INDIRECT("'"&J$11&"'!$C$14:$C$10013"),$C51),"")) | K51: =IF(OR($C51="",K$11=""),"",IFERROR(SUMIFS(INDIRECT("'"&K$11&"'!$F$14:$F$10013"),INDIRECT("'"&K$11&"'!$C$14:$C$10013"),$C51),"")) | ... R51: =IF(OR($C51="",R$11=""),"",IFERROR(SUMIFS(INDIRECT("'"&R$11&"'!$F$14:$F$10013"),INDIRECT("'"&R$11&"'!$C$14:$C$10013"),$C51),"")) | S51: =IF($C51="","",SUM(D51:R51)) | T51: =IF($C51="","",SUMIFS(Overview!$G$18:$G$32,Overview!$D$18:$D$32,"<="&$C51,Overview!$E$18:$E$32,">="&$C51)) | U51: =IF(OR($C51="",Overview!$I$33=""),"",IF($C51>Overview!$I$33,"",SUM($S$12:S51))) | V51: =IF($C51="","",SUM($T$12:T51)) | W51: =IF(OR(U51="",V51="",V51=0),"",U51/V51)
C52: =IF(OR(Overview!$D$33="",Overview!$E$33=""),"",IF(Overview!$D$33+40>Overview!$E$33,"",Overview!$D$33+40)) | D52: =IF(OR($C52="",D$11=""),"",IFERROR(SUMIFS(INDIRECT("'"&D$11&"'!$F$14:$F$10013"),INDIRECT("'"&D$11&"'!$C$14:$C$10013"),$C52),"")) | E52: =IF(OR($C52="",E$11=""),"",IFERROR(SUMIFS(INDIRECT("'"&E$11&"'!$F$14:$F$10013"),INDIRECT("'"&E$11&"'!$C$14:$C$10013"),$C52),"")) | F52: =IF(OR($C52="",F$11=""),"",IFERROR(SUMIFS(INDIRECT("'"&F$11&"'!$F$14:$F$10013"),INDIRECT("'"&F$11&"'!$C$14:$C$10013"),$C52),"")) | G52: =IF(OR($C52="",G$11=""),"",IFERROR(SUMIFS(INDIRECT("'"&G$11&"'!$F$14:$F$10013"),INDIRECT("'"&G$11&"'!$C$14:$C$10013"),$C52),"")) | H52: =IF(OR($C52="",H$11=""),"",IFERROR(SUMIFS(INDIRECT("'"&H$11&"'!$F$14:$F$10013"),INDIRECT("'"&H$11&"'!$C$14:$C$10013"),$C52),"")) | I52: =IF(OR($C52="",I$11=""),"",IFERROR(SUMIFS(INDIRECT("'"&I$11&"'!$F$14:$F$10013"),INDIRECT("'"&I$11&"'!$C$14:$C$10013"),$C52),"")) | J52: =IF(OR($C52="",J$11=""),"",IFERROR(SUMIFS(INDIRECT("'"&J$11&"'!$F$14:$F$10013"),INDIRECT("'"&J$11&"'!$C$14:$C$10013"),$C52),"")) | K52: =IF(OR($C52="",K$11=""),"",IFERROR(SUMIFS(INDIRECT("'"&K$11&"'!$F$14:$F$10013"),INDIRECT("'"&K$11&"'!$C$14:$C$10013"),$C52),"")) | ... R52: =IF(OR($C52="",R$11=""),"",IFERROR(SUMIFS(INDIRECT("'"&R$11&"'!$F$14:$F$10013"),INDIRECT("'"&R$11&"'!$C$14:$C$10013"),$C52),"")) | S52: =IF($C52="","",SUM(D52:R52)) | T52: =IF($C52="","",SUMIFS(Overview!$G$18:$G$32,Overview!$D$18:$D$32,"<="&$C52,Overview!$E$18:$E$32,">="&$C52)) | U52: =IF(OR($C52="",Overview!$I$33=""),"",IF($C52>Overview!$I$33,"",SUM($S$12:S52))) | V52: =IF($C52="","",SUM($T$12:T52)) | W52: =IF(OR(U52="",V52="",V52=0),"",U52/V52)
C53: =IF(OR(Overview!$D$33="",Overview!$E$33=""),"",IF(Overview!$D$33+41>Overview!$E$33,"",Overview!$D$33+41)) | D53: =IF(OR($C53="",D$11=""),"",IFERROR(SUMIFS(INDIRECT("'"&D$11&"'!$F$14:$F$10013"),INDIRECT("'"&D$11&"'!$C$14:$C$10013"),$C53),"")) | E53: =IF(OR($C53="",E$11=""),"",IFERROR(SUMIFS(INDIRECT("'"&E$11&"'!$F$14:$F$10013"),INDIRECT("'"&E$11&"'!$C$14:$C$10013"),$C53),"")) | F53: =IF(OR($C53="",F$11=""),"",IFERROR(SUMIFS(INDIRECT("'"&F$11&"'!$F$14:$F$10013"),INDIRECT("'"&F$11&"'!$C$14:$C$10013"),$C53),"")) | G53: =IF(OR($C53="",G$11=""),"",IFERROR(SUMIFS(INDIRECT("'"&G$11&"'!$F$14:$F$10013"),INDIRECT("'"&G$11&"'!$C$14:$C$10013"),$C53),"")) | H53: =IF(OR($C53="",H$11=""),"",IFERROR(SUMIFS(INDIRECT("'"&H$11&"'!$F$14:$F$10013"),INDIRECT("'"&H$11&"'!$C$14:$C$10013"),$C53),"")) | I53: =IF(OR($C53="",I$11=""),"",IFERROR(SUMIFS(INDIRECT("'"&I$11&"'!$F$14:$F$10013"),INDIRECT("'"&I$11&"'!$C$14:$C$10013"),$C53),"")) | J53: =IF(OR($C53="",J$11=""),"",IFERROR(SUMIFS(INDIRECT("'"&J$11&"'!$F$14:$F$10013"),INDIRECT("'"&J$11&"'!$C$14:$C$10013"),$C53),"")) | K53: =IF(OR($C53="",K$11=""),"",IFERROR(SUMIFS(INDIRECT("'"&K$11&"'!$F$14:$F$10013"),INDIRECT("'"&K$11&"'!$C$14:$C$10013"),$C53),"")) | ... R53: =IF(OR($C53="",R$11=""),"",IFERROR(SUMIFS(INDIRECT("'"&R$11&"'!$F$14:$F$10013"),INDIRECT("'"&R$11&"'!$C$14:$C$10013"),$C53),"")) | S53: =IF($C53="","",SUM(D53:R53)) | T53: =IF($C53="","",SUMIFS(Overview!$G$18:$G$32,Overview!$D$18:$D$32,"<="&$C53,Overview!$E$18:$E$32,">="&$C53)) | U53: =IF(OR($C53="",Overview!$I$33=""),"",IF($C53>Overview!$I$33,"",SUM($S$12:S53))) | V53: =IF($C53="","",SUM($T$12:T53)) | W53: =IF(OR(U53="",V53="",V53=0),"",U53/V53)
C54: =IF(OR(Overview!$D$33="",Overview!$E$33=""),"",IF(Overview!$D$33+42>Overview!$E$33,"",Overview!$D$33+42)) | D54: =IF(OR($C54="",D$11=""),"",IFERROR(SUMIFS(INDIRECT("'"&D$11&"'!$F$14:$F$10013"),INDIRECT("'"&D$11&"'!$C$14:$C$10013"),$C54),"")) | E54: =IF(OR($C54="",E$11=""),"",IFERROR(SUMIFS(INDIRECT("'"&E$11&"'!$F$14:$F$10013"),INDIRECT("'"&E$11&"'!$C$14:$C$10013"),$C54),"")) | F54: =IF(OR($C54="",F$11=""),"",IFERROR(SUMIFS(INDIRECT("'"&F$11&"'!$F$14:$F$10013"),INDIRECT("'"&F$11&"'!$C$14:$C$10013"),$C54),"")) | G54: =IF(OR($C54="",G$11=""),"",IFERROR(SUMIFS(INDIRECT("'"&G$11&"'!$F$14:$F$10013"),INDIRECT("'"&G$11&"'!$C$14:$C$10013"),$C54),"")) | H54: =IF(OR($C54="",H$11=""),"",IFERROR(SUMIFS(INDIRECT("'"&H$11&"'!$F$14:$F$10013"),INDIRECT("'"&H$11&"'!$C$14:$C$10013"),$C54),"")) | I54: =IF(OR($C54="",I$11=""),"",IFERROR(SUMIFS(INDIRECT("'"&I$11&"'!$F$14:$F$10013"),INDIRECT("'"&I$11&"'!$C$14:$C$10013"),$C54),"")) | J54: =IF(OR($C54="",J$11=""),"",IFERROR(SUMIFS(INDIRECT("'"&J$11&"'!$F$14:$F$10013"),INDIRECT("'"&J$11&"'!$C$14:$C$10013"),$C54),"")) | K54: =IF(OR($C54="",K$11=""),"",IFERROR(SUMIFS(INDIRECT("'"&K$11&"'!$F$14:$F$10013"),INDIRECT("'"&K$11&"'!$C$14:$C$10013"),$C54),"")) | ... R54: =IF(OR($C54="",R$11=""),"",IFERROR(SUMIFS(INDIRECT("'"&R$11&"'!$F$14:$F$10013"),INDIRECT("'"&R$11&"'!$C$14:$C$10013"),$C54),"")) | S54: =IF($C54="","",SUM(D54:R54)) | T54: =IF($C54="","",SUMIFS(Overview!$G$18:$G$32,Overview!$D$18:$D$32,"<="&$C54,Overview!$E$18:$E$32,">="&$C54)) | U54: =IF(OR($C54="",Overview!$I$33=""),"",IF($C54>Overview!$I$33,"",SUM($S$12:S54))) | V54: =IF($C54="","",SUM($T$12:T54)) | W54: =IF(OR(U54="",V54="",V54=0),"",U54/V54)
C55: =IF(OR(Overview!$D$33="",Overview!$E$33=""),"",IF(Overview!$D$33+43>Overview!$E$33,"",Overview!$D$33+43)) | D55: =IF(OR($C55="",D$11=""),"",IFERROR(SUMIFS(INDIRECT("'"&D$11&"'!$F$14:$F$10013"),INDIRECT("'"&D$11&"'!$C$14:$C$10013"),$C55),"")) | E55: =IF(OR($C55="",E$11=""),"",IFERROR(SUMIFS(INDIRECT("'"&E$11&"'!$F$14:$F$10013"),INDIRECT("'"&E$11&"'!$C$14:$C$10013"),$C55),"")) | F55: =IF(OR($C55="",F$11=""),"",IFERROR(SUMIFS(INDIRECT("'"&F$11&"'!$F$14:$F$10013"),INDIRECT("'"&F$11&"'!$C$14:$C$10013"),$C55),"")) | G55: =IF(OR($C55="",G$11=""),"",IFERROR(SUMIFS(INDIRECT("'"&G$11&"'!$F$14:$F$10013"),INDIRECT("'"&G$11&"'!$C$14:$C$10013"),$C55),"")) | H55: =IF(OR($C55="",H$11=""),"",IFERROR(SUMIFS(INDIRECT("'"&H$11&"'!$F$14:$F$10013"),INDIRECT("'"&H$11&"'!$C$14:$C$10013"),$C55),"")) | I55: =IF(OR($C55="",I$11=""),"",IFERROR(SUMIFS(INDIRECT("'"&I$11&"'!$F$14:$F$10013"),INDIRECT("'"&I$11&"'!$C$14:$C$10013"),$C55),"")) | J55: =IF(OR($C55="",J$11=""),"",IFERROR(SUMIFS(INDIRECT("'"&J$11&"'!$F$14:$F$10013"),INDIRECT("'"&J$11&"'!$C$14:$C$10013"),$C55),"")) | K55: =IF(OR($C55="",K$11=""),"",IFERROR(SUMIFS(INDIRECT("'"&K$11&"'!$F$14:$F$10013"),INDIRECT("'"&K$11&"'!$C$14:$C$10013"),$C55),"")) | ... R55: =IF(OR($C55="",R$11=""),"",IFERROR(SUMIFS(INDIRECT("'"&R$11&"'!$F$14:$F$10013"),INDIRECT("'"&R$11&"'!$C$14:$C$10013"),$C55),"")) | S55: =IF($C55="","",SUM(D55:R55)) | T55: =IF($C55="","",SUMIFS(Overview!$G$18:$G$32,Overview!$D$18:$D$32,"<="&$C55,Overview!$E$18:$E$32,">="&$C55)) | U55: =IF(OR($C55="",Overview!$I$33=""),"",IF($C55>Overview!$I$33,"",SUM($S$12:S55))) | V55: =IF($C55="","",SUM($T$12:T55)) | W55: =IF(OR(U55="",V55="",V55=0),"",U55/V55)
C56: =IF(OR(Overview!$D$33="",Overview!$E$33=""),"",IF(Overview!$D$33+44>Overview!$E$33,"",Overview!$D$33+44)) | D56: =IF(OR($C56="",D$11=""),"",IFERROR(SUMIFS(INDIRECT("'"&D$11&"'!$F$14:$F$10013"),INDIRECT("'"&D$11&"'!$C$14:$C$10013"),$C56),"")) | E56: =IF(OR($C56="",E$11=""),"",IFERROR(SUMIFS(INDIRECT("'"&E$11&"'!$F$14:$F$10013"),INDIRECT("'"&E$11&"'!$C$14:$C$10013"),$C56),"")) | F56: =IF(OR($C56="",F$11=""),"",IFERROR(SUMIFS(INDIRECT("'"&F$11&"'!$F$14:$F$10013"),INDIRECT("'"&F$11&"'!$C$14:$C$10013"),$C56),"")) | G56: =IF(OR($C56="",G$11=""),"",IFERROR(SUMIFS(INDIRECT("'"&G$11&"'!$F$14:$F$10013"),INDIRECT("'"&G$11&"'!$C$14:$C$10013"),$C56),"")) | H56: =IF(OR($C56="",H$11=""),"",IFERROR(SUMIFS(INDIRECT("'"&H$11&"'!$F$14:$F$10013"),INDIRECT("'"&H$11&"'!$C$14:$C$10013"),$C56),"")) | I56: =IF(OR($C56="",I$11=""),"",IFERROR(SUMIFS(INDIRECT("'"&I$11&"'!$F$14:$F$10013"),INDIRECT("'"&I$11&"'!$C$14:$C$10013"),$C56),"")) | J56: =IF(OR($C56="",J$11=""),"",IFERROR(SUMIFS(INDIRECT("'"&J$11&"'!$F$14:$F$10013"),INDIRECT("'"&J$11&"'!$C$14:$C$10013"),$C56),"")) | K56: =IF(OR($C56="",K$11=""),"",IFERROR(SUMIFS(INDIRECT("'"&K$11&"'!$F$14:$F$10013"),INDIRECT("'"&K$11&"'!$C$14:$C$10013"),$C56),"")) | ... R56: =IF(OR($C56="",R$11=""),"",IFERROR(SUMIFS(INDIRECT("'"&R$11&"'!$F$14:$F$10013"),INDIRECT("'"&R$11&"'!$C$14:$C$10013"),$C56),"")) | S56: =IF($C56="","",SUM(D56:R56)) | T56: =IF($C56="","",SUMIFS(Overview!$G$18:$G$32,Overview!$D$18:$D$32,"<="&$C56,Overview!$E$18:$E$32,">="&$C56)) | U56: =IF(OR($C56="",Overview!$I$33=""),"",IF($C56>Overview!$I$33,"",SUM($S$12:S56))) | V56: =IF($C56="","",SUM($T$12:T56)) | W56: =IF(OR(U56="",V56="",V56=0),"",U56/V56)
C57: =IF(OR(Overview!$D$33="",Overview!$E$33=""),"",IF(Overview!$D$33+45>Overview!$E$33,"",Overview!$D$33+45)) | D57: =IF(OR($C57="",D$11=""),"",IFERROR(SUMIFS(INDIRECT("'"&D$11&"'!$F$14:$F$10013"),INDIRECT("'"&D$11&"'!$C$14:$C$10013"),$C57),"")) | E57: =IF(OR($C57="",E$11=""),"",IFERROR(SUMIFS(INDIRECT("'"&E$11&"'!$F$14:$F$10013"),INDIRECT("'"&E$11&"'!$C$14:$C$10013"),$C57),"")) | F57: =IF(OR($C57="",F$11=""),"",IFERROR(SUMIFS(INDIRECT("'"&F$11&"'!$F$14:$F$10013"),INDIRECT("'"&F$11&"'!$C$14:$C$10013"),$C57),"")) | G57: =IF(OR($C57="",G$11=""),"",IFERROR(SUMIFS(INDIRECT("'"&G$11&"'!$F$14:$F$10013"),INDIRECT("'"&G$11&"'!$C$14:$C$10013"),$C57),"")) | H57: =IF(OR($C57="",H$11=""),"",IFERROR(SUMIFS(INDIRECT("'"&H$11&"'!$F$14:$F$10013"),INDIRECT("'"&H$11&"'!$C$14:$C$10013"),$C57),"")) | I57: =IF(OR($C57="",I$11=""),"",IFERROR(SUMIFS(INDIRECT("'"&I$11&"'!$F$14:$F$10013"),INDIRECT("'"&I$11&"'!$C$14:$C$10013"),$C57),"")) | J57: =IF(OR($C57="",J$11=""),"",IFERROR(SUMIFS(INDIRECT("'"&J$11&"'!$F$14:$F$10013"),INDIRECT("'"&J$11&"'!$C$14:$C$10013"),$C57),"")) | K57: =IF(OR($C57="",K$11=""),"",IFERROR(SUMIFS(INDIRECT("'"&K$11&"'!$F$14:$F$10013"),INDIRECT("'"&K$11&"'!$C$14:$C$10013"),$C57),"")) | ... R57: =IF(OR($C57="",R$11=""),"",IFERROR(SUMIFS(INDIRECT("'"&R$11&"'!$F$14:$F$10013"),INDIRECT("'"&R$11&"'!$C$14:$C$10013"),$C57),"")) | S57: =IF($C57="","",SUM(D57:R57)) | T57: =IF($C57="","",SUMIFS(Overview!$G$18:$G$32,Overview!$D$18:$D$32,"<="&$C57,Overview!$E$18:$E$32,">="&$C57)) | U57: =IF(OR($C57="",Overview!$I$33=""),"",IF($C57>Overview!$I$33,"",SUM($S$12:S57))) | V57: =IF($C57="","",SUM($T$12:T57)) | W57: =IF(OR(U57="",V57="",V57=0),"",U57/V57)
C58: =IF(OR(Overview!$D$33="",Overview!$E$33=""),"",IF(Overview!$D$33+46>Overview!$E$33,"",Overview!$D$33+46)) | D58: =IF(OR($C58="",D$11=""),"",IFERROR(SUMIFS(INDIRECT("'"&D$11&"'!$F$14:$F$10013"),INDIRECT("'"&D$11&"'!$C$14:$C$10013"),$C58),"")) | E58: =IF(OR($C58="",E$11=""),"",IFERROR(SUMIFS(INDIRECT("'"&E$11&"'!$F$14:$F$10013"),INDIRECT("'"&E$11&"'!$C$14:$C$10013"),$C58),"")) | F58: =IF(OR($C58="",F$11=""),"",IFERROR(SUMIFS(INDIRECT("'"&F$11&"'!$F$14:$F$10013"),INDIRECT("'"&F$11&"'!$C$14:$C$10013"),$C58),"")) | G58: =IF(OR($C58="",G$11=""),"",IFERROR(SUMIFS(INDIRECT("'"&G$11&"'!$F$14:$F$10013"),INDIRECT("'"&G$11&"'!$C$14:$C$10013"),$C58),"")) | H58: =IF(OR($C58="",H$11=""),"",IFERROR(SUMIFS(INDIRECT("'"&H$11&"'!$F$14:$F$10013"),INDIRECT("'"&H$11&"'!$C$14:$C$10013"),$C58),"")) | I58: =IF(OR($C58="",I$11=""),"",IFERROR(SUMIFS(INDIRECT("'"&I$11&"'!$F$14:$F$10013"),INDIRECT("'"&I$11&"'!$C$14:$C$10013"),$C58),"")) | J58: =IF(OR($C58="",J$11=""),"",IFERROR(SUMIFS(INDIRECT("'"&J$11&"'!$F$14:$F$10013"),INDIRECT("'"&J$11&"'!$C$14:$C$10013"),$C58),"")) | K58: =IF(OR($C58="",K$11=""),"",IFERROR(SUMIFS(INDIRECT("'"&K$11&"'!$F$14:$F$10013"),INDIRECT("'"&K$11&"'!$C$14:$C$10013"),$C58),"")) | ... R58: =IF(OR($C58="",R$11=""),"",IFERROR(SUMIFS(INDIRECT("'"&R$11&"'!$F$14:$F$10013"),INDIRECT("'"&R$11&"'!$C$14:$C$10013"),$C58),"")) | S58: =IF($C58="","",SUM(D58:R58)) | T58: =IF($C58="","",SUMIFS(Overview!$G$18:$G$32,Overview!$D$18:$D$32,"<="&$C58,Overview!$E$18:$E$32,">="&$C58)) | U58: =IF(OR($C58="",Overview!$I$33=""),"",IF($C58>Overview!$I$33,"",SUM($S$12:S58))) | V58: =IF($C58="","",SUM($T$12:T58)) | W58: =IF(OR(U58="",V58="",V58=0),"",U58/V58)
C59: =IF(OR(Overview!$D$33="",Overview!$E$33=""),"",IF(Overview!$D$33+47>Overview!$E$33,"",Overview!$D$33+47)) | D59: =IF(OR($C59="",D$11=""),"",IFERROR(SUMIFS(INDIRECT("'"&D$11&"'!$F$14:$F$10013"),INDIRECT("'"&D$11&"'!$C$14:$C$10013"),$C59),"")) | E59: =IF(OR($C59="",E$11=""),"",IFERROR(SUMIFS(INDIRECT("'"&E$11&"'!$F$14:$F$10013"),INDIRECT("'"&E$11&"'!$C$14:$C$10013"),$C59),"")) | F59: =IF(OR($C59="",F$11=""),"",IFERROR(SUMIFS(INDIRECT("'"&F$11&"'!$F$14:$F$10013"),INDIRECT("'"&F$11&"'!$C$14:$C$10013"),$C59),"")) | G59: =IF(OR($C59="",G$11=""),"",IFERROR(SUMIFS(INDIRECT("'"&G$11&"'!$F$14:$F$10013"),INDIRECT("'"&G$11&"'!$C$14:$C$10013"),$C59),"")) | H59: =IF(OR($C59="",H$11=""),"",IFERROR(SUMIFS(INDIRECT("'"&H$11&"'!$F$14:$F$10013"),INDIRECT("'"&H$11&"'!$C$14:$C$10013"),$C59),"")) | I59: =IF(OR($C59="",I$11=""),"",IFERROR(SUMIFS(INDIRECT("'"&I$11&"'!$F$14:$F$10013"),INDIRECT("'"&I$11&"'!$C$14:$C$10013"),$C59),"")) | J59: =IF(OR($C59="",J$11=""),"",IFERROR(SUMIFS(INDIRECT("'"&J$11&"'!$F$14:$F$10013"),INDIRECT("'"&J$11&"'!$C$14:$C$10013"),$C59),"")) | K59: =IF(OR($C59="",K$11=""),"",IFERROR(SUMIFS(INDIRECT("'"&K$11&"'!$F$14:$F$10013"),INDIRECT("'"&K$11&"'!$C$14:$C$10013"),$C59),"")) | ... R59: =IF(OR($C59="",R$11=""),"",IFERROR(SUMIFS(INDIRECT("'"&R$11&"'!$F$14:$F$10013"),INDIRECT("'"&R$11&"'!$C$14:$C$10013"),$C59),"")) | S59: =IF($C59="","",SUM(D59:R59)) | T59: =IF($C59="","",SUMIFS(Overview!$G$18:$G$32,Overview!$D$18:$D$32,"<="&$C59,Overview!$E$18:$E$32,">="&$C59)) | U59: =IF(OR($C59="",Overview!$I$33=""),"",IF($C59>Overview!$I$33,"",SUM($S$12:S59))) | V59: =IF($C59="","",SUM($T$12:T59)) | W59: =IF(OR(U59="",V59="",V59=0),"",U59/V59)
C60: =IF(OR(Overview!$D$33="",Overview!$E$33=""),"",IF(Overview!$D$33+48>Overview!$E$33,"",Overview!$D$33+48)) | D60: =IF(OR($C60="",D$11=""),"",IFERROR(SUMIFS(INDIRECT("'"&D$11&"'!$F$14:$F$10013"),INDIRECT("'"&D$11&"'!$C$14:$C$10013"),$C60),"")) | E60: =IF(OR($C60="",E$11=""),"",IFERROR(SUMIFS(INDIRECT("'"&E$11&"'!$F$14:$F$10013"),INDIRECT("'"&E$11&"'!$C$14:$C$10013"),$C60),"")) | F60: =IF(OR($C60="",F$11=""),"",IFERROR(SUMIFS(INDIRECT("'"&F$11&"'!$F$14:$F$10013"),INDIRECT("'"&F$11&"'!$C$14:$C$10013"),$C60),"")) | G60: =IF(OR($C60="",G$11=""),"",IFERROR(SUMIFS(INDIRECT("'"&G$11&"'!$F$14:$F$10013"),INDIRECT("'"&G$11&"'!$C$14:$C$10013"),$C60),"")) | H60: =IF(OR($C60="",H$11=""),"",IFERROR(SUMIFS(INDIRECT("'"&H$11&"'!$F$14:$F$10013"),INDIRECT("'"&H$11&"'!$C$14:$C$10013"),$C60),"")) | I60: =IF(OR($C60="",I$11=""),"",IFERROR(SUMIFS(INDIRECT("'"&I$11&"'!$F$14:$F$10013"),INDIRECT("'"&I$11&"'!$C$14:$C$10013"),$C60),"")) | J60: =IF(OR($C60="",J$11=""),"",IFERROR(SUMIFS(INDIRECT("'"&J$11&"'!$F$14:$F$10013"),INDIRECT("'"&J$11&"'!$C$14:$C$10013"),$C60),"")) | K60: =IF(OR($C60="",K$11=""),"",IFERROR(SUMIFS(INDIRECT("'"&K$11&"'!$F$14:$F$10013"),INDIRECT("'"&K$11&"'!$C$14:$C$10013"),$C60),"")) | ... R60: =IF(OR($C60="",R$11=""),"",IFERROR(SUMIFS(INDIRECT("'"&R$11&"'!$F$14:$F$10013"),INDIRECT("'"&R$11&"'!$C$14:$C$10013"),$C60),"")) | S60: =IF($C60="","",SUM(D60:R60)) | T60: =IF($C60="","",SUMIFS(Overview!$G$18:$G$32,Overview!$D$18:$D$32,"<="&$C60,Overview!$E$18:$E$32,">="&$C60)) | U60: =IF(OR($C60="",Overview!$I$33=""),"",IF($C60>Overview!$I$33,"",SUM($S$12:S60))) | V60: =IF($C60="","",SUM($T$12:T60)) | W60: =IF(OR(U60="",V60="",V60=0),"",U60/V60)
C61: =IF(OR(Overview!$D$33="",Overview!$E$33=""),"",IF(Overview!$D$33+49>Overview!$E$33,"",Overview!$D$33+49)) | D61: =IF(OR($C61="",D$11=""),"",IFERROR(SUMIFS(INDIRECT("'"&D$11&"'!$F$14:$F$10013"),INDIRECT("'"&D$11&"'!$C$14:$C$10013"),$C61),"")) | E61: =IF(OR($C61="",E$11=""),"",IFERROR(SUMIFS(INDIRECT("'"&E$11&"'!$F$14:$F$10013"),INDIRECT("'"&E$11&"'!$C$14:$C$10013"),$C61),"")) | F61: =IF(OR($C61="",F$11=""),"",IFERROR(SUMIFS(INDIRECT("'"&F$11&"'!$F$14:$F$10013"),INDIRECT("'"&F$11&"'!$C$14:$C$10013"),$C61),"")) | G61: =IF(OR($C61="",G$11=""),"",IFERROR(SUMIFS(INDIRECT("'"&G$11&"'!$F$14:$F$10013"),INDIRECT("'"&G$11&"'!$C$14:$C$10013"),$C61),"")) | H61: =IF(OR($C61="",H$11=""),"",IFERROR(SUMIFS(INDIRECT("'"&H$11&"'!$F$14:$F$10013"),INDIRECT("'"&H$11&"'!$C$14:$C$10013"),$C61),"")) | I61: =IF(OR($C61="",I$11=""),"",IFERROR(SUMIFS(INDIRECT("'"&I$11&"'!$F$14:$F$10013"),INDIRECT("'"&I$11&"'!$C$14:$C$10013"),$C61),"")) | J61: =IF(OR($C61="",J$11=""),"",IFERROR(SUMIFS(INDIRECT("'"&J$11&"'!$F$14:$F$10013"),INDIRECT("'"&J$11&"'!$C$14:$C$10013"),$C61),"")) | K61: =IF(OR($C61="",K$11=""),"",IFERROR(SUMIFS(INDIRECT("'"&K$11&"'!$F$14:$F$10013"),INDIRECT("'"&K$11&"'!$C$14:$C$10013"),$C61),"")) | ... R61: =IF(OR($C61="",R$11=""),"",IFERROR(SUMIFS(INDIRECT("'"&R$11&"'!$F$14:$F$10013"),INDIRECT("'"&R$11&"'!$C$14:$C$10013"),$C61),"")) | S61: =IF($C61="","",SUM(D61:R61)) | T61: =IF($C61="","",SUMIFS(Overview!$G$18:$G$32,Overview!$D$18:$D$32,"<="&$C61,Overview!$E$18:$E$32,">="&$C61)) | U61: =IF(OR($C61="",Overview!$I$33=""),"",IF($C61>Overview!$I$33,"",SUM($S$12:S61))) | V61: =IF($C61="","",SUM($T$12:T61)) | W61: =IF(OR(U61="",V61="",V61=0),"",U61/V61)
C62: =IF(OR(Overview!$D$33="",Overview!$E$33=""),"",IF(Overview!$D$33+50>Overview!$E$33,"",Overview!$D$33+50)) | D62: =IF(OR($C62="",D$11=""),"",IFERROR(SUMIFS(INDIRECT("'"&D$11&"'!$F$14:$F$10013"),INDIRECT("'"&D$11&"'!$C$14:$C$10013"),$C62),"")) | E62: =IF(OR($C62="",E$11=""),"",IFERROR(SUMIFS(INDIRECT("'"&E$11&"'!$F$14:$F$10013"),INDIRECT("'"&E$11&"'!$C$14:$C$10013"),$C62),"")) | F62: =IF(OR($C62="",F$11=""),"",IFERROR(SUMIFS(INDIRECT("'"&F$11&"'!$F$14:$F$10013"),INDIRECT("'"&F$11&"'!$C$14:$C$10013"),$C62),"")) | G62: =IF(OR($C62="",G$11=""),"",IFERROR(SUMIFS(INDIRECT("'"&G$11&"'!$F$14:$F$10013"),INDIRECT("'"&G$11&"'!$C$14:$C$10013"),$C62),"")) | H62: =IF(OR($C62="",H$11=""),"",IFERROR(SUMIFS(INDIRECT("'"&H$11&"'!$F$14:$F$10013"),INDIRECT("'"&H$11&"'!$C$14:$C$10013"),$C62),"")) | I62: =IF(OR($C62="",I$11=""),"",IFERROR(SUMIFS(INDIRECT("'"&I$11&"'!$F$14:$F$10013"),INDIRECT("'"&I$11&"'!$C$14:$C$10013"),$C62),"")) | J62: =IF(OR($C62="",J$11=""),"",IFERROR(SUMIFS(INDIRECT("'"&J$11&"'!$F$14:$F$10013"),INDIRECT("'"&J$11&"'!$C$14:$C$10013"),$C62),"")) | K62: =IF(OR($C62="",K$11=""),"",IFERROR(SUMIFS(INDIRECT("'"&K$11&"'!$F$14:$F$10013"),INDIRECT("'"&K$11&"'!$C$14:$C$10013"),$C62),"")) | ... R62: =IF(OR($C62="",R$11=""),"",IFERROR(SUMIFS(INDIRECT("'"&R$11&"'!$F$14:$F$10013"),INDIRECT("'"&R$11&"'!$C$14:$C$10013"),$C62),"")) | S62: =IF($C62="","",SUM(D62:R62)) | T62: =IF($C62="","",SUMIFS(Overview!$G$18:$G$32,Overview!$D$18:$D$32,"<="&$C62,Overview!$E$18:$E$32,">="&$C62)) | U62: =IF(OR($C62="",Overview!$I$33=""),"",IF($C62>Overview!$I$33,"",SUM($S$12:S62))) | V62: =IF($C62="","",SUM($T$12:T62)) | W62: =IF(OR(U62="",V62="",V62=0),"",U62/V62)
C63: =IF(OR(Overview!$D$33="",Overview!$E$33=""),"",IF(Overview!$D$33+51>Overview!$E$33,"",Overview!$D$33+51)) | D63: =IF(OR($C63="",D$11=""),"",IFERROR(SUMIFS(INDIRECT("'"&D$11&"'!$F$14:$F$10013"),INDIRECT("'"&D$11&"'!$C$14:$C$10013"),$C63),"")) | E63: =IF(OR($C63="",E$11=""),"",IFERROR(SUMIFS(INDIRECT("'"&E$11&"'!$F$14:$F$10013"),INDIRECT("'"&E$11&"'!$C$14:$C$10013"),$C63),"")) | F63: =IF(OR($C63="",F$11=""),"",IFERROR(SUMIFS(INDIRECT("'"&F$11&"'!$F$14:$F$10013"),INDIRECT("'"&F$11&"'!$C$14:$C$10013"),$C63),"")) | G63: =IF(OR($C63="",G$11=""),"",IFERROR(SUMIFS(INDIRECT("'"&G$11&"'!$F$14:$F$10013"),INDIRECT("'"&G$11&"'!$C$14:$C$10013"),$C63),"")) | H63: =IF(OR($C63="",H$11=""),"",IFERROR(SUMIFS(INDIRECT("'"&H$11&"'!$F$14:$F$10013"),INDIRECT("'"&H$11&"'!$C$14:$C$10013"),$C63),"")) | I63: =IF(OR($C63="",I$11=""),"",IFERROR(SUMIFS(INDIRECT("'"&I$11&"'!$F$14:$F$10013"),INDIRECT("'"&I$11&"'!$C$14:$C$10013"),$C63),"")) | J63: =IF(OR($C63="",J$11=""),"",IFERROR(SUMIFS(INDIRECT("'"&J$11&"'!$F$14:$F$10013"),INDIRECT("'"&J$11&"'!$C$14:$C$10013"),$C63),"")) | K63: =IF(OR($C63="",K$11=""),"",IFERROR(SUMIFS(INDIRECT("'"&K$11&"'!$F$14:$F$10013"),INDIRECT("'"&K$11&"'!$C$14:$C$10013"),$C63),"")) | ... R63: =IF(OR($C63="",R$11=""),"",IFERROR(SUMIFS(INDIRECT("'"&R$11&"'!$F$14:$F$10013"),INDIRECT("'"&R$11&"'!$C$14:$C$10013"),$C63),"")) | S63: =IF($C63="","",SUM(D63:R63)) | T63: =IF($C63="","",SUMIFS(Overview!$G$18:$G$32,Overview!$D$18:$D$32,"<="&$C63,Overview!$E$18:$E$32,">="&$C63)) | U63: =IF(OR($C63="",Overview!$I$33=""),"",IF($C63>Overview!$I$33,"",SUM($S$12:S63))) | V63: =IF($C63="","",SUM($T$12:T63)) | W63: =IF(OR(U63="",V63="",V63=0),"",U63/V63)
C64: =IF(OR(Overview!$D$33="",Overview!$E$33=""),"",IF(Overview!$D$33+52>Overview!$E$33,"",Overview!$D$33+52)) | D64: =IF(OR($C64="",D$11=""),"",IFERROR(SUMIFS(INDIRECT("'"&D$11&"'!$F$14:$F$10013"),INDIRECT("'"&D$11&"'!$C$14:$C$10013"),$C64),"")) | E64: =IF(OR($C64="",E$11=""),"",IFERROR(SUMIFS(INDIRECT("'"&E$11&"'!$F$14:$F$10013"),INDIRECT("'"&E$11&"'!$C$14:$C$10013"),$C64),"")) | F64: =IF(OR($C64="",F$11=""),"",IFERROR(SUMIFS(INDIRECT("'"&F$11&"'!$F$14:$F$10013"),INDIRECT("'"&F$11&"'!$C$14:$C$10013"),$C64),"")) | G64: =IF(OR($C64="",G$11=""),"",IFERROR(SUMIFS(INDIRECT("'"&G$11&"'!$F$14:$F$10013"),INDIRECT("'"&G$11&"'!$C$14:$C$10013"),$C64),"")) | H64: =IF(OR($C64="",H$11=""),"",IFERROR(SUMIFS(INDIRECT("'"&H$11&"'!$F$14:$F$10013"),INDIRECT("'"&H$11&"'!$C$14:$C$10013"),$C64),"")) | I64: =IF(OR($C64="",I$11=""),"",IFERROR(SUMIFS(INDIRECT("'"&I$11&"'!$F$14:$F$10013"),INDIRECT("'"&I$11&"'!$C$14:$C$10013"),$C64),"")) | J64: =IF(OR($C64="",J$11=""),"",IFERROR(SUMIFS(INDIRECT("'"&J$11&"'!$F$14:$F$10013"),INDIRECT("'"&J$11&"'!$C$14:$C$10013"),$C64),"")) | K64: =IF(OR($C64="",K$11=""),"",IFERROR(SUMIFS(INDIRECT("'"&K$11&"'!$F$14:$F$10013"),INDIRECT("'"&K$11&"'!$C$14:$C$10013"),$C64),"")) | ... R64: =IF(OR($C64="",R$11=""),"",IFERROR(SUMIFS(INDIRECT("'"&R$11&"'!$F$14:$F$10013"),INDIRECT("'"&R$11&"'!$C$14:$C$10013"),$C64),"")) | S64: =IF($C64="","",SUM(D64:R64)) | T64: =IF($C64="","",SUMIFS(Overview!$G$18:$G$32,Overview!$D$18:$D$32,"<="&$C64,Overview!$E$18:$E$32,">="&$C64)) | U64: =IF(OR($C64="",Overview!$I$33=""),"",IF($C64>Overview!$I$33,"",SUM($S$12:S64))) | V64: =IF($C64="","",SUM($T$12:T64)) | W64: =IF(OR(U64="",V64="",V64=0),"",U64/V64)
C65: =IF(OR(Overview!$D$33="",Overview!$E$33=""),"",IF(Overview!$D$33+53>Overview!$E$33,"",Overview!$D$33+53)) | D65: =IF(OR($C65="",D$11=""),"",IFERROR(SUMIFS(INDIRECT("'"&D$11&"'!$F$14:$F$10013"),INDIRECT("'"&D$11&"'!$C$14:$C$10013"),$C65),"")) | E65: =IF(OR($C65="",E$11=""),"",IFERROR(SUMIFS(INDIRECT("'"&E$11&"'!$F$14:$F$10013"),INDIRECT("'"&E$11&"'!$C$14:$C$10013"),$C65),"")) | F65: =IF(OR($C65="",F$11=""),"",IFERROR(SUMIFS(INDIRECT("'"&F$11&"'!$F$14:$F$10013"),INDIRECT("'"&F$11&"'!$C$14:$C$10013"),$C65),"")) | G65: =IF(OR($C65="",G$11=""),"",IFERROR(SUMIFS(INDIRECT("'"&G$11&"'!$F$14:$F$10013"),INDIRECT("'"&G$11&"'!$C$14:$C$10013"),$C65),"")) | H65: =IF(OR($C65="",H$11=""),"",IFERROR(SUMIFS(INDIRECT("'"&H$11&"'!$F$14:$F$10013"),INDIRECT("'"&H$11&"'!$C$14:$C$10013"),$C65),"")) | I65: =IF(OR($C65="",I$11=""),"",IFERROR(SUMIFS(INDIRECT("'"&I$11&"'!$F$14:$F$10013"),INDIRECT("'"&I$11&"'!$C$14:$C$10013"),$C65),"")) | J65: =IF(OR($C65="",J$11=""),"",IFERROR(SUMIFS(INDIRECT("'"&J$11&"'!$F$14:$F$10013"),INDIRECT("'"&J$11&"'!$C$14:$C$10013"),$C65),"")) | K65: =IF(OR($C65="",K$11=""),"",IFERROR(SUMIFS(INDIRECT("'"&K$11&"'!$F$14:$F$10013"),INDIRECT("'"&K$11&"'!$C$14:$C$10013"),$C65),"")) | ... R65: =IF(OR($C65="",R$11=""),"",IFERROR(SUMIFS(INDIRECT("'"&R$11&"'!$F$14:$F$10013"),INDIRECT("'"&R$11&"'!$C$14:$C$10013"),$C65),"")) | S65: =IF($C65="","",SUM(D65:R65)) | T65: =IF($C65="","",SUMIFS(Overview!$G$18:$G$32,Overview!$D$18:$D$32,"<="&$C65,Overview!$E$18:$E$32,">="&$C65)) | U65: =IF(OR($C65="",Overview!$I$33=""),"",IF($C65>Overview!$I$33,"",SUM($S$12:S65))) | V65: =IF($C65="","",SUM($T$12:T65)) | W65: =IF(OR(U65="",V65="",V65=0),"",U65/V65)
C66: =IF(OR(Overview!$D$33="",Overview!$E$33=""),"",IF(Overview!$D$33+54>Overview!$E$33,"",Overview!$D$33+54)) | D66: =IF(OR($C66="",D$11=""),"",IFERROR(SUMIFS(INDIRECT("'"&D$11&"'!$F$14:$F$10013"),INDIRECT("'"&D$11&"'!$C$14:$C$10013"),$C66),"")) | E66: =IF(OR($C66="",E$11=""),"",IFERROR(SUMIFS(INDIRECT("'"&E$11&"'!$F$14:$F$10013"),INDIRECT("'"&E$11&"'!$C$14:$C$10013"),$C66),"")) | F66: =IF(OR($C66="",F$11=""),"",IFERROR(SUMIFS(INDIRECT("'"&F$11&"'!$F$14:$F$10013"),INDIRECT("'"&F$11&"'!$C$14:$C$10013"),$C66),"")) | G66: =IF(OR($C66="",G$11=""),"",IFERROR(SUMIFS(INDIRECT("'"&G$11&"'!$F$14:$F$10013"),INDIRECT("'"&G$11&"'!$C$14:$C$10013"),$C66),"")) | H66: =IF(OR($C66="",H$11=""),"",IFERROR(SUMIFS(INDIRECT("'"&H$11&"'!$F$14:$F$10013"),INDIRECT("'"&H$11&"'!$C$14:$C$10013"),$C66),"")) | I66: =IF(OR($C66="",I$11=""),"",IFERROR(SUMIFS(INDIRECT("'"&I$11&"'!$F$14:$F$10013"),INDIRECT("'"&I$11&"'!$C$14:$C$10013"),$C66),"")) | J66: =IF(OR($C66="",J$11=""),"",IFERROR(SUMIFS(INDIRECT("'"&J$11&"'!$F$14:$F$10013"),INDIRECT("'"&J$11&"'!$C$14:$C$10013"),$C66),"")) | K66: =IF(OR($C66="",K$11=""),"",IFERROR(SUMIFS(INDIRECT("'"&K$11&"'!$F$14:$F$10013"),INDIRECT("'"&K$11&"'!$C$14:$C$10013"),$C66),"")) | ... R66: =IF(OR($C66="",R$11=""),"",IFERROR(SUMIFS(INDIRECT("'"&R$11&"'!$F$14:$F$10013"),INDIRECT("'"&R$11&"'!$C$14:$C$10013"),$C66),"")) | S66: =IF($C66="","",SUM(D66:R66)) | T66: =IF($C66="","",SUMIFS(Overview!$G$18:$G$32,Overview!$D$18:$D$32,"<="&$C66,Overview!$E$18:$E$32,">="&$C66)) | U66: =IF(OR($C66="",Overview!$I$33=""),"",IF($C66>Overview!$I$33,"",SUM($S$12:S66))) | V66: =IF($C66="","",SUM($T$12:T66)) | W66: =IF(OR(U66="",V66="",V66=0),"",U66/V66)
C67: =IF(OR(Overview!$D$33="",Overview!$E$33=""),"",IF(Overview!$D$33+55>Overview!$E$33,"",Overview!$D$33+55)) | D67: =IF(OR($C67="",D$11=""),"",IFERROR(SUMIFS(INDIRECT("'"&D$11&"'!$F$14:$F$10013"),INDIRECT("'"&D$11&"'!$C$14:$C$10013"),$C67),"")) | E67: =IF(OR($C67="",E$11=""),"",IFERROR(SUMIFS(INDIRECT("'"&E$11&"'!$F$14:$F$10013"),INDIRECT("'"&E$11&"'!$C$14:$C$10013"),$C67),"")) | F67: =IF(OR($C67="",F$11=""),"",IFERROR(SUMIFS(INDIRECT("'"&F$11&"'!$F$14:$F$10013"),INDIRECT("'"&F$11&"'!$C$14:$C$10013"),$C67),"")) | G67: =IF(OR($C67="",G$11=""),"",IFERROR(SUMIFS(INDIRECT("'"&G$11&"'!$F$14:$F$10013"),INDIRECT("'"&G$11&"'!$C$14:$C$10013"),$C67),"")) | H67: =IF(OR($C67="",H$11=""),"",IFERROR(SUMIFS(INDIRECT("'"&H$11&"'!$F$14:$F$10013"),INDIRECT("'"&H$11&"'!$C$14:$C$10013"),$C67),"")) | I67: =IF(OR($C67="",I$11=""),"",IFERROR(SUMIFS(INDIRECT("'"&I$11&"'!$F$14:$F$10013"),INDIRECT("'"&I$11&"'!$C$14:$C$10013"),$C67),"")) | J67: =IF(OR($C67="",J$11=""),"",IFERROR(SUMIFS(INDIRECT("'"&J$11&"'!$F$14:$F$10013"),INDIRECT("'"&J$11&"'!$C$14:$C$10013"),$C67),"")) | K67: =IF(OR($C67="",K$11=""),"",IFERROR(SUMIFS(INDIRECT("'"&K$11&"'!$F$14:$F$10013"),INDIRECT("'"&K$11&"'!$C$14:$C$10013"),$C67),"")) | ... R67: =IF(OR($C67="",R$11=""),"",IFERROR(SUMIFS(INDIRECT("'"&R$11&"'!$F$14:$F$10013"),INDIRECT("'"&R$11&"'!$C$14:$C$10013"),$C67),"")) | S67: =IF($C67="","",SUM(D67:R67)) | T67: =IF($C67="","",SUMIFS(Overview!$G$18:$G$32,Overview!$D$18:$D$32,"<="&$C67,Overview!$E$18:$E$32,">="&$C67)) | U67: =IF(OR($C67="",Overview!$I$33=""),"",IF($C67>Overview!$I$33,"",SUM($S$12:S67))) | V67: =IF($C67="","",SUM($T$12:T67)) | W67: =IF(OR(U67="",V67="",V67=0),"",U67/V67)
C68: =IF(OR(Overview!$D$33="",Overview!$E$33=""),"",IF(Overview!$D$33+56>Overview!$E$33,"",Overview!$D$33+56)) | D68: =IF(OR($C68="",D$11=""),"",IFERROR(SUMIFS(INDIRECT("'"&D$11&"'!$F$14:$F$10013"),INDIRECT("'"&D$11&"'!$C$14:$C$10013"),$C68),"")) | E68: =IF(OR($C68="",E$11=""),"",IFERROR(SUMIFS(INDIRECT("'"&E$11&"'!$F$14:$F$10013"),INDIRECT("'"&E$11&"'!$C$14:$C$10013"),$C68),"")) | F68: =IF(OR($C68="",F$11=""),"",IFERROR(SUMIFS(INDIRECT("'"&F$11&"'!$F$14:$F$10013"),INDIRECT("'"&F$11&"'!$C$14:$C$10013"),$C68),"")) | G68: =IF(OR($C68="",G$11=""),"",IFERROR(SUMIFS(INDIRECT("'"&G$11&"'!$F$14:$F$10013"),INDIRECT("'"&G$11&"'!$C$14:$C$10013"),$C68),"")) | H68: =IF(OR($C68="",H$11=""),"",IFERROR(SUMIFS(INDIRECT("'"&H$11&"'!$F$14:$F$10013"),INDIRECT("'"&H$11&"'!$C$14:$C$10013"),$C68),"")) | I68: =IF(OR($C68="",I$11=""),"",IFERROR(SUMIFS(INDIRECT("'"&I$11&"'!$F$14:$F$10013"),INDIRECT("'"&I$11&"'!$C$14:$C$10013"),$C68),"")) | J68: =IF(OR($C68="",J$11=""),"",IFERROR(SUMIFS(INDIRECT("'"&J$11&"'!$F$14:$F$10013"),INDIRECT("'"&J$11&"'!$C$14:$C$10013"),$C68),"")) | K68: =IF(OR($C68="",K$11=""),"",IFERROR(SUMIFS(INDIRECT("'"&K$11&"'!$F$14:$F$10013"),INDIRECT("'"&K$11&"'!$C$14:$C$10013"),$C68),"")) | ... R68: =IF(OR($C68="",R$11=""),"",IFERROR(SUMIFS(INDIRECT("'"&R$11&"'!$F$14:$F$10013"),INDIRECT("'"&R$11&"'!$C$14:$C$10013"),$C68),"")) | S68: =IF($C68="","",SUM(D68:R68)) | T68: =IF($C68="","",SUMIFS(Overview!$G$18:$G$32,Overview!$D$18:$D$32,"<="&$C68,Overview!$E$18:$E$32,">="&$C68)) | U68: =IF(OR($C68="",Overview!$I$33=""),"",IF($C68>Overview!$I$33,"",SUM($S$12:S68))) | V68: =IF($C68="","",SUM($T$12:T68)) | W68: =IF(OR(U68="",V68="",V68=0),"",U68/V68)
C69: =IF(OR(Overview!$D$33="",Overview!$E$33=""),"",IF(Overview!$D$33+57>Overview!$E$33,"",Overview!$D$33+57)) | D69: =IF(OR($C69="",D$11=""),"",IFERROR(SUMIFS(INDIRECT("'"&D$11&"'!$F$14:$F$10013"),INDIRECT("'"&D$11&"'!$C$14:$C$10013"),$C69),"")) | E69: =IF(OR($C69="",E$11=""),"",IFERROR(SUMIFS(INDIRECT("'"&E$11&"'!$F$14:$F$10013"),INDIRECT("'"&E$11&"'!$C$14:$C$10013"),$C69),"")) | F69: =IF(OR($C69="",F$11=""),"",IFERROR(SUMIFS(INDIRECT("'"&F$11&"'!$F$14:$F$10013"),INDIRECT("'"&F$11&"'!$C$14:$C$10013"),$C69),"")) | G69: =IF(OR($C69="",G$11=""),"",IFERROR(SUMIFS(INDIRECT("'"&G$11&"'!$F$14:$F$10013"),INDIRECT("'"&G$11&"'!$C$14:$C$10013"),$C69),"")) | H69: =IF(OR($C69="",H$11=""),"",IFERROR(SUMIFS(INDIRECT("'"&H$11&"'!$F$14:$F$10013"),INDIRECT("'"&H$11&"'!$C$14:$C$10013"),$C69),"")) | I69: =IF(OR($C69="",I$11=""),"",IFERROR(SUMIFS(INDIRECT("'"&I$11&"'!$F$14:$F$10013"),INDIRECT("'"&I$11&"'!$C$14:$C$10013"),$C69),"")) | J69: =IF(OR($C69="",J$11=""),"",IFERROR(SUMIFS(INDIRECT("'"&J$11&"'!$F$14:$F$10013"),INDIRECT("'"&J$11&"'!$C$14:$C$10013"),$C69),"")) | K69: =IF(OR($C69="",K$11=""),"",IFERROR(SUMIFS(INDIRECT("'"&K$11&"'!$F$14:$F$10013"),INDIRECT("'"&K$11&"'!$C$14:$C$10013"),$C69),"")) | ... R69: =IF(OR($C69="",R$11=""),"",IFERROR(SUMIFS(INDIRECT("'"&R$11&"'!$F$14:$F$10013"),INDIRECT("'"&R$11&"'!$C$14:$C$10013"),$C69),"")) | S69: =IF($C69="","",SUM(D69:R69)) | T69: =IF($C69="","",SUMIFS(Overview!$G$18:$G$32,Overview!$D$18:$D$32,"<="&$C69,Overview!$E$18:$E$32,">="&$C69)) | U69: =IF(OR($C69="",Overview!$I$33=""),"",IF($C69>Overview!$I$33,"",SUM($S$12:S69))) | V69: =IF($C69="","",SUM($T$12:T69)) | W69: =IF(OR(U69="",V69="",V69=0),"",U69/V69)
C70: =IF(OR(Overview!$D$33="",Overview!$E$33=""),"",IF(Overview!$D$33+58>Overview!$E$33,"",Overview!$D$33+58)) | D70: =IF(OR($C70="",D$11=""),"",IFERROR(SUMIFS(INDIRECT("'"&D$11&"'!$F$14:$F$10013"),INDIRECT("'"&D$11&"'!$C$14:$C$10013"),$C70),"")) | E70: =IF(OR($C70="",E$11=""),"",IFERROR(SUMIFS(INDIRECT("'"&E$11&"'!$F$14:$F$10013"),INDIRECT("'"&E$11&"'!$C$14:$C$10013"),$C70),"")) | F70: =IF(OR($C70="",F$11=""),"",IFERROR(SUMIFS(INDIRECT("'"&F$11&"'!$F$14:$F$10013"),INDIRECT("'"&F$11&"'!$C$14:$C$10013"),$C70),"")) | G70: =IF(OR($C70="",G$11=""),"",IFERROR(SUMIFS(INDIRECT("'"&G$11&"'!$F$14:$F$10013"),INDIRECT("'"&G$11&"'!$C$14:$C$10013"),$C70),"")) | H70: =IF(OR($C70="",H$11=""),"",IFERROR(SUMIFS(INDIRECT("'"&H$11&"'!$F$14:$F$10013"),INDIRECT("'"&H$11&"'!$C$14:$C$10013"),$C70),"")) | I70: =IF(OR($C70="",I$11=""),"",IFERROR(SUMIFS(INDIRECT("'"&I$11&"'!$F$14:$F$10013"),INDIRECT("'"&I$11&"'!$C$14:$C$10013"),$C70),"")) | J70: =IF(OR($C70="",J$11=""),"",IFERROR(SUMIFS(INDIRECT("'"&J$11&"'!$F$14:$F$10013"),INDIRECT("'"&J$11&"'!$C$14:$C$10013"),$C70),"")) | K70: =IF(OR($C70="",K$11=""),"",IFERROR(SUMIFS(INDIRECT("'"&K$11&"'!$F$14:$F$10013"),INDIRECT("'"&K$11&"'!$C$14:$C$10013"),$C70),"")) | ... R70: =IF(OR($C70="",R$11=""),"",IFERROR(SUMIFS(INDIRECT("'"&R$11&"'!$F$14:$F$10013"),INDIRECT("'"&R$11&"'!$C$14:$C$10013"),$C70),"")) | S70: =IF($C70="","",SUM(D70:R70)) | T70: =IF($C70="","",SUMIFS(Overview!$G$18:$G$32,Overview!$D$18:$D$32,"<="&$C70,Overview!$E$18:$E$32,">="&$C70)) | U70: =IF(OR($C70="",Overview!$I$33=""),"",IF($C70>Overview!$I$33,"",SUM($S$12:S70))) | V70: =IF($C70="","",SUM($T$12:T70)) | W70: =IF(OR(U70="",V70="",V70=0),"",U70/V70)
C71: =IF(OR(Overview!$D$33="",Overview!$E$33=""),"",IF(Overview!$D$33+59>Overview!$E$33,"",Overview!$D$33+59)) | D71: =IF(OR($C71="",D$11=""),"",IFERROR(SUMIFS(INDIRECT("'"&D$11&"'!$F$14:$F$10013"),INDIRECT("'"&D$11&"'!$C$14:$C$10013"),$C71),"")) | E71: =IF(OR($C71="",E$11=""),"",IFERROR(SUMIFS(INDIRECT("'"&E$11&"'!$F$14:$F$10013"),INDIRECT("'"&E$11&"'!$C$14:$C$10013"),$C71),"")) | F71: =IF(OR($C71="",F$11=""),"",IFERROR(SUMIFS(INDIRECT("'"&F$11&"'!$F$14:$F$10013"),INDIRECT("'"&F$11&"'!$C$14:$C$10013"),$C71),"")) | G71: =IF(OR($C71="",G$11=""),"",IFERROR(SUMIFS(INDIRECT("'"&G$11&"'!$F$14:$F$10013"),INDIRECT("'"&G$11&"'!$C$14:$C$10013"),$C71),"")) | H71: =IF(OR($C71="",H$11=""),"",IFERROR(SUMIFS(INDIRECT("'"&H$11&"'!$F$14:$F$10013"),INDIRECT("'"&H$11&"'!$C$14:$C$10013"),$C71),"")) | I71: =IF(OR($C71="",I$11=""),"",IFERROR(SUMIFS(INDIRECT("'"&I$11&"'!$F$14:$F$10013"),INDIRECT("'"&I$11&"'!$C$14:$C$10013"),$C71),"")) | J71: =IF(OR($C71="",J$11=""),"",IFERROR(SUMIFS(INDIRECT("'"&J$11&"'!$F$14:$F$10013"),INDIRECT("'"&J$11&"'!$C$14:$C$10013"),$C71),"")) | K71: =IF(OR($C71="",K$11=""),"",IFERROR(SUMIFS(INDIRECT("'"&K$11&"'!$F$14:$F$10013"),INDIRECT("'"&K$11&"'!$C$14:$C$10013"),$C71),"")) | ... R71: =IF(OR($C71="",R$11=""),"",IFERROR(SUMIFS(INDIRECT("'"&R$11&"'!$F$14:$F$10013"),INDIRECT("'"&R$11&"'!$C$14:$C$10013"),$C71),"")) | S71: =IF($C71="","",SUM(D71:R71)) | T71: =IF($C71="","",SUMIFS(Overview!$G$18:$G$32,Overview!$D$18:$D$32,"<="&$C71,Overview!$E$18:$E$32,">="&$C71)) | U71: =IF(OR($C71="",Overview!$I$33=""),"",IF($C71>Overview!$I$33,"",SUM($S$12:S71))) | V71: =IF($C71="","",SUM($T$12:T71)) | W71: =IF(OR(U71="",V71="",V71=0),"",U71/V71)
C72: =IF(OR(Overview!$D$33="",Overview!$E$33=""),"",IF(Overview!$D$33+60>Overview!$E$33,"",Overview!$D$33+60)) | D72: =IF(OR($C72="",D$11=""),"",IFERROR(SUMIFS(INDIRECT("'"&D$11&"'!$F$14:$F$10013"),INDIRECT("'"&D$11&"'!$C$14:$C$10013"),$C72),"")) | E72: =IF(OR($C72="",E$11=""),"",IFERROR(SUMIFS(INDIRECT("'"&E$11&"'!$F$14:$F$10013"),INDIRECT("'"&E$11&"'!$C$14:$C$10013"),$C72),"")) | F72: =IF(OR($C72="",F$11=""),"",IFERROR(SUMIFS(INDIRECT("'"&F$11&"'!$F$14:$F$10013"),INDIRECT("'"&F$11&"'!$C$14:$C$10013"),$C72),"")) | G72: =IF(OR($C72="",G$11=""),"",IFERROR(SUMIFS(INDIRECT("'"&G$11&"'!$F$14:$F$10013"),INDIRECT("'"&G$11&"'!$C$14:$C$10013"),$C72),"")) | H72: =IF(OR($C72="",H$11=""),"",IFERROR(SUMIFS(INDIRECT("'"&H$11&"'!$F$14:$F$10013"),INDIRECT("'"&H$11&"'!$C$14:$C$10013"),$C72),"")) | I72: =IF(OR($C72="",I$11=""),"",IFERROR(SUMIFS(INDIRECT("'"&I$11&"'!$F$14:$F$10013"),INDIRECT("'"&I$11&"'!$C$14:$C$10013"),$C72),"")) | J72: =IF(OR($C72="",J$11=""),"",IFERROR(SUMIFS(INDIRECT("'"&J$11&"'!$F$14:$F$10013"),INDIRECT("'"&J$11&"'!$C$14:$C$10013"),$C72),"")) | K72: =IF(OR($C72="",K$11=""),"",IFERROR(SUMIFS(INDIRECT("'"&K$11&"'!$F$14:$F$10013"),INDIRECT("'"&K$11&"'!$C$14:$C$10013"),$C72),"")) | ... R72: =IF(OR($C72="",R$11=""),"",IFERROR(SUMIFS(INDIRECT("'"&R$11&"'!$F$14:$F$10013"),INDIRECT("'"&R$11&"'!$C$14:$C$10013"),$C72),"")) | S72: =IF($C72="","",SUM(D72:R72)) | T72: =IF($C72="","",SUMIFS(Overview!$G$18:$G$32,Overview!$D$18:$D$32,"<="&$C72,Overview!$E$18:$E$32,">="&$C72)) | U72: =IF(OR($C72="",Overview!$I$33=""),"",IF($C72>Overview!$I$33,"",SUM($S$12:S72))) | V72: =IF($C72="","",SUM($T$12:T72)) | W72: =IF(OR(U72="",V72="",V72=0),"",U72/V72)
C73: =IF(OR(Overview!$D$33="",Overview!$E$33=""),"",IF(Overview!$D$33+61>Overview!$E$33,"",Overview!$D$33+61)) | D73: =IF(OR($C73="",D$11=""),"",IFERROR(SUMIFS(INDIRECT("'"&D$11&"'!$F$14:$F$10013"),INDIRECT("'"&D$11&"'!$C$14:$C$10013"),$C73),"")) | E73: =IF(OR($C73="",E$11=""),"",IFERROR(SUMIFS(INDIRECT("'"&E$11&"'!$F$14:$F$10013"),INDIRECT("'"&E$11&"'!$C$14:$C$10013"),$C73),"")) | F73: =IF(OR($C73="",F$11=""),"",IFERROR(SUMIFS(INDIRECT("'"&F$11&"'!$F$14:$F$10013"),INDIRECT("'"&F$11&"'!$C$14:$C$10013"),$C73),"")) | G73: =IF(OR($C73="",G$11=""),"",IFERROR(SUMIFS(INDIRECT("'"&G$11&"'!$F$14:$F$10013"),INDIRECT("'"&G$11&"'!$C$14:$C$10013"),$C73),"")) | H73: =IF(OR($C73="",H$11=""),"",IFERROR(SUMIFS(INDIRECT("'"&H$11&"'!$F$14:$F$10013"),INDIRECT("'"&H$11&"'!$C$14:$C$10013"),$C73),"")) | I73: =IF(OR($C73="",I$11=""),"",IFERROR(SUMIFS(INDIRECT("'"&I$11&"'!$F$14:$F$10013"),INDIRECT("'"&I$11&"'!$C$14:$C$10013"),$C73),"")) | J73: =IF(OR($C73="",J$11=""),"",IFERROR(SUMIFS(INDIRECT("'"&J$11&"'!$F$14:$F$10013"),INDIRECT("'"&J$11&"'!$C$14:$C$10013"),$C73),"")) | K73: =IF(OR($C73="",K$11=""),"",IFERROR(SUMIFS(INDIRECT("'"&K$11&"'!$F$14:$F$10013"),INDIRECT("'"&K$11&"'!$C$14:$C$10013"),$C73),"")) | ... R73: =IF(OR($C73="",R$11=""),"",IFERROR(SUMIFS(INDIRECT("'"&R$11&"'!$F$14:$F$10013"),INDIRECT("'"&R$11&"'!$C$14:$C$10013"),$C73),"")) | S73: =IF($C73="","",SUM(D73:R73)) | T73: =IF($C73="","",SUMIFS(Overview!$G$18:$G$32,Overview!$D$18:$D$32,"<="&$C73,Overview!$E$18:$E$32,">="&$C73)) | U73: =IF(OR($C73="",Overview!$I$33=""),"",IF($C73>Overview!$I$33,"",SUM($S$12:S73))) | V73: =IF($C73="","",SUM($T$12:T73)) | W73: =IF(OR(U73="",V73="",V73=0),"",U73/V73)
C74: =IF(OR(Overview!$D$33="",Overview!$E$33=""),"",IF(Overview!$D$33+62>Overview!$E$33,"",Overview!$D$33+62)) | D74: =IF(OR($C74="",D$11=""),"",IFERROR(SUMIFS(INDIRECT("'"&D$11&"'!$F$14:$F$10013"),INDIRECT("'"&D$11&"'!$C$14:$C$10013"),$C74),"")) | E74: =IF(OR($C74="",E$11=""),"",IFERROR(SUMIFS(INDIRECT("'"&E$11&"'!$F$14:$F$10013"),INDIRECT("'"&E$11&"'!$C$14:$C$10013"),$C74),"")) | F74: =IF(OR($C74="",F$11=""),"",IFERROR(SUMIFS(INDIRECT("'"&F$11&"'!$F$14:$F$10013"),INDIRECT("'"&F$11&"'!$C$14:$C$10013"),$C74),"")) | G74: =IF(OR($C74="",G$11=""),"",IFERROR(SUMIFS(INDIRECT("'"&G$11&"'!$F$14:$F$10013"),INDIRECT("'"&G$11&"'!$C$14:$C$10013"),$C74),"")) | H74: =IF(OR($C74="",H$11=""),"",IFERROR(SUMIFS(INDIRECT("'"&H$11&"'!$F$14:$F$10013"),INDIRECT("'"&H$11&"'!$C$14:$C$10013"),$C74),"")) | I74: =IF(OR($C74="",I$11=""),"",IFERROR(SUMIFS(INDIRECT("'"&I$11&"'!$F$14:$F$10013"),INDIRECT("'"&I$11&"'!$C$14:$C$10013"),$C74),"")) | J74: =IF(OR($C74="",J$11=""),"",IFERROR(SUMIFS(INDIRECT("'"&J$11&"'!$F$14:$F$10013"),INDIRECT("'"&J$11&"'!$C$14:$C$10013"),$C74),"")) | K74: =IF(OR($C74="",K$11=""),"",IFERROR(SUMIFS(INDIRECT("'"&K$11&"'!$F$14:$F$10013"),INDIRECT("'"&K$11&"'!$C$14:$C$10013"),$C74),"")) | ... R74: =IF(OR($C74="",R$11=""),"",IFERROR(SUMIFS(INDIRECT("'"&R$11&"'!$F$14:$F$10013"),INDIRECT("'"&R$11&"'!$C$14:$C$10013"),$C74),"")) | S74: =IF($C74="","",SUM(D74:R74)) | T74: =IF($C74="","",SUMIFS(Overview!$G$18:$G$32,Overview!$D$18:$D$32,"<="&$C74,Overview!$E$18:$E$32,">="&$C74)) | U74: =IF(OR($C74="",Overview!$I$33=""),"",IF($C74>Overview!$I$33,"",SUM($S$12:S74))) | V74: =IF($C74="","",SUM($T$12:T74)) | W74: =IF(OR(U74="",V74="",V74=0),"",U74/V74)
C75: =IF(OR(Overview!$D$33="",Overview!$E$33=""),"",IF(Overview!$D$33+63>Overview!$E$33,"",Overview!$D$33+63)) | D75: =IF(OR($C75="",D$11=""),"",IFERROR(SUMIFS(INDIRECT("'"&D$11&"'!$F$14:$F$10013"),INDIRECT("'"&D$11&"'!$C$14:$C$10013"),$C75),"")) | E75: =IF(OR($C75="",E$11=""),"",IFERROR(SUMIFS(INDIRECT("'"&E$11&"'!$F$14:$F$10013"),INDIRECT("'"&E$11&"'!$C$14:$C$10013"),$C75),"")) | F75: =IF(OR($C75="",F$11=""),"",IFERROR(SUMIFS(INDIRECT("'"&F$11&"'!$F$14:$F$10013"),INDIRECT("'"&F$11&"'!$C$14:$C$10013"),$C75),"")) | G75: =IF(OR($C75="",G$11=""),"",IFERROR(SUMIFS(INDIRECT("'"&G$11&"'!$F$14:$F$10013"),INDIRECT("'"&G$11&"'!$C$14:$C$10013"),$C75),"")) | H75: =IF(OR($C75="",H$11=""),"",IFERROR(SUMIFS(INDIRECT("'"&H$11&"'!$F$14:$F$10013"),INDIRECT("'"&H$11&"'!$C$14:$C$10013"),$C75),"")) | I75: =IF(OR($C75="",I$11=""),"",IFERROR(SUMIFS(INDIRECT("'"&I$11&"'!$F$14:$F$10013"),INDIRECT("'"&I$11&"'!$C$14:$C$10013"),$C75),"")) | J75: =IF(OR($C75="",J$11=""),"",IFERROR(SUMIFS(INDIRECT("'"&J$11&"'!$F$14:$F$10013"),INDIRECT("'"&J$11&"'!$C$14:$C$10013"),$C75),"")) | K75: =IF(OR($C75="",K$11=""),"",IFERROR(SUMIFS(INDIRECT("'"&K$11&"'!$F$14:$F$10013"),INDIRECT("'"&K$11&"'!$C$14:$C$10013"),$C75),"")) | ... R75: =IF(OR($C75="",R$11=""),"",IFERROR(SUMIFS(INDIRECT("'"&R$11&"'!$F$14:$F$10013"),INDIRECT("'"&R$11&"'!$C$14:$C$10013"),$C75),"")) | S75: =IF($C75="","",SUM(D75:R75)) | T75: =IF($C75="","",SUMIFS(Overview!$G$18:$G$32,Overview!$D$18:$D$32,"<="&$C75,Overview!$E$18:$E$32,">="&$C75)) | U75: =IF(OR($C75="",Overview!$I$33=""),"",IF($C75>Overview!$I$33,"",SUM($S$12:S75))) | V75: =IF($C75="","",SUM($T$12:T75)) | W75: =IF(OR(U75="",V75="",V75=0),"",U75/V75)
C76: =IF(OR(Overview!$D$33="",Overview!$E$33=""),"",IF(Overview!$D$33+64>Overview!$E$33,"",Overview!$D$33+64)) | D76: =IF(OR($C76="",D$11=""),"",IFERROR(SUMIFS(INDIRECT("'"&D$11&"'!$F$14:$F$10013"),INDIRECT("'"&D$11&"'!$C$14:$C$10013"),$C76),"")) | E76: =IF(OR($C76="",E$11=""),"",IFERROR(SUMIFS(INDIRECT("'"&E$11&"'!$F$14:$F$10013"),INDIRECT("'"&E$11&"'!$C$14:$C$10013"),$C76),"")) | F76: =IF(OR($C76="",F$11=""),"",IFERROR(SUMIFS(INDIRECT("'"&F$11&"'!$F$14:$F$10013"),INDIRECT("'"&F$11&"'!$C$14:$C$10013"),$C76),"")) | G76: =IF(OR($C76="",G$11=""),"",IFERROR(SUMIFS(INDIRECT("'"&G$11&"'!$F$14:$F$10013"),INDIRECT("'"&G$11&"'!$C$14:$C$10013"),$C76),"")) | H76: =IF(OR($C76="",H$11=""),"",IFERROR(SUMIFS(INDIRECT("'"&H$11&"'!$F$14:$F$10013"),INDIRECT("'"&H$11&"'!$C$14:$C$10013"),$C76),"")) | I76: =IF(OR($C76="",I$11=""),"",IFERROR(SUMIFS(INDIRECT("'"&I$11&"'!$F$14:$F$10013"),INDIRECT("'"&I$11&"'!$C$14:$C$10013"),$C76),"")) | J76: =IF(OR($C76="",J$11=""),"",IFERROR(SUMIFS(INDIRECT("'"&J$11&"'!$F$14:$F$10013"),INDIRECT("'"&J$11&"'!$C$14:$C$10013"),$C76),"")) | K76: =IF(OR($C76="",K$11=""),"",IFERROR(SUMIFS(INDIRECT("'"&K$11&"'!$F$14:$F$10013"),INDIRECT("'"&K$11&"'!$C$14:$C$10013"),$C76),"")) | ... R76: =IF(OR($C76="",R$11=""),"",IFERROR(SUMIFS(INDIRECT("'"&R$11&"'!$F$14:$F$10013"),INDIRECT("'"&R$11&"'!$C$14:$C$10013"),$C76),"")) | S76: =IF($C76="","",SUM(D76:R76)) | T76: =IF($C76="","",SUMIFS(Overview!$G$18:$G$32,Overview!$D$18:$D$32,"<="&$C76,Overview!$E$18:$E$32,">="&$C76)) | U76: =IF(OR($C76="",Overview!$I$33=""),"",IF($C76>Overview!$I$33,"",SUM($S$12:S76))) | V76: =IF($C76="","",SUM($T$12:T76)) | W76: =IF(OR(U76="",V76="",V76=0),"",U76/V76)
C77: =IF(OR(Overview!$D$33="",Overview!$E$33=""),"",IF(Overview!$D$33+65>Overview!$E$33,"",Overview!$D$33+65)) | D77: =IF(OR($C77="",D$11=""),"",IFERROR(SUMIFS(INDIRECT("'"&D$11&"'!$F$14:$F$10013"),INDIRECT("'"&D$11&"'!$C$14:$C$10013"),$C77),"")) | E77: =IF(OR($C77="",E$11=""),"",IFERROR(SUMIFS(INDIRECT("'"&E$11&"'!$F$14:$F$10013"),INDIRECT("'"&E$11&"'!$C$14:$C$10013"),$C77),"")) | F77: =IF(OR($C77="",F$11=""),"",IFERROR(SUMIFS(INDIRECT("'"&F$11&"'!$F$14:$F$10013"),INDIRECT("'"&F$11&"'!$C$14:$C$10013"),$C77),"")) | G77: =IF(OR($C77="",G$11=""),"",IFERROR(SUMIFS(INDIRECT("'"&G$11&"'!$F$14:$F$10013"),INDIRECT("'"&G$11&"'!$C$14:$C$10013"),$C77),"")) | H77: =IF(OR($C77="",H$11=""),"",IFERROR(SUMIFS(INDIRECT("'"&H$11&"'!$F$14:$F$10013"),INDIRECT("'"&H$11&"'!$C$14:$C$10013"),$C77),"")) | I77: =IF(OR($C77="",I$11=""),"",IFERROR(SUMIFS(INDIRECT("'"&I$11&"'!$F$14:$F$10013"),INDIRECT("'"&I$11&"'!$C$14:$C$10013"),$C77),"")) | J77: =IF(OR($C77="",J$11=""),"",IFERROR(SUMIFS(INDIRECT("'"&J$11&"'!$F$14:$F$10013"),INDIRECT("'"&J$11&"'!$C$14:$C$10013"),$C77),"")) | K77: =IF(OR($C77="",K$11=""),"",IFERROR(SUMIFS(INDIRECT("'"&K$11&"'!$F$14:$F$10013"),INDIRECT("'"&K$11&"'!$C$14:$C$10013"),$C77),"")) | ... R77: =IF(OR($C77="",R$11=""),"",IFERROR(SUMIFS(INDIRECT("'"&R$11&"'!$F$14:$F$10013"),INDIRECT("'"&R$11&"'!$C$14:$C$10013"),$C77),"")) | S77: =IF($C77="","",SUM(D77:R77)) | T77: =IF($C77="","",SUMIFS(Overview!$G$18:$G$32,Overview!$D$18:$D$32,"<="&$C77,Overview!$E$18:$E$32,">="&$C77)) | U77: =IF(OR($C77="",Overview!$I$33=""),"",IF($C77>Overview!$I$33,"",SUM($S$12:S77))) | V77: =IF($C77="","",SUM($T$12:T77)) | W77: =IF(OR(U77="",V77="",V77=0),"",U77/V77)
C78: =IF(OR(Overview!$D$33="",Overview!$E$33=""),"",IF(Overview!$D$33+66>Overview!$E$33,"",Overview!$D$33+66)) | D78: =IF(OR($C78="",D$11=""),"",IFERROR(SUMIFS(INDIRECT("'"&D$11&"'!$F$14:$F$10013"),INDIRECT("'"&D$11&"'!$C$14:$C$10013"),$C78),"")) | E78: =IF(OR($C78="",E$11=""),"",IFERROR(SUMIFS(INDIRECT("'"&E$11&"'!$F$14:$F$10013"),INDIRECT("'"&E$11&"'!$C$14:$C$10013"),$C78),"")) | F78: =IF(OR($C78="",F$11=""),"",IFERROR(SUMIFS(INDIRECT("'"&F$11&"'!$F$14:$F$10013"),INDIRECT("'"&F$11&"'!$C$14:$C$10013"),$C78),"")) | G78: =IF(OR($C78="",G$11=""),"",IFERROR(SUMIFS(INDIRECT("'"&G$11&"'!$F$14:$F$10013"),INDIRECT("'"&G$11&"'!$C$14:$C$10013"),$C78),"")) | H78: =IF(OR($C78="",H$11=""),"",IFERROR(SUMIFS(INDIRECT("'"&H$11&"'!$F$14:$F$10013"),INDIRECT("'"&H$11&"'!$C$14:$C$10013"),$C78),"")) | I78: =IF(OR($C78="",I$11=""),"",IFERROR(SUMIFS(INDIRECT("'"&I$11&"'!$F$14:$F$10013"),INDIRECT("'"&I$11&"'!$C$14:$C$10013"),$C78),"")) | J78: =IF(OR($C78="",J$11=""),"",IFERROR(SUMIFS(INDIRECT("'"&J$11&"'!$F$14:$F$10013"),INDIRECT("'"&J$11&"'!$C$14:$C$10013"),$C78),"")) | K78: =IF(OR($C78="",K$11=""),"",IFERROR(SUMIFS(INDIRECT("'"&K$11&"'!$F$14:$F$10013"),INDIRECT("'"&K$11&"'!$C$14:$C$10013"),$C78),"")) | ... R78: =IF(OR($C78="",R$11=""),"",IFERROR(SUMIFS(INDIRECT("'"&R$11&"'!$F$14:$F$10013"),INDIRECT("'"&R$11&"'!$C$14:$C$10013"),$C78),"")) | S78: =IF($C78="","",SUM(D78:R78)) | T78: =IF($C78="","",SUMIFS(Overview!$G$18:$G$32,Overview!$D$18:$D$32,"<="&$C78,Overview!$E$18:$E$32,">="&$C78)) | U78: =IF(OR($C78="",Overview!$I$33=""),"",IF($C78>Overview!$I$33,"",SUM($S$12:S78))) | V78: =IF($C78="","",SUM($T$12:T78)) | W78: =IF(OR(U78="",V78="",V78=0),"",U78/V78)
C79: =IF(OR(Overview!$D$33="",Overview!$E$33=""),"",IF(Overview!$D$33+67>Overview!$E$33,"",Overview!$D$33+67)) | D79: =IF(OR($C79="",D$11=""),"",IFERROR(SUMIFS(INDIRECT("'"&D$11&"'!$F$14:$F$10013"),INDIRECT("'"&D$11&"'!$C$14:$C$10013"),$C79),"")) | E79: =IF(OR($C79="",E$11=""),"",IFERROR(SUMIFS(INDIRECT("'"&E$11&"'!$F$14:$F$10013"),INDIRECT("'"&E$11&"'!$C$14:$C$10013"),$C79),"")) | F79: =IF(OR($C79="",F$11=""),"",IFERROR(SUMIFS(INDIRECT("'"&F$11&"'!$F$14:$F$10013"),INDIRECT("'"&F$11&"'!$C$14:$C$10013"),$C79),"")) | G79: =IF(OR($C79="",G$11=""),"",IFERROR(SUMIFS(INDIRECT("'"&G$11&"'!$F$14:$F$10013"),INDIRECT("'"&G$11&"'!$C$14:$C$10013"),$C79),"")) | H79: =IF(OR($C79="",H$11=""),"",IFERROR(SUMIFS(INDIRECT("'"&H$11&"'!$F$14:$F$10013"),INDIRECT("'"&H$11&"'!$C$14:$C$10013"),$C79),"")) | I79: =IF(OR($C79="",I$11=""),"",IFERROR(SUMIFS(INDIRECT("'"&I$11&"'!$F$14:$F$10013"),INDIRECT("'"&I$11&"'!$C$14:$C$10013"),$C79),"")) | J79: =IF(OR($C79="",J$11=""),"",IFERROR(SUMIFS(INDIRECT("'"&J$11&"'!$F$14:$F$10013"),INDIRECT("'"&J$11&"'!$C$14:$C$10013"),$C79),"")) | K79: =IF(OR($C79="",K$11=""),"",IFERROR(SUMIFS(INDIRECT("'"&K$11&"'!$F$14:$F$10013"),INDIRECT("'"&K$11&"'!$C$14:$C$10013"),$C79),"")) | ... R79: =IF(OR($C79="",R$11=""),"",IFERROR(SUMIFS(INDIRECT("'"&R$11&"'!$F$14:$F$10013"),INDIRECT("'"&R$11&"'!$C$14:$C$10013"),$C79),"")) | S79: =IF($C79="","",SUM(D79:R79)) | T79: =IF($C79="","",SUMIFS(Overview!$G$18:$G$32,Overview!$D$18:$D$32,"<="&$C79,Overview!$E$18:$E$32,">="&$C79)) | U79: =IF(OR($C79="",Overview!$I$33=""),"",IF($C79>Overview!$I$33,"",SUM($S$12:S79))) | V79: =IF($C79="","",SUM($T$12:T79)) | W79: =IF(OR(U79="",V79="",V79=0),"",U79/V79)
C80: =IF(OR(Overview!$D$33="",Overview!$E$33=""),"",IF(Overview!$D$33+68>Overview!$E$33,"",Overview!$D$33+68)) | D80: =IF(OR($C80="",D$11=""),"",IFERROR(SUMIFS(INDIRECT("'"&D$11&"'!$F$14:$F$10013"),INDIRECT("'"&D$11&"'!$C$14:$C$10013"),$C80),"")) | E80: =IF(OR($C80="",E$11=""),"",IFERROR(SUMIFS(INDIRECT("'"&E$11&"'!$F$14:$F$10013"),INDIRECT("'"&E$11&"'!$C$14:$C$10013"),$C80),"")) | F80: =IF(OR($C80="",F$11=""),"",IFERROR(SUMIFS(INDIRECT("'"&F$11&"'!$F$14:$F$10013"),INDIRECT("'"&F$11&"'!$C$14:$C$10013"),$C80),"")) | G80: =IF(OR($C80="",G$11=""),"",IFERROR(SUMIFS(INDIRECT("'"&G$11&"'!$F$14:$F$10013"),INDIRECT("'"&G$11&"'!$C$14:$C$10013"),$C80),"")) | H80: =IF(OR($C80="",H$11=""),"",IFERROR(SUMIFS(INDIRECT("'"&H$11&"'!$F$14:$F$10013"),INDIRECT("'"&H$11&"'!$C$14:$C$10013"),$C80),"")) | I80: =IF(OR($C80="",I$11=""),"",IFERROR(SUMIFS(INDIRECT("'"&I$11&"'!$F$14:$F$10013"),INDIRECT("'"&I$11&"'!$C$14:$C$10013"),$C80),"")) | J80: =IF(OR($C80="",J$11=""),"",IFERROR(SUMIFS(INDIRECT("'"&J$11&"'!$F$14:$F$10013"),INDIRECT("'"&J$11&"'!$C$14:$C$10013"),$C80),"")) | K80: =IF(OR($C80="",K$11=""),"",IFERROR(SUMIFS(INDIRECT("'"&K$11&"'!$F$14:$F$10013"),INDIRECT("'"&K$11&"'!$C$14:$C$10013"),$C80),"")) | ... R80: =IF(OR($C80="",R$11=""),"",IFERROR(SUMIFS(INDIRECT("'"&R$11&"'!$F$14:$F$10013"),INDIRECT("'"&R$11&"'!$C$14:$C$10013"),$C80),"")) | S80: =IF($C80="","",SUM(D80:R80)) | T80: =IF($C80="","",SUMIFS(Overview!$G$18:$G$32,Overview!$D$18:$D$32,"<="&$C80,Overview!$E$18:$E$32,">="&$C80)) | U80: =IF(OR($C80="",Overview!$I$33=""),"",IF($C80>Overview!$I$33,"",SUM($S$12:S80))) | V80: =IF($C80="","",SUM($T$12:T80)) | W80: =IF(OR(U80="",V80="",V80=0),"",U80/V80)
C81: =IF(OR(Overview!$D$33="",Overview!$E$33=""),"",IF(Overview!$D$33+69>Overview!$E$33,"",Overview!$D$33+69)) | D81: =IF(OR($C81="",D$11=""),"",IFERROR(SUMIFS(INDIRECT("'"&D$11&"'!$F$14:$F$10013"),INDIRECT("'"&D$11&"'!$C$14:$C$10013"),$C81),"")) | E81: =IF(OR($C81="",E$11=""),"",IFERROR(SUMIFS(INDIRECT("'"&E$11&"'!$F$14:$F$10013"),INDIRECT("'"&E$11&"'!$C$14:$C$10013"),$C81),"")) | F81: =IF(OR($C81="",F$11=""),"",IFERROR(SUMIFS(INDIRECT("'"&F$11&"'!$F$14:$F$10013"),INDIRECT("'"&F$11&"'!$C$14:$C$10013"),$C81),"")) | G81: =IF(OR($C81="",G$11=""),"",IFERROR(SUMIFS(INDIRECT("'"&G$11&"'!$F$14:$F$10013"),INDIRECT("'"&G$11&"'!$C$14:$C$10013"),$C81),"")) | H81: =IF(OR($C81="",H$11=""),"",IFERROR(SUMIFS(INDIRECT("'"&H$11&"'!$F$14:$F$10013"),INDIRECT("'"&H$11&"'!$C$14:$C$10013"),$C81),"")) | I81: =IF(OR($C81="",I$11=""),"",IFERROR(SUMIFS(INDIRECT("'"&I$11&"'!$F$14:$F$10013"),INDIRECT("'"&I$11&"'!$C$14:$C$10013"),$C81),"")) | J81: =IF(OR($C81="",J$11=""),"",IFERROR(SUMIFS(INDIRECT("'"&J$11&"'!$F$14:$F$10013"),INDIRECT("'"&J$11&"'!$C$14:$C$10013"),$C81),"")) | K81: =IF(OR($C81="",K$11=""),"",IFERROR(SUMIFS(INDIRECT("'"&K$11&"'!$F$14:$F$10013"),INDIRECT("'"&K$11&"'!$C$14:$C$10013"),$C81),"")) | ... R81: =IF(OR($C81="",R$11=""),"",IFERROR(SUMIFS(INDIRECT("'"&R$11&"'!$F$14:$F$10013"),INDIRECT("'"&R$11&"'!$C$14:$C$10013"),$C81),"")) | S81: =IF($C81="","",SUM(D81:R81)) | T81: =IF($C81="","",SUMIFS(Overview!$G$18:$G$32,Overview!$D$18:$D$32,"<="&$C81,Overview!$E$18:$E$32,">="&$C81)) | U81: =IF(OR($C81="",Overview!$I$33=""),"",IF($C81>Overview!$I$33,"",SUM($S$12:S81))) | V81: =IF($C81="","",SUM($T$12:T81)) | W81: =IF(OR(U81="",V81="",V81=0),"",U81/V81)
C82: =IF(OR(Overview!$D$33="",Overview!$E$33=""),"",IF(Overview!$D$33+70>Overview!$E$33,"",Overview!$D$33+70)) | D82: =IF(OR($C82="",D$11=""),"",IFERROR(SUMIFS(INDIRECT("'"&D$11&"'!$F$14:$F$10013"),INDIRECT("'"&D$11&"'!$C$14:$C$10013"),$C82),"")) | E82: =IF(OR($C82="",E$11=""),"",IFERROR(SUMIFS(INDIRECT("'"&E$11&"'!$F$14:$F$10013"),INDIRECT("'"&E$11&"'!$C$14:$C$10013"),$C82),"")) | F82: =IF(OR($C82="",F$11=""),"",IFERROR(SUMIFS(INDIRECT("'"&F$11&"'!$F$14:$F$10013"),INDIRECT("'"&F$11&"'!$C$14:$C$10013"),$C82),"")) | G82: =IF(OR($C82="",G$11=""),"",IFERROR(SUMIFS(INDIRECT("'"&G$11&"'!$F$14:$F$10013"),INDIRECT("'"&G$11&"'!$C$14:$C$10013"),$C82),"")) | H82: =IF(OR($C82="",H$11=""),"",IFERROR(SUMIFS(INDIRECT("'"&H$11&"'!$F$14:$F$10013"),INDIRECT("'"&H$11&"'!$C$14:$C$10013"),$C82),"")) | I82: =IF(OR($C82="",I$11=""),"",IFERROR(SUMIFS(INDIRECT("'"&I$11&"'!$F$14:$F$10013"),INDIRECT("'"&I$11&"'!$C$14:$C$10013"),$C82),"")) | J82: =IF(OR($C82="",J$11=""),"",IFERROR(SUMIFS(INDIRECT("'"&J$11&"'!$F$14:$F$10013"),INDIRECT("'"&J$11&"'!$C$14:$C$10013"),$C82),"")) | K82: =IF(OR($C82="",K$11=""),"",IFERROR(SUMIFS(INDIRECT("'"&K$11&"'!$F$14:$F$10013"),INDIRECT("'"&K$11&"'!$C$14:$C$10013"),$C82),"")) | ... R82: =IF(OR($C82="",R$11=""),"",IFERROR(SUMIFS(INDIRECT("'"&R$11&"'!$F$14:$F$10013"),INDIRECT("'"&R$11&"'!$C$14:$C$10013"),$C82),"")) | S82: =IF($C82="","",SUM(D82:R82)) | T82: =IF($C82="","",SUMIFS(Overview!$G$18:$G$32,Overview!$D$18:$D$32,"<="&$C82,Overview!$E$18:$E$32,">="&$C82)) | U82: =IF(OR($C82="",Overview!$I$33=""),"",IF($C82>Overview!$I$33,"",SUM($S$12:S82))) | V82: =IF($C82="","",SUM($T$12:T82)) | W82: =IF(OR(U82="",V82="",V82=0),"",U82/V82)
C83: =IF(OR(Overview!$D$33="",Overview!$E$33=""),"",IF(Overview!$D$33+71>Overview!$E$33,"",Overview!$D$33+71)) | D83: =IF(OR($C83="",D$11=""),"",IFERROR(SUMIFS(INDIRECT("'"&D$11&"'!$F$14:$F$10013"),INDIRECT("'"&D$11&"'!$C$14:$C$10013"),$C83),"")) | E83: =IF(OR($C83="",E$11=""),"",IFERROR(SUMIFS(INDIRECT("'"&E$11&"'!$F$14:$F$10013"),INDIRECT("'"&E$11&"'!$C$14:$C$10013"),$C83),"")) | F83: =IF(OR($C83="",F$11=""),"",IFERROR(SUMIFS(INDIRECT("'"&F$11&"'!$F$14:$F$10013"),INDIRECT("'"&F$11&"'!$C$14:$C$10013"),$C83),"")) | G83: =IF(OR($C83="",G$11=""),"",IFERROR(SUMIFS(INDIRECT("'"&G$11&"'!$F$14:$F$10013"),INDIRECT("'"&G$11&"'!$C$14:$C$10013"),$C83),"")) | H83: =IF(OR($C83="",H$11=""),"",IFERROR(SUMIFS(INDIRECT("'"&H$11&"'!$F$14:$F$10013"),INDIRECT("'"&H$11&"'!$C$14:$C$10013"),$C83),"")) | I83: =IF(OR($C83="",I$11=""),"",IFERROR(SUMIFS(INDIRECT("'"&I$11&"'!$F$14:$F$10013"),INDIRECT("'"&I$11&"'!$C$14:$C$10013"),$C83),"")) | J83: =IF(OR($C83="",J$11=""),"",IFERROR(SUMIFS(INDIRECT("'"&J$11&"'!$F$14:$F$10013"),INDIRECT("'"&J$11&"'!$C$14:$C$10013"),$C83),"")) | K83: =IF(OR($C83="",K$11=""),"",IFERROR(SUMIFS(INDIRECT("'"&K$11&"'!$F$14:$F$10013"),INDIRECT("'"&K$11&"'!$C$14:$C$10013"),$C83),"")) | ... R83: =IF(OR($C83="",R$11=""),"",IFERROR(SUMIFS(INDIRECT("'"&R$11&"'!$F$14:$F$10013"),INDIRECT("'"&R$11&"'!$C$14:$C$10013"),$C83),"")) | S83: =IF($C83="","",SUM(D83:R83)) | T83: =IF($C83="","",SUMIFS(Overview!$G$18:$G$32,Overview!$D$18:$D$32,"<="&$C83,Overview!$E$18:$E$32,">="&$C83)) | U83: =IF(OR($C83="",Overview!$I$33=""),"",IF($C83>Overview!$I$33,"",SUM($S$12:S83))) | V83: =IF($C83="","",SUM($T$12:T83)) | W83: =IF(OR(U83="",V83="",V83=0),"",U83/V83)
C84: =IF(OR(Overview!$D$33="",Overview!$E$33=""),"",IF(Overview!$D$33+72>Overview!$E$33,"",Overview!$D$33+72)) | D84: =IF(OR($C84="",D$11=""),"",IFERROR(SUMIFS(INDIRECT("'"&D$11&"'!$F$14:$F$10013"),INDIRECT("'"&D$11&"'!$C$14:$C$10013"),$C84),"")) | E84: =IF(OR($C84="",E$11=""),"",IFERROR(SUMIFS(INDIRECT("'"&E$11&"'!$F$14:$F$10013"),INDIRECT("'"&E$11&"'!$C$14:$C$10013"),$C84),"")) | F84: =IF(OR($C84="",F$11=""),"",IFERROR(SUMIFS(INDIRECT("'"&F$11&"'!$F$14:$F$10013"),INDIRECT("'"&F$11&"'!$C$14:$C$10013"),$C84),"")) | G84: =IF(OR($C84="",G$11=""),"",IFERROR(SUMIFS(INDIRECT("'"&G$11&"'!$F$14:$F$10013"),INDIRECT("'"&G$11&"'!$C$14:$C$10013"),$C84),"")) | H84: =IF(OR($C84="",H$11=""),"",IFERROR(SUMIFS(INDIRECT("'"&H$11&"'!$F$14:$F$10013"),INDIRECT("'"&H$11&"'!$C$14:$C$10013"),$C84),"")) | I84: =IF(OR($C84="",I$11=""),"",IFERROR(SUMIFS(INDIRECT("'"&I$11&"'!$F$14:$F$10013"),INDIRECT("'"&I$11&"'!$C$14:$C$10013"),$C84),"")) | J84: =IF(OR($C84="",J$11=""),"",IFERROR(SUMIFS(INDIRECT("'"&J$11&"'!$F$14:$F$10013"),INDIRECT("'"&J$11&"'!$C$14:$C$10013"),$C84),"")) | K84: =IF(OR($C84="",K$11=""),"",IFERROR(SUMIFS(INDIRECT("'"&K$11&"'!$F$14:$F$10013"),INDIRECT("'"&K$11&"'!$C$14:$C$10013"),$C84),"")) | ... R84: =IF(OR($C84="",R$11=""),"",IFERROR(SUMIFS(INDIRECT("'"&R$11&"'!$F$14:$F$10013"),INDIRECT("'"&R$11&"'!$C$14:$C$10013"),$C84),"")) | S84: =IF($C84="","",SUM(D84:R84)) | T84: =IF($C84="","",SUMIFS(Overview!$G$18:$G$32,Overview!$D$18:$D$32,"<="&$C84,Overview!$E$18:$E$32,">="&$C84)) | U84: =IF(OR($C84="",Overview!$I$33=""),"",IF($C84>Overview!$I$33,"",SUM($S$12:S84))) | V84: =IF($C84="","",SUM($T$12:T84)) | W84: =IF(OR(U84="",V84="",V84=0),"",U84/V84)
C85: =IF(OR(Overview!$D$33="",Overview!$E$33=""),"",IF(Overview!$D$33+73>Overview!$E$33,"",Overview!$D$33+73)) | D85: =IF(OR($C85="",D$11=""),"",IFERROR(SUMIFS(INDIRECT("'"&D$11&"'!$F$14:$F$10013"),INDIRECT("'"&D$11&"'!$C$14:$C$10013"),$C85),"")) | E85: =IF(OR($C85="",E$11=""),"",IFERROR(SUMIFS(INDIRECT("'"&E$11&"'!$F$14:$F$10013"),INDIRECT("'"&E$11&"'!$C$14:$C$10013"),$C85),"")) | F85: =IF(OR($C85="",F$11=""),"",IFERROR(SUMIFS(INDIRECT("'"&F$11&"'!$F$14:$F$10013"),INDIRECT("'"&F$11&"'!$C$14:$C$10013"),$C85),"")) | G85: =IF(OR($C85="",G$11=""),"",IFERROR(SUMIFS(INDIRECT("'"&G$11&"'!$F$14:$F$10013"),INDIRECT("'"&G$11&"'!$C$14:$C$10013"),$C85),"")) | H85: =IF(OR($C85="",H$11=""),"",IFERROR(SUMIFS(INDIRECT("'"&H$11&"'!$F$14:$F$10013"),INDIRECT("'"&H$11&"'!$C$14:$C$10013"),$C85),"")) | I85: =IF(OR($C85="",I$11=""),"",IFERROR(SUMIFS(INDIRECT("'"&I$11&"'!$F$14:$F$10013"),INDIRECT("'"&I$11&"'!$C$14:$C$10013"),$C85),"")) | J85: =IF(OR($C85="",J$11=""),"",IFERROR(SUMIFS(INDIRECT("'"&J$11&"'!$F$14:$F$10013"),INDIRECT("'"&J$11&"'!$C$14:$C$10013"),$C85),"")) | K85: =IF(OR($C85="",K$11=""),"",IFERROR(SUMIFS(INDIRECT("'"&K$11&"'!$F$14:$F$10013"),INDIRECT("'"&K$11&"'!$C$14:$C$10013"),$C85),"")) | ... R85: =IF(OR($C85="",R$11=""),"",IFERROR(SUMIFS(INDIRECT("'"&R$11&"'!$F$14:$F$10013"),INDIRECT("'"&R$11&"'!$C$14:$C$10013"),$C85),"")) | S85: =IF($C85="","",SUM(D85:R85)) | T85: =IF($C85="","",SUMIFS(Overview!$G$18:$G$32,Overview!$D$18:$D$32,"<="&$C85,Overview!$E$18:$E$32,">="&$C85)) | U85: =IF(OR($C85="",Overview!$I$33=""),"",IF($C85>Overview!$I$33,"",SUM($S$12:S85))) | V85: =IF($C85="","",SUM($T$12:T85)) | W85: =IF(OR(U85="",V85="",V85=0),"",U85/V85)
C86: =IF(OR(Overview!$D$33="",Overview!$E$33=""),"",IF(Overview!$D$33+74>Overview!$E$33,"",Overview!$D$33+74)) | D86: =IF(OR($C86="",D$11=""),"",IFERROR(SUMIFS(INDIRECT("'"&D$11&"'!$F$14:$F$10013"),INDIRECT("'"&D$11&"'!$C$14:$C$10013"),$C86),"")) | E86: =IF(OR($C86="",E$11=""),"",IFERROR(SUMIFS(INDIRECT("'"&E$11&"'!$F$14:$F$10013"),INDIRECT("'"&E$11&"'!$C$14:$C$10013"),$C86),"")) | F86: =IF(OR($C86="",F$11=""),"",IFERROR(SUMIFS(INDIRECT("'"&F$11&"'!$F$14:$F$10013"),INDIRECT("'"&F$11&"'!$C$14:$C$10013"),$C86),"")) | G86: =IF(OR($C86="",G$11=""),"",IFERROR(SUMIFS(INDIRECT("'"&G$11&"'!$F$14:$F$10013"),INDIRECT("'"&G$11&"'!$C$14:$C$10013"),$C86),"")) | H86: =IF(OR($C86="",H$11=""),"",IFERROR(SUMIFS(INDIRECT("'"&H$11&"'!$F$14:$F$10013"),INDIRECT("'"&H$11&"'!$C$14:$C$10013"),$C86),"")) | I86: =IF(OR($C86="",I$11=""),"",IFERROR(SUMIFS(INDIRECT("'"&I$11&"'!$F$14:$F$10013"),INDIRECT("'"&I$11&"'!$C$14:$C$10013"),$C86),"")) | J86: =IF(OR($C86="",J$11=""),"",IFERROR(SUMIFS(INDIRECT("'"&J$11&"'!$F$14:$F$10013"),INDIRECT("'"&J$11&"'!$C$14:$C$10013"),$C86),"")) | K86: =IF(OR($C86="",K$11=""),"",IFERROR(SUMIFS(INDIRECT("'"&K$11&"'!$F$14:$F$10013"),INDIRECT("'"&K$11&"'!$C$14:$C$10013"),$C86),"")) | ... R86: =IF(OR($C86="",R$11=""),"",IFERROR(SUMIFS(INDIRECT("'"&R$11&"'!$F$14:$F$10013"),INDIRECT("'"&R$11&"'!$C$14:$C$10013"),$C86),"")) | S86: =IF($C86="","",SUM(D86:R86)) | T86: =IF($C86="","",SUMIFS(Overview!$G$18:$G$32,Overview!$D$18:$D$32,"<="&$C86,Overview!$E$18:$E$32,">="&$C86)) | U86: =IF(OR($C86="",Overview!$I$33=""),"",IF($C86>Overview!$I$33,"",SUM($S$12:S86))) | V86: =IF($C86="","",SUM($T$12:T86)) | W86: =IF(OR(U86="",V86="",V86=0),"",U86/V86)
C87: =IF(OR(Overview!$D$33="",Overview!$E$33=""),"",IF(Overview!$D$33+75>Overview!$E$33,"",Overview!$D$33+75)) | D87: =IF(OR($C87="",D$11=""),"",IFERROR(SUMIFS(INDIRECT("'"&D$11&"'!$F$14:$F$10013"),INDIRECT("'"&D$11&"'!$C$14:$C$10013"),$C87),"")) | E87: =IF(OR($C87="",E$11=""),"",IFERROR(SUMIFS(INDIRECT("'"&E$11&"'!$F$14:$F$10013"),INDIRECT("'"&E$11&"'!$C$14:$C$10013"),$C87),"")) | F87: =IF(OR($C87="",F$11=""),"",IFERROR(SUMIFS(INDIRECT("'"&F$11&"'!$F$14:$F$10013"),INDIRECT("'"&F$11&"'!$C$14:$C$10013"),$C87),"")) | G87: =IF(OR($C87="",G$11=""),"",IFERROR(SUMIFS(INDIRECT("'"&G$11&"'!$F$14:$F$10013"),INDIRECT("'"&G$11&"'!$C$14:$C$10013"),$C87),"")) | H87: =IF(OR($C87="",H$11=""),"",IFERROR(SUMIFS(INDIRECT("'"&H$11&"'!$F$14:$F$10013"),INDIRECT("'"&H$11&"'!$C$14:$C$10013"),$C87),"")) | I87: =IF(OR($C87="",I$11=""),"",IFERROR(SUMIFS(INDIRECT("'"&I$11&"'!$F$14:$F$10013"),INDIRECT("'"&I$11&"'!$C$14:$C$10013"),$C87),"")) | J87: =IF(OR($C87="",J$11=""),"",IFERROR(SUMIFS(INDIRECT("'"&J$11&"'!$F$14:$F$10013"),INDIRECT("'"&J$11&"'!$C$14:$C$10013"),$C87),"")) | K87: =IF(OR($C87="",K$11=""),"",IFERROR(SUMIFS(INDIRECT("'"&K$11&"'!$F$14:$F$10013"),INDIRECT("'"&K$11&"'!$C$14:$C$10013"),$C87),"")) | ... R87: =IF(OR($C87="",R$11=""),"",IFERROR(SUMIFS(INDIRECT("'"&R$11&"'!$F$14:$F$10013"),INDIRECT("'"&R$11&"'!$C$14:$C$10013"),$C87),"")) | S87: =IF($C87="","",SUM(D87:R87)) | T87: =IF($C87="","",SUMIFS(Overview!$G$18:$G$32,Overview!$D$18:$D$32,"<="&$C87,Overview!$E$18:$E$32,">="&$C87)) | U87: =IF(OR($C87="",Overview!$I$33=""),"",IF($C87>Overview!$I$33,"",SUM($S$12:S87))) | V87: =IF($C87="","",SUM($T$12:T87)) | W87: =IF(OR(U87="",V87="",V87=0),"",U87/V87)
C88: =IF(OR(Overview!$D$33="",Overview!$E$33=""),"",IF(Overview!$D$33+76>Overview!$E$33,"",Overview!$D$33+76)) | D88: =IF(OR($C88="",D$11=""),"",IFERROR(SUMIFS(INDIRECT("'"&D$11&"'!$F$14:$F$10013"),INDIRECT("'"&D$11&"'!$C$14:$C$10013"),$C88),"")) | E88: =IF(OR($C88="",E$11=""),"",IFERROR(SUMIFS(INDIRECT("'"&E$11&"'!$F$14:$F$10013"),INDIRECT("'"&E$11&"'!$C$14:$C$10013"),$C88),"")) | F88: =IF(OR($C88="",F$11=""),"",IFERROR(SUMIFS(INDIRECT("'"&F$11&"'!$F$14:$F$10013"),INDIRECT("'"&F$11&"'!$C$14:$C$10013"),$C88),"")) | G88: =IF(OR($C88="",G$11=""),"",IFERROR(SUMIFS(INDIRECT("'"&G$11&"'!$F$14:$F$10013"),INDIRECT("'"&G$11&"'!$C$14:$C$10013"),$C88),"")) | H88: =IF(OR($C88="",H$11=""),"",IFERROR(SUMIFS(INDIRECT("'"&H$11&"'!$F$14:$F$10013"),INDIRECT("'"&H$11&"'!$C$14:$C$10013"),$C88),"")) | I88: =IF(OR($C88="",I$11=""),"",IFERROR(SUMIFS(INDIRECT("'"&I$11&"'!$F$14:$F$10013"),INDIRECT("'"&I$11&"'!$C$14:$C$10013"),$C88),"")) | J88: =IF(OR($C88="",J$11=""),"",IFERROR(SUMIFS(INDIRECT("'"&J$11&"'!$F$14:$F$10013"),INDIRECT("'"&J$11&"'!$C$14:$C$10013"),$C88),"")) | K88: =IF(OR($C88="",K$11=""),"",IFERROR(SUMIFS(INDIRECT("'"&K$11&"'!$F$14:$F$10013"),INDIRECT("'"&K$11&"'!$C$14:$C$10013"),$C88),"")) | ... R88: =IF(OR($C88="",R$11=""),"",IFERROR(SUMIFS(INDIRECT("'"&R$11&"'!$F$14:$F$10013"),INDIRECT("'"&R$11&"'!$C$14:$C$10013"),$C88),"")) | S88: =IF($C88="","",SUM(D88:R88)) | T88: =IF($C88="","",SUMIFS(Overview!$G$18:$G$32,Overview!$D$18:$D$32,"<="&$C88,Overview!$E$18:$E$32,">="&$C88)) | U88: =IF(OR($C88="",Overview!$I$33=""),"",IF($C88>Overview!$I$33,"",SUM($S$12:S88))) | V88: =IF($C88="","",SUM($T$12:T88)) | W88: =IF(OR(U88="",V88="",V88=0),"",U88/V88)
C89: =IF(OR(Overview!$D$33="",Overview!$E$33=""),"",IF(Overview!$D$33+77>Overview!$E$33,"",Overview!$D$33+77)) | D89: =IF(OR($C89="",D$11=""),"",IFERROR(SUMIFS(INDIRECT("'"&D$11&"'!$F$14:$F$10013"),INDIRECT("'"&D$11&"'!$C$14:$C$10013"),$C89),"")) | E89: =IF(OR($C89="",E$11=""),"",IFERROR(SUMIFS(INDIRECT("'"&E$11&"'!$F$14:$F$10013"),INDIRECT("'"&E$11&"'!$C$14:$C$10013"),$C89),"")) | F89: =IF(OR($C89="",F$11=""),"",IFERROR(SUMIFS(INDIRECT("'"&F$11&"'!$F$14:$F$10013"),INDIRECT("'"&F$11&"'!$C$14:$C$10013"),$C89),"")) | G89: =IF(OR($C89="",G$11=""),"",IFERROR(SUMIFS(INDIRECT("'"&G$11&"'!$F$14:$F$10013"),INDIRECT("'"&G$11&"'!$C$14:$C$10013"),$C89),"")) | H89: =IF(OR($C89="",H$11=""),"",IFERROR(SUMIFS(INDIRECT("'"&H$11&"'!$F$14:$F$10013"),INDIRECT("'"&H$11&"'!$C$14:$C$10013"),$C89),"")) | I89: =IF(OR($C89="",I$11=""),"",IFERROR(SUMIFS(INDIRECT("'"&I$11&"'!$F$14:$F$10013"),INDIRECT("'"&I$11&"'!$C$14:$C$10013"),$C89),"")) | J89: =IF(OR($C89="",J$11=""),"",IFERROR(SUMIFS(INDIRECT("'"&J$11&"'!$F$14:$F$10013"),INDIRECT("'"&J$11&"'!$C$14:$C$10013"),$C89),"")) | K89: =IF(OR($C89="",K$11=""),"",IFERROR(SUMIFS(INDIRECT("'"&K$11&"'!$F$14:$F$10013"),INDIRECT("'"&K$11&"'!$C$14:$C$10013"),$C89),"")) | ... R89: =IF(OR($C89="",R$11=""),"",IFERROR(SUMIFS(INDIRECT("'"&R$11&"'!$F$14:$F$10013"),INDIRECT("'"&R$11&"'!$C$14:$C$10013"),$C89),"")) | S89: =IF($C89="","",SUM(D89:R89)) | T89: =IF($C89="","",SUMIFS(Overview!$G$18:$G$32,Overview!$D$18:$D$32,"<="&$C89,Overview!$E$18:$E$32,">="&$C89)) | U89: =IF(OR($C89="",Overview!$I$33=""),"",IF($C89>Overview!$I$33,"",SUM($S$12:S89))) | V89: =IF($C89="","",SUM($T$12:T89)) | W89: =IF(OR(U89="",V89="",V89=0),"",U89/V89)
C90: =IF(OR(Overview!$D$33="",Overview!$E$33=""),"",IF(Overview!$D$33+78>Overview!$E$33,"",Overview!$D$33+78)) | D90: =IF(OR($C90="",D$11=""),"",IFERROR(SUMIFS(INDIRECT("'"&D$11&"'!$F$14:$F$10013"),INDIRECT("'"&D$11&"'!$C$14:$C$10013"),$C90),"")) | E90: =IF(OR($C90="",E$11=""),"",IFERROR(SUMIFS(INDIRECT("'"&E$11&"'!$F$14:$F$10013"),INDIRECT("'"&E$11&"'!$C$14:$C$10013"),$C90),"")) | F90: =IF(OR($C90="",F$11=""),"",IFERROR(SUMIFS(INDIRECT("'"&F$11&"'!$F$14:$F$10013"),INDIRECT("'"&F$11&"'!$C$14:$C$10013"),$C90),"")) | G90: =IF(OR($C90="",G$11=""),"",IFERROR(SUMIFS(INDIRECT("'"&G$11&"'!$F$14:$F$10013"),INDIRECT("'"&G$11&"'!$C$14:$C$10013"),$C90),"")) | H90: =IF(OR($C90="",H$11=""),"",IFERROR(SUMIFS(INDIRECT("'"&H$11&"'!$F$14:$F$10013"),INDIRECT("'"&H$11&"'!$C$14:$C$10013"),$C90),"")) | I90: =IF(OR($C90="",I$11=""),"",IFERROR(SUMIFS(INDIRECT("'"&I$11&"'!$F$14:$F$10013"),INDIRECT("'"&I$11&"'!$C$14:$C$10013"),$C90),"")) | J90: =IF(OR($C90="",J$11=""),"",IFERROR(SUMIFS(INDIRECT("'"&J$11&"'!$F$14:$F$10013"),INDIRECT("'"&J$11&"'!$C$14:$C$10013"),$C90),"")) | K90: =IF(OR($C90="",K$11=""),"",IFERROR(SUMIFS(INDIRECT("'"&K$11&"'!$F$14:$F$10013"),INDIRECT("'"&K$11&"'!$C$14:$C$10013"),$C90),"")) | ... R90: =IF(OR($C90="",R$11=""),"",IFERROR(SUMIFS(INDIRECT("'"&R$11&"'!$F$14:$F$10013"),INDIRECT("'"&R$11&"'!$C$14:$C$10013"),$C90),"")) | S90: =IF($C90="","",SUM(D90:R90)) | T90: =IF($C90="","",SUMIFS(Overview!$G$18:$G$32,Overview!$D$18:$D$32,"<="&$C90,Overview!$E$18:$E$32,">="&$C90)) | U90: =IF(OR($C90="",Overview!$I$33=""),"",IF($C90>Overview!$I$33,"",SUM($S$12:S90))) | V90: =IF($C90="","",SUM($T$12:T90)) | W90: =IF(OR(U90="",V90="",V90=0),"",U90/V90)
C91: =IF(OR(Overview!$D$33="",Overview!$E$33=""),"",IF(Overview!$D$33+79>Overview!$E$33,"",Overview!$D$33+79)) | D91: =IF(OR($C91="",D$11=""),"",IFERROR(SUMIFS(INDIRECT("'"&D$11&"'!$F$14:$F$10013"),INDIRECT("'"&D$11&"'!$C$14:$C$10013"),$C91),"")) | E91: =IF(OR($C91="",E$11=""),"",IFERROR(SUMIFS(INDIRECT("'"&E$11&"'!$F$14:$F$10013"),INDIRECT("'"&E$11&"'!$C$14:$C$10013"),$C91),"")) | F91: =IF(OR($C91="",F$11=""),"",IFERROR(SUMIFS(INDIRECT("'"&F$11&"'!$F$14:$F$10013"),INDIRECT("'"&F$11&"'!$C$14:$C$10013"),$C91),"")) | G91: =IF(OR($C91="",G$11=""),"",IFERROR(SUMIFS(INDIRECT("'"&G$11&"'!$F$14:$F$10013"),INDIRECT("'"&G$11&"'!$C$14:$C$10013"),$C91),"")) | H91: =IF(OR($C91="",H$11=""),"",IFERROR(SUMIFS(INDIRECT("'"&H$11&"'!$F$14:$F$10013"),INDIRECT("'"&H$11&"'!$C$14:$C$10013"),$C91),"")) | I91: =IF(OR($C91="",I$11=""),"",IFERROR(SUMIFS(INDIRECT("'"&I$11&"'!$F$14:$F$10013"),INDIRECT("'"&I$11&"'!$C$14:$C$10013"),$C91),"")) | J91: =IF(OR($C91="",J$11=""),"",IFERROR(SUMIFS(INDIRECT("'"&J$11&"'!$F$14:$F$10013"),INDIRECT("'"&J$11&"'!$C$14:$C$10013"),$C91),"")) | K91: =IF(OR($C91="",K$11=""),"",IFERROR(SUMIFS(INDIRECT("'"&K$11&"'!$F$14:$F$10013"),INDIRECT("'"&K$11&"'!$C$14:$C$10013"),$C91),"")) | ... R91: =IF(OR($C91="",R$11=""),"",IFERROR(SUMIFS(INDIRECT("'"&R$11&"'!$F$14:$F$10013"),INDIRECT("'"&R$11&"'!$C$14:$C$10013"),$C91),"")) | S91: =IF($C91="","",SUM(D91:R91)) | T91: =IF($C91="","",SUMIFS(Overview!$G$18:$G$32,Overview!$D$18:$D$32,"<="&$C91,Overview!$E$18:$E$32,">="&$C91)) | U91: =IF(OR($C91="",Overview!$I$33=""),"",IF($C91>Overview!$I$33,"",SUM($S$12:S91))) | V91: =IF($C91="","",SUM($T$12:T91)) | W91: =IF(OR(U91="",V91="",V91=0),"",U91/V91)
C92: =IF(OR(Overview!$D$33="",Overview!$E$33=""),"",IF(Overview!$D$33+80>Overview!$E$33,"",Overview!$D$33+80)) | D92: =IF(OR($C92="",D$11=""),"",IFERROR(SUMIFS(INDIRECT("'"&D$11&"'!$F$14:$F$10013"),INDIRECT("'"&D$11&"'!$C$14:$C$10013"),$C92),"")) | E92: =IF(OR($C92="",E$11=""),"",IFERROR(SUMIFS(INDIRECT("'"&E$11&"'!$F$14:$F$10013"),INDIRECT("'"&E$11&"'!$C$14:$C$10013"),$C92),"")) | F92: =IF(OR($C92="",F$11=""),"",IFERROR(SUMIFS(INDIRECT("'"&F$11&"'!$F$14:$F$10013"),INDIRECT("'"&F$11&"'!$C$14:$C$10013"),$C92),"")) | G92: =IF(OR($C92="",G$11=""),"",IFERROR(SUMIFS(INDIRECT("'"&G$11&"'!$F$14:$F$10013"),INDIRECT("'"&G$11&"'!$C$14:$C$10013"),$C92),"")) | H92: =IF(OR($C92="",H$11=""),"",IFERROR(SUMIFS(INDIRECT("'"&H$11&"'!$F$14:$F$10013"),INDIRECT("'"&H$11&"'!$C$14:$C$10013"),$C92),"")) | I92: =IF(OR($C92="",I$11=""),"",IFERROR(SUMIFS(INDIRECT("'"&I$11&"'!$F$14:$F$10013"),INDIRECT("'"&I$11&"'!$C$14:$C$10013"),$C92),"")) | J92: =IF(OR($C92="",J$11=""),"",IFERROR(SUMIFS(INDIRECT("'"&J$11&"'!$F$14:$F$10013"),INDIRECT("'"&J$11&"'!$C$14:$C$10013"),$C92),"")) | K92: =IF(OR($C92="",K$11=""),"",IFERROR(SUMIFS(INDIRECT("'"&K$11&"'!$F$14:$F$10013"),INDIRECT("'"&K$11&"'!$C$14:$C$10013"),$C92),"")) | ... R92: =IF(OR($C92="",R$11=""),"",IFERROR(SUMIFS(INDIRECT("'"&R$11&"'!$F$14:$F$10013"),INDIRECT("'"&R$11&"'!$C$14:$C$10013"),$C92),"")) | S92: =IF($C92="","",SUM(D92:R92)) | T92: =IF($C92="","",SUMIFS(Overview!$G$18:$G$32,Overview!$D$18:$D$32,"<="&$C92,Overview!$E$18:$E$32,">="&$C92)) | U92: =IF(OR($C92="",Overview!$I$33=""),"",IF($C92>Overview!$I$33,"",SUM($S$12:S92))) | V92: =IF($C92="","",SUM($T$12:T92)) | W92: =IF(OR(U92="",V92="",V92=0),"",U92/V92)
C93: =IF(OR(Overview!$D$33="",Overview!$E$33=""),"",IF(Overview!$D$33+81>Overview!$E$33,"",Overview!$D$33+81)) | D93: =IF(OR($C93="",D$11=""),"",IFERROR(SUMIFS(INDIRECT("'"&D$11&"'!$F$14:$F$10013"),INDIRECT("'"&D$11&"'!$C$14:$C$10013"),$C93),"")) | E93: =IF(OR($C93="",E$11=""),"",IFERROR(SUMIFS(INDIRECT("'"&E$11&"'!$F$14:$F$10013"),INDIRECT("'"&E$11&"'!$C$14:$C$10013"),$C93),"")) | F93: =IF(OR($C93="",F$11=""),"",IFERROR(SUMIFS(INDIRECT("'"&F$11&"'!$F$14:$F$10013"),INDIRECT("'"&F$11&"'!$C$14:$C$10013"),$C93),"")) | G93: =IF(OR($C93="",G$11=""),"",IFERROR(SUMIFS(INDIRECT("'"&G$11&"'!$F$14:$F$10013"),INDIRECT("'"&G$11&"'!$C$14:$C$10013"),$C93),"")) | H93: =IF(OR($C93="",H$11=""),"",IFERROR(SUMIFS(INDIRECT("'"&H$11&"'!$F$14:$F$10013"),INDIRECT("'"&H$11&"'!$C$14:$C$10013"),$C93),"")) | I93: =IF(OR($C93="",I$11=""),"",IFERROR(SUMIFS(INDIRECT("'"&I$11&"'!$F$14:$F$10013"),INDIRECT("'"&I$11&"'!$C$14:$C$10013"),$C93),"")) | J93: =IF(OR($C93="",J$11=""),"",IFERROR(SUMIFS(INDIRECT("'"&J$11&"'!$F$14:$F$10013"),INDIRECT("'"&J$11&"'!$C$14:$C$10013"),$C93),"")) | K93: =IF(OR($C93="",K$11=""),"",IFERROR(SUMIFS(INDIRECT("'"&K$11&"'!$F$14:$F$10013"),INDIRECT("'"&K$11&"'!$C$14:$C$10013"),$C93),"")) | ... R93: =IF(OR($C93="",R$11=""),"",IFERROR(SUMIFS(INDIRECT("'"&R$11&"'!$F$14:$F$10013"),INDIRECT("'"&R$11&"'!$C$14:$C$10013"),$C93),"")) | S93: =IF($C93="","",SUM(D93:R93)) | T93: =IF($C93="","",SUMIFS(Overview!$G$18:$G$32,Overview!$D$18:$D$32,"<="&$C93,Overview!$E$18:$E$32,">="&$C93)) | U93: =IF(OR($C93="",Overview!$I$33=""),"",IF($C93>Overview!$I$33,"",SUM($S$12:S93))) | V93: =IF($C93="","",SUM($T$12:T93)) | W93: =IF(OR(U93="",V93="",V93=0),"",U93/V93)
C94: =IF(OR(Overview!$D$33="",Overview!$E$33=""),"",IF(Overview!$D$33+82>Overview!$E$33,"",Overview!$D$33+82)) | D94: =IF(OR($C94="",D$11=""),"",IFERROR(SUMIFS(INDIRECT("'"&D$11&"'!$F$14:$F$10013"),INDIRECT("'"&D$11&"'!$C$14:$C$10013"),$C94),"")) | E94: =IF(OR($C94="",E$11=""),"",IFERROR(SUMIFS(INDIRECT("'"&E$11&"'!$F$14:$F$10013"),INDIRECT("'"&E$11&"'!$C$14:$C$10013"),$C94),"")) | F94: =IF(OR($C94="",F$11=""),"",IFERROR(SUMIFS(INDIRECT("'"&F$11&"'!$F$14:$F$10013"),INDIRECT("'"&F$11&"'!$C$14:$C$10013"),$C94),"")) | G94: =IF(OR($C94="",G$11=""),"",IFERROR(SUMIFS(INDIRECT("'"&G$11&"'!$F$14:$F$10013"),INDIRECT("'"&G$11&"'!$C$14:$C$10013"),$C94),"")) | H94: =IF(OR($C94="",H$11=""),"",IFERROR(SUMIFS(INDIRECT("'"&H$11&"'!$F$14:$F$10013"),INDIRECT("'"&H$11&"'!$C$14:$C$10013"),$C94),"")) | I94: =IF(OR($C94="",I$11=""),"",IFERROR(SUMIFS(INDIRECT("'"&I$11&"'!$F$14:$F$10013"),INDIRECT("'"&I$11&"'!$C$14:$C$10013"),$C94),"")) | J94: =IF(OR($C94="",J$11=""),"",IFERROR(SUMIFS(INDIRECT("'"&J$11&"'!$F$14:$F$10013"),INDIRECT("'"&J$11&"'!$C$14:$C$10013"),$C94),"")) | K94: =IF(OR($C94="",K$11=""),"",IFERROR(SUMIFS(INDIRECT("'"&K$11&"'!$F$14:$F$10013"),INDIRECT("'"&K$11&"'!$C$14:$C$10013"),$C94),"")) | ... R94: =IF(OR($C94="",R$11=""),"",IFERROR(SUMIFS(INDIRECT("'"&R$11&"'!$F$14:$F$10013"),INDIRECT("'"&R$11&"'!$C$14:$C$10013"),$C94),"")) | S94: =IF($C94="","",SUM(D94:R94)) | T94: =IF($C94="","",SUMIFS(Overview!$G$18:$G$32,Overview!$D$18:$D$32,"<="&$C94,Overview!$E$18:$E$32,">="&$C94)) | U94: =IF(OR($C94="",Overview!$I$33=""),"",IF($C94>Overview!$I$33,"",SUM($S$12:S94))) | V94: =IF($C94="","",SUM($T$12:T94)) | W94: =IF(OR(U94="",V94="",V94=0),"",U94/V94)
C95: =IF(OR(Overview!$D$33="",Overview!$E$33=""),"",IF(Overview!$D$33+83>Overview!$E$33,"",Overview!$D$33+83)) | D95: =IF(OR($C95="",D$11=""),"",IFERROR(SUMIFS(INDIRECT("'"&D$11&"'!$F$14:$F$10013"),INDIRECT("'"&D$11&"'!$C$14:$C$10013"),$C95),"")) | E95: =IF(OR($C95="",E$11=""),"",IFERROR(SUMIFS(INDIRECT("'"&E$11&"'!$F$14:$F$10013"),INDIRECT("'"&E$11&"'!$C$14:$C$10013"),$C95),"")) | F95: =IF(OR($C95="",F$11=""),"",IFERROR(SUMIFS(INDIRECT("'"&F$11&"'!$F$14:$F$10013"),INDIRECT("'"&F$11&"'!$C$14:$C$10013"),$C95),"")) | G95: =IF(OR($C95="",G$11=""),"",IFERROR(SUMIFS(INDIRECT("'"&G$11&"'!$F$14:$F$10013"),INDIRECT("'"&G$11&"'!$C$14:$C$10013"),$C95),"")) | H95: =IF(OR($C95="",H$11=""),"",IFERROR(SUMIFS(INDIRECT("'"&H$11&"'!$F$14:$F$10013"),INDIRECT("'"&H$11&"'!$C$14:$C$10013"),$C95),"")) | I95: =IF(OR($C95="",I$11=""),"",IFERROR(SUMIFS(INDIRECT("'"&I$11&"'!$F$14:$F$10013"),INDIRECT("'"&I$11&"'!$C$14:$C$10013"),$C95),"")) | J95: =IF(OR($C95="",J$11=""),"",IFERROR(SUMIFS(INDIRECT("'"&J$11&"'!$F$14:$F$10013"),INDIRECT("'"&J$11&"'!$C$14:$C$10013"),$C95),"")) | K95: =IF(OR($C95="",K$11=""),"",IFERROR(SUMIFS(INDIRECT("'"&K$11&"'!$F$14:$F$10013"),INDIRECT("'"&K$11&"'!$C$14:$C$10013"),$C95),"")) | ... R95: =IF(OR($C95="",R$11=""),"",IFERROR(SUMIFS(INDIRECT("'"&R$11&"'!$F$14:$F$10013"),INDIRECT("'"&R$11&"'!$C$14:$C$10013"),$C95),"")) | S95: =IF($C95="","",SUM(D95:R95)) | T95: =IF($C95="","",SUMIFS(Overview!$G$18:$G$32,Overview!$D$18:$D$32,"<="&$C95,Overview!$E$18:$E$32,">="&$C95)) | U95: =IF(OR($C95="",Overview!$I$33=""),"",IF($C95>Overview!$I$33,"",SUM($S$12:S95))) | V95: =IF($C95="","",SUM($T$12:T95)) | W95: =IF(OR(U95="",V95="",V95=0),"",U95/V95)
C96: =IF(OR(Overview!$D$33="",Overview!$E$33=""),"",IF(Overview!$D$33+84>Overview!$E$33,"",Overview!$D$33+84)) | D96: =IF(OR($C96="",D$11=""),"",IFERROR(SUMIFS(INDIRECT("'"&D$11&"'!$F$14:$F$10013"),INDIRECT("'"&D$11&"'!$C$14:$C$10013"),$C96),"")) | E96: =IF(OR($C96="",E$11=""),"",IFERROR(SUMIFS(INDIRECT("'"&E$11&"'!$F$14:$F$10013"),INDIRECT("'"&E$11&"'!$C$14:$C$10013"),$C96),"")) | F96: =IF(OR($C96="",F$11=""),"",IFERROR(SUMIFS(INDIRECT("'"&F$11&"'!$F$14:$F$10013"),INDIRECT("'"&F$11&"'!$C$14:$C$10013"),$C96),"")) | G96: =IF(OR($C96="",G$11=""),"",IFERROR(SUMIFS(INDIRECT("'"&G$11&"'!$F$14:$F$10013"),INDIRECT("'"&G$11&"'!$C$14:$C$10013"),$C96),"")) | H96: =IF(OR($C96="",H$11=""),"",IFERROR(SUMIFS(INDIRECT("'"&H$11&"'!$F$14:$F$10013"),INDIRECT("'"&H$11&"'!$C$14:$C$10013"),$C96),"")) | I96: =IF(OR($C96="",I$11=""),"",IFERROR(SUMIFS(INDIRECT("'"&I$11&"'!$F$14:$F$10013"),INDIRECT("'"&I$11&"'!$C$14:$C$10013"),$C96),"")) | J96: =IF(OR($C96="",J$11=""),"",IFERROR(SUMIFS(INDIRECT("'"&J$11&"'!$F$14:$F$10013"),INDIRECT("'"&J$11&"'!$C$14:$C$10013"),$C96),"")) | K96: =IF(OR($C96="",K$11=""),"",IFERROR(SUMIFS(INDIRECT("'"&K$11&"'!$F$14:$F$10013"),INDIRECT("'"&K$11&"'!$C$14:$C$10013"),$C96),"")) | ... R96: =IF(OR($C96="",R$11=""),"",IFERROR(SUMIFS(INDIRECT("'"&R$11&"'!$F$14:$F$10013"),INDIRECT("'"&R$11&"'!$C$14:$C$10013"),$C96),"")) | S96: =IF($C96="","",SUM(D96:R96)) | T96: =IF($C96="","",SUMIFS(Overview!$G$18:$G$32,Overview!$D$18:$D$32,"<="&$C96,Overview!$E$18:$E$32,">="&$C96)) | U96: =IF(OR($C96="",Overview!$I$33=""),"",IF($C96>Overview!$I$33,"",SUM($S$12:S96))) | V96: =IF($C96="","",SUM($T$12:T96)) | W96: =IF(OR(U96="",V96="",V96=0),"",U96/V96)
C97: =IF(OR(Overview!$D$33="",Overview!$E$33=""),"",IF(Overview!$D$33+85>Overview!$E$33,"",Overview!$D$33+85)) | D97: =IF(OR($C97="",D$11=""),"",IFERROR(SUMIFS(INDIRECT("'"&D$11&"'!$F$14:$F$10013"),INDIRECT("'"&D$11&"'!$C$14:$C$10013"),$C97),"")) | E97: =IF(OR($C97="",E$11=""),"",IFERROR(SUMIFS(INDIRECT("'"&E$11&"'!$F$14:$F$10013"),INDIRECT("'"&E$11&"'!$C$14:$C$10013"),$C97),"")) | F97: =IF(OR($C97="",F$11=""),"",IFERROR(SUMIFS(INDIRECT("'"&F$11&"'!$F$14:$F$10013"),INDIRECT("'"&F$11&"'!$C$14:$C$10013"),$C97),"")) | G97: =IF(OR($C97="",G$11=""),"",IFERROR(SUMIFS(INDIRECT("'"&G$11&"'!$F$14:$F$10013"),INDIRECT("'"&G$11&"'!$C$14:$C$10013"),$C97),"")) | H97: =IF(OR($C97="",H$11=""),"",IFERROR(SUMIFS(INDIRECT("'"&H$11&"'!$F$14:$F$10013"),INDIRECT("'"&H$11&"'!$C$14:$C$10013"),$C97),"")) | I97: =IF(OR($C97="",I$11=""),"",IFERROR(SUMIFS(INDIRECT("'"&I$11&"'!$F$14:$F$10013"),INDIRECT("'"&I$11&"'!$C$14:$C$10013"),$C97),"")) | J97: =IF(OR($C97="",J$11=""),"",IFERROR(SUMIFS(INDIRECT("'"&J$11&"'!$F$14:$F$10013"),INDIRECT("'"&J$11&"'!$C$14:$C$10013"),$C97),"")) | K97: =IF(OR($C97="",K$11=""),"",IFERROR(SUMIFS(INDIRECT("'"&K$11&"'!$F$14:$F$10013"),INDIRECT("'"&K$11&"'!$C$14:$C$10013"),$C97),"")) | ... R97: =IF(OR($C97="",R$11=""),"",IFERROR(SUMIFS(INDIRECT("'"&R$11&"'!$F$14:$F$10013"),INDIRECT("'"&R$11&"'!$C$14:$C$10013"),$C97),"")) | S97: =IF($C97="","",SUM(D97:R97)) | T97: =IF($C97="","",SUMIFS(Overview!$G$18:$G$32,Overview!$D$18:$D$32,"<="&$C97,Overview!$E$18:$E$32,">="&$C97)) | U97: =IF(OR($C97="",Overview!$I$33=""),"",IF($C97>Overview!$I$33,"",SUM($S$12:S97))) | V97: =IF($C97="","",SUM($T$12:T97)) | W97: =IF(OR(U97="",V97="",V97=0),"",U97/V97)
C98: =IF(OR(Overview!$D$33="",Overview!$E$33=""),"",IF(Overview!$D$33+86>Overview!$E$33,"",Overview!$D$33+86)) | D98: =IF(OR($C98="",D$11=""),"",IFERROR(SUMIFS(INDIRECT("'"&D$11&"'!$F$14:$F$10013"),INDIRECT("'"&D$11&"'!$C$14:$C$10013"),$C98),"")) | E98: =IF(OR($C98="",E$11=""),"",IFERROR(SUMIFS(INDIRECT("'"&E$11&"'!$F$14:$F$10013"),INDIRECT("'"&E$11&"'!$C$14:$C$10013"),$C98),"")) | F98: =IF(OR($C98="",F$11=""),"",IFERROR(SUMIFS(INDIRECT("'"&F$11&"'!$F$14:$F$10013"),INDIRECT("'"&F$11&"'!$C$14:$C$10013"),$C98),"")) | G98: =IF(OR($C98="",G$11=""),"",IFERROR(SUMIFS(INDIRECT("'"&G$11&"'!$F$14:$F$10013"),INDIRECT("'"&G$11&"'!$C$14:$C$10013"),$C98),"")) | H98: =IF(OR($C98="",H$11=""),"",IFERROR(SUMIFS(INDIRECT("'"&H$11&"'!$F$14:$F$10013"),INDIRECT("'"&H$11&"'!$C$14:$C$10013"),$C98),"")) | I98: =IF(OR($C98="",I$11=""),"",IFERROR(SUMIFS(INDIRECT("'"&I$11&"'!$F$14:$F$10013"),INDIRECT("'"&I$11&"'!$C$14:$C$10013"),$C98),"")) | J98: =IF(OR($C98="",J$11=""),"",IFERROR(SUMIFS(INDIRECT("'"&J$11&"'!$F$14:$F$10013"),INDIRECT("'"&J$11&"'!$C$14:$C$10013"),$C98),"")) | K98: =IF(OR($C98="",K$11=""),"",IFERROR(SUMIFS(INDIRECT("'"&K$11&"'!$F$14:$F$10013"),INDIRECT("'"&K$11&"'!$C$14:$C$10013"),$C98),"")) | ... R98: =IF(OR($C98="",R$11=""),"",IFERROR(SUMIFS(INDIRECT("'"&R$11&"'!$F$14:$F$10013"),INDIRECT("'"&R$11&"'!$C$14:$C$10013"),$C98),"")) | S98: =IF($C98="","",SUM(D98:R98)) | T98: =IF($C98="","",SUMIFS(Overview!$G$18:$G$32,Overview!$D$18:$D$32,"<="&$C98,Overview!$E$18:$E$32,">="&$C98)) | U98: =IF(OR($C98="",Overview!$I$33=""),"",IF($C98>Overview!$I$33,"",SUM($S$12:S98))) | V98: =IF($C98="","",SUM($T$12:T98)) | W98: =IF(OR(U98="",V98="",V98=0),"",U98/V98)
C99: =IF(OR(Overview!$D$33="",Overview!$E$33=""),"",IF(Overview!$D$33+87>Overview!$E$33,"",Overview!$D$33+87)) | D99: =IF(OR($C99="",D$11=""),"",IFERROR(SUMIFS(INDIRECT("'"&D$11&"'!$F$14:$F$10013"),INDIRECT("'"&D$11&"'!$C$14:$C$10013"),$C99),"")) | E99: =IF(OR($C99="",E$11=""),"",IFERROR(SUMIFS(INDIRECT("'"&E$11&"'!$F$14:$F$10013"),INDIRECT("'"&E$11&"'!$C$14:$C$10013"),$C99),"")) | F99: =IF(OR($C99="",F$11=""),"",IFERROR(SUMIFS(INDIRECT("'"&F$11&"'!$F$14:$F$10013"),INDIRECT("'"&F$11&"'!$C$14:$C$10013"),$C99),"")) | G99: =IF(OR($C99="",G$11=""),"",IFERROR(SUMIFS(INDIRECT("'"&G$11&"'!$F$14:$F$10013"),INDIRECT("'"&G$11&"'!$C$14:$C$10013"),$C99),"")) | H99: =IF(OR($C99="",H$11=""),"",IFERROR(SUMIFS(INDIRECT("'"&H$11&"'!$F$14:$F$10013"),INDIRECT("'"&H$11&"'!$C$14:$C$10013"),$C99),"")) | I99: =IF(OR($C99="",I$11=""),"",IFERROR(SUMIFS(INDIRECT("'"&I$11&"'!$F$14:$F$10013"),INDIRECT("'"&I$11&"'!$C$14:$C$10013"),$C99),"")) | J99: =IF(OR($C99="",J$11=""),"",IFERROR(SUMIFS(INDIRECT("'"&J$11&"'!$F$14:$F$10013"),INDIRECT("'"&J$11&"'!$C$14:$C$10013"),$C99),"")) | K99: =IF(OR($C99="",K$11=""),"",IFERROR(SUMIFS(INDIRECT("'"&K$11&"'!$F$14:$F$10013"),INDIRECT("'"&K$11&"'!$C$14:$C$10013"),$C99),"")) | ... R99: =IF(OR($C99="",R$11=""),"",IFERROR(SUMIFS(INDIRECT("'"&R$11&"'!$F$14:$F$10013"),INDIRECT("'"&R$11&"'!$C$14:$C$10013"),$C99),"")) | S99: =IF($C99="","",SUM(D99:R99)) | T99: =IF($C99="","",SUMIFS(Overview!$G$18:$G$32,Overview!$D$18:$D$32,"<="&$C99,Overview!$E$18:$E$32,">="&$C99)) | U99: =IF(OR($C99="",Overview!$I$33=""),"",IF($C99>Overview!$I$33,"",SUM($S$12:S99))) | V99: =IF($C99="","",SUM($T$12:T99)) | W99: =IF(OR(U99="",V99="",V99=0),"",U99/V99)
C100: =IF(OR(Overview!$D$33="",Overview!$E$33=""),"",IF(Overview!$D$33+88>Overview!$E$33,"",Overview!$D$33+88)) | D100: =IF(OR($C100="",D$11=""),"",IFERROR(SUMIFS(INDIRECT("'"&D$11&"'!$F$14:$F$10013"),INDIRECT("'"&D$11&"'!$C$14:$C$10013"),$C100),"")) | E100: =IF(OR($C100="",E$11=""),"",IFERROR(SUMIFS(INDIRECT("'"&E$11&"'!$F$14:$F$10013"),INDIRECT("'"&E$11&"'!$C$14:$C$10013"),$C100),"")) | F100: =IF(OR($C100="",F$11=""),"",IFERROR(SUMIFS(INDIRECT("'"&F$11&"'!$F$14:$F$10013"),INDIRECT("'"&F$11&"'!$C$14:$C$10013"),$C100),"")) | G100: =IF(OR($C100="",G$11=""),"",IFERROR(SUMIFS(INDIRECT("'"&G$11&"'!$F$14:$F$10013"),INDIRECT("'"&G$11&"'!$C$14:$C$10013"),$C100),"")) | H100: =IF(OR($C100="",H$11=""),"",IFERROR(SUMIFS(INDIRECT("'"&H$11&"'!$F$14:$F$10013"),INDIRECT("'"&H$11&"'!$C$14:$C$10013"),$C100),"")) | I100: =IF(OR($C100="",I$11=""),"",IFERROR(SUMIFS(INDIRECT("'"&I$11&"'!$F$14:$F$10013"),INDIRECT("'"&I$11&"'!$C$14:$C$10013"),$C100),"")) | J100: =IF(OR($C100="",J$11=""),"",IFERROR(SUMIFS(INDIRECT("'"&J$11&"'!$F$14:$F$10013"),INDIRECT("'"&J$11&"'!$C$14:$C$10013"),$C100),"")) | K100: =IF(OR($C100="",K$11=""),"",IFERROR(SUMIFS(INDIRECT("'"&K$11&"'!$F$14:$F$10013"),INDIRECT("'"&K$11&"'!$C$14:$C$10013"),$C100),"")) | ... R100: =IF(OR($C100="",R$11=""),"",IFERROR(SUMIFS(INDIRECT("'"&R$11&"'!$F$14:$F$10013"),INDIRECT("'"&R$11&"'!$C$14:$C$10013"),$C100),"")) | S100: =IF($C100="","",SUM(D100:R100)) | T100: =IF($C100="","",SUMIFS(Overview!$G$18:$G$32,Overview!$D$18:$D$32,"<="&$C100,Overview!$E$18:$E$32,">="&$C100)) | U100: =IF(OR($C100="",Overview!$I$33=""),"",IF($C100>Overview!$I$33,"",SUM($S$12:S100))) | V100: =IF($C100="","",SUM($T$12:T100)) | W100: =IF(OR(U100="",V100="",V100=0),"",U100/V100)
C101: =IF(OR(Overview!$D$33="",Overview!$E$33=""),"",IF(Overview!$D$33+89>Overview!$E$33,"",Overview!$D$33+89)) | D101: =IF(OR($C101="",D$11=""),"",IFERROR(SUMIFS(INDIRECT("'"&D$11&"'!$F$14:$F$10013"),INDIRECT("'"&D$11&"'!$C$14:$C$10013"),$C101),"")) | E101: =IF(OR($C101="",E$11=""),"",IFERROR(SUMIFS(INDIRECT("'"&E$11&"'!$F$14:$F$10013"),INDIRECT("'"&E$11&"'!$C$14:$C$10013"),$C101),"")) | F101: =IF(OR($C101="",F$11=""),"",IFERROR(SUMIFS(INDIRECT("'"&F$11&"'!$F$14:$F$10013"),INDIRECT("'"&F$11&"'!$C$14:$C$10013"),$C101),"")) | G101: =IF(OR($C101="",G$11=""),"",IFERROR(SUMIFS(INDIRECT("'"&G$11&"'!$F$14:$F$10013"),INDIRECT("'"&G$11&"'!$C$14:$C$10013"),$C101),"")) | H101: =IF(OR($C101="",H$11=""),"",IFERROR(SUMIFS(INDIRECT("'"&H$11&"'!$F$14:$F$10013"),INDIRECT("'"&H$11&"'!$C$14:$C$10013"),$C101),"")) | I101: =IF(OR($C101="",I$11=""),"",IFERROR(SUMIFS(INDIRECT("'"&I$11&"'!$F$14:$F$10013"),INDIRECT("'"&I$11&"'!$C$14:$C$10013"),$C101),"")) | J101: =IF(OR($C101="",J$11=""),"",IFERROR(SUMIFS(INDIRECT("'"&J$11&"'!$F$14:$F$10013"),INDIRECT("'"&J$11&"'!$C$14:$C$10013"),$C101),"")) | K101: =IF(OR($C101="",K$11=""),"",IFERROR(SUMIFS(INDIRECT("'"&K$11&"'!$F$14:$F$10013"),INDIRECT("'"&K$11&"'!$C$14:$C$10013"),$C101),"")) | ... R101: =IF(OR($C101="",R$11=""),"",IFERROR(SUMIFS(INDIRECT("'"&R$11&"'!$F$14:$F$10013"),INDIRECT("'"&R$11&"'!$C$14:$C$10013"),$C101),"")) | S101: =IF($C101="","",SUM(D101:R101)) | T101: =IF($C101="","",SUMIFS(Overview!$G$18:$G$32,Overview!$D$18:$D$32,"<="&$C101,Overview!$E$18:$E$32,">="&$C101)) | U101: =IF(OR($C101="",Overview!$I$33=""),"",IF($C101>Overview!$I$33,"",SUM($S$12:S101))) | V101: =IF($C101="","",SUM($T$12:T101)) | W101: =IF(OR(U101="",V101="",V101=0),"",U101/V101)
C102: =IF(OR(Overview!$D$33="",Overview!$E$33=""),"",IF(Overview!$D$33+90>Overview!$E$33,"",Overview!$D$33+90)) | D102: =IF(OR($C102="",D$11=""),"",IFERROR(SUMIFS(INDIRECT("'"&D$11&"'!$F$14:$F$10013"),INDIRECT("'"&D$11&"'!$C$14:$C$10013"),$C102),"")) | E102: =IF(OR($C102="",E$11=""),"",IFERROR(SUMIFS(INDIRECT("'"&E$11&"'!$F$14:$F$10013"),INDIRECT("'"&E$11&"'!$C$14:$C$10013"),$C102),"")) | F102: =IF(OR($C102="",F$11=""),"",IFERROR(SUMIFS(INDIRECT("'"&F$11&"'!$F$14:$F$10013"),INDIRECT("'"&F$11&"'!$C$14:$C$10013"),$C102),"")) | G102: =IF(OR($C102="",G$11=""),"",IFERROR(SUMIFS(INDIRECT("'"&G$11&"'!$F$14:$F$10013"),INDIRECT("'"&G$11&"'!$C$14:$C$10013"),$C102),"")) | H102: =IF(OR($C102="",H$11=""),"",IFERROR(SUMIFS(INDIRECT("'"&H$11&"'!$F$14:$F$10013"),INDIRECT("'"&H$11&"'!$C$14:$C$10013"),$C102),"")) | I102: =IF(OR($C102="",I$11=""),"",IFERROR(SUMIFS(INDIRECT("'"&I$11&"'!$F$14:$F$10013"),INDIRECT("'"&I$11&"'!$C$14:$C$10013"),$C102),"")) | J102: =IF(OR($C102="",J$11=""),"",IFERROR(SUMIFS(INDIRECT("'"&J$11&"'!$F$14:$F$10013"),INDIRECT("'"&J$11&"'!$C$14:$C$10013"),$C102),"")) | K102: =IF(OR($C102="",K$11=""),"",IFERROR(SUMIFS(INDIRECT("'"&K$11&"'!$F$14:$F$10013"),INDIRECT("'"&K$11&"'!$C$14:$C$10013"),$C102),"")) | ... R102: =IF(OR($C102="",R$11=""),"",IFERROR(SUMIFS(INDIRECT("'"&R$11&"'!$F$14:$F$10013"),INDIRECT("'"&R$11&"'!$C$14:$C$10013"),$C102),"")) | S102: =IF($C102="","",SUM(D102:R102)) | T102: =IF($C102="","",SUMIFS(Overview!$G$18:$G$32,Overview!$D$18:$D$32,"<="&$C102,Overview!$E$18:$E$32,">="&$C102)) | U102: =IF(OR($C102="",Overview!$I$33=""),"",IF($C102>Overview!$I$33,"",SUM($S$12:S102))) | V102: =IF($C102="","",SUM($T$12:T102)) | W102: =IF(OR(U102="",V102="",V102=0),"",U102/V102)
C103: =IF(OR(Overview!$D$33="",Overview!$E$33=""),"",IF(Overview!$D$33+91>Overview!$E$33,"",Overview!$D$33+91)) | D103: =IF(OR($C103="",D$11=""),"",IFERROR(SUMIFS(INDIRECT("'"&D$11&"'!$F$14:$F$10013"),INDIRECT("'"&D$11&"'!$C$14:$C$10013"),$C103),"")) | E103: =IF(OR($C103="",E$11=""),"",IFERROR(SUMIFS(INDIRECT("'"&E$11&"'!$F$14:$F$10013"),INDIRECT("'"&E$11&"'!$C$14:$C$10013"),$C103),"")) | F103: =IF(OR($C103="",F$11=""),"",IFERROR(SUMIFS(INDIRECT("'"&F$11&"'!$F$14:$F$10013"),INDIRECT("'"&F$11&"'!$C$14:$C$10013"),$C103),"")) | G103: =IF(OR($C103="",G$11=""),"",IFERROR(SUMIFS(INDIRECT("'"&G$11&"'!$F$14:$F$10013"),INDIRECT("'"&G$11&"'!$C$14:$C$10013"),$C103),"")) | H103: =IF(OR($C103="",H$11=""),"",IFERROR(SUMIFS(INDIRECT("'"&H$11&"'!$F$14:$F$10013"),INDIRECT("'"&H$11&"'!$C$14:$C$10013"),$C103),"")) | I103: =IF(OR($C103="",I$11=""),"",IFERROR(SUMIFS(INDIRECT("'"&I$11&"'!$F$14:$F$10013"),INDIRECT("'"&I$11&"'!$C$14:$C$10013"),$C103),"")) | J103: =IF(OR($C103="",J$11=""),"",IFERROR(SUMIFS(INDIRECT("'"&J$11&"'!$F$14:$F$10013"),INDIRECT("'"&J$11&"'!$C$14:$C$10013"),$C103),"")) | K103: =IF(OR($C103="",K$11=""),"",IFERROR(SUMIFS(INDIRECT("'"&K$11&"'!$F$14:$F$10013"),INDIRECT("'"&K$11&"'!$C$14:$C$10013"),$C103),"")) | ... R103: =IF(OR($C103="",R$11=""),"",IFERROR(SUMIFS(INDIRECT("'"&R$11&"'!$F$14:$F$10013"),INDIRECT("'"&R$11&"'!$C$14:$C$10013"),$C103),"")) | S103: =IF($C103="","",SUM(D103:R103)) | T103: =IF($C103="","",SUMIFS(Overview!$G$18:$G$32,Overview!$D$18:$D$32,"<="&$C103,Overview!$E$18:$E$32,">="&$C103)) | U103: =IF(OR($C103="",Overview!$I$33=""),"",IF($C103>Overview!$I$33,"",SUM($S$12:S103))) | V103: =IF($C103="","",SUM($T$12:T103)) | W103: =IF(OR(U103="",V103="",V103=0),"",U103/V103)
C104: =IF(OR(Overview!$D$33="",Overview!$E$33=""),"",IF(Overview!$D$33+92>Overview!$E$33,"",Overview!$D$33+92)) | D104: =IF(OR($C104="",D$11=""),"",IFERROR(SUMIFS(INDIRECT("'"&D$11&"'!$F$14:$F$10013"),INDIRECT("'"&D$11&"'!$C$14:$C$10013"),$C104),"")) | E104: =IF(OR($C104="",E$11=""),"",IFERROR(SUMIFS(INDIRECT("'"&E$11&"'!$F$14:$F$10013"),INDIRECT("'"&E$11&"'!$C$14:$C$10013"),$C104),"")) | F104: =IF(OR($C104="",F$11=""),"",IFERROR(SUMIFS(INDIRECT("'"&F$11&"'!$F$14:$F$10013"),INDIRECT("'"&F$11&"'!$C$14:$C$10013"),$C104),"")) | G104: =IF(OR($C104="",G$11=""),"",IFERROR(SUMIFS(INDIRECT("'"&G$11&"'!$F$14:$F$10013"),INDIRECT("'"&G$11&"'!$C$14:$C$10013"),$C104),"")) | H104: =IF(OR($C104="",H$11=""),"",IFERROR(SUMIFS(INDIRECT("'"&H$11&"'!$F$14:$F$10013"),INDIRECT("'"&H$11&"'!$C$14:$C$10013"),$C104),"")) | I104: =IF(OR($C104="",I$11=""),"",IFERROR(SUMIFS(INDIRECT("'"&I$11&"'!$F$14:$F$10013"),INDIRECT("'"&I$11&"'!$C$14:$C$10013"),$C104),"")) | J104: =IF(OR($C104="",J$11=""),"",IFERROR(SUMIFS(INDIRECT("'"&J$11&"'!$F$14:$F$10013"),INDIRECT("'"&J$11&"'!$C$14:$C$10013"),$C104),"")) | K104: =IF(OR($C104="",K$11=""),"",IFERROR(SUMIFS(INDIRECT("'"&K$11&"'!$F$14:$F$10013"),INDIRECT("'"&K$11&"'!$C$14:$C$10013"),$C104),"")) | ... R104: =IF(OR($C104="",R$11=""),"",IFERROR(SUMIFS(INDIRECT("'"&R$11&"'!$F$14:$F$10013"),INDIRECT("'"&R$11&"'!$C$14:$C$10013"),$C104),"")) | S104: =IF($C104="","",SUM(D104:R104)) | T104: =IF($C104="","",SUMIFS(Overview!$G$18:$G$32,Overview!$D$18:$D$32,"<="&$C104,Overview!$E$18:$E$32,">="&$C104)) | U104: =IF(OR($C104="",Overview!$I$33=""),"",IF($C104>Overview!$I$33,"",SUM($S$12:S104))) | V104: =IF($C104="","",SUM($T$12:T104)) | W104: =IF(OR(U104="",V104="",V104=0),"",U104/V104)
C105: =IF(OR(Overview!$D$33="",Overview!$E$33=""),"",IF(Overview!$D$33+93>Overview!$E$33,"",Overview!$D$33+93)) | D105: =IF(OR($C105="",D$11=""),"",IFERROR(SUMIFS(INDIRECT("'"&D$11&"'!$F$14:$F$10013"),INDIRECT("'"&D$11&"'!$C$14:$C$10013"),$C105),"")) | E105: =IF(OR($C105="",E$11=""),"",IFERROR(SUMIFS(INDIRECT("'"&E$11&"'!$F$14:$F$10013"),INDIRECT("'"&E$11&"'!$C$14:$C$10013"),$C105),"")) | F105: =IF(OR($C105="",F$11=""),"",IFERROR(SUMIFS(INDIRECT("'"&F$11&"'!$F$14:$F$10013"),INDIRECT("'"&F$11&"'!$C$14:$C$10013"),$C105),"")) | G105: =IF(OR($C105="",G$11=""),"",IFERROR(SUMIFS(INDIRECT("'"&G$11&"'!$F$14:$F$10013"),INDIRECT("'"&G$11&"'!$C$14:$C$10013"),$C105),"")) | H105: =IF(OR($C105="",H$11=""),"",IFERROR(SUMIFS(INDIRECT("'"&H$11&"'!$F$14:$F$10013"),INDIRECT("'"&H$11&"'!$C$14:$C$10013"),$C105),"")) | I105: =IF(OR($C105="",I$11=""),"",IFERROR(SUMIFS(INDIRECT("'"&I$11&"'!$F$14:$F$10013"),INDIRECT("'"&I$11&"'!$C$14:$C$10013"),$C105),"")) | J105: =IF(OR($C105="",J$11=""),"",IFERROR(SUMIFS(INDIRECT("'"&J$11&"'!$F$14:$F$10013"),INDIRECT("'"&J$11&"'!$C$14:$C$10013"),$C105),"")) | K105: =IF(OR($C105="",K$11=""),"",IFERROR(SUMIFS(INDIRECT("'"&K$11&"'!$F$14:$F$10013"),INDIRECT("'"&K$11&"'!$C$14:$C$10013"),$C105),"")) | ... R105: =IF(OR($C105="",R$11=""),"",IFERROR(SUMIFS(INDIRECT("'"&R$11&"'!$F$14:$F$10013"),INDIRECT("'"&R$11&"'!$C$14:$C$10013"),$C105),"")) | S105: =IF($C105="","",SUM(D105:R105)) | T105: =IF($C105="","",SUMIFS(Overview!$G$18:$G$32,Overview!$D$18:$D$32,"<="&$C105,Overview!$E$18:$E$32,">="&$C105)) | U105: =IF(OR($C105="",Overview!$I$33=""),"",IF($C105>Overview!$I$33,"",SUM($S$12:S105))) | V105: =IF($C105="","",SUM($T$12:T105)) | W105: =IF(OR(U105="",V105="",V105=0),"",U105/V105)
...

Sheet Meta
M2: =$D$6 -> Meta
C6: Channel | D6: Meta | E6: Rows Pasted | F6: =COUNTA($C$14:$C$10013) -> 48 | H6: In-Flight Spend | I6: =IFERROR(IF(INDEX(Overview!$H$18:$H$33,MATCH($D$6,Overview!$C$18:$C$33,0))="","",INDEX(Overview!$H$18:$H$33,MATCH($D$6,Overview!$C$18:$C$33,0))),"") -> 39494.85
C7: Start Date | D7: =IFERROR(IF(INDEX(Overview!$D$18:$D$33,MATCH($D$6,Overview!$C$18:$C$33,0))="","",INDEX(Overview!$D$18:$D$33,MATCH($D$6,Overview!$C$18:$C$33,0))),"") -> 46266 | E7: Spend Pasted | F7: =SUM($F$14:$F$10013) -> 39494.85 | H7: Pacing | I7: =IFERROR(IF(INDEX(Overview!$K$18:$K$33,MATCH($D$6,Overview!$C$18:$C$33,0))="","",INDEX(Overview!$K$18:$K$33,MATCH($D$6,Overview!$C$18:$C$33,0))),"") -> 0.98737125
C8: End Date | D8: =IFERROR(IF(INDEX(Overview!$E$18:$E$33,MATCH($D$6,Overview!$C$18:$C$33,0))="","",INDEX(Overview!$E$18:$E$33,MATCH($D$6,Overview!$C$18:$C$33,0))),"") -> 46295 | E8: Rows to Check | F8: =(COUNTA($C$14:$C$10013)-COUNT($C$14:$C$10013))+(COUNTA($F$14:$F$10013)-COUNT($F$14:$F$10013)) -> 0 | H8: Status | I8: =IFERROR(IF(INDEX(Overview!$L$18:$L$33,MATCH($D$6,Overview!$C$18:$C$33,0))="","",INDEX(Overview!$L$18:$L$33,MATCH($D$6,Overview!$C$18:$C$33,0))),"") -> On pace
C9: Budget | D9: =IFERROR(IF(INDEX(Overview!$F$18:$F$33,MATCH($D$6,Overview!$C$18:$C$33,0))="","",INDEX(Overview!$F$18:$F$33,MATCH($D$6,Overview!$C$18:$C$33,0))),"") -> 50000 | E9: Rows Outside Flight | F9: =IF(OR($D$7="",$D$8=""),"",COUNT($C$14:$C$10013)-COUNTIFS($C$14:$C$10013,">="&$D$7,$C$14:$C$10013,"<="&$D$8)) -> 0 | H9: =IF(ISNUMBER(MATCH($D$6,Overview!$C$18:$C$32,0)),"","Not linked yet: type "&CHAR(34)&$D$6&CHAR(34)&" into the Channel column on the Overview.")
C11: Daily Data | H11: Line Item Pacing (optional)
C12: Paste Values into columns C to F from row 14. One row per line item per day. | H12: Names must match column E exactly. Dates default to the channel flight; type over them if different.
C13: Date | D13: Campaign (Campaign name) | E13: Line Item (Ad set name) | F13: Spend | H13: Line Item | I13: Start Date | J13: End Date | K13: Budget | L13: Spend to Date | M13: Data up to | N13: Pacing | O13: Status | P13: Remaining | Q13: Required Daily
C14: 46266 | D14: Campaign name | E14: Prospecting | Broad | F14: 948.12 | H14: Prospecting | Broad | I14: =IF(OR(H14="",$D$7=""),"",$D$7) -> 46266 | J14: =IF(OR(H14="",$D$8=""),"",$D$8) -> 46295 | K14: 30000 | L14: =IF(OR(H14="",I14="",J14=""),"",SUMIFS($F$14:$F$10013,$E$14:$E$10013,H14,$C$14:$C$10013,">="&I14,$C$14:$C$10013,"<="&J14)) -> 23727.12 | M14: =IF(L14="","",IF(COUNTIFS($E$14:$E$10013,H14,$C$14:$C$10013,">="&I14,$C$14:$C$10013,"<="&J14)=0,"",_xlfn.MAXIFS($C$14:$C$10013,$E$14:$E$10013,H14,$C$14:$C$10013,">="&I14,$C$14:$C$10013,"<="&J14))) -> 46289 | N14: =IF(OR(M14="",K14="",K14=0),"",(L14/K14)/((M14-I14+1)/(J14-I14+1))) -> 0.98863 | O14: =IF(N14="","",IF(N14-1>Overview!$G$7,"Overpacing",IF(1-N14>Overview!$G$7,"Underpacing",IF(N14-1>Overview!$G$6,"Slightly over",IF(1-N14>Overview!$G$6,"Slightly under","On pace"))))) -> On pace | P14: =IF(OR(L14="",K14=""),"",K14-L14) -> 6272.88 | Q14: =IF(P14="","",IF(M14="",MAX(0,P14)/(J14-I14+1),IF(J14-M14<=0,"",MAX(0,P14)/(J14-M14)))) -> 1045.48
C15: 46266 | D15: Campaign name | E15: Retargeting | Site visitors | F15: 585.03 | H15: Retargeting | Site visitors | I15: =IF(OR(H15="",$D$7=""),"",$D$7) -> 46266 | J15: =IF(OR(H15="",$D$8=""),"",$D$8) -> 46295 | K15: 20000 | L15: =IF(OR(H15="",I15="",J15=""),"",SUMIFS($F$14:$F$10013,$E$14:$E$10013,H15,$C$14:$C$10013,">="&I15,$C$14:$C$10013,"<="&J15)) -> 15767.73 | M15: =IF(L15="","",IF(COUNTIFS($E$14:$E$10013,H15,$C$14:$C$10013,">="&I15,$C$14:$C$10013,"<="&J15)=0,"",_xlfn.MAXIFS($C$14:$C$10013,$E$14:$E$10013,H15,$C$14:$C$10013,">="&I15,$C$14:$C$10013,"<="&J15))) -> 46289 | N15: =IF(OR(M15="",K15="",K15=0),"",(L15/K15)/((M15-I15+1)/(J15-I15+1))) -> 0.98548312 | O15: =IF(N15="","",IF(N15-1>Overview!$G$7,"Overpacing",IF(1-N15>Overview!$G$7,"Underpacing",IF(N15-1>Overview!$G$6,"Slightly over",IF(1-N15>Overview!$G$6,"Slightly under","On pace"))))) -> On pace | P15: =IF(OR(L15="",K15=""),"",K15-L15) -> 4232.27 | Q15: =IF(P15="","",IF(M15="",MAX(0,P15)/(J15-I15+1),IF(J15-M15<=0,"",MAX(0,P15)/(J15-M15)))) -> 705.37833
C16: 46267 | D16: Campaign name | E16: Prospecting | Broad | F16: 1081.58 | I16: =IF(OR(H16="",$D$7=""),"",$D$7) | J16: =IF(OR(H16="",$D$8=""),"",$D$8) | L16: =IF(OR(H16="",I16="",J16=""),"",SUMIFS($F$14:$F$10013,$E$14:$E$10013,H16,$C$14:$C$10013,">="&I16,$C$14:$C$10013,"<="&J16)) | M16: =IF(L16="","",IF(COUNTIFS($E$14:$E$10013,H16,$C$14:$C$10013,">="&I16,$C$14:$C$10013,"<="&J16)=0,"",_xlfn.MAXIFS($C$14:$C$10013,$E$14:$E$10013,H16,$C$14:$C$10013,">="&I16,$C$14:$C$10013,"<="&J16))) | N16: =IF(OR(M16="",K16="",K16=0),"",(L16/K16)/((M16-I16+1)/(J16-I16+1))) | O16: =IF(N16="","",IF(N16-1>Overview!$G$7,"Overpacing",IF(1-N16>Overview!$G$7,"Underpacing",IF(N16-1>Overview!$G$6,"Slightly over",IF(1-N16>Overview!$G$6,"Slightly under","On pace"))))) | P16: =IF(OR(L16="",K16=""),"",K16-L16) | Q16: =IF(P16="","",IF(M16="",MAX(0,P16)/(J16-I16+1),IF(J16-M16<=0,"",MAX(0,P16)/(J16-M16))))
C17: 46267 | D17: Campaign name | E17: Retargeting | Site visitors | F17: 563.7 | I17: =IF(OR(H17="",$D$7=""),"",$D$7) | J17: =IF(OR(H17="",$D$8=""),"",$D$8) | L17: =IF(OR(H17="",I17="",J17=""),"",SUMIFS($F$14:$F$10013,$E$14:$E$10013,H17,$C$14:$C$10013,">="&I17,$C$14:$C$10013,"<="&J17)) | M17: =IF(L17="","",IF(COUNTIFS($E$14:$E$10013,H17,$C$14:$C$10013,">="&I17,$C$14:$C$10013,"<="&J17)=0,"",_xlfn.MAXIFS($C$14:$C$10013,$E$14:$E$10013,H17,$C$14:$C$10013,">="&I17,$C$14:$C$10013,"<="&J17))) | N17: =IF(OR(M17="",K17="",K17=0),"",(L17/K17)/((M17-I17+1)/(J17-I17+1))) | O17: =IF(N17="","",IF(N17-1>Overview!$G$7,"Overpacing",IF(1-N17>Overview!$G$7,"Underpacing",IF(N17-1>Overview!$G$6,"Slightly over",IF(1-N17>Overview!$G$6,"Slightly under","On pace"))))) | P17: =IF(OR(L17="",K17=""),"",K17-L17) | Q17: =IF(P17="","",IF(M17="",MAX(0,P17)/(J17-I17+1),IF(J17-M17<=0,"",MAX(0,P17)/(J17-M17))))
C18: 46268 | D18: Campaign name | E18: Prospecting | Broad | F18: 1034.64 | I18: =IF(OR(H18="",$D$7=""),"",$D$7) | J18: =IF(OR(H18="",$D$8=""),"",$D$8) | L18: =IF(OR(H18="",I18="",J18=""),"",SUMIFS($F$14:$F$10013,$E$14:$E$10013,H18,$C$14:$C$10013,">="&I18,$C$14:$C$10013,"<="&J18)) | M18: =IF(L18="","",IF(COUNTIFS($E$14:$E$10013,H18,$C$14:$C$10013,">="&I18,$C$14:$C$10013,"<="&J18)=0,"",_xlfn.MAXIFS($C$14:$C$10013,$E$14:$E$10013,H18,$C$14:$C$10013,">="&I18,$C$14:$C$10013,"<="&J18))) | N18: =IF(OR(M18="",K18="",K18=0),"",(L18/K18)/((M18-I18+1)/(J18-I18+1))) | O18: =IF(N18="","",IF(N18-1>Overview!$G$7,"Overpacing",IF(1-N18>Overview!$G$7,"Underpacing",IF(N18-1>Overview!$G$6,"Slightly over",IF(1-N18>Overview!$G$6,"Slightly under","On pace"))))) | P18: =IF(OR(L18="",K18=""),"",K18-L18) | Q18: =IF(P18="","",IF(M18="",MAX(0,P18)/(J18-I18+1),IF(J18-M18<=0,"",MAX(0,P18)/(J18-M18))))
C19: 46268 | D19: Campaign name | E19: Retargeting | Site visitors | F19: 643.47 | I19: =IF(OR(H19="",$D$7=""),"",$D$7) | J19: =IF(OR(H19="",$D$8=""),"",$D$8) | L19: =IF(OR(H19="",I19="",J19=""),"",SUMIFS($F$14:$F$10013,$E$14:$E$10013,H19,$C$14:$C$10013,">="&I19,$C$14:$C$10013,"<="&J19)) | M19: =IF(L19="","",IF(COUNTIFS($E$14:$E$10013,H19,$C$14:$C$10013,">="&I19,$C$14:$C$10013,"<="&J19)=0,"",_xlfn.MAXIFS($C$14:$C$10013,$E$14:$E$10013,H19,$C$14:$C$10013,">="&I19,$C$14:$C$10013,"<="&J19))) | N19: =IF(OR(M19="",K19="",K19=0),"",(L19/K19)/((M19-I19+1)/(J19-I19+1))) | O19: =IF(N19="","",IF(N19-1>Overview!$G$7,"Overpacing",IF(1-N19>Overview!$G$7,"Underpacing",IF(N19-1>Overview!$G$6,"Slightly over",IF(1-N19>Overview!$G$6,"Slightly under","On pace"))))) | P19: =IF(OR(L19="",K19=""),"",K19-L19) | Q19: =IF(P19="","",IF(M19="",MAX(0,P19)/(J19-I19+1),IF(J19-M19<=0,"",MAX(0,P19)/(J19-M19))))
C20: 46269 | D20: Campaign name | E20: Prospecting | Broad | F20: 839.66 | I20: =IF(OR(H20="",$D$7=""),"",$D$7) | J20: =IF(OR(H20="",$D$8=""),"",$D$8) | L20: =IF(OR(H20="",I20="",J20=""),"",SUMIFS($F$14:$F$10013,$E$14:$E$10013,H20,$C$14:$C$10013,">="&I20,$C$14:$C$10013,"<="&J20)) | M20: =IF(L20="","",IF(COUNTIFS($E$14:$E$10013,H20,$C$14:$C$10013,">="&I20,$C$14:$C$10013,"<="&J20)=0,"",_xlfn.MAXIFS($C$14:$C$10013,$E$14:$E$10013,H20,$C$14:$C$10013,">="&I20,$C$14:$C$10013,"<="&J20))) | N20: =IF(OR(M20="",K20="",K20=0),"",(L20/K20)/((M20-I20+1)/(J20-I20+1))) | O20: =IF(N20="","",IF(N20-1>Overview!$G$7,"Overpacing",IF(1-N20>Overview!$G$7,"Underpacing",IF(N20-1>Overview!$G$6,"Slightly over",IF(1-N20>Overview!$G$6,"Slightly under","On pace"))))) | P20: =IF(OR(L20="",K20=""),"",K20-L20) | Q20: =IF(P20="","",IF(M20="",MAX(0,P20)/(J20-I20+1),IF(J20-M20<=0,"",MAX(0,P20)/(J20-M20))))
C21: 46269 | D21: Campaign name | E21: Retargeting | Site visitors | F21: 682.02 | I21: =IF(OR(H21="",$D$7=""),"",$D$7) | J21: =IF(OR(H21="",$D$8=""),"",$D$8) | L21: =IF(OR(H21="",I21="",J21=""),"",SUMIFS($F$14:$F$10013,$E$14:$E$10013,H21,$C$14:$C$10013,">="&I21,$C$14:$C$10013,"<="&J21)) | M21: =IF(L21="","",IF(COUNTIFS($E$14:$E$10013,H21,$C$14:$C$10013,">="&I21,$C$14:$C$10013,"<="&J21)=0,"",_xlfn.MAXIFS($C$14:$C$10013,$E$14:$E$10013,H21,$C$14:$C$10013,">="&I21,$C$14:$C$10013,"<="&J21))) | N21: =IF(OR(M21="",K21="",K21=0),"",(L21/K21)/((M21-I21+1)/(J21-I21+1))) | O21: =IF(N21="","",IF(N21-1>Overview!$G$7,"Overpacing",IF(1-N21>Overview!$G$7,"Underpacing",IF(N21-1>Overview!$G$6,"Slightly over",IF(1-N21>Overview!$G$6,"Slightly under","On pace"))))) | P21: =IF(OR(L21="",K21=""),"",K21-L21) | Q21: =IF(P21="","",IF(M21="",MAX(0,P21)/(J21-I21+1),IF(J21-M21<=0,"",MAX(0,P21)/(J21-M21))))
C22: 46270 | D22: Campaign name | E22: Prospecting | Broad | F22: 831.3 | I22: =IF(OR(H22="",$D$7=""),"",$D$7) | J22: =IF(OR(H22="",$D$8=""),"",$D$8) | L22: =IF(OR(H22="",I22="",J22=""),"",SUMIFS($F$14:$F$10013,$E$14:$E$10013,H22,$C$14:$C$10013,">="&I22,$C$14:$C$10013,"<="&J22)) | M22: =IF(L22="","",IF(COUNTIFS($E$14:$E$10013,H22,$C$14:$C$10013,">="&I22,$C$14:$C$10013,"<="&J22)=0,"",_xlfn.MAXIFS($C$14:$C$10013,$E$14:$E$10013,H22,$C$14:$C$10013,">="&I22,$C$14:$C$10013,"<="&J22))) | N22: =IF(OR(M22="",K22="",K22=0),"",(L22/K22)/((M22-I22+1)/(J22-I22+1))) | O22: =IF(N22="","",IF(N22-1>Overview!$G$7,"Overpacing",IF(1-N22>Overview!$G$7,"Underpacing",IF(N22-1>Overview!$G$6,"Slightly over",IF(1-N22>Overview!$G$6,"Slightly under","On pace"))))) | P22: =IF(OR(L22="",K22=""),"",K22-L22) | Q22: =IF(P22="","",IF(M22="",MAX(0,P22)/(J22-I22+1),IF(J22-M22<=0,"",MAX(0,P22)/(J22-M22))))
C23: 46270 | D23: Campaign name | E23: Retargeting | Site visitors | F23: 661.95 | I23: =IF(OR(H23="",$D$7=""),"",$D$7) | J23: =IF(OR(H23="",$D$8=""),"",$D$8) | L23: =IF(OR(H23="",I23="",J23=""),"",SUMIFS($F$14:$F$10013,$E$14:$E$10013,H23,$C$14:$C$10013,">="&I23,$C$14:$C$10013,"<="&J23)) | M23: =IF(L23="","",IF(COUNTIFS($E$14:$E$10013,H23,$C$14:$C$10013,">="&I23,$C$14:$C$10013,"<="&J23)=0,"",_xlfn.MAXIFS($C$14:$C$10013,$E$14:$E$10013,H23,$C$14:$C$10013,">="&I23,$C$14:$C$10013,"<="&J23))) | N23: =IF(OR(M23="",K23="",K23=0),"",(L23/K23)/((M23-I23+1)/(J23-I23+1))) | O23: =IF(N23="","",IF(N23-1>Overview!$G$7,"Overpacing",IF(1-N23>Overview!$G$7,"Underpacing",IF(N23-1>Overview!$G$6,"Slightly over",IF(1-N23>Overview!$G$6,"Slightly under","On pace"))))) | P23: =IF(OR(L23="",K23=""),"",K23-L23) | Q23: =IF(P23="","",IF(M23="",MAX(0,P23)/(J23-I23+1),IF(J23-M23<=0,"",MAX(0,P23)/(J23-M23))))
C24: 46271 | D24: Campaign name | E24: Prospecting | Broad | F24: 844.5 | I24: =IF(OR(H24="",$D$7=""),"",$D$7) | J24: =IF(OR(H24="",$D$8=""),"",$D$8) | L24: =IF(OR(H24="",I24="",J24=""),"",SUMIFS($F$14:$F$10013,$E$14:$E$10013,H24,$C$14:$C$10013,">="&I24,$C$14:$C$10013,"<="&J24)) | M24: =IF(L24="","",IF(COUNTIFS($E$14:$E$10013,H24,$C$14:$C$10013,">="&I24,$C$14:$C$10013,"<="&J24)=0,"",_xlfn.MAXIFS($C$14:$C$10013,$E$14:$E$10013,H24,$C$14:$C$10013,">="&I24,$C$14:$C$10013,"<="&J24))) | N24: =IF(OR(M24="",K24="",K24=0),"",(L24/K24)/((M24-I24+1)/(J24-I24+1))) | O24: =IF(N24="","",IF(N24-1>Overview!$G$7,"Overpacing",IF(1-N24>Overview!$G$7,"Underpacing",IF(N24-1>Overview!$G$6,"Slightly over",IF(1-N24>Overview!$G$6,"Slightly under","On pace"))))) | P24: =IF(OR(L24="",K24=""),"",K24-L24) | Q24: =IF(P24="","",IF(M24="",MAX(0,P24)/(J24-I24+1),IF(J24-M24<=0,"",MAX(0,P24)/(J24-M24))))
C25: 46271 | D25: Campaign name | E25: Retargeting | Site visitors | F25: 568.67 | I25: =IF(OR(H25="",$D$7=""),"",$D$7) | J25: =IF(OR(H25="",$D$8=""),"",$D$8) | L25: =IF(OR(H25="",I25="",J25=""),"",SUMIFS($F$14:$F$10013,$E$14:$E$10013,H25,$C$14:$C$10013,">="&I25,$C$14:$C$10013,"<="&J25)) | M25: =IF(L25="","",IF(COUNTIFS($E$14:$E$10013,H25,$C$14:$C$10013,">="&I25,$C$14:$C$10013,"<="&J25)=0,"",_xlfn.MAXIFS($C$14:$C$10013,$E$14:$E$10013,H25,$C$14:$C$10013,">="&I25,$C$14:$C$10013,"<="&J25))) | N25: =IF(OR(M25="",K25="",K25=0),"",(L25/K25)/((M25-I25+1)/(J25-I25+1))) | O25: =IF(N25="","",IF(N25-1>Overview!$G$7,"Overpacing",IF(1-N25>Overview!$G$7,"Underpacing",IF(N25-1>Overview!$G$6,"Slightly over",IF(1-N25>Overview!$G$6,"Slightly under","On pace"))))) | P25: =IF(OR(L25="",K25=""),"",K25-L25) | Q25: =IF(P25="","",IF(M25="",MAX(0,P25)/(J25-I25+1),IF(J25-M25<=0,"",MAX(0,P25)/(J25-M25))))
C26: 46272 | D26: Campaign name | E26: Prospecting | Broad | F26: 989.2 | I26: =IF(OR(H26="",$D$7=""),"",$D$7) | J26: =IF(OR(H26="",$D$8=""),"",$D$8) | L26: =IF(OR(H26="",I26="",J26=""),"",SUMIFS($F$14:$F$10013,$E$14:$E$10013,H26,$C$14:$C$10013,">="&I26,$C$14:$C$10013,"<="&J26)) | M26: =IF(L26="","",IF(COUNTIFS($E$14:$E$10013,H26,$C$14:$C$10013,">="&I26,$C$14:$C$10013,"<="&J26)=0,"",_xlfn.MAXIFS($C$14:$C$10013,$E$14:$E$10013,H26,$C$14:$C$10013,">="&I26,$C$14:$C$10013,"<="&J26))) | N26: =IF(OR(M26="",K26="",K26=0),"",(L26/K26)/((M26-I26+1)/(J26-I26+1))) | O26: =IF(N26="","",IF(N26-1>Overview!$G$7,"Overpacing",IF(1-N26>Overview!$G$7,"Underpacing",IF(N26-1>Overview!$G$6,"Slightly over",IF(1-N26>Overview!$G$6,"Slightly under","On pace"))))) | P26: =IF(OR(L26="",K26=""),"",K26-L26) | Q26: =IF(P26="","",IF(M26="",MAX(0,P26)/(J26-I26+1),IF(J26-M26<=0,"",MAX(0,P26)/(J26-M26))))
C27: 46272 | D27: Campaign name | E27: Retargeting | Site visitors | F27: 768.9 | I27: =IF(OR(H27="",$D$7=""),"",$D$7) | J27: =IF(OR(H27="",$D$8=""),"",$D$8) | L27: =IF(OR(H27="",I27="",J27=""),"",SUMIFS($F$14:$F$10013,$E$14:$E$10013,H27,$C$14:$C$10013,">="&I27,$C$14:$C$10013,"<="&J27)) | M27: =IF(L27="","",IF(COUNTIFS($E$14:$E$10013,H27,$C$14:$C$10013,">="&I27,$C$14:$C$10013,"<="&J27)=0,"",_xlfn.MAXIFS($C$14:$C$10013,$E$14:$E$10013,H27,$C$14:$C$10013,">="&I27,$C$14:$C$10013,"<="&J27))) | N27: =IF(OR(M27="",K27="",K27=0),"",(L27/K27)/((M27-I27+1)/(J27-I27+1))) | O27: =IF(N27="","",IF(N27-1>Overview!$G$7,"Overpacing",IF(1-N27>Overview!$G$7,"Underpacing",IF(N27-1>Overview!$G$6,"Slightly over",IF(1-N27>Overview!$G$6,"Slightly under","On pace"))))) | P27: =IF(OR(L27="",K27=""),"",K27-L27) | Q27: =IF(P27="","",IF(M27="",MAX(0,P27)/(J27-I27+1),IF(J27-M27<=0,"",MAX(0,P27)/(J27-M27))))
... C38: 46278 | D38: Campaign name | E38: Prospecting | Broad | F38: 874.86 | I38: =IF(OR(H38="",$D$7=""),"",$D$7) | J38: =IF(OR(H38="",$D$8=""),"",$D$8) | L38: =IF(OR(H38="",I38="",J38=""),"",SUMIFS($F$14:$F$10013,$E$14:$E$10013,H38,$C$14:$C$10013,">="&I38,$C$14:$C$10013,"<="&J38)) | M38: =IF(L38="","",IF(COUNTIFS($E$14:$E$10013,H38,$C$14:$C$10013,">="&I38,$C$14:$C$10013,"<="&J38)=0,"",_xlfn.MAXIFS($C$14:$C$10013,$E$14:$E$10013,H38,$C$14:$C$10013,">="&I38,$C$14:$C$10013,"<="&J38))) | N38: =IF(OR(M38="",K38="",K38=0),"",(L38/K38)/((M38-I38+1)/(J38-I38+1))) | O38: =IF(N38="","",IF(N38-1>Overview!$G$7,"Overpacing",IF(1-N38>Overview!$G$7,"Underpacing",IF(N38-1>Overview!$G$6,"Slightly over",IF(1-N38>Overview!$G$6,"Slightly under","On pace"))))) | P38: =IF(OR(L38="",K38=""),"",K38-L38) | Q38: =IF(P38="","",IF(M38="",MAX(0,P38)/(J38-I38+1),IF(J38-M38<=0,"",MAX(0,P38)/(J38-M38))))
C39: 46278 | D39: Campaign name | E39: Retargeting | Site visitors | F39: 576.04
C40: 46279 | D40: Campaign name | E40: Prospecting | Broad | F40: 941.86
C41: 46279 | D41: Campaign name | E41: Retargeting | Site visitors | F41: 765.99
C42: 46280 | D42: Campaign name | E42: Prospecting | Broad | F42: 889.74
C43: 46280 | D43: Campaign name | E43: Retargeting | Site visitors | F43: 702.2
C44: 46281 | D44: Campaign name | E44: Prospecting | Broad | F44: 1076.68
