Workbook

Sheet Project overview
A1: ORIGINAL BUDGET
A3: Participant Information | E3: Total Project Budget
A4: Project ID | B4: Name Participant | C4: Organization type | D4: Foreign? | E4: Costs | F4: In-kind contribution | G4: In-cash contribution | H4: PPP Allowance | I4: Received cash | J4: Received other funding
A5: =IFERROR(INDEX(TabelBP[Project ID], MATCH(TabelOBP[[#This Row],[Name Participant]],TabelBP[Name Participant],0)), " ") | B5: =IF(INDEX(TabelBP[Name Participant],1)<>0, INDEX(TabelBP[Name Participant],1)," ") | C5: =IFERROR(INDEX(TabelBP[Organization Type], MATCH(TabelOBP[[#This Row],[Name Participant]],TabelBP[Name Participant],0)), " ") | D5: =IFERROR(INDEX(TabelBP[Foreign?], MATCH(TabelOBP[[#This Row],[Name Participant]],TabelBP[Name Participant],0)), " ") | E5: =SUMIFS(TabelB1[Costs],TabelBP[Name Participant],B5,TabelBP[Project ID],A5)+SUMIFS(TabelB2[Costs],TabelBP[Name Participant],B5,TabelBP[Project ID],A5)+SUMIFS(TabelB3[Costs],TabelBP[Name Participant],B5,TabelBP[Project ID],A5)+SUMIFS(TabelB4[Costs],TabelBP[Name Participant],B5,TabelBP[Project ID],A5)+SUMIFS(TabelB5[Costs],TabelBP[Name Participant],B5,TabelBP[Project ID],A5)+SUMIFS(TabelB6[Costs],TabelBP[Name Participant],B5,TabelBP[Project ID],A5) -> 0 | F5: =SUMIFS(TabelB1[In-kind contribution],TabelBP[Name Participant],B5,TabelBP[Project ID],A5)+SUMIFS(TabelB2[In-kind contribution],TabelBP[Name Participant],B5,TabelBP[Project ID],A5)+SUMIFS(TabelB3[In-kind contribution],TabelBP[Name Participant],B5,TabelBP[Project ID],A5)+SUMIFS(TabelB4[In-kind contribution],TabelBP[Name Participant],B5,TabelBP[Project ID],A5)+SUMIFS(TabelB5[In-kind contribution],TabelBP[Name Participant],B5,TabelBP[Project ID],A5)+SUMIFS(TabelB6[In-kind contribution],TabelBP[Name Participant],B5,TabelBP[Project ID],A5) -> 0 | G5: =SUMIFS(TabelB1[In-cash contribution],TabelBP[Name Participant],B5,TabelBP[Project ID],A5)+SUMIFS(TabelB2[In-cash contribution],TabelBP[Name Participant],B5,TabelBP[Project ID],A5)+SUMIFS(TabelB3[In-cash contribution],TabelBP[Name Participant],B5,TabelBP[Project ID],A5)+SUMIFS(TabelB4[In-cash contribution],TabelBP[Name Participant],B5,TabelBP[Project ID],A5)+SUMIFS(TabelB5[In-cash contribution],TabelBP[Name Participant],B5,TabelBP[Project ID],A5)+SUMIFS(TabelB6[In-cash contribution],TabelBP[Name Participant],B5,TabelBP[Project ID],A5) -> 0 | H5: =SUMIFS(TabelB1[PPP Allowance],TabelBP[Name Participant],B5,TabelBP[Project ID],A5)+SUMIFS(TabelB2[[PPP allowance ]],TabelBP[Name Participant],B5,TabelBP[Project ID],A5)+SUMIFS(TabelB3[PPP Allowance],TabelBP[Name Participant],B5,TabelBP[Project ID],A5)+SUMIFS(TabelB4[PPP Allowance],TabelBP[Name Participant],B5,TabelBP[Project ID],A5)+SUMIFS(TabelB5[PPP Allowance],TabelBP[Name Participant],B5,TabelBP[Project ID],A5)+SUMIFS(TabelB6[PPP Allowance],TabelBP[Name Participant],B5,TabelBP[Project ID],A5) -> 0 | I5: =SUMIFS(TabelB1[Received cash],TabelBP[Name Participant],B5,TabelBP[Project ID],A5)+SUMIFS(TabelB2[Received cash],TabelBP[Name Participant],B5,TabelBP[Project ID],A5)+SUMIFS(TabelB3[Received cash],TabelBP[Name Participant],B5,TabelBP[Project ID],A5)+SUMIFS(TabelB4[Received cash],TabelBP[Name Participant],B5,TabelBP[Project ID],A5)+SUMIFS(TabelB5[Received cash],TabelBP[Name Participant],B5,TabelBP[Project ID],A5)+SUMIFS(TabelB6[Received cash],TabelBP[Name Participant],B5,TabelBP[Project ID],A5) -> 0 | J5: =SUMIFS(TabelB1[Received other funding],TabelBP[Name Participant],B5,TabelBP[Project ID],A5)+SUMIFS(TabelB2[Received other funding],TabelBP[Name Participant],B5,TabelBP[Project ID],A5)+SUMIFS(TabelB3[Received other funding],TabelBP[Name Participant],B5,TabelBP[Project ID],A5)+SUMIFS(TabelB4[Received other funding],TabelBP[Name Participant],B5,TabelBP[Project ID],A5)+SUMIFS(TabelB5[Received other funding],TabelBP[Name Participant],B5,TabelBP[Project ID],A5)+SUMIFS(TabelB6[Received other funding],TabelBP[Name Participant],B5,TabelBP[Project ID],A5) -> 0
A6: =IFERROR(INDEX(TabelBP[Project ID], MATCH(TabelOBP[[#This Row],[Name Participant]],TabelBP[Name Participant],0)), " ") | B6: =IF(INDEX(TabelBP[Name Participant],2)<>0, INDEX(TabelBP[Name Participant],2)," ") | C6: =IFERROR(INDEX(TabelBP[Organization Type], MATCH(TabelOBP[[#This Row],[Name Participant]],TabelBP[Name Participant],0)), " ") | D6: =IFERROR(INDEX(TabelBP[Foreign?], MATCH(TabelOBP[[#This Row],[Name Participant]],TabelBP[Name Participant],0)), " ") | E6: =SUMIFS(TabelB1[Costs],TabelBP[Name Participant],B6,TabelBP[Project ID],A6)+SUMIFS(TabelB2[Costs],TabelBP[Name Participant],B6,TabelBP[Project ID],A6)+SUMIFS(TabelB3[Costs],TabelBP[Name Participant],B6,TabelBP[Project ID],A6)+SUMIFS(TabelB4[Costs],TabelBP[Name Participant],B6,TabelBP[Project ID],A6)+SUMIFS(TabelB5[Costs],TabelBP[Name Participant],B6,TabelBP[Project ID],A6)+SUMIFS(TabelB6[Costs],TabelBP[Name Participant],B6,TabelBP[Project ID],A6) -> 0 | F6: =SUMIFS(TabelB1[In-kind contribution],TabelBP[Name Participant],B6,TabelBP[Project ID],A6)+SUMIFS(TabelB2[In-kind contribution],TabelBP[Name Participant],B6,TabelBP[Project ID],A6)+SUMIFS(TabelB3[In-kind contribution],TabelBP[Name Participant],B6,TabelBP[Project ID],A6)+SUMIFS(TabelB4[In-kind contribution],TabelBP[Name Participant],B6,TabelBP[Project ID],A6)+SUMIFS(TabelB5[In-kind contribution],TabelBP[Name Participant],B6,TabelBP[Project ID],A6)+SUMIFS(TabelB6[In-kind contribution],TabelBP[Name Participant],B6,TabelBP[Project ID],A6) -> 0 | G6: =SUMIFS(TabelB1[In-cash contribution],TabelBP[Name Participant],B6,TabelBP[Project ID],A6)+SUMIFS(TabelB2[In-cash contribution],TabelBP[Name Participant],B6,TabelBP[Project ID],A6)+SUMIFS(TabelB3[In-cash contribution],TabelBP[Name Participant],B6,TabelBP[Project ID],A6)+SUMIFS(TabelB4[In-cash contribution],TabelBP[Name Participant],B6,TabelBP[Project ID],A6)+SUMIFS(TabelB5[In-cash contribution],TabelBP[Name Participant],B6,TabelBP[Project ID],A6)+SUMIFS(TabelB6[In-cash contribution],TabelBP[Name Participant],B6,TabelBP[Project ID],A6) -> 0 | H6: =SUMIFS(TabelB1[PPP Allowance],TabelBP[Name Participant],B6,TabelBP[Project ID],A6)+SUMIFS(TabelB2[[PPP allowance ]],TabelBP[Name Participant],B6,TabelBP[Project ID],A6)+SUMIFS(TabelB3[PPP Allowance],TabelBP[Name Participant],B6,TabelBP[Project ID],A6)+SUMIFS(TabelB4[PPP Allowance],TabelBP[Name Participant],B6,TabelBP[Project ID],A6)+SUMIFS(TabelB5[PPP Allowance],TabelBP[Name Participant],B6,TabelBP[Project ID],A6)+SUMIFS(TabelB6[PPP Allowance],TabelBP[Name Participant],B6,TabelBP[Project ID],A6) -> 0 | I6: =SUMIFS(TabelB1[Received cash],TabelBP[Name Participant],B6,TabelBP[Project ID],A6)+SUMIFS(TabelB2[Received cash],TabelBP[Name Participant],B6,TabelBP[Project ID],A6)+SUMIFS(TabelB3[Received cash],TabelBP[Name Participant],B6,TabelBP[Project ID],A6)+SUMIFS(TabelB4[Received cash],TabelBP[Name Participant],B6,TabelBP[Project ID],A6)+SUMIFS(TabelB5[Received cash],TabelBP[Name Participant],B6,TabelBP[Project ID],A6)+SUMIFS(TabelB6[Received cash],TabelBP[Name Participant],B6,TabelBP[Project ID],A6) -> 0 | J6: =SUMIFS(TabelB1[Received other funding],TabelBP[Name Participant],B6,TabelBP[Project ID],A6)+SUMIFS(TabelB2[Received other funding],TabelBP[Name Participant],B6,TabelBP[Project ID],A6)+SUMIFS(TabelB3[Received other funding],TabelBP[Name Participant],B6,TabelBP[Project ID],A6)+SUMIFS(TabelB4[Received other funding],TabelBP[Name Participant],B6,TabelBP[Project ID],A6)+SUMIFS(TabelB5[Received other funding],TabelBP[Name Participant],B6,TabelBP[Project ID],A6)+SUMIFS(TabelB6[Received other funding],TabelBP[Name Participant],B6,TabelBP[Project ID],A6) -> 0
A7: =IFERROR(INDEX(TabelBP[Project ID], MATCH(TabelOBP[[#This Row],[Name Participant]],TabelBP[Name Participant],0)), " ") | B7: =IF(INDEX(TabelBP[Name Participant],3)<>0, INDEX(TabelBP[Name Participant],3)," ") | C7: =IFERROR(INDEX(TabelBP[Organization Type], MATCH(TabelOBP[[#This Row],[Name Participant]],TabelBP[Name Participant],0)), " ") | D7: =IFERROR(INDEX(TabelBP[Foreign?], MATCH(TabelOBP[[#This Row],[Name Participant]],TabelBP[Name Participant],0)), " ") | E7: =SUMIFS(TabelB1[Costs],TabelBP[Name Participant],B7,TabelBP[Project ID],A7)+SUMIFS(TabelB2[Costs],TabelBP[Name Participant],B7,TabelBP[Project ID],A7)+SUMIFS(TabelB3[Costs],TabelBP[Name Participant],B7,TabelBP[Project ID],A7)+SUMIFS(TabelB4[Costs],TabelBP[Name Participant],B7,TabelBP[Project ID],A7)+SUMIFS(TabelB5[Costs],TabelBP[Name Participant],B7,TabelBP[Project ID],A7)+SUMIFS(TabelB6[Costs],TabelBP[Name Participant],B7,TabelBP[Project ID],A7) -> 0 | F7: =SUMIFS(TabelB1[In-kind contribution],TabelBP[Name Participant],B7,TabelBP[Project ID],A7)+SUMIFS(TabelB2[In-kind contribution],TabelBP[Name Participant],B7,TabelBP[Project ID],A7)+SUMIFS(TabelB3[In-kind contribution],TabelBP[Name Participant],B7,TabelBP[Project ID],A7)+SUMIFS(TabelB4[In-kind contribution],TabelBP[Name Participant],B7,TabelBP[Project ID],A7)+SUMIFS(TabelB5[In-kind contribution],TabelBP[Name Participant],B7,TabelBP[Project ID],A7)+SUMIFS(TabelB6[In-kind contribution],TabelBP[Name Participant],B7,TabelBP[Project ID],A7) -> 0 | G7: =SUMIFS(TabelB1[In-cash contribution],TabelBP[Name Participant],B7,TabelBP[Project ID],A7)+SUMIFS(TabelB2[In-cash contribution],TabelBP[Name Participant],B7,TabelBP[Project ID],A7)+SUMIFS(TabelB3[In-cash contribution],TabelBP[Name Participant],B7,TabelBP[Project ID],A7)+SUMIFS(TabelB4[In-cash contribution],TabelBP[Name Participant],B7,TabelBP[Project ID],A7)+SUMIFS(TabelB5[In-cash contribution],TabelBP[Name Participant],B7,TabelBP[Project ID],A7)+SUMIFS(TabelB6[In-cash contribution],TabelBP[Name Participant],B7,TabelBP[Project ID],A7) -> 0 | H7: =SUMIFS(TabelB1[PPP Allowance],TabelBP[Name Participant],B7,TabelBP[Project ID],A7)+SUMIFS(TabelB2[[PPP allowance ]],TabelBP[Name Participant],B7,TabelBP[Project ID],A7)+SUMIFS(TabelB3[PPP Allowance],TabelBP[Name Participant],B7,TabelBP[Project ID],A7)+SUMIFS(TabelB4[PPP Allowance],TabelBP[Name Participant],B7,TabelBP[Project ID],A7)+SUMIFS(TabelB5[PPP Allowance],TabelBP[Name Participant],B7,TabelBP[Project ID],A7)+SUMIFS(TabelB6[PPP Allowance],TabelBP[Name Participant],B7,TabelBP[Project ID],A7) -> 0 | I7: =SUMIFS(TabelB1[Received cash],TabelBP[Name Participant],B7,TabelBP[Project ID],A7)+SUMIFS(TabelB2[Received cash],TabelBP[Name Participant],B7,TabelBP[Project ID],A7)+SUMIFS(TabelB3[Received cash],TabelBP[Name Participant],B7,TabelBP[Project ID],A7)+SUMIFS(TabelB4[Received cash],TabelBP[Name Participant],B7,TabelBP[Project ID],A7)+SUMIFS(TabelB5[Received cash],TabelBP[Name Participant],B7,TabelBP[Project ID],A7)+SUMIFS(TabelB6[Received cash],TabelBP[Name Participant],B7,TabelBP[Project ID],A7) -> 0 | J7: =SUMIFS(TabelB1[Received other funding],TabelBP[Name Participant],B7,TabelBP[Project ID],A7)+SUMIFS(TabelB2[Received other funding],TabelBP[Name Participant],B7,TabelBP[Project ID],A7)+SUMIFS(TabelB3[Received other funding],TabelBP[Name Participant],B7,TabelBP[Project ID],A7)+SUMIFS(TabelB4[Received other funding],TabelBP[Name Participant],B7,TabelBP[Project ID],A7)+SUMIFS(TabelB5[Received other funding],TabelBP[Name Participant],B7,TabelBP[Project ID],A7)+SUMIFS(TabelB6[Received other funding],TabelBP[Name Participant],B7,TabelBP[Project ID],A7) -> 0
A8: =IFERROR(INDEX(TabelBP[Project ID], MATCH(TabelOBP[[#This Row],[Name Participant]],TabelBP[Name Participant],0)), " ") | B8: =IF(INDEX(TabelBP[Name Participant],4)<>0, INDEX(TabelBP[Name Participant],4)," ") | C8: =IFERROR(INDEX(TabelBP[Organization Type], MATCH(TabelOBP[[#This Row],[Name Participant]],TabelBP[Name Participant],0)), " ") | D8: =IFERROR(INDEX(TabelBP[Foreign?], MATCH(TabelOBP[[#This Row],[Name Participant]],TabelBP[Name Participant],0)), " ") | E8: =SUMIFS(TabelB1[Costs],TabelBP[Name Participant],B8,TabelBP[Project ID],A8)+SUMIFS(TabelB2[Costs],TabelBP[Name Participant],B8,TabelBP[Project ID],A8)+SUMIFS(TabelB3[Costs],TabelBP[Name Participant],B8,TabelBP[Project ID],A8)+SUMIFS(TabelB4[Costs],TabelBP[Name Participant],B8,TabelBP[Project ID],A8)+SUMIFS(TabelB5[Costs],TabelBP[Name Participant],B8,TabelBP[Project ID],A8)+SUMIFS(TabelB6[Costs],TabelBP[Name Participant],B8,TabelBP[Project ID],A8) -> 0 | F8: =SUMIFS(TabelB1[In-kind contribution],TabelBP[Name Participant],B8,TabelBP[Project ID],A8)+SUMIFS(TabelB2[In-kind contribution],TabelBP[Name Participant],B8,TabelBP[Project ID],A8)+SUMIFS(TabelB3[In-kind contribution],TabelBP[Name Participant],B8,TabelBP[Project ID],A8)+SUMIFS(TabelB4[In-kind contribution],TabelBP[Name Participant],B8,TabelBP[Project ID],A8)+SUMIFS(TabelB5[In-kind contribution],TabelBP[Name Participant],B8,TabelBP[Project ID],A8)+SUMIFS(TabelB6[In-kind contribution],TabelBP[Name Participant],B8,TabelBP[Project ID],A8) -> 0 | G8: =SUMIFS(TabelB1[In-cash contribution],TabelBP[Name Participant],B8,TabelBP[Project ID],A8)+SUMIFS(TabelB2[In-cash contribution],TabelBP[Name Participant],B8,TabelBP[Project ID],A8)+SUMIFS(TabelB3[In-cash contribution],TabelBP[Name Participant],B8,TabelBP[Project ID],A8)+SUMIFS(TabelB4[In-cash contribution],TabelBP[Name Participant],B8,TabelBP[Project ID],A8)+SUMIFS(TabelB5[In-cash contribution],TabelBP[Name Participant],B8,TabelBP[Project ID],A8)+SUMIFS(TabelB6[In-cash contribution],TabelBP[Name Participant],B8,TabelBP[Project ID],A8) -> 0 | H8: =SUMIFS(TabelB1[PPP Allowance],TabelBP[Name Participant],B8,TabelBP[Project ID],A8)+SUMIFS(TabelB2[[PPP allowance ]],TabelBP[Name Participant],B8,TabelBP[Project ID],A8)+SUMIFS(TabelB3[PPP Allowance],TabelBP[Name Participant],B8,TabelBP[Project ID],A8)+SUMIFS(TabelB4[PPP Allowance],TabelBP[Name Participant],B8,TabelBP[Project ID],A8)+SUMIFS(TabelB5[PPP Allowance],TabelBP[Name Participant],B8,TabelBP[Project ID],A8)+SUMIFS(TabelB6[PPP Allowance],TabelBP[Name Participant],B8,TabelBP[Project ID],A8) -> 0 | I8: =SUMIFS(TabelB1[Received cash],TabelBP[Name Participant],B8,TabelBP[Project ID],A8)+SUMIFS(TabelB2[Received cash],TabelBP[Name Participant],B8,TabelBP[Project ID],A8)+SUMIFS(TabelB3[Received cash],TabelBP[Name Participant],B8,TabelBP[Project ID],A8)+SUMIFS(TabelB4[Received cash],TabelBP[Name Participant],B8,TabelBP[Project ID],A8)+SUMIFS(TabelB5[Received cash],TabelBP[Name Participant],B8,TabelBP[Project ID],A8)+SUMIFS(TabelB6[Received cash],TabelBP[Name Participant],B8,TabelBP[Project ID],A8) -> 0 | J8: =SUMIFS(TabelB1[Received other funding],TabelBP[Name Participant],B8,TabelBP[Project ID],A8)+SUMIFS(TabelB2[Received other funding],TabelBP[Name Participant],B8,TabelBP[Project ID],A8)+SUMIFS(TabelB3[Received other funding],TabelBP[Name Participant],B8,TabelBP[Project ID],A8)+SUMIFS(TabelB4[Received other funding],TabelBP[Name Participant],B8,TabelBP[Project ID],A8)+SUMIFS(TabelB5[Received other funding],TabelBP[Name Participant],B8,TabelBP[Project ID],A8)+SUMIFS(TabelB6[Received other funding],TabelBP[Name Participant],B8,TabelBP[Project ID],A8) -> 0
A9: =IFERROR(INDEX(TabelBP[Project ID], MATCH(TabelOBP[[#This Row],[Name Participant]],TabelBP[Name Participant],0)), " ") | B9: =IF(INDEX(TabelBP[Name Participant],5)<>0, INDEX(TabelBP[Name Participant],5)," ") | C9: =IFERROR(INDEX(TabelBP[Organization Type], MATCH(TabelOBP[[#This Row],[Name Participant]],TabelBP[Name Participant],0)), " ") | D9: =IFERROR(INDEX(TabelBP[Foreign?], MATCH(TabelOBP[[#This Row],[Name Participant]],TabelBP[Name Participant],0)), " ") | E9: =SUMIFS(TabelB1[Costs],TabelBP[Name Participant],B9,TabelBP[Project ID],A9)+SUMIFS(TabelB2[Costs],TabelBP[Name Participant],B9,TabelBP[Project ID],A9)+SUMIFS(TabelB3[Costs],TabelBP[Name Participant],B9,TabelBP[Project ID],A9)+SUMIFS(TabelB4[Costs],TabelBP[Name Participant],B9,TabelBP[Project ID],A9)+SUMIFS(TabelB5[Costs],TabelBP[Name Participant],B9,TabelBP[Project ID],A9)+SUMIFS(TabelB6[Costs],TabelBP[Name Participant],B9,TabelBP[Project ID],A9) -> 0 | F9: =SUMIFS(TabelB1[In-kind contribution],TabelBP[Name Participant],B9,TabelBP[Project ID],A9)+SUMIFS(TabelB2[In-kind contribution],TabelBP[Name Participant],B9,TabelBP[Project ID],A9)+SUMIFS(TabelB3[In-kind contribution],TabelBP[Name Participant],B9,TabelBP[Project ID],A9)+SUMIFS(TabelB4[In-kind contribution],TabelBP[Name Participant],B9,TabelBP[Project ID],A9)+SUMIFS(TabelB5[In-kind contribution],TabelBP[Name Participant],B9,TabelBP[Project ID],A9)+SUMIFS(TabelB6[In-kind contribution],TabelBP[Name Participant],B9,TabelBP[Project ID],A9) -> 0 | G9: =SUMIFS(TabelB1[In-cash contribution],TabelBP[Name Participant],B9,TabelBP[Project ID],A9)+SUMIFS(TabelB2[In-cash contribution],TabelBP[Name Participant],B9,TabelBP[Project ID],A9)+SUMIFS(TabelB3[In-cash contribution],TabelBP[Name Participant],B9,TabelBP[Project ID],A9)+SUMIFS(TabelB4[In-cash contribution],TabelBP[Name Participant],B9,TabelBP[Project ID],A9)+SUMIFS(TabelB5[In-cash contribution],TabelBP[Name Participant],B9,TabelBP[Project ID],A9)+SUMIFS(TabelB6[In-cash contribution],TabelBP[Name Participant],B9,TabelBP[Project ID],A9) -> 0 | H9: =SUMIFS(TabelB1[PPP Allowance],TabelBP[Name Participant],B9,TabelBP[Project ID],A9)+SUMIFS(TabelB2[[PPP allowance ]],TabelBP[Name Participant],B9,TabelBP[Project ID],A9)+SUMIFS(TabelB3[PPP Allowance],TabelBP[Name Participant],B9,TabelBP[Project ID],A9)+SUMIFS(TabelB4[PPP Allowance],TabelBP[Name Participant],B9,TabelBP[Project ID],A9)+SUMIFS(TabelB5[PPP Allowance],TabelBP[Name Participant],B9,TabelBP[Project ID],A9)+SUMIFS(TabelB6[PPP Allowance],TabelBP[Name Participant],B9,TabelBP[Project ID],A9) -> 0 | I9: =SUMIFS(TabelB1[Received cash],TabelBP[Name Participant],B9,TabelBP[Project ID],A9)+SUMIFS(TabelB2[Received cash],TabelBP[Name Participant],B9,TabelBP[Project ID],A9)+SUMIFS(TabelB3[Received cash],TabelBP[Name Participant],B9,TabelBP[Project ID],A9)+SUMIFS(TabelB4[Received cash],TabelBP[Name Participant],B9,TabelBP[Project ID],A9)+SUMIFS(TabelB5[Received cash],TabelBP[Name Participant],B9,TabelBP[Project ID],A9)+SUMIFS(TabelB6[Received cash],TabelBP[Name Participant],B9,TabelBP[Project ID],A9) -> 0 | J9: =SUMIFS(TabelB1[Received other funding],TabelBP[Name Participant],B9,TabelBP[Project ID],A9)+SUMIFS(TabelB2[Received other funding],TabelBP[Name Participant],B9,TabelBP[Project ID],A9)+SUMIFS(TabelB3[Received other funding],TabelBP[Name Participant],B9,TabelBP[Project ID],A9)+SUMIFS(TabelB4[Received other funding],TabelBP[Name Participant],B9,TabelBP[Project ID],A9)+SUMIFS(TabelB5[Received other funding],TabelBP[Name Participant],B9,TabelBP[Project ID],A9)+SUMIFS(TabelB6[Received other funding],TabelBP[Name Participant],B9,TabelBP[Project ID],A9) -> 0
A10: =IFERROR(INDEX(TabelBP[Project ID], MATCH(TabelOBP[[#This Row],[Name Participant]],TabelBP[Name Participant],0)), " ") | B10: =IF(INDEX(TabelBP[Name Participant],6)<>0, INDEX(TabelBP[Name Participant],6)," ") | C10: =IFERROR(INDEX(TabelBP[Organization Type], MATCH(TabelOBP[[#This Row],[Name Participant]],TabelBP[Name Participant],0)), " ") | D10: =IFERROR(INDEX(TabelBP[Foreign?], MATCH(TabelOBP[[#This Row],[Name Participant]],TabelBP[Name Participant],0)), " ") | E10: =SUMIFS(TabelB1[Costs],TabelBP[Name Participant],B10,TabelBP[Project ID],A10)+SUMIFS(TabelB2[Costs],TabelBP[Name Participant],B10,TabelBP[Project ID],A10)+SUMIFS(TabelB3[Costs],TabelBP[Name Participant],B10,TabelBP[Project ID],A10)+SUMIFS(TabelB4[Costs],TabelBP[Name Participant],B10,TabelBP[Project ID],A10)+SUMIFS(TabelB5[Costs],TabelBP[Name Participant],B10,TabelBP[Project ID],A10)+SUMIFS(TabelB6[Costs],TabelBP[Name Participant],B10,TabelBP[Project ID],A10) -> 0 | F10: =SUMIFS(TabelB1[In-kind contribution],TabelBP[Name Participant],B10,TabelBP[Project ID],A10)+SUMIFS(TabelB2[In-kind contribution],TabelBP[Name Participant],B10,TabelBP[Project ID],A10)+SUMIFS(TabelB3[In-kind contribution],TabelBP[Name Participant],B10,TabelBP[Project ID],A10)+SUMIFS(TabelB4[In-kind contribution],TabelBP[Name Participant],B10,TabelBP[Project ID],A10)+SUMIFS(TabelB5[In-kind contribution],TabelBP[Name Participant],B10,TabelBP[Project ID],A10)+SUMIFS(TabelB6[In-kind contribution],TabelBP[Name Participant],B10,TabelBP[Project ID],A10) -> 0 | G10: =SUMIFS(TabelB1[In-cash contribution],TabelBP[Name Participant],B10,TabelBP[Project ID],A10)+SUMIFS(TabelB2[In-cash contribution],TabelBP[Name Participant],B10,TabelBP[Project ID],A10)+SUMIFS(TabelB3[In-cash contribution],TabelBP[Name Participant],B10,TabelBP[Project ID],A10)+SUMIFS(TabelB4[In-cash contribution],TabelBP[Name Participant],B10,TabelBP[Project ID],A10)+SUMIFS(TabelB5[In-cash contribution],TabelBP[Name Participant],B10,TabelBP[Project ID],A10)+SUMIFS(TabelB6[In-cash contribution],TabelBP[Name Participant],B10,TabelBP[Project ID],A10) -> 0 | H10: =SUMIFS(TabelB1[PPP Allowance],TabelBP[Name Participant],B10,TabelBP[Project ID],A10)+SUMIFS(TabelB2[[PPP allowance ]],TabelBP[Name Participant],B10,TabelBP[Project ID],A10)+SUMIFS(TabelB3[PPP Allowance],TabelBP[Name Participant],B10,TabelBP[Project ID],A10)+SUMIFS(TabelB4[PPP Allowance],TabelBP[Name Participant],B10,TabelBP[Project ID],A10)+SUMIFS(TabelB5[PPP Allowance],TabelBP[Name Participant],B10,TabelBP[Project ID],A10)+SUMIFS(TabelB6[PPP Allowance],TabelBP[Name Participant],B10,TabelBP[Project ID],A10) -> 0 | I10: =SUMIFS(TabelB1[Received cash],TabelBP[Name Participant],B10,TabelBP[Project ID],A10)+SUMIFS(TabelB2[Received cash],TabelBP[Name Participant],B10,TabelBP[Project ID],A10)+SUMIFS(TabelB3[Received cash],TabelBP[Name Participant],B10,TabelBP[Project ID],A10)+SUMIFS(TabelB4[Received cash],TabelBP[Name Participant],B10,TabelBP[Project ID],A10)+SUMIFS(TabelB5[Received cash],TabelBP[Name Participant],B10,TabelBP[Project ID],A10)+SUMIFS(TabelB6[Received cash],TabelBP[Name Participant],B10,TabelBP[Project ID],A10) -> 0 | J10: =SUMIFS(TabelB1[Received other funding],TabelBP[Name Participant],B10,TabelBP[Project ID],A10)+SUMIFS(TabelB2[Received other funding],TabelBP[Name Participant],B10,TabelBP[Project ID],A10)+SUMIFS(TabelB3[Received other funding],TabelBP[Name Participant],B10,TabelBP[Project ID],A10)+SUMIFS(TabelB4[Received other funding],TabelBP[Name Participant],B10,TabelBP[Project ID],A10)+SUMIFS(TabelB5[Received other funding],TabelBP[Name Participant],B10,TabelBP[Project ID],A10)+SUMIFS(TabelB6[Received other funding],TabelBP[Name Participant],B10,TabelBP[Project ID],A10) -> 0
A11: =IFERROR(INDEX(TabelBP[Project ID], MATCH(TabelOBP[[#This Row],[Name Participant]],TabelBP[Name Participant],0)), " ") | B11: =IF(INDEX(TabelBP[Name Participant],7)<>0, INDEX(TabelBP[Name Participant],7)," ") | C11: =IFERROR(INDEX(TabelBP[Organization Type], MATCH(TabelOBP[[#This Row],[Name Participant]],TabelBP[Name Participant],0)), " ") | D11: =IFERROR(INDEX(TabelBP[Foreign?], MATCH(TabelOBP[[#This Row],[Name Participant]],TabelBP[Name Participant],0)), " ") | E11: =SUMIFS(TabelB1[Costs],TabelBP[Name Participant],B11,TabelBP[Project ID],A11)+SUMIFS(TabelB2[Costs],TabelBP[Name Participant],B11,TabelBP[Project ID],A11)+SUMIFS(TabelB3[Costs],TabelBP[Name Participant],B11,TabelBP[Project ID],A11)+SUMIFS(TabelB4[Costs],TabelBP[Name Participant],B11,TabelBP[Project ID],A11)+SUMIFS(TabelB5[Costs],TabelBP[Name Participant],B11,TabelBP[Project ID],A11)+SUMIFS(TabelB6[Costs],TabelBP[Name Participant],B11,TabelBP[Project ID],A11) -> 0 | F11: =SUMIFS(TabelB1[In-kind contribution],TabelBP[Name Participant],B11,TabelBP[Project ID],A11)+SUMIFS(TabelB2[In-kind contribution],TabelBP[Name Participant],B11,TabelBP[Project ID],A11)+SUMIFS(TabelB3[In-kind contribution],TabelBP[Name Participant],B11,TabelBP[Project ID],A11)+SUMIFS(TabelB4[In-kind contribution],TabelBP[Name Participant],B11,TabelBP[Project ID],A11)+SUMIFS(TabelB5[In-kind contribution],TabelBP[Name Participant],B11,TabelBP[Project ID],A11)+SUMIFS(TabelB6[In-kind contribution],TabelBP[Name Participant],B11,TabelBP[Project ID],A11) -> 0 | G11: =SUMIFS(TabelB1[In-cash contribution],TabelBP[Name Participant],B11,TabelBP[Project ID],A11)+SUMIFS(TabelB2[In-cash contribution],TabelBP[Name Participant],B11,TabelBP[Project ID],A11)+SUMIFS(TabelB3[In-cash contribution],TabelBP[Name Participant],B11,TabelBP[Project ID],A11)+SUMIFS(TabelB4[In-cash contribution],TabelBP[Name Participant],B11,TabelBP[Project ID],A11)+SUMIFS(TabelB5[In-cash contribution],TabelBP[Name Participant],B11,TabelBP[Project ID],A11)+SUMIFS(TabelB6[In-cash contribution],TabelBP[Name Participant],B11,TabelBP[Project ID],A11) -> 0 | H11: =SUMIFS(TabelB1[PPP Allowance],TabelBP[Name Participant],B11,TabelBP[Project ID],A11)+SUMIFS(TabelB2[[PPP allowance ]],TabelBP[Name Participant],B11,TabelBP[Project ID],A11)+SUMIFS(TabelB3[PPP Allowance],TabelBP[Name Participant],B11,TabelBP[Project ID],A11)+SUMIFS(TabelB4[PPP Allowance],TabelBP[Name Participant],B11,TabelBP[Project ID],A11)+SUMIFS(TabelB5[PPP Allowance],TabelBP[Name Participant],B11,TabelBP[Project ID],A11)+SUMIFS(TabelB6[PPP Allowance],TabelBP[Name Participant],B11,TabelBP[Project ID],A11) -> 0 | I11: =SUMIFS(TabelB1[Received cash],TabelBP[Name Participant],B11,TabelBP[Project ID],A11)+SUMIFS(TabelB2[Received cash],TabelBP[Name Participant],B11,TabelBP[Project ID],A11)+SUMIFS(TabelB3[Received cash],TabelBP[Name Participant],B11,TabelBP[Project ID],A11)+SUMIFS(TabelB4[Received cash],TabelBP[Name Participant],B11,TabelBP[Project ID],A11)+SUMIFS(TabelB5[Received cash],TabelBP[Name Participant],B11,TabelBP[Project ID],A11)+SUMIFS(TabelB6[Received cash],TabelBP[Name Participant],B11,TabelBP[Project ID],A11) -> 0 | J11: =SUMIFS(TabelB1[Received other funding],TabelBP[Name Participant],B11,TabelBP[Project ID],A11)+SUMIFS(TabelB2[Received other funding],TabelBP[Name Participant],B11,TabelBP[Project ID],A11)+SUMIFS(TabelB3[Received other funding],TabelBP[Name Participant],B11,TabelBP[Project ID],A11)+SUMIFS(TabelB4[Received other funding],TabelBP[Name Participant],B11,TabelBP[Project ID],A11)+SUMIFS(TabelB5[Received other funding],TabelBP[Name Participant],B11,TabelBP[Project ID],A11)+SUMIFS(TabelB6[Received other funding],TabelBP[Name Participant],B11,TabelBP[Project ID],A11) -> 0
A12: =IFERROR(INDEX(TabelBP[Project ID], MATCH(TabelOBP[[#This Row],[Name Participant]],TabelBP[Name Participant],0)), " ") | B12: =IF(INDEX(TabelBP[Name Participant],8)<>0, INDEX(TabelBP[Name Participant],8)," ") | C12: =IFERROR(INDEX(TabelBP[Organization Type], MATCH(TabelOBP[[#This Row],[Name Participant]],TabelBP[Name Participant],0)), " ") | D12: =IFERROR(INDEX(TabelBP[Foreign?], MATCH(TabelOBP[[#This Row],[Name Participant]],TabelBP[Name Participant],0)), " ") | E12: =SUMIFS(TabelB1[Costs],TabelBP[Name Participant],B12,TabelBP[Project ID],A12)+SUMIFS(TabelB2[Costs],TabelBP[Name Participant],B12,TabelBP[Project ID],A12)+SUMIFS(TabelB3[Costs],TabelBP[Name Participant],B12,TabelBP[Project ID],A12)+SUMIFS(TabelB4[Costs],TabelBP[Name Participant],B12,TabelBP[Project ID],A12)+SUMIFS(TabelB5[Costs],TabelBP[Name Participant],B12,TabelBP[Project ID],A12)+SUMIFS(TabelB6[Costs],TabelBP[Name Participant],B12,TabelBP[Project ID],A12) -> 0 | F12: =SUMIFS(TabelB1[In-kind contribution],TabelBP[Name Participant],B12,TabelBP[Project ID],A12)+SUMIFS(TabelB2[In-kind contribution],TabelBP[Name Participant],B12,TabelBP[Project ID],A12)+SUMIFS(TabelB3[In-kind contribution],TabelBP[Name Participant],B12,TabelBP[Project ID],A12)+SUMIFS(TabelB4[In-kind contribution],TabelBP[Name Participant],B12,TabelBP[Project ID],A12)+SUMIFS(TabelB5[In-kind contribution],TabelBP[Name Participant],B12,TabelBP[Project ID],A12)+SUMIFS(TabelB6[In-kind contribution],TabelBP[Name Participant],B12,TabelBP[Project ID],A12) -> 0 | G12: =SUMIFS(TabelB1[In-cash contribution],TabelBP[Name Participant],B12,TabelBP[Project ID],A12)+SUMIFS(TabelB2[In-cash contribution],TabelBP[Name Participant],B12,TabelBP[Project ID],A12)+SUMIFS(TabelB3[In-cash contribution],TabelBP[Name Participant],B12,TabelBP[Project ID],A12)+SUMIFS(TabelB4[In-cash contribution],TabelBP[Name Participant],B12,TabelBP[Project ID],A12)+SUMIFS(TabelB5[In-cash contribution],TabelBP[Name Participant],B12,TabelBP[Project ID],A12)+SUMIFS(TabelB6[In-cash contribution],TabelBP[Name Participant],B12,TabelBP[Project ID],A12) -> 0 | H12: =SUMIFS(TabelB1[PPP Allowance],TabelBP[Name Participant],B12,TabelBP[Project ID],A12)+SUMIFS(TabelB2[[PPP allowance ]],TabelBP[Name Participant],B12,TabelBP[Project ID],A12)+SUMIFS(TabelB3[PPP Allowance],TabelBP[Name Participant],B12,TabelBP[Project ID],A12)+SUMIFS(TabelB4[PPP Allowance],TabelBP[Name Participant],B12,TabelBP[Project ID],A12)+SUMIFS(TabelB5[PPP Allowance],TabelBP[Name Participant],B12,TabelBP[Project ID],A12)+SUMIFS(TabelB6[PPP Allowance],TabelBP[Name Participant],B12,TabelBP[Project ID],A12) -> 0 | I12: =SUMIFS(TabelB1[Received cash],TabelBP[Name Participant],B12,TabelBP[Project ID],A12)+SUMIFS(TabelB2[Received cash],TabelBP[Name Participant],B12,TabelBP[Project ID],A12)+SUMIFS(TabelB3[Received cash],TabelBP[Name Participant],B12,TabelBP[Project ID],A12)+SUMIFS(TabelB4[Received cash],TabelBP[Name Participant],B12,TabelBP[Project ID],A12)+SUMIFS(TabelB5[Received cash],TabelBP[Name Participant],B12,TabelBP[Project ID],A12)+SUMIFS(TabelB6[Received cash],TabelBP[Name Participant],B12,TabelBP[Project ID],A12) -> 0 | J12: =SUMIFS(TabelB1[Received other funding],TabelBP[Name Participant],B12,TabelBP[Project ID],A12)+SUMIFS(TabelB2[Received other funding],TabelBP[Name Participant],B12,TabelBP[Project ID],A12)+SUMIFS(TabelB3[Received other funding],TabelBP[Name Participant],B12,TabelBP[Project ID],A12)+SUMIFS(TabelB4[Received other funding],TabelBP[Name Participant],B12,TabelBP[Project ID],A12)+SUMIFS(TabelB5[Received other funding],TabelBP[Name Participant],B12,TabelBP[Project ID],A12)+SUMIFS(TabelB6[Received other funding],TabelBP[Name Participant],B12,TabelBP[Project ID],A12) -> 0
A13: =IFERROR(INDEX(TabelBP[Project ID], MATCH(TabelOBP[[#This Row],[Name Participant]],TabelBP[Name Participant],0)), " ") | B13: =IF(INDEX(TabelBP[Name Participant],9)<>0, INDEX(TabelBP[Name Participant],9)," ") | C13: =IFERROR(INDEX(TabelBP[Organization Type], MATCH(TabelOBP[[#This Row],[Name Participant]],TabelBP[Name Participant],0)), " ") | D13: =IFERROR(INDEX(TabelBP[Foreign?], MATCH(TabelOBP[[#This Row],[Name Participant]],TabelBP[Name Participant],0)), " ") | E13: =SUMIFS(TabelB1[Costs],TabelBP[Name Participant],B13,TabelBP[Project ID],A13)+SUMIFS(TabelB2[Costs],TabelBP[Name Participant],B13,TabelBP[Project ID],A13)+SUMIFS(TabelB3[Costs],TabelBP[Name Participant],B13,TabelBP[Project ID],A13)+SUMIFS(TabelB4[Costs],TabelBP[Name Participant],B13,TabelBP[Project ID],A13)+SUMIFS(TabelB5[Costs],TabelBP[Name Participant],B13,TabelBP[Project ID],A13)+SUMIFS(TabelB6[Costs],TabelBP[Name Participant],B13,TabelBP[Project ID],A13) -> 0 | F13: =SUMIFS(TabelB1[In-kind contribution],TabelBP[Name Participant],B13,TabelBP[Project ID],A13)+SUMIFS(TabelB2[In-kind contribution],TabelBP[Name Participant],B13,TabelBP[Project ID],A13)+SUMIFS(TabelB3[In-kind contribution],TabelBP[Name Participant],B13,TabelBP[Project ID],A13)+SUMIFS(TabelB4[In-kind contribution],TabelBP[Name Participant],B13,TabelBP[Project ID],A13)+SUMIFS(TabelB5[In-kind contribution],TabelBP[Name Participant],B13,TabelBP[Project ID],A13)+SUMIFS(TabelB6[In-kind contribution],TabelBP[Name Participant],B13,TabelBP[Project ID],A13) -> 0 | G13: =SUMIFS(TabelB1[In-cash contribution],TabelBP[Name Participant],B13,TabelBP[Project ID],A13)+SUMIFS(TabelB2[In-cash contribution],TabelBP[Name Participant],B13,TabelBP[Project ID],A13)+SUMIFS(TabelB3[In-cash contribution],TabelBP[Name Participant],B13,TabelBP[Project ID],A13)+SUMIFS(TabelB4[In-cash contribution],TabelBP[Name Participant],B13,TabelBP[Project ID],A13)+SUMIFS(TabelB5[In-cash contribution],TabelBP[Name Participant],B13,TabelBP[Project ID],A13)+SUMIFS(TabelB6[In-cash contribution],TabelBP[Name Participant],B13,TabelBP[Project ID],A13) -> 0 | H13: =SUMIFS(TabelB1[PPP Allowance],TabelBP[Name Participant],B13,TabelBP[Project ID],A13)+SUMIFS(TabelB2[[PPP allowance ]],TabelBP[Name Participant],B13,TabelBP[Project ID],A13)+SUMIFS(TabelB3[PPP Allowance],TabelBP[Name Participant],B13,TabelBP[Project ID],A13)+SUMIFS(TabelB4[PPP Allowance],TabelBP[Name Participant],B13,TabelBP[Project ID],A13)+SUMIFS(TabelB5[PPP Allowance],TabelBP[Name Participant],B13,TabelBP[Project ID],A13)+SUMIFS(TabelB6[PPP Allowance],TabelBP[Name Participant],B13,TabelBP[Project ID],A13) -> 0 | I13: =SUMIFS(TabelB1[Received cash],TabelBP[Name Participant],B13,TabelBP[Project ID],A13)+SUMIFS(TabelB2[Received cash],TabelBP[Name Participant],B13,TabelBP[Project ID],A13)+SUMIFS(TabelB3[Received cash],TabelBP[Name Participant],B13,TabelBP[Project ID],A13)+SUMIFS(TabelB4[Received cash],TabelBP[Name Participant],B13,TabelBP[Project ID],A13)+SUMIFS(TabelB5[Received cash],TabelBP[Name Participant],B13,TabelBP[Project ID],A13)+SUMIFS(TabelB6[Received cash],TabelBP[Name Participant],B13,TabelBP[Project ID],A13) -> 0 | J13: =SUMIFS(TabelB1[Received other funding],TabelBP[Name Participant],B13,TabelBP[Project ID],A13)+SUMIFS(TabelB2[Received other funding],TabelBP[Name Participant],B13,TabelBP[Project ID],A13)+SUMIFS(TabelB3[Received other funding],TabelBP[Name Participant],B13,TabelBP[Project ID],A13)+SUMIFS(TabelB4[Received other funding],TabelBP[Name Participant],B13,TabelBP[Project ID],A13)+SUMIFS(TabelB5[Received other funding],TabelBP[Name Participant],B13,TabelBP[Project ID],A13)+SUMIFS(TabelB6[Received other funding],TabelBP[Name Participant],B13,TabelBP[Project ID],A13) -> 0
A14: =IFERROR(INDEX(TabelBP[Project ID], MATCH(TabelOBP[[#This Row],[Name Participant]],TabelBP[Name Participant],0)), " ") | B14: =IF(INDEX(TabelBP[Name Participant],10)<>0, INDEX(TabelBP[Name Participant],10)," ") | C14: =IFERROR(INDEX(TabelBP[Organization Type], MATCH(TabelOBP[[#This Row],[Name Participant]],TabelBP[Name Participant],0)), " ") | D14: =IFERROR(INDEX(TabelBP[Foreign?], MATCH(TabelOBP[[#This Row],[Name Participant]],TabelBP[Name Participant],0)), " ") | E14: =SUMIFS(TabelB1[Costs],TabelBP[Name Participant],B14,TabelBP[Project ID],A14)+SUMIFS(TabelB2[Costs],TabelBP[Name Participant],B14,TabelBP[Project ID],A14)+SUMIFS(TabelB3[Costs],TabelBP[Name Participant],B14,TabelBP[Project ID],A14)+SUMIFS(TabelB4[Costs],TabelBP[Name Participant],B14,TabelBP[Project ID],A14)+SUMIFS(TabelB5[Costs],TabelBP[Name Participant],B14,TabelBP[Project ID],A14)+SUMIFS(TabelB6[Costs],TabelBP[Name Participant],B14,TabelBP[Project ID],A14) -> 0 | F14: =SUMIFS(TabelB1[In-kind contribution],TabelBP[Name Participant],B14,TabelBP[Project ID],A14)+SUMIFS(TabelB2[In-kind contribution],TabelBP[Name Participant],B14,TabelBP[Project ID],A14)+SUMIFS(TabelB3[In-kind contribution],TabelBP[Name Participant],B14,TabelBP[Project ID],A14)+SUMIFS(TabelB4[In-kind contribution],TabelBP[Name Participant],B14,TabelBP[Project ID],A14)+SUMIFS(TabelB5[In-kind contribution],TabelBP[Name Participant],B14,TabelBP[Project ID],A14)+SUMIFS(TabelB6[In-kind contribution],TabelBP[Name Participant],B14,TabelBP[Project ID],A14) -> 0 | G14: =SUMIFS(TabelB1[In-cash contribution],TabelBP[Name Participant],B14,TabelBP[Project ID],A14)+SUMIFS(TabelB2[In-cash contribution],TabelBP[Name Participant],B14,TabelBP[Project ID],A14)+SUMIFS(TabelB3[In-cash contribution],TabelBP[Name Participant],B14,TabelBP[Project ID],A14)+SUMIFS(TabelB4[In-cash contribution],TabelBP[Name Participant],B14,TabelBP[Project ID],A14)+SUMIFS(TabelB5[In-cash contribution],TabelBP[Name Participant],B14,TabelBP[Project ID],A14)+SUMIFS(TabelB6[In-cash contribution],TabelBP[Name Participant],B14,TabelBP[Project ID],A14) -> 0 | H14: =SUMIFS(TabelB1[PPP Allowance],TabelBP[Name Participant],B14,TabelBP[Project ID],A14)+SUMIFS(TabelB2[[PPP allowance ]],TabelBP[Name Participant],B14,TabelBP[Project ID],A14)+SUMIFS(TabelB3[PPP Allowance],TabelBP[Name Participant],B14,TabelBP[Project ID],A14)+SUMIFS(TabelB4[PPP Allowance],TabelBP[Name Participant],B14,TabelBP[Project ID],A14)+SUMIFS(TabelB5[PPP Allowance],TabelBP[Name Participant],B14,TabelBP[Project ID],A14)+SUMIFS(TabelB6[PPP Allowance],TabelBP[Name Participant],B14,TabelBP[Project ID],A14) -> 0 | I14: =SUMIFS(TabelB1[Received cash],TabelBP[Name Participant],B14,TabelBP[Project ID],A14)+SUMIFS(TabelB2[Received cash],TabelBP[Name Participant],B14,TabelBP[Project ID],A14)+SUMIFS(TabelB3[Received cash],TabelBP[Name Participant],B14,TabelBP[Project ID],A14)+SUMIFS(TabelB4[Received cash],TabelBP[Name Participant],B14,TabelBP[Project ID],A14)+SUMIFS(TabelB5[Received cash],TabelBP[Name Participant],B14,TabelBP[Project ID],A14)+SUMIFS(TabelB6[Received cash],TabelBP[Name Participant],B14,TabelBP[Project ID],A14) -> 0 | J14: =SUMIFS(TabelB1[Received other funding],TabelBP[Name Participant],B14,TabelBP[Project ID],A14)+SUMIFS(TabelB2[Received other funding],TabelBP[Name Participant],B14,TabelBP[Project ID],A14)+SUMIFS(TabelB3[Received other funding],TabelBP[Name Participant],B14,TabelBP[Project ID],A14)+SUMIFS(TabelB4[Received other funding],TabelBP[Name Participant],B14,TabelBP[Project ID],A14)+SUMIFS(TabelB5[Received other funding],TabelBP[Name Participant],B14,TabelBP[Project ID],A14)+SUMIFS(TabelB6[Received other funding],TabelBP[Name Participant],B14,TabelBP[Project ID],A14) -> 0
A15: =IFERROR(INDEX(TabelBP[Project ID], MATCH(TabelOBP[[#This Row],[Name Participant]],TabelBP[Name Participant],0)), " ") | B15: =IF(INDEX(TabelBP[Name Participant],11)<>0, INDEX(TabelBP[Name Participant],11)," ") | C15: =IFERROR(INDEX(TabelBP[Organization Type], MATCH(TabelOBP[[#This Row],[Name Participant]],TabelBP[Name Participant],0)), " ") | D15: =IFERROR(INDEX(TabelBP[Foreign?], MATCH(TabelOBP[[#This Row],[Name Participant]],TabelBP[Name Participant],0)), " ") | E15: =SUMIFS(TabelB1[Costs],TabelBP[Name Participant],B15,TabelBP[Project ID],A15)+SUMIFS(TabelB2[Costs],TabelBP[Name Participant],B15,TabelBP[Project ID],A15)+SUMIFS(TabelB3[Costs],TabelBP[Name Participant],B15,TabelBP[Project ID],A15)+SUMIFS(TabelB4[Costs],TabelBP[Name Participant],B15,TabelBP[Project ID],A15)+SUMIFS(TabelB5[Costs],TabelBP[Name Participant],B15,TabelBP[Project ID],A15)+SUMIFS(TabelB6[Costs],TabelBP[Name Participant],B15,TabelBP[Project ID],A15) -> 0 | F15: =SUMIFS(TabelB1[In-kind contribution],TabelBP[Name Participant],B15,TabelBP[Project ID],A15)+SUMIFS(TabelB2[In-kind contribution],TabelBP[Name Participant],B15,TabelBP[Project ID],A15)+SUMIFS(TabelB3[In-kind contribution],TabelBP[Name Participant],B15,TabelBP[Project ID],A15)+SUMIFS(TabelB4[In-kind contribution],TabelBP[Name Participant],B15,TabelBP[Project ID],A15)+SUMIFS(TabelB5[In-kind contribution],TabelBP[Name Participant],B15,TabelBP[Project ID],A15)+SUMIFS(TabelB6[In-kind contribution],TabelBP[Name Participant],B15,TabelBP[Project ID],A15) -> 0 | G15: =SUMIFS(TabelB1[In-cash contribution],TabelBP[Name Participant],B15,TabelBP[Project ID],A15)+SUMIFS(TabelB2[In-cash contribution],TabelBP[Name Participant],B15,TabelBP[Project ID],A15)+SUMIFS(TabelB3[In-cash contribution],TabelBP[Name Participant],B15,TabelBP[Project ID],A15)+SUMIFS(TabelB4[In-cash contribution],TabelBP[Name Participant],B15,TabelBP[Project ID],A15)+SUMIFS(TabelB5[In-cash contribution],TabelBP[Name Participant],B15,TabelBP[Project ID],A15)+SUMIFS(TabelB6[In-cash contribution],TabelBP[Name Participant],B15,TabelBP[Project ID],A15) -> 0 | H15: =SUMIFS(TabelB1[PPP Allowance],TabelBP[Name Participant],B15,TabelBP[Project ID],A15)+SUMIFS(TabelB2[[PPP allowance ]],TabelBP[Name Participant],B15,TabelBP[Project ID],A15)+SUMIFS(TabelB3[PPP Allowance],TabelBP[Name Participant],B15,TabelBP[Project ID],A15)+SUMIFS(TabelB4[PPP Allowance],TabelBP[Name Participant],B15,TabelBP[Project ID],A15)+SUMIFS(TabelB5[PPP Allowance],TabelBP[Name Participant],B15,TabelBP[Project ID],A15)+SUMIFS(TabelB6[PPP Allowance],TabelBP[Name Participant],B15,TabelBP[Project ID],A15) -> 0 | I15: =SUMIFS(TabelB1[Received cash],TabelBP[Name Participant],B15,TabelBP[Project ID],A15)+SUMIFS(TabelB2[Received cash],TabelBP[Name Participant],B15,TabelBP[Project ID],A15)+SUMIFS(TabelB3[Received cash],TabelBP[Name Participant],B15,TabelBP[Project ID],A15)+SUMIFS(TabelB4[Received cash],TabelBP[Name Participant],B15,TabelBP[Project ID],A15)+SUMIFS(TabelB5[Received cash],TabelBP[Name Participant],B15,TabelBP[Project ID],A15)+SUMIFS(TabelB6[Received cash],TabelBP[Name Participant],B15,TabelBP[Project ID],A15) -> 0 | J15: =SUMIFS(TabelB1[Received other funding],TabelBP[Name Participant],B15,TabelBP[Project ID],A15)+SUMIFS(TabelB2[Received other funding],TabelBP[Name Participant],B15,TabelBP[Project ID],A15)+SUMIFS(TabelB3[Received other funding],TabelBP[Name Participant],B15,TabelBP[Project ID],A15)+SUMIFS(TabelB4[Received other funding],TabelBP[Name Participant],B15,TabelBP[Project ID],A15)+SUMIFS(TabelB5[Received other funding],TabelBP[Name Participant],B15,TabelBP[Project ID],A15)+SUMIFS(TabelB6[Received other funding],TabelBP[Name Participant],B15,TabelBP[Project ID],A15) -> 0
D16: Total | E16: =SUM(E5:E15) -> 0 | F16: =SUM(F5:F15) -> 0 | G16: =SUM(G5:G15) -> 0 | H16: =SUM(H5:H15) -> 0 | I16: =SUM(I5:I15) -> 0 | J16: =SUM(J5:J15) -> 0
A17: REALISED EXPENDITURE
A20: Participant Information | E20: Total Project Expenditure
A21: Project ID | B21: Name Participant | C21: Organization type | D21: Foreign? | E21: Costs | F21: In-kind contribution | G21: In-cash contribution | H21: PPP Allowance | I21: Received cash | J21: Received other funding
A22: =IFERROR(INDEX(TabelBP[Project ID], MATCH(TabelOEP[[#This Row],[Name Participant]],TabelBP[Name Participant],0)), " ") | B22: =IF(INDEX(TabelBP[Name Participant],1)<>0, INDEX(TabelBP[Name Participant],1)," ") | C22: =IFERROR(INDEX(TabelBP[Organization Type], MATCH(TabelOEP[[#This Row],[Name Participant]],TabelBP[Name Participant],0)), " ") | D22: =IFERROR(INDEX(TabelBP[Foreign?], MATCH(TabelOEP[[#This Row],[Name Participant]],TabelBP[Name Participant],0)), " ") | E22: =SUMIFS(TabelE1[Costs],TabelEP[Name Participant],B22,TabelEP[Project ID],A22)+SUMIFS(TabelE2[Costs],TabelEP[Name Participant],B22,TabelEP[Project ID],A22)+SUMIFS(TabelE3[Costs],TabelEP[Name Participant],B22,TabelEP[Project ID],A22)+SUMIFS(TabelE4[Costs],TabelEP[Name Participant],B22,TabelEP[Project ID],A22)+SUMIFS(TabelE5[Costs],TabelEP[Name Participant],B22,TabelEP[Project ID],A22)+SUMIFS(TabelE6[Costs],TabelEP[Name Participant],B22,TabelEP[Project ID],A22) -> 0 | F22: =SUMIFS(TabelE1[In-kind contribution],TabelEP[Name Participant],B22,TabelEP[Project ID],A22)+SUMIFS(TabelE2[In-kind contribution],TabelEP[Name Participant],B22,TabelEP[Project ID],A22)+SUMIFS(TabelE3[In-kind contribution],TabelEP[Name Participant],B22,TabelEP[Project ID],A22)+SUMIFS(TabelE4[In-kind contribution],TabelEP[Name Participant],B22,TabelEP[Project ID],A22)+SUMIFS(TabelE5[In-kind contribution],TabelEP[Name Participant],B22,TabelEP[Project ID],A22)+SUMIFS(TabelE6[In-kind contribution],TabelEP[Name Participant],B22,TabelEP[Project ID],A22) -> 0 | G22: =SUMIFS(TabelE1[In-cash contribution],TabelEP[Name Participant],B22,TabelEP[Project ID],A22)+SUMIFS(TabelE2[In-cash contribution],TabelEP[Name Participant],B22,TabelEP[Project ID],A22)+SUMIFS(TabelE3[In-cash contribution],TabelEP[Name Participant],B22,TabelEP[Project ID],A22)+SUMIFS(TabelE4[In-cash contribution],TabelEP[Name Participant],B22,TabelEP[Project ID],A22)+SUMIFS(TabelE5[In-cash contribution],TabelEP[Name Participant],B22,TabelEP[Project ID],A22)+SUMIFS(TabelE6[In-cash contribution],TabelEP[Name Participant],B22,TabelEP[Project ID],A22) -> 0 | H22: =SUMIFS(TabelE1[[PPP Allowance ]],TabelEP[Name Participant],B22,TabelEP[Project ID],A22)+SUMIFS(TabelE2[PPP Allowance],TabelEP[Name Participant],B22,TabelEP[Project ID],A22)+SUMIFS(TabelE3[PPP Allowance],TabelEP[Name Participant],B22,TabelEP[Project ID],A22)+SUMIFS(TabelE4[PPP Allowance],TabelEP[Name Participant],B22,TabelEP[Project ID],A22)+SUMIFS(TabelE5[PPP Allowance],TabelEP[Name Participant],B22,TabelEP[Project ID],A22)+SUMIFS(TabelE6[PPP Allowance],TabelEP[Name Participant],B22,TabelEP[Project ID],A22) -> 0 | I22: =SUMIFS(TabelE1[Received cash],TabelEP[Name Participant],B22,TabelEP[Project ID],A22)+SUMIFS(TabelE2[Received cash],TabelEP[Name Participant],B22,TabelEP[Project ID],A22)+SUMIFS(TabelE3[Received cash],TabelEP[Name Participant],B22,TabelEP[Project ID],A22)+SUMIFS(TabelE4[Received cash],TabelEP[Name Participant],B22,TabelEP[Project ID],A22)+SUMIFS(TabelE5[Received cash],TabelEP[Name Participant],B22,TabelEP[Project ID],A22)+SUMIFS(TabelE6[Received cash],TabelEP[Name Participant],B22,TabelEP[Project ID],A22) -> 0 | J22: =SUMIFS(TabelE1[Received other funding],TabelEP[Name Participant],B22,TabelEP[Project ID],A22)+SUMIFS(TabelE2[Received other funding],TabelEP[Name Participant],B22,TabelEP[Project ID],A22)+SUMIFS(TabelE3[Received other funding],TabelEP[Name Participant],B22,TabelEP[Project ID],A22)+SUMIFS(TabelE4[Received other funding],TabelEP[Name Participant],B22,TabelEP[Project ID],A22)+SUMIFS(TabelE5[Received other funding],TabelEP[Name Participant],B22,TabelEP[Project ID],A22)+SUMIFS(TabelE6[Received other funding],TabelEP[Name Participant],B22,TabelEP[Project ID],A22) -> 0 | L22: =IF(TabelOEP[[#This Row],[Foreign?]] = "Yes", 0, IF(OR(TabelOEP[[#This Row],[Organization type]] = "SME - Micro", TabelOEP[[#This Row],[Organization type]] = "SME - Small", TabelOEP[[#This Row],[Organization type]] = "SME - Medium"),(TabelOE[[#This Row],[Costs]]*I38*0.5+TabelOE[[#This Row],[Costs]]*I39*0.5+TabelOE[[#This Row],[Costs]]*I40*0.25), IF(TabelOEP[[#This Row],[Organization type]] = "Large enterprise",0,IF(TabelOEP[[#This Row],[Organization type]]="Other",0,IF(TabelOEP[[#This Row],[Organization type]] = "Research organization",TabelOE[[#This Row],[Costs]]))))) -> FALSE
A23: =IFERROR(INDEX(TabelBP[Project ID], MATCH(TabelOEP[[#This Row],[Name Participant]],TabelBP[Name Participant],0)), " ") | B23: =IF(INDEX(TabelBP[Name Participant],2)<>0, INDEX(TabelBP[Name Participant],2)," ") | C23: =IFERROR(INDEX(TabelBP[Organization Type], MATCH(TabelOEP[[#This Row],[Name Participant]],TabelBP[Name Participant],0)), " ") | D23: =IFERROR(INDEX(TabelBP[Foreign?], MATCH(TabelOEP[[#This Row],[Name Participant]],TabelBP[Name Participant],0)), " ") | E23: =SUMIFS(TabelE1[Costs],TabelEP[Name Participant],B23,TabelEP[Project ID],A23)+SUMIFS(TabelE2[Costs],TabelEP[Name Participant],B23,TabelEP[Project ID],A23)+SUMIFS(TabelE3[Costs],TabelEP[Name Participant],B23,TabelEP[Project ID],A23)+SUMIFS(TabelE4[Costs],TabelEP[Name Participant],B23,TabelEP[Project ID],A23)+SUMIFS(TabelE5[Costs],TabelEP[Name Participant],B23,TabelEP[Project ID],A23)+SUMIFS(TabelE6[Costs],TabelEP[Name Participant],B23,TabelEP[Project ID],A23) -> 0 | F23: =SUMIFS(TabelE1[In-kind contribution],TabelEP[Name Participant],B23,TabelEP[Project ID],A23)+SUMIFS(TabelE2[In-kind contribution],TabelEP[Name Participant],B23,TabelEP[Project ID],A23)+SUMIFS(TabelE3[In-kind contribution],TabelEP[Name Participant],B23,TabelEP[Project ID],A23)+SUMIFS(TabelE4[In-kind contribution],TabelEP[Name Participant],B23,TabelEP[Project ID],A23)+SUMIFS(TabelE5[In-kind contribution],TabelEP[Name Participant],B23,TabelEP[Project ID],A23)+SUMIFS(TabelE6[In-kind contribution],TabelEP[Name Participant],B23,TabelEP[Project ID],A23) -> 0 | G23: =SUMIFS(TabelE1[In-cash contribution],TabelEP[Name Participant],B23,TabelEP[Project ID],A23)+SUMIFS(TabelE2[In-cash contribution],TabelEP[Name Participant],B23,TabelEP[Project ID],A23)+SUMIFS(TabelE3[In-cash contribution],TabelEP[Name Participant],B23,TabelEP[Project ID],A23)+SUMIFS(TabelE4[In-cash contribution],TabelEP[Name Participant],B23,TabelEP[Project ID],A23)+SUMIFS(TabelE5[In-cash contribution],TabelEP[Name Participant],B23,TabelEP[Project ID],A23)+SUMIFS(TabelE6[In-cash contribution],TabelEP[Name Participant],B23,TabelEP[Project ID],A23) -> 0 | H23: =SUMIFS(TabelE1[[PPP Allowance ]],TabelEP[Name Participant],B23,TabelEP[Project ID],A23)+SUMIFS(TabelE2[PPP Allowance],TabelEP[Name Participant],B23,TabelEP[Project ID],A23)+SUMIFS(TabelE3[PPP Allowance],TabelEP[Name Participant],B23,TabelEP[Project ID],A23)+SUMIFS(TabelE4[PPP Allowance],TabelEP[Name Participant],B23,TabelEP[Project ID],A23)+SUMIFS(TabelE5[PPP Allowance],TabelEP[Name Participant],B23,TabelEP[Project ID],A23)+SUMIFS(TabelE6[PPP Allowance],TabelEP[Name Participant],B23,TabelEP[Project ID],A23) -> 0 | I23: =SUMIFS(TabelE1[Received cash],TabelEP[Name Participant],B23,TabelEP[Project ID],A23)+SUMIFS(TabelE2[Received cash],TabelEP[Name Participant],B23,TabelEP[Project ID],A23)+SUMIFS(TabelE3[Received cash],TabelEP[Name Participant],B23,TabelEP[Project ID],A23)+SUMIFS(TabelE4[Received cash],TabelEP[Name Participant],B23,TabelEP[Project ID],A23)+SUMIFS(TabelE5[Received cash],TabelEP[Name Participant],B23,TabelEP[Project ID],A23)+SUMIFS(TabelE6[Received cash],TabelEP[Name Participant],B23,TabelEP[Project ID],A23) -> 0 | J23: =SUMIFS(TabelE1[Received other funding],TabelEP[Name Participant],B23,TabelEP[Project ID],A23)+SUMIFS(TabelE2[Received other funding],TabelEP[Name Participant],B23,TabelEP[Project ID],A23)+SUMIFS(TabelE3[Received other funding],TabelEP[Name Participant],B23,TabelEP[Project ID],A23)+SUMIFS(TabelE4[Received other funding],TabelEP[Name Participant],B23,TabelEP[Project ID],A23)+SUMIFS(TabelE5[Received other funding],TabelEP[Name Participant],B23,TabelEP[Project ID],A23)+SUMIFS(TabelE6[Received other funding],TabelEP[Name Participant],B23,TabelEP[Project ID],A23) -> 0 | L23: =IF(TabelOEP[[#This Row],[Foreign?]] = "Yes", 0, IF(OR(TabelOEP[[#This Row],[Organization type]] = "SME - Micro", TabelOEP[[#This Row],[Organization type]] = "SME - Small", TabelOEP[[#This Row],[Organization type]] = "SME - Medium"),(TabelOE[[#This Row],[Costs]]*I38*0.5+TabelOE[[#This Row],[Costs]]*I39*0.5+TabelOE[[#This Row],[Costs]]*I40*0.25), IF(TabelOEP[[#This Row],[Organization type]] = "Large enterprise",0,IF(TabelOEP[[#This Row],[Organization type]]="Other",0,IF(TabelOEP[[#This Row],[Organization type]] = "Research organization",TabelOE[[#This Row],[Costs]]))))) -> FALSE
A24: =IFERROR(INDEX(TabelBP[Project ID], MATCH(TabelOEP[[#This Row],[Name Participant]],TabelBP[Name Participant],0)), " ") | B24: =IF(INDEX(TabelBP[Name Participant],3)<>0, INDEX(TabelBP[Name Participant],3)," ") | C24: =IFERROR(INDEX(TabelBP[Organization Type], MATCH(TabelOEP[[#This Row],[Name Participant]],TabelBP[Name Participant],0)), " ") | D24: =IFERROR(INDEX(TabelBP[Foreign?], MATCH(TabelOEP[[#This Row],[Name Participant]],TabelBP[Name Participant],0)), " ") | E24: =SUMIFS(TabelE1[Costs],TabelEP[Name Participant],B24,TabelEP[Project ID],A24)+SUMIFS(TabelE2[Costs],TabelEP[Name Participant],B24,TabelEP[Project ID],A24)+SUMIFS(TabelE3[Costs],TabelEP[Name Participant],B24,TabelEP[Project ID],A24)+SUMIFS(TabelE4[Costs],TabelEP[Name Participant],B24,TabelEP[Project ID],A24)+SUMIFS(TabelE5[Costs],TabelEP[Name Participant],B24,TabelEP[Project ID],A24)+SUMIFS(TabelE6[Costs],TabelEP[Name Participant],B24,TabelEP[Project ID],A24) -> 0 | F24: =SUMIFS(TabelE1[In-kind contribution],TabelEP[Name Participant],B24,TabelEP[Project ID],A24)+SUMIFS(TabelE2[In-kind contribution],TabelEP[Name Participant],B24,TabelEP[Project ID],A24)+SUMIFS(TabelE3[In-kind contribution],TabelEP[Name Participant],B24,TabelEP[Project ID],A24)+SUMIFS(TabelE4[In-kind contribution],TabelEP[Name Participant],B24,TabelEP[Project ID],A24)+SUMIFS(TabelE5[In-kind contribution],TabelEP[Name Participant],B24,TabelEP[Project ID],A24)+SUMIFS(TabelE6[In-kind contribution],TabelEP[Name Participant],B24,TabelEP[Project ID],A24) -> 0 | G24: =SUMIFS(TabelE1[In-cash contribution],TabelEP[Name Participant],B24,TabelEP[Project ID],A24)+SUMIFS(TabelE2[In-cash contribution],TabelEP[Name Participant],B24,TabelEP[Project ID],A24)+SUMIFS(TabelE3[In-cash contribution],TabelEP[Name Participant],B24,TabelEP[Project ID],A24)+SUMIFS(TabelE4[In-cash contribution],TabelEP[Name Participant],B24,TabelEP[Project ID],A24)+SUMIFS(TabelE5[In-cash contribution],TabelEP[Name Participant],B24,TabelEP[Project ID],A24)+SUMIFS(TabelE6[In-cash contribution],TabelEP[Name Participant],B24,TabelEP[Project ID],A24) -> 0 | H24: =SUMIFS(TabelE1[[PPP Allowance ]],TabelEP[Name Participant],B24,TabelEP[Project ID],A24)+SUMIFS(TabelE2[PPP Allowance],TabelEP[Name Participant],B24,TabelEP[Project ID],A24)+SUMIFS(TabelE3[PPP Allowance],TabelEP[Name Participant],B24,TabelEP[Project ID],A24)+SUMIFS(TabelE4[PPP Allowance],TabelEP[Name Participant],B24,TabelEP[Project ID],A24)+SUMIFS(TabelE5[PPP Allowance],TabelEP[Name Participant],B24,TabelEP[Project ID],A24)+SUMIFS(TabelE6[PPP Allowance],TabelEP[Name Participant],B24,TabelEP[Project ID],A24) -> 0 | I24: =SUMIFS(TabelE1[Received cash],TabelEP[Name Participant],B24,TabelEP[Project ID],A24)+SUMIFS(TabelE2[Received cash],TabelEP[Name Participant],B24,TabelEP[Project ID],A24)+SUMIFS(TabelE3[Received cash],TabelEP[Name Participant],B24,TabelEP[Project ID],A24)+SUMIFS(TabelE4[Received cash],TabelEP[Name Participant],B24,TabelEP[Project ID],A24)+SUMIFS(TabelE5[Received cash],TabelEP[Name Participant],B24,TabelEP[Project ID],A24)+SUMIFS(TabelE6[Received cash],TabelEP[Name Participant],B24,TabelEP[Project ID],A24) -> 0 | J24: =SUMIFS(TabelE1[Received other funding],TabelEP[Name Participant],B24,TabelEP[Project ID],A24)+SUMIFS(TabelE2[Received other funding],TabelEP[Name Participant],B24,TabelEP[Project ID],A24)+SUMIFS(TabelE3[Received other funding],TabelEP[Name Participant],B24,TabelEP[Project ID],A24)+SUMIFS(TabelE4[Received other funding],TabelEP[Name Participant],B24,TabelEP[Project ID],A24)+SUMIFS(TabelE5[Received other funding],TabelEP[Name Participant],B24,TabelEP[Project ID],A24)+SUMIFS(TabelE6[Received other funding],TabelEP[Name Participant],B24,TabelEP[Project ID],A24) -> 0 | L24: =IF(TabelOEP[[#This Row],[Foreign?]] = "Yes", 0, IF(OR(TabelOEP[[#This Row],[Organization type]] = "SME - Micro", TabelOEP[[#This Row],[Organization type]] = "SME - Small", TabelOEP[[#This Row],[Organization type]] = "SME - Medium"),(TabelOE[[#This Row],[Costs]]*I38*0.5+TabelOE[[#This Row],[Costs]]*I39*0.5+TabelOE[[#This Row],[Costs]]*I40*0.25), IF(TabelOEP[[#This Row],[Organization type]] = "Large enterprise",0,IF(TabelOEP[[#This Row],[Organization type]]="Other",0,IF(TabelOEP[[#This Row],[Organization type]] = "Research organization",TabelOE[[#This Row],[Costs]]))))) -> FALSE
A25: =IFERROR(INDEX(TabelBP[Project ID], MATCH(TabelOEP[[#This Row],[Name Participant]],TabelBP[Name Participant],0)), " ") | B25: =IF(INDEX(TabelBP[Name Participant],4)<>0, INDEX(TabelBP[Name Participant],4)," ") | C25: =IFERROR(INDEX(TabelBP[Organization Type], MATCH(TabelOEP[[#This Row],[Name Participant]],TabelBP[Name Participant],0)), " ") | D25: =IFERROR(INDEX(TabelBP[Foreign?], MATCH(TabelOEP[[#This Row],[Name Participant]],TabelBP[Name Participant],0)), " ") | E25: =SUMIFS(TabelE1[Costs],TabelEP[Name Participant],B25,TabelEP[Project ID],A25)+SUMIFS(TabelE2[Costs],TabelEP[Name Participant],B25,TabelEP[Project ID],A25)+SUMIFS(TabelE3[Costs],TabelEP[Name Participant],B25,TabelEP[Project ID],A25)+SUMIFS(TabelE4[Costs],TabelEP[Name Participant],B25,TabelEP[Project ID],A25)+SUMIFS(TabelE5[Costs],TabelEP[Name Participant],B25,TabelEP[Project ID],A25)+SUMIFS(TabelE6[Costs],TabelEP[Name Participant],B25,TabelEP[Project ID],A25) -> 0 | F25: =SUMIFS(TabelE1[In-kind contribution],TabelEP[Name Participant],B25,TabelEP[Project ID],A25)+SUMIFS(TabelE2[In-kind contribution],TabelEP[Name Participant],B25,TabelEP[Project ID],A25)+SUMIFS(TabelE3[In-kind contribution],TabelEP[Name Participant],B25,TabelEP[Project ID],A25)+SUMIFS(TabelE4[In-kind contribution],TabelEP[Name Participant],B25,TabelEP[Project ID],A25)+SUMIFS(TabelE5[In-kind contribution],TabelEP[Name Participant],B25,TabelEP[Project ID],A25)+SUMIFS(TabelE6[In-kind contribution],TabelEP[Name Participant],B25,TabelEP[Project ID],A25) -> 0 | G25: =SUMIFS(TabelE1[In-cash contribution],TabelEP[Name Participant],B25,TabelEP[Project ID],A25)+SUMIFS(TabelE2[In-cash contribution],TabelEP[Name Participant],B25,TabelEP[Project ID],A25)+SUMIFS(TabelE3[In-cash contribution],TabelEP[Name Participant],B25,TabelEP[Project ID],A25)+SUMIFS(TabelE4[In-cash contribution],TabelEP[Name Participant],B25,TabelEP[Project ID],A25)+SUMIFS(TabelE5[In-cash contribution],TabelEP[Name Participant],B25,TabelEP[Project ID],A25)+SUMIFS(TabelE6[In-cash contribution],TabelEP[Name Participant],B25,TabelEP[Project ID],A25) -> 0 | H25: =SUMIFS(TabelE1[[PPP Allowance ]],TabelEP[Name Participant],B25,TabelEP[Project ID],A25)+SUMIFS(TabelE2[PPP Allowance],TabelEP[Name Participant],B25,TabelEP[Project ID],A25)+SUMIFS(TabelE3[PPP Allowance],TabelEP[Name Participant],B25,TabelEP[Project ID],A25)+SUMIFS(TabelE4[PPP Allowance],TabelEP[Name Participant],B25,TabelEP[Project ID],A25)+SUMIFS(TabelE5[PPP Allowance],TabelEP[Name Participant],B25,TabelEP[Project ID],A25)+SUMIFS(TabelE6[PPP Allowance],TabelEP[Name Participant],B25,TabelEP[Project ID],A25) -> 0 | I25: =SUMIFS(TabelE1[Received cash],TabelEP[Name Participant],B25,TabelEP[Project ID],A25)+SUMIFS(TabelE2[Received cash],TabelEP[Name Participant],B25,TabelEP[Project ID],A25)+SUMIFS(TabelE3[Received cash],TabelEP[Name Participant],B25,TabelEP[Project ID],A25)+SUMIFS(TabelE4[Received cash],TabelEP[Name Participant],B25,TabelEP[Project ID],A25)+SUMIFS(TabelE5[Received cash],TabelEP[Name Participant],B25,TabelEP[Project ID],A25)+SUMIFS(TabelE6[Received cash],TabelEP[Name Participant],B25,TabelEP[Project ID],A25) -> 0 | J25: =SUMIFS(TabelE1[Received other funding],TabelEP[Name Participant],B25,TabelEP[Project ID],A25)+SUMIFS(TabelE2[Received other funding],TabelEP[Name Participant],B25,TabelEP[Project ID],A25)+SUMIFS(TabelE3[Received other funding],TabelEP[Name Participant],B25,TabelEP[Project ID],A25)+SUMIFS(TabelE4[Received other funding],TabelEP[Name Participant],B25,TabelEP[Project ID],A25)+SUMIFS(TabelE5[Received other funding],TabelEP[Name Participant],B25,TabelEP[Project ID],A25)+SUMIFS(TabelE6[Received other funding],TabelEP[Name Participant],B25,TabelEP[Project ID],A25) -> 0 | L25: =IF(TabelOEP[[#This Row],[Foreign?]] = "Yes", 0, IF(OR(TabelOEP[[#This Row],[Organization type]] = "SME - Micro", TabelOEP[[#This Row],[Organization type]] = "SME - Small", TabelOEP[[#This Row],[Organization type]] = "SME - Medium"),(TabelOE[[#This Row],[Costs]]*I38*0.5+TabelOE[[#This Row],[Costs]]*I39*0.5+TabelOE[[#This Row],[Costs]]*I40*0.25), IF(TabelOEP[[#This Row],[Organization type]] = "Large enterprise",0,IF(TabelOEP[[#This Row],[Organization type]]="Other",0,IF(TabelOEP[[#This Row],[Organization type]] = "Research organization",TabelOE[[#This Row],[Costs]]))))) -> FALSE
