Workbook

Sheet Glasovnica
B1: LISTA GLASOV DRUŠTEV - REDNA LETNA SKUPŠČINA SZS 2022/Zbor pAS
A3: Zap.št. | B3: DRUŠTVO - KLUB | C3: Št. čl. | E3: Št. tekmovalcev (WC) | G3: Št. tekmovalcev (pokal) | I3: Org.tekm. v SLO pok. | J3: Org.tekm. v FIS/IBU pok. | K3: Št.glasov-org.tekmov. | L3: Σ GLASOV
A4: =+ROW()-3 -> 1 | B4: ='Število tekmovalcev'!B5 -> ALPSKI SMUČARSKI KLUB BRANIK MARIBOR | C4: ='Število članov'!C3 -> 121 | D4: =IF(C4>300,3,IF(C4>100,2,IF(C4>9,1,0))) -> 2 | E4: ='Število tekmovalcev'!AE5 -> 2 | F4: =IF(E4=0,0,IF(E4=1,1,IF(E4>1,2))) -> 2 | G4: ='Število tekmovalcev'!AF5 -> 26 | H4: =IF(G4>30,3,IF(G4>15,2,IF(G4>5,1,0))) -> 2 | I4: ='Število tekmovalcev'!AG5 -> 0 | J4: DA | K4: 2 | L4: =SUM(D4+F4+H4+K4) -> 8
A5: =+ROW()-3 -> 2 | B5: ='Število tekmovalcev'!B6 -> ALPSKI SMUČARSKI KLUB FUŽINAR | C5: ='Število članov'!C4 -> 39 | D5: =IF(C5>300,3,IF(C5>100,2,IF(C5>9,1,0))) -> 1 | E5: ='Število tekmovalcev'!AE6 -> 0 | F5: =IF(E5=0,0,IF(E5=1,1,IF(E5>1,2))) -> 0 | G5: ='Število tekmovalcev'!AF6 -> 13 | H5: =IF(G5>30,3,IF(G5>15,2,IF(G5>5,1,0))) -> 1 | I5: DA | J5: ='Število tekmovalcev'!AH6 -> 0 | K5: 1 | L5: =SUM(D5+F5+H5+K5) -> 3
A6: =+ROW()-3 -> 3 | B6: ='Število tekmovalcev'!B7 -> ALPSKI SMUČARSKI KLUB KRANJSKA GORA | C6: ='Število članov'!C5 -> 135 | D6: =IF(C6>300,3,IF(C6>100,2,IF(C6>9,1,0))) -> 2 | E6: ='Število tekmovalcev'!AE7 -> 1 | F6: =IF(E6=0,0,IF(E6=1,1,IF(E6>1,2))) -> 1 | G6: ='Število tekmovalcev'!AF7 -> 24 | H6: =IF(G6>30,3,IF(G6>15,2,IF(G6>5,1,0))) -> 2 | I6: DA | J6: DA | K6: 3 | L6: =SUM(D6+F6+H6+K6) -> 8
A7: =+ROW()-3 -> 4 | B7: ='Število tekmovalcev'!B8 -> ALPSKI SMUČARSKI KLUB MEDVODE | C7: ='Število članov'!C6 -> 12 | D7: =IF(C7>300,3,IF(C7>100,2,IF(C7>9,1,0))) -> 1 | E7: ='Število tekmovalcev'!AE8 -> 0 | F7: =IF(E7=0,0,IF(E7=1,1,IF(E7>1,2))) -> 0 | G7: ='Število tekmovalcev'!AF8 -> 4 | H7: =IF(G7>30,3,IF(G7>15,2,IF(G7>5,1,0))) -> 0 | I7: ='Število tekmovalcev'!AG8 -> 0 | J7: ='Število tekmovalcev'!AH8 -> 0 | L7: =SUM(D7+F7+H7+K7) -> 1
A8: =+ROW()-3 -> 5 | B8: ='Število tekmovalcev'!B9 -> ALPSKI SMUČARSKI KLUB TRIGLAV KRANJ | C8: ='Število članov'!C7 -> 66 | D8: =IF(C8>300,3,IF(C8>100,2,IF(C8>9,1,0))) -> 1 | E8: ='Število tekmovalcev'!AE9 -> 1 | F8: =IF(E8=0,0,IF(E8=1,1,IF(E8>1,2))) -> 1 | G8: ='Število tekmovalcev'!AF9 -> 16 | H8: =IF(G8>30,3,IF(G8>15,2,IF(G8>5,1,0))) -> 2 | I8: ='Število tekmovalcev'!AG9 -> 0 | J8: DA | K8: 2 | L8: =SUM(D8+F8+H8+K8) -> 6
A9: =+ROW()-3 -> 6 | B9: ='Število tekmovalcev'!B52 -> PARTIZAN DRUŠTVO ZA TELESNO VZGOJO BLEJSKA DOBRAVA | C9: ='Število članov'!C50 -> 23 | D9: =IF(C9>300,3,IF(C9>100,2,IF(C9>9,1,0))) -> 1 | E9: ='Število tekmovalcev'!AE52 -> 1 | F9: =IF(E9=0,0,IF(E9=1,1,IF(E9>1,2))) -> 1 | G9: ='Število tekmovalcev'!AF52 -> 3 | H9: =IF(G9>30,3,IF(G9>15,2,IF(G9>5,1,0))) -> 0 | I9: ='Število tekmovalcev'!AG52 -> 0 | J9: ='Število tekmovalcev'!AH52 -> 0 | L9: =SUM(D9+F9+H9+K9) -> 2
A10: =+ROW()-3 -> 7 | B10: ='Število tekmovalcev'!B60 -> SMUČARSKI KLUB AKADEMIK | C10: ='Število članov'!C58 -> 11 | D10: =IF(C10>300,3,IF(C10>100,2,IF(C10>9,1,0))) -> 1 | E10: ='Število tekmovalcev'!AE60 -> 0 | F10: =IF(E10=0,0,IF(E10=1,1,IF(E10>1,2))) -> 0 | G10: ='Število tekmovalcev'!AF60 -> 0 | H10: =IF(G10>30,3,IF(G10>15,2,IF(G10>5,1,0))) -> 0 | I10: ='Število tekmovalcev'!AG60 -> 0 | J10: ='Število tekmovalcev'!AH60 -> 0 | L10: =SUM(D10+F10+H10+K10) -> 1
A11: =+ROW()-3 -> 8 | B11: ='Število tekmovalcev'!B61 -> SMUČARSKI KLUB ALPETOUR ŠKOFJA LOKA | C11: ='Število članov'!C59 -> 70 | D11: =IF(C11>300,3,IF(C11>100,2,IF(C11>9,1,0))) -> 1 | E11: ='Število tekmovalcev'!AE61 -> 0 | F11: =IF(E11=0,0,IF(E11=1,1,IF(E11>1,2))) -> 0 | G11: ='Število tekmovalcev'!AF61 -> 20 | H11: =IF(G11>30,3,IF(G11>15,2,IF(G11>5,1,0))) -> 2 | I11: DA | J11: DA | K11: 3 | L11: =SUM(D11+F11+H11+K11) -> 6
A12: =+ROW()-3 -> 9 | B12: ='Število tekmovalcev'!B65 -> SMUČARSKI KLUB BLED | C12: ='Število članov'!C63 -> 46 | D12: =IF(C12>300,3,IF(C12>100,2,IF(C12>9,1,0))) -> 1 | E12: ='Število tekmovalcev'!AE65 -> 0 | F12: =IF(E12=0,0,IF(E12=1,1,IF(E12>1,2))) -> 0 | G12: ='Število tekmovalcev'!AF65 -> 13 | H12: =IF(G12>30,3,IF(G12>15,2,IF(G12>5,1,0))) -> 1 | I12: ='Število tekmovalcev'!AG65 -> 0 | J12: ='Število tekmovalcev'!AH65 -> 0 | L12: =SUM(D12+F12+H12+K12) -> 2
A13: =+ROW()-3 -> 10 | B13: ='Število tekmovalcev'!B70 -> SMUČARSKI KLUB CELJE | C13: ='Število članov'!C68 -> 55 | D13: =IF(C13>300,3,IF(C13>100,2,IF(C13>9,1,0))) -> 1 | E13: ='Število tekmovalcev'!AE70 -> 1 | F13: =IF(E13=0,0,IF(E13=1,1,IF(E13>1,2))) -> 1 | G13: ='Število tekmovalcev'!AF70 -> 23 | H13: =IF(G13>30,3,IF(G13>15,2,IF(G13>5,1,0))) -> 2 | I13: ='Število tekmovalcev'!AG70 -> 0 | J13: DA | K13: 2 | L13: =SUM(D13+F13+H13+K13) -> 6
A14: =+ROW()-3 -> 11 | B14: ='Število tekmovalcev'!B72 -> SMUČARSKI KLUB ČRNA NA KOROŠKEM | C14: ='Število članov'!C70 -> 32 | D14: =IF(C14>300,3,IF(C14>100,2,IF(C14>9,1,0))) -> 1 | E14: ='Število tekmovalcev'!AE72 -> 0 | F14: =IF(E14=0,0,IF(E14=1,1,IF(E14>1,2))) -> 0 | G14: ='Število tekmovalcev'!AF72 -> 9 | H14: =IF(G14>30,3,IF(G14>15,2,IF(G14>5,1,0))) -> 1 | I14: DA | J14: ='Število tekmovalcev'!AH72 -> 0 | K14: 1 | L14: =SUM(D14+F14+H14+K14) -> 3
A15: =+ROW()-3 -> 12 | B15: ='Število tekmovalcev'!B73 -> SMUČARSKI KLUB DOMEL ŽELEZNIKI | C15: ='Število članov'!C71 -> 11 | D15: =IF(C15>300,3,IF(C15>100,2,IF(C15>9,1,0))) -> 1 | E15: ='Število tekmovalcev'!AE73 -> 0 | F15: =IF(E15=0,0,IF(E15=1,1,IF(E15>1,2))) -> 0 | G15: ='Število tekmovalcev'!AF73 -> 6 | H15: =IF(G15>30,3,IF(G15>15,2,IF(G15>5,1,0))) -> 1 | I15: ='Število tekmovalcev'!AG73 -> 0 | J15: ='Število tekmovalcev'!AH73 -> 0 | L15: =SUM(D15+F15+H15+K15) -> 2
A16: =+ROW()-3 -> 13 | B16: ='Število tekmovalcev'!B74 -> SMUČARSKI KLUB DVORNIK TRANSPORT | C16: ='Število članov'!C72 -> 9 | D16: =IF(C16>300,3,IF(C16>100,2,IF(C16>9,1,0))) -> 0 | E16: ='Število tekmovalcev'!AE74 -> 1 | F16: =IF(E16=0,0,IF(E16=1,1,IF(E16>1,2))) -> 1 | G16: ='Število tekmovalcev'!AF74 -> 1 | H16: =IF(G16>30,3,IF(G16>15,2,IF(G16>5,1,0))) -> 0 | I16: ='Število tekmovalcev'!AG74 -> 0 | J16: ='Število tekmovalcev'!AH74 -> 0 | L16: =SUM(D16+F16+H16+K16) -> 1
A17: =+ROW()-3 -> 14 | B17: ='Število tekmovalcev'!B76 -> SMUČARSKI KLUB GORICA NOVA GORICA | C17: ='Število članov'!C74 -> 54 | D17: =IF(C17>300,3,IF(C17>100,2,IF(C17>9,1,0))) -> 1 | E17: ='Število tekmovalcev'!AE76 -> 1 | F17: =IF(E17=0,0,IF(E17=1,1,IF(E17>1,2))) -> 1 | G17: ='Število tekmovalcev'!AF76 -> 16 | H17: =IF(G17>30,3,IF(G17>15,2,IF(G17>5,1,0))) -> 2 | I17: DA | J17: ='Število tekmovalcev'!AH76 -> 0 | K17: 1 | L17: =SUM(D17+F17+H17+K17) -> 5
A18: =+ROW()-3 -> 15 | B18: ='Število tekmovalcev'!B78 -> SMUČARSKI KLUB GOZDNIK ŽALEC | C18: ='Število članov'!C76 -> 12 | D18: =IF(C18>300,3,IF(C18>100,2,IF(C18>9,1,0))) -> 1 | E18: ='Število tekmovalcev'!AE78 -> 0 | F18: =IF(E18=0,0,IF(E18=1,1,IF(E18>1,2))) -> 0 | G18: ='Število tekmovalcev'!AF78 -> 0 | H18: =IF(G18>30,3,IF(G18>15,2,IF(G18>5,1,0))) -> 0 | I18: ='Število tekmovalcev'!AG78 -> 0 | J18: ='Število tekmovalcev'!AH78 -> 0 | L18: =SUM(D18+F18+H18+K18) -> 1
A19: =+ROW()-3 -> 16 | B19: ='Število tekmovalcev'!B91 -> SMUČARSKI KLUB LJUBLJANA - KRISTIJANIJA | C19: ='Število članov'!C89 -> 23 | D19: =IF(C19>300,3,IF(C19>100,2,IF(C19>9,1,0))) -> 1 | E19: ='Število tekmovalcev'!AE91 -> 0 | F19: =IF(E19=0,0,IF(E19=1,1,IF(E19>1,2))) -> 0 | G19: ='Število tekmovalcev'!AF91 -> 0 | H19: =IF(G19>30,3,IF(G19>15,2,IF(G19>5,1,0))) -> 0 | I19: ='Število tekmovalcev'!AG91 -> 0 | J19: ='Število tekmovalcev'!AH91 -> 0 | L19: =SUM(D19+F19+H19+K19) -> 1
A20: =+ROW()-3 -> 17 | B20: ='Število tekmovalcev'!B92 -> SMUČARSKI KLUB LOGATEC | C20: ='Število članov'!C90 -> 20 | D20: =IF(C20>300,3,IF(C20>100,2,IF(C20>9,1,0))) -> 1 | E20: ='Število tekmovalcev'!AE92 -> 0 | F20: =IF(E20=0,0,IF(E20=1,1,IF(E20>1,2))) -> 0 | G20: ='Število tekmovalcev'!AF92 -> 3 | H20: =IF(G20>30,3,IF(G20>15,2,IF(G20>5,1,0))) -> 0 | I20: ='Število tekmovalcev'!AG92 -> 0 | J20: ='Število tekmovalcev'!AH92 -> 0 | L20: =SUM(D20+F20+H20+K20) -> 1
A21: =+ROW()-3 -> 18 | B21: ='Število tekmovalcev'!B94 -> SMUČARSKI KLUB LUČE | C21: ='Število članov'!C92 -> 16 | D21: =IF(C21>300,3,IF(C21>100,2,IF(C21>9,1,0))) -> 1 | E21: ='Število tekmovalcev'!AE94 -> 1 | F21: =IF(E21=0,0,IF(E21=1,1,IF(E21>1,2))) -> 1 | G21: ='Število tekmovalcev'!AF94 -> 0 | H21: =IF(G21>30,3,IF(G21>15,2,IF(G21>5,1,0))) -> 0 | I21: ='Število tekmovalcev'!AG94 -> 0 | J21: ='Število tekmovalcev'!AH94 -> 0 | L21: =SUM(D21+F21+H21+K21) -> 2
A22: =+ROW()-3 -> 19 | B22: ='Število tekmovalcev'!B95 -> SMUČARSKI KLUB MARKIN POSTOJNA | C22: ='Število članov'!C93 -> 28 | D22: =IF(C22>300,3,IF(C22>100,2,IF(C22>9,1,0))) -> 1 | E22: ='Število tekmovalcev'!AE95 -> 0 | F22: =IF(E22=0,0,IF(E22=1,1,IF(E22>1,2))) -> 0 | G22: ='Število tekmovalcev'!AF95 -> 0 | H22: =IF(G22>30,3,IF(G22>15,2,IF(G22>5,1,0))) -> 0 | I22: DA | J22: ='Število tekmovalcev'!AH95 -> 0 | K22: 1 | L22: =SUM(D22+F22+H22+K22) -> 2
A23: =+ROW()-3 -> 20 | B23: ='Število tekmovalcev'!B96 -> SMUČARSKI KLUB MATAJUR TOLMIN | C23: ='Število članov'!C94 -> 52 | D23: =IF(C23>300,3,IF(C23>100,2,IF(C23>9,1,0))) -> 1 | E23: ='Število tekmovalcev'!AE96 -> 0 | F23: =IF(E23=0,0,IF(E23=1,1,IF(E23>1,2))) -> 0 | G23: ='Število tekmovalcev'!AF96 -> 6 | H23: =IF(G23>30,3,IF(G23>15,2,IF(G23>5,1,0))) -> 1 | I23: ='Število tekmovalcev'!AG96 -> 0 | J23: ='Število tekmovalcev'!AH96 -> 0 | L23: =SUM(D23+F23+H23+K23) -> 2
A24: =+ROW()-3 -> 21 | B24: ='Število tekmovalcev'!B97 -> SMUČARSKI KLUB OLIMPIJA | C24: ='Število članov'!C95 -> 74 | D24: =IF(C24>300,3,IF(C24>100,2,IF(C24>9,1,0))) -> 1 | E24: ='Število tekmovalcev'!AE97 -> 0 | F24: =IF(E24=0,0,IF(E24=1,1,IF(E24>1,2))) -> 0 | G24: ='Število tekmovalcev'!AF97 -> 14 | H24: =IF(G24>30,3,IF(G24>15,2,IF(G24>5,1,0))) -> 1 | I24: DA | J24: ='Število tekmovalcev'!AH97 -> 0 | K24: 1 | L24: =SUM(D24+F24+H24+K24) -> 3
A25: =+ROW()-3 -> 22 | B25: ='Število tekmovalcev'!B99 -> SMUČARSKI KLUB POHORJE | C25: ='Število članov'!C97 -> 98 | D25: =IF(C25>300,3,IF(C25>100,2,IF(C25>9,1,0))) -> 1 | E25: ='Število tekmovalcev'!AE99 -> 0 | F25: =IF(E25=0,0,IF(E25=1,1,IF(E25>1,2))) -> 0 | G25: ='Število tekmovalcev'!AF99 -> 4 | H25: =IF(G25>30,3,IF(G25>15,2,IF(G25>5,1,0))) -> 0 | I25: ='Število tekmovalcev'!AG99 -> 0 | J25: DA | K25: 2 | L25: =SUM(D25+F25+H25+K25) -> 3
A26: =+ROW()-3 -> 23 | B26: ='Število tekmovalcev'!B100 -> SMUČARSKI KLUB POLJANE | C26: ='Število članov'!C98 -> 30 | D26: =IF(C26>300,3,IF(C26>100,2,IF(C26>9,1,0))) -> 1 | E26: ='Število tekmovalcev'!AE100 -> 0 | F26: =IF(E26=0,0,IF(E26=1,1,IF(E26>1,2))) -> 0 | G26: ='Število tekmovalcev'!AF100 -> 11 | H26: =IF(G26>30,3,IF(G26>15,2,IF(G26>5,1,0))) -> 1 | I26: DA | J26: DA | K26: 3 | L26: =SUM(D26+F26+H26+K26) -> 5
A27: =+ROW()-3 -> 24 | B27: ='Število tekmovalcev'!B101 -> SMUČARSKI KLUB PORTOROŽ | C27: ='Število članov'!C99 -> 30 | D27: =IF(C27>300,3,IF(C27>100,2,IF(C27>9,1,0))) -> 1 | E27: ='Število tekmovalcev'!AE101 -> 0 | F27: =IF(E27=0,0,IF(E27=1,1,IF(E27>1,2))) -> 0 | G27: ='Število tekmovalcev'!AF101 -> 0 | H27: =IF(G27>30,3,IF(G27>15,2,IF(G27>5,1,0))) -> 0 | I27: ='Število tekmovalcev'!AG101 -> 0 | J27: ='Število tekmovalcev'!AH101 -> 0 | L27: =SUM(D27+F27+H27+K27) -> 1
A28: =+ROW()-3 -> 25 | B28: ='Število tekmovalcev'!B107 -> SMUČARSKI KLUB RADOVLJICA | C28: ='Število članov'!C105 -> 132 | D28: =IF(C28>300,3,IF(C28>100,2,IF(C28>9,1,0))) -> 2 | E28: ='Število tekmovalcev'!AE107 -> 0 | F28: =IF(E28=0,0,IF(E28=1,1,IF(E28>1,2))) -> 0 | G28: ='Število tekmovalcev'!AF107 -> 19 | H28: =IF(G28>30,3,IF(G28>15,2,IF(G28>5,1,0))) -> 2 | I28: DA | J28: DA | K28: 3 | L28: =SUM(D28+F28+H28+K28) -> 7
A29: =+ROW()-3 -> 26 | B29: ='Število tekmovalcev'!B113 -> SMUČARSKI KLUB SNEŽINKA | C29: ='Število članov'!C111 -> 101 | D29: =IF(C29>300,3,IF(C29>100,2,IF(C29>9,1,0))) -> 2 | E29: ='Število tekmovalcev'!AE113 -> 0 | F29: =IF(E29=0,0,IF(E29=1,1,IF(E29>1,2))) -> 0 | G29: ='Število tekmovalcev'!AF113 -> 0 | H29: =IF(G29>30,3,IF(G29>15,2,IF(G29>5,1,0))) -> 0 | I29: ='Število tekmovalcev'!AG113 -> 0 | J29: ='Število tekmovalcev'!AH113 -> 0 | L29: =SUM(D29+F29+H29+K29) -> 2
A30: =+ROW()-3 -> 27 | B30: ='Število tekmovalcev'!B119 -> SMUČARSKI KLUB VELENJE | C30: ='Število članov'!C117 -> 15 | D30: =IF(C30>300,3,IF(C30>100,2,IF(C30>9,1,0))) -> 1 | E30: ='Število tekmovalcev'!AE119 -> 0 | F30: =IF(E30=0,0,IF(E30=1,1,IF(E30>1,2))) -> 0 | G30: ='Število tekmovalcev'!AF119 -> 1 | H30: =IF(G30>30,3,IF(G30>15,2,IF(G30>5,1,0))) -> 0 | I30: ='Število tekmovalcev'!AG119 -> 0 | J30: ='Število tekmovalcev'!AH119 -> 0 | L30: =SUM(D30+F30+H30+K30) -> 1
A31: =+ROW()-3 -> 28 | B31: ='Število tekmovalcev'!B121 -> SMUČARSKI KLUB VUZENICA | C31: ='Število članov'!C119 -> 23 | D31: =IF(C31>300,3,IF(C31>100,2,IF(C31>9,1,0))) -> 1 | E31: ='Število tekmovalcev'!AE121 -> 0 | F31: =IF(E31=0,0,IF(E31=1,1,IF(E31>1,2))) -> 0 | G31: ='Število tekmovalcev'!AF121 -> 10 | H31: =IF(G31>30,3,IF(G31>15,2,IF(G31>5,1,0))) -> 1 | I31: DA | J31: DA | K31: 3 | L31: =SUM(D31+F31+H31+K31) -> 5
A32: =+ROW()-3 -> 29 | B32: ='Število tekmovalcev'!B129 -> SMUČARSKO DRUŠTVO AJDOVŠČINA | C32: ='Število članov'!C127 -> 61 | D32: =IF(C32>300,3,IF(C32>100,2,IF(C32>9,1,0))) -> 1 | E32: ='Število tekmovalcev'!AE129 -> 0 | F32: =IF(E32=0,0,IF(E32=1,1,IF(E32>1,2))) -> 0 | G32: ='Število tekmovalcev'!AF129 -> 0 | H32: =IF(G32>30,3,IF(G32>15,2,IF(G32>5,1,0))) -> 0 | I32: ='Število tekmovalcev'!AG129 -> 0 | J32: ='Število tekmovalcev'!AH129 -> 0 | L32: =SUM(D32+F32+H32+K32) -> 1
A33: =+ROW()-3 -> 30 | B33: ='Število tekmovalcev'!B130 -> SMUČARSKO DRUŠTVO BELI ZAJEC | C33: ='Število članov'!C128 -> 62 | D33: =IF(C33>300,3,IF(C33>100,2,IF(C33>9,1,0))) -> 1 | E33: ='Število tekmovalcev'!AE130 -> 0 | F33: =IF(E33=0,0,IF(E33=1,1,IF(E33>1,2))) -> 0 | G33: ='Število tekmovalcev'!AF130 -> 4 | H33: =IF(G33>30,3,IF(G33>15,2,IF(G33>5,1,0))) -> 0 | I33: DA | J33: DA | K33: 3 | L33: =SUM(D33+F33+H33+K33) -> 4
A34: =+ROW()-3 -> 31 | B34: ='Število tekmovalcev'!B133 -> SMUČARSKO DRUŠTVO DOMŽALE | C34: ='Število članov'!C131 -> 43 | D34: =IF(C34>300,3,IF(C34>100,2,IF(C34>9,1,0))) -> 1 | E34: ='Število tekmovalcev'!AE133 -> 0 | F34: =IF(E34=0,0,IF(E34=1,1,IF(E34>1,2))) -> 0 | G34: ='Število tekmovalcev'!AF133 -> 11 | H34: =IF(G34>30,3,IF(G34>15,2,IF(G34>5,1,0))) -> 1 | I34: ='Število tekmovalcev'!AG133 -> 0 | J34: ='Število tekmovalcev'!AH133 -> 0 | L34: =SUM(D34+F34+H34+K34) -> 2
A35: =+ROW()-3 -> 32 | B35: ='Število tekmovalcev'!B134 -> SMUČARSKO DRUŠTVO GAČE | C35: ='Število članov'!C132 -> 15 | D35: =IF(C35>300,3,IF(C35>100,2,IF(C35>9,1,0))) -> 1 | E35: ='Število tekmovalcev'!AE134 -> 0 | F35: =IF(E35=0,0,IF(E35=1,1,IF(E35>1,2))) -> 0 | G35: ='Število tekmovalcev'!AF134 -> 0 | H35: =IF(G35>30,3,IF(G35>15,2,IF(G35>5,1,0))) -> 0 | I35: ='Število tekmovalcev'!AG134 -> 0 | J35: ='Število tekmovalcev'!AH134 -> 0 | L35: =SUM(D35+F35+H35+K35) -> 1
A36: =+ROW()-3 -> 33 | B36: ='Število tekmovalcev'!B138 -> SMUČARSKO DRUŠTVO KRAS | C36: ='Število članov'!C136 -> 24 | D36: =IF(C36>300,3,IF(C36>100,2,IF(C36>9,1,0))) -> 1 | E36: ='Število tekmovalcev'!AE138 -> 0 | F36: =IF(E36=0,0,IF(E36=1,1,IF(E36>1,2))) -> 0 | G36: ='Število tekmovalcev'!AF138 -> 0 | H36: =IF(G36>30,3,IF(G36>15,2,IF(G36>5,1,0))) -> 0 | I36: ='Število tekmovalcev'!AG138 -> 0 | J36: ='Število tekmovalcev'!AH138 -> 0 | L36: =SUM(D36+F36+H36+K36) -> 1
A37: =+ROW()-3 -> 34 | B37: ='Število tekmovalcev'!B139 -> SMUČARSKO DRUŠTVO KRKA ROG | C37: ='Število članov'!C137 -> 83 | D37: =IF(C37>300,3,IF(C37>100,2,IF(C37>9,1,0))) -> 1 | E37: ='Število tekmovalcev'!AE139 -> 0 | F37: =IF(E37=0,0,IF(E37=1,1,IF(E37>1,2))) -> 0 | G37: ='Število tekmovalcev'!AF139 -> 5 | H37: =IF(G37>30,3,IF(G37>15,2,IF(G37>5,1,0))) -> 0 | I37: DA | J37: ='Število tekmovalcev'!AH139 -> 0 | K37: 1 | L37: =SUM(D37+F37+H37+K37) -> 2
A38: =+ROW()-3 -> 35 | B38: ='Število tekmovalcev'!B145 -> SMUČARSKO DRUŠTVO NOVINAR | C38: ='Število članov'!C143 -> 234 | D38: =IF(C38>300,3,IF(C38>100,2,IF(C38>9,1,0))) -> 2 | E38: ='Število tekmovalcev'!AE145 -> 1 | F38: =IF(E38=0,0,IF(E38=1,1,IF(E38>1,2))) -> 1 | G38: ='Število tekmovalcev'!AF145 -> 34 | H38: =IF(G38>30,3,IF(G38>15,2,IF(G38>5,1,0))) -> 3 | I38: DA | J38: ='Število tekmovalcev'!AH145 -> 0 | K38: 1 | L38: =SUM(D38+F38+H38+K38) -> 7
A39: =+ROW()-3 -> 36 | B39: ='Število tekmovalcev'!B152 -> SMUČARSKO DRUŠTVO TRBOVLJE | C39: ='Število članov'!C150 -> 26 | D39: =IF(C39>300,3,IF(C39>100,2,IF(C39>9,1,0))) -> 1 | E39: ='Število tekmovalcev'!AE152 -> 0 | F39: =IF(E39=0,0,IF(E39=1,1,IF(E39>1,2))) -> 0 | G39: ='Število tekmovalcev'!AF152 -> 0 | H39: =IF(G39>30,3,IF(G39>15,2,IF(G39>5,1,0))) -> 0 | I39: ='Število tekmovalcev'!AG152 -> 0 | J39: ='Število tekmovalcev'!AH152 -> 0 | L39: =SUM(D39+F39+H39+K39) -> 1
A40: =+ROW()-3 -> 37 | B40: ='Število tekmovalcev'!B157 -> SMUČARSKO DRUŠTVO VRHNIKA | C40: ='Število članov'!C155 -> 18 | D40: =IF(C40>300,3,IF(C40>100,2,IF(C40>9,1,0))) -> 1 | E40: ='Število tekmovalcev'!AE157 -> 0 | F40: =IF(E40=0,0,IF(E40=1,1,IF(E40>1,2))) -> 0 | G40: ='Število tekmovalcev'!AF157 -> 0 | H40: =IF(G40>30,3,IF(G40>15,2,IF(G40>5,1,0))) -> 0 | I40: ='Število tekmovalcev'!AG157 -> 0 | J40: ='Število tekmovalcev'!AH157 -> 0 | L40: =SUM(D40+F40+H40+K40) -> 1
A41: =+ROW()-3 -> 38 | B41: ='Število tekmovalcev'!B178 -> SPORT KLUB DOL AJDOVŠČINA | C41: ='Število članov'!C176 -> 28 | D41: =IF(C41>300,3,IF(C41>100,2,IF(C41>9,1,0))) -> 1 | E41: ='Število tekmovalcev'!AE178 -> 2 | F41: =IF(E41=0,0,IF(E41=1,1,IF(E41>1,2))) -> 2 | G41: ='Število tekmovalcev'!AF178 -> 0 | H41: =IF(G41>30,3,IF(G41>15,2,IF(G41>5,1,0))) -> 0 | I41: ='Število tekmovalcev'!AG178 -> 0 | J41: ='Število tekmovalcev'!AH178 -> 0 | L41: =SUM(D41+F41+H41+K41) -> 3
...

Sheet Število tekmovalcev
B1: PREGLED PO ŠTEVILU TEKOVALCEV Z OSVOJENIMI TOČKAMI V SVETOVM POKALU IN TOČKAMI V DRŽAVM POKALU TER ORGANIZACIJI TEKEM
C3: Alpsko | G3: Deskanje | K3: Biatlon | O3: Skoki in NK | S3: Tek na smučeh | W3: Telemark | AA3: Prosti slog | AE3: Skupaj
A4: Zap. št. | B4: DRUŠTVO - KLUB | C4: WC | D4: pokal | E4: SLO POK | F4: FIS POK | G4: WC | H4: pokal | I4: SLO POK | J4: FIS POK | K4: WC | L4: pokal | M4: SLO POK | N4: FIS POK | O4: WC | P4: pokal | Q4: SLO POK | R4: FIS POK | S4: WC | T4: pokal | U4: SLO POK | V4: FIS POK | W4: WC | X4: pokal | Y4: SLO POK | Z4: FIS POK | AA4: WC | AB4: pokal | AC4: SLO POK | AD4: FIS POK | AE4: WC | AF4: pokal | AG4: SLO POK | AH4: FIS POK
A5: =+ROW()-4 -> 1 | B5: ALPSKI SMUČARSKI KLUB BRANIK MARIBOR | C5: 2 | D5: 26 | F5: DA | AE5: =C5+G5+K5+O5+S5+W5+AA5 -> 2 | AF5: =D5+H5+L5+P5+T5+X5+AB5 -> 26 | AG5: =E5+I5+M5+Q5+U5+Y5+AC5 -> 0 | AH5: =F5+J5+N5+R5+V5+Z5+AD5 -> #VALUE!
A6: =+ROW()-4 -> 2 | B6: ALPSKI SMUČARSKI KLUB FUŽINAR | D6: 13 | E6: DA | AE6: =C6+G6+K6+O6+S6+W6+AA6 -> 0 | AF6: =D6+H6+L6+P6+T6+X6+AB6 -> 13 | AG6: =E6+I6+M6+Q6+U6+Y6+AC6 -> #VALUE! | AH6: =F6+J6+N6+R6+V6+Z6+AD6 -> 0
A7: =+ROW()-4 -> 3 | B7: ALPSKI SMUČARSKI KLUB KRANJSKA GORA | C7: 1 | D7: 24 | E7: DA | F7: DA | AE7: =C7+G7+K7+O7+S7+W7+AA7 -> 1 | AF7: =D7+H7+L7+P7+T7+X7+AB7 -> 24 | AG7: =E7+I7+M7+Q7+U7+Y7+AC7 -> #VALUE! | AH7: =F7+J7+N7+R7+V7+Z7+AD7 -> #VALUE!
A8: =+ROW()-4 -> 4 | B8: ALPSKI SMUČARSKI KLUB MEDVODE | D8: 4 | AE8: =C8+G8+K8+O8+S8+W8+AA8 -> 0 | AF8: =D8+H8+L8+P8+T8+X8+AB8 -> 4 | AG8: =E8+I8+M8+Q8+U8+Y8+AC8 -> 0 | AH8: =F8+J8+N8+R8+V8+Z8+AD8 -> 0
A9: =+ROW()-4 -> 5 | B9: ALPSKI SMUČARSKI KLUB TRIGLAV KRANJ | C9: 1 | D9: 16 | F9: DA | AE9: =C9+G9+K9+O9+S9+W9+AA9 -> 1 | AF9: =D9+H9+L9+P9+T9+X9+AB9 -> 16 | AG9: =E9+I9+M9+Q9+U9+Y9+AC9 -> 0 | AH9: =F9+J9+N9+R9+V9+Z9+AD9 -> #VALUE!
A10: =+ROW()-4 -> 6 | B10: BOARD KLUB WINTERSTICK | AE10: =C10+G10+K10+O10+S10+W10+AA10 -> 0 | AF10: =D10+H10+L10+P10+T10+X10+AB10 -> 0 | AG10: =E10+I10+M10+Q10+U10+Y10+AC10 -> 0 | AH10: =F10+J10+N10+R10+V10+Z10+AD10 -> 0
A11: =+ROW()-4 -> 7 | B11: CARVING CLUB SLOVENIJA | AE11: =C11+G11+K11+O11+S11+W11+AA11 -> 0 | AF11: =D11+H11+L11+P11+T11+X11+AB11 -> 0 | AG11: =E11+I11+M11+Q11+U11+Y11+AC11 -> 0 | AH11: =F11+J11+N11+R11+V11+Z11+AD11 -> 0
A12: =+ROW()-4 -> 8 | B12: CENTER ŠOLSKIH IN OBŠOLSKIH DEJAVNOSTI | AE12: =C12+G12+K12+O12+S12+W12+AA12 -> 0 | AF12: =D12+H12+L12+P12+T12+X12+AB12 -> 0 | AG12: =E12+I12+M12+Q12+U12+Y12+AC12 -> 0 | AH12: =F12+J12+N12+R12+V12+Z12+AD12 -> 0
A13: =+ROW()-4 -> 9 | B13: DESKARSKI KLUB KAMPELC | AE13: =C13+G13+K13+O13+S13+W13+AA13 -> 0 | AF13: =D13+H13+L13+P13+T13+X13+AB13 -> 0 | AG13: =E13+I13+M13+Q13+U13+Y13+AC13 -> 0 | AH13: =F13+J13+N13+R13+V13+Z13+AD13 -> 0
A14: =+ROW()-4 -> 10 | B14: DRUŠTVO GORIŠKA AKADEMIJA DESKANJA IN SMUČANJA | AE14: =C14+G14+K14+O14+S14+W14+AA14 -> 0 | AF14: =D14+H14+L14+P14+T14+X14+AB14 -> 0 | AG14: =E14+I14+M14+Q14+U14+Y14+AC14 -> 0 | AH14: =F14+J14+N14+R14+V14+Z14+AD14 -> 0
A15: =+ROW()-4 -> 11 | B15: DRUŠTVO LJUBITELJEV ŠPORTNIH AKTIVNOSTI FIDESPORT | AE15: =C15+G15+K15+O15+S15+W15+AA15 -> 0 | AF15: =D15+H15+L15+P15+T15+X15+AB15 -> 0 | AG15: =E15+I15+M15+Q15+U15+Y15+AC15 -> 0 | AH15: =F15+J15+N15+R15+V15+Z15+AD15 -> 0
A16: =+ROW()-4 -> 12 | B16: DRUŠTVO PODROČNEGA ZBORA UČITELJEV IN TRENERJEV SMUČANJA SNEŽNIK | AE16: =C16+G16+K16+O16+S16+W16+AA16 -> 0 | AF16: =D16+H16+L16+P16+T16+X16+AB16 -> 0 | AG16: =E16+I16+M16+Q16+U16+Y16+AC16 -> 0 | AH16: =F16+J16+N16+R16+V16+Z16+AD16 -> 0
A17: =+ROW()-4 -> 13 | B17: DRUŠTVO UČITELJEV DESKANJA NA SNEGU | AE17: =C17+G17+K17+O17+S17+W17+AA17 -> 0 | AF17: =D17+H17+L17+P17+T17+X17+AB17 -> 0 | AG17: =E17+I17+M17+Q17+U17+Y17+AC17 -> 0 | AH17: =F17+J17+N17+R17+V17+Z17+AD17 -> 0
A18: =+ROW()-4 -> 14 | B18: DRUŠTVO UČITELJEV IN TRENERJEV SMUČANJA POSTOJNA | AE18: =C18+G18+K18+O18+S18+W18+AA18 -> 0 | AF18: =D18+H18+L18+P18+T18+X18+AB18 -> 0 | AG18: =E18+I18+M18+Q18+U18+Y18+AC18 -> 0 | AH18: =F18+J18+N18+R18+V18+Z18+AD18 -> 0
A19: =+ROW()-4 -> 15 | B19: DRUŠTVO UČITELJEV IN TRENERJEV SMUČANJA ŠKOFJA LOKA | AE19: =C19+G19+K19+O19+S19+W19+AA19 -> 0 | AF19: =D19+H19+L19+P19+T19+X19+AB19 -> 0 | AG19: =E19+I19+M19+Q19+U19+Y19+AC19 -> 0 | AH19: =F19+J19+N19+R19+V19+Z19+AD19 -> 0
A20: =+ROW()-4 -> 16 | B20: DRUŠTVO UČITELJEV SMUČANJA POLJANSKE DOLINE | AE20: =C20+G20+K20+O20+S20+W20+AA20 -> 0 | AF20: =D20+H20+L20+P20+T20+X20+AB20 -> 0 | AG20: =E20+I20+M20+Q20+U20+Y20+AC20 -> 0 | AH20: =F20+J20+N20+R20+V20+Z20+AD20 -> 0
A21: =+ROW()-4 -> 17 | B21: DRUŠTVO UČITELJEV, TRENERJEV IN SODNIKOV SMUČANJA KAMNIK | AE21: =C21+G21+K21+O21+S21+W21+AA21 -> 0 | AF21: =D21+H21+L21+P21+T21+X21+AB21 -> 0 | AG21: =E21+I21+M21+Q21+U21+Y21+AC21 -> 0 | AH21: =F21+J21+N21+R21+V21+Z21+AD21 -> 0
... A51: =+ROW()-4 -> 47 | B51: OOZUS - OSNOVNA ORGANIZACIJA ZAMEJSKIH UČITELJEV SMUČANJA | AE51: =C51+G51+K51+O51+S51+W51+AA51 -> 0 | AF51: =D51+H51+L51+P51+T51+X51+AB51 -> 0 | AG51: =E51+I51+M51+Q51+U51+Y51+AC51 -> 0 | AH51: =F51+J51+N51+R51+V51+Z51+AD51 -> 0
A52: =+ROW()-4 -> 48 | B52: PARTIZAN DRUŠTVO ZA TELESNO VZGOJO BLEJSKA DOBRAVA | C52: 1 | D52: 3 | AE52: =C52+G52+K52+O52+S52+W52+AA52 -> 1 | AF52: =D52+H52+L52+P52+T52+X52+AB52 -> 3 | AG52: =E52+I52+M52+Q52+U52+Y52+AC52 -> 0 | AH52: =F52+J52+N52+R52+V52+Z52+AD52 -> 0
A53: =+ROW()-4 -> 49 | B53: PARTIZAN MEDVODE, DRUŠTVO ZA ŠPORT, REKREACIJO IN ŠPORTNO VZGOJO | AE53: =C53+G53+K53+O53+S53+W53+AA53 -> 0 | AF53: =D53+H53+L53+P53+T53+X53+AB53 -> 0 | AG53: =E53+I53+M53+Q53+U53+Y53+AC53 -> 0 | AH53: =F53+J53+N53+R53+V53+Z53+AD53 -> 0
A54: =+ROW()-4 -> 50 | B54: PODROČNO ZDRUŽENJE UČITELJEV IN TRENERJEV SMUČANJA LOGATEC | AE54: =C54+G54+K54+O54+S54+W54+AA54 -> 0 | AF54: =D54+H54+L54+P54+T54+X54+AB54 -> 0 | AG54: =E54+I54+M54+Q54+U54+Y54+AC54 -> 0 | AH54: =F54+J54+N54+R54+V54+Z54+AD54 -> 0
A55: =+ROW()-4 -> 51 | B55: POTAPLJAŠKI KLUB ORKA | AE55: =C55+G55+K55+O55+S55+W55+AA55 -> 0 | AF55: =D55+H55+L55+P55+T55+X55+AB55 -> 0 | AG55: =E55+I55+M55+Q55+U55+Y55+AC55 -> 0 | AH55: =F55+J55+N55+R55+V55+Z55+AD55 -> 0
A56: =+ROW()-4 -> 52 | B56: PRO SKI KLUB VELENJE | AE56: =C56+G56+K56+O56+S56+W56+AA56 -> 0 | AF56: =D56+H56+L56+P56+T56+X56+AB56 -> 0 | AG56: =E56+I56+M56+Q56+U56+Y56+AC56 -> 0 | AH56: =F56+J56+N56+R56+V56+Z56+AD56 -> 0
A57: =+ROW()-4 -> 53 | B57: SBC BLED, ŠPORTNO DRUŠTVO BLED | AE57: =C57+G57+K57+O57+S57+W57+AA57 -> 0 | AF57: =D57+H57+L57+P57+T57+X57+AB57 -> 0 | AG57: =E57+I57+M57+Q57+U57+Y57+AC57 -> 0 | AH57: =F57+J57+N57+R57+V57+Z57+AD57 -> 0
A58: =+ROW()-4 -> 54 | B58: SKAKALNI KLUB PREDMEJA-OTLICA-KOVK | AE58: =C58+G58+K58+O58+S58+W58+AA58 -> 0 | AF58: =D58+H58+L58+P58+T58+X58+AB58 -> 0 | AG58: =E58+I58+M58+Q58+U58+Y58+AC58 -> 0 | AH58: =F58+J58+N58+R58+V58+Z58+AD58 -> 0
A59: =+ROW()-4 -> 55 | B59: SKIKE KLUB SLOVENIJA | AE59: =C59+G59+K59+O59+S59+W59+AA59 -> 0 | AF59: =D59+H59+L59+P59+T59+X59+AB59 -> 0 | AG59: =E59+I59+M59+Q59+U59+Y59+AC59 -> 0 | AH59: =F59+J59+N59+R59+V59+Z59+AD59 -> 0
A60: =+ROW()-4 -> 56 | B60: SMUČARSKI KLUB AKADEMIK | AE60: =C60+G60+K60+O60+S60+W60+AA60 -> 0 | AF60: =D60+H60+L60+P60+T60+X60+AB60 -> 0 | AG60: =E60+I60+M60+Q60+U60+Y60+AC60 -> 0 | AH60: =F60+J60+N60+R60+V60+Z60+AD60 -> 0
A61: =+ROW()-4 -> 57 | B61: SMUČARSKI KLUB ALPETOUR ŠKOFJA LOKA | D61: 20 | E61: DA | F61: DA | AE61: =C61+G61+K61+O61+S61+W61+AA61 -> 0 | AF61: =D61+H61+L61+P61+T61+X61+AB61 -> 20 | AG61: =E61+I61+M61+Q61+U61+Y61+AC61 -> #VALUE! | AH61: =F61+J61+N61+R61+V61+Z61+AD61 -> #VALUE!
A62: =+ROW()-4 -> 58 | B62: SMUČARSKI KLUB ALPINA ŽIRI | AE62: =C62+G62+K62+O62+S62+W62+AA62 -> 0 | AF62: =D62+H62+L62+P62+T62+X62+AB62 -> 0 | AG62: =E62+I62+M62+Q62+U62+Y62+AC62 -> 0 | AH62: =F62+J62+N62+R62+V62+Z62+AD62 -> 0
A63: =+ROW()-4 -> 59 | B63: SMUČARSKI KLUB ATC KANIN BOVEC | AE63: =C63+G63+K63+O63+S63+W63+AA63 -> 0 | AF63: =D63+H63+L63+P63+T63+X63+AB63 -> 0 | AG63: =E63+I63+M63+Q63+U63+Y63+AC63 -> 0 | AH63: =F63+J63+N63+R63+V63+Z63+AD63 -> 0
A64: =+ROW()-4 -> 60 | B64: SMUČARSKI KLUB BELA SIMFONIJA MARIBOR | AE64: =C64+G64+K64+O64+S64+W64+AA64 -> 0 | AF64: =D64+H64+L64+P64+T64+X64+AB64 -> 0 | AG64: =E64+I64+M64+Q64+U64+Y64+AC64 -> 0 | AH64: =F64+J64+N64+R64+V64+Z64+AD64 -> 0
A65: =+ROW()-4 -> 61 | B65: SMUČARSKI KLUB BLED | D65: 13 | AE65: =C65+G65+K65+O65+S65+W65+AA65 -> 0 | AF65: =D65+H65+L65+P65+T65+X65+AB65 -> 13 | AG65: =E65+I65+M65+Q65+U65+Y65+AC65 -> 0 | AH65: =F65+J65+N65+R65+V65+Z65+AD65 -> 0
A66: =+ROW()-4 -> 62 | B66: SMUČARSKI KLUB BRANIK MARIBOR | AE66: =C66+G66+K66+O66+S66+W66+AA66 -> 0 | AF66: =D66+H66+L66+P66+T66+X66+AB66 -> 0 | AG66: =E66+I66+M66+Q66+U66+Y66+AC66 -> 0 | AH66: =F66+J66+N66+R66+V66+Z66+AD66 -> 0
A67: =+ROW()-4 -> 63 | B67: SMUČARSKI KLUB BRDO | AE67: =C67+G67+K67+O67+S67+W67+AA67 -> 0 | AF67: =D67+H67+L67+P67+T67+X67+AB67 -> 0 | AG67: =E67+I67+M67+Q67+U67+Y67+AC67 -> 0 | AH67: =F67+J67+N67+R67+V67+Z67+AD67 -> 0
A68: =+ROW()-4 -> 64 | B68: SMUČARSKI KLUB CAPRIS | AE68: =C68+G68+K68+O68+S68+W68+AA68 -> 0 | AF68: =D68+H68+L68+P68+T68+X68+AB68 -> 0 | AG68: =E68+I68+M68+Q68+U68+Y68+AC68 -> 0 | AH68: =F68+J68+N68+R68+V68+Z68+AD68 -> 0
A69: =+ROW()-4 -> 65 | B69: SMUČARSKI KLUB CARVE PLUS | AE69: =C69+G69+K69+O69+S69+W69+AA69 -> 0 | AF69: =D69+H69+L69+P69+T69+X69+AB69 -> 0 | AG69: =E69+I69+M69+Q69+U69+Y69+AC69 -> 0 | AH69: =F69+J69+N69+R69+V69+Z69+AD69 -> 0
A70: =+ROW()-4 -> 66 | B70: SMUČARSKI KLUB CELJE | C70: 1 | D70: 23 | F70: DA | AE70: =C70+G70+K70+O70+S70+W70+AA70 -> 1 | AF70: =D70+H70+L70+P70+T70+X70+AB70 -> 23 | AG70: =E70+I70+M70+Q70+U70+Y70+AC70 -> 0 | AH70: =F70+J70+N70+R70+V70+Z70+AD70 -> #VALUE!
...

Sheet Število članov
A2: ='Število tekmovalcev'!A4 -> Zap. št. | B2: ='Število tekmovalcev'!B4 -> DRUŠTVO - KLUB | C2: Število članov
A3: ='Število tekmovalcev'!A5 -> 1 | B3: ='Število tekmovalcev'!B5 -> ALPSKI SMUČARSKI KLUB BRANIK MARIBOR | C3: 121
A4: ='Število tekmovalcev'!A6 -> 2 | B4: ='Število tekmovalcev'!B6 -> ALPSKI SMUČARSKI KLUB FUŽINAR | C4: 39
A5: ='Število tekmovalcev'!A7 -> 3 | B5: ='Število tekmovalcev'!B7 -> ALPSKI SMUČARSKI KLUB KRANJSKA GORA | C5: 135
A6: ='Število tekmovalcev'!A8 -> 4 | B6: ='Število tekmovalcev'!B8 -> ALPSKI SMUČARSKI KLUB MEDVODE | C6: 12
A7: ='Število tekmovalcev'!A9 -> 5 | B7: ='Število tekmovalcev'!B9 -> ALPSKI SMUČARSKI KLUB TRIGLAV KRANJ | C7: 66
A8: ='Število tekmovalcev'!A10 -> 6 | B8: ='Število tekmovalcev'!B10 -> BOARD KLUB WINTERSTICK | C8: 0
A9: ='Število tekmovalcev'!A11 -> 7 | B9: ='Število tekmovalcev'!B11 -> CARVING CLUB SLOVENIJA | C9: 8
A10: ='Število tekmovalcev'!A12 -> 8 | B10: ='Število tekmovalcev'!B12 -> CENTER ŠOLSKIH IN OBŠOLSKIH DEJAVNOSTI | C10: 22
A11: ='Število tekmovalcev'!A13 -> 9 | B11: ='Število tekmovalcev'!B13 -> DESKARSKI KLUB KAMPELC | C11: 0
A12: ='Število tekmovalcev'!A14 -> 10 | B12: ='Število tekmovalcev'!B14 -> DRUŠTVO GORIŠKA AKADEMIJA DESKANJA IN SMUČANJA | C12: 10
A13: ='Število tekmovalcev'!A15 -> 11 | B13: ='Število tekmovalcev'!B15 -> DRUŠTVO LJUBITELJEV ŠPORTNIH AKTIVNOSTI FIDESPORT | C13: 0
A14: ='Število tekmovalcev'!A16 -> 12 | B14: ='Število tekmovalcev'!B16 -> DRUŠTVO PODROČNEGA ZBORA UČITELJEV IN TRENERJEV SMUČANJA SNEŽNIK | C14: 17
... A274: ='Število tekmovalcev'!A276 -> 272 | B274: ='Število tekmovalcev'!B276 -> ZVEZA ŠPORTNIH DRUŠTEV RAVNE NA KOROŠKEM | C274: 10
B275: ='Število tekmovalcev'!B277 -> SKUPAJ | C275: =SUM(C3:C274) -> 5517
