Workbook

Sheet Cover
B2: =_xlfn.CONCAT(C11," - Finanzplanung") -> Ellmann Consulting GmbH - Finanzplanung
B4: Zweck des Modells
B5: =_xlfn.CONCAT("Dieses Modell dient dazu, die ersten drei Geschäftsjahre der ",C11," zu prognostizieren und kontrollieren. Die Daten sollen für eine unabhängige Überprüfung des Geschäfts verwendet werden.")&_xlfn.CONCAT(" Dies ist ein fiktiver Case, der nur zur Veranschaulichung dienen soll.") -> Dieses Modell dient dazu, die ersten drei Geschäftsjahre der Ellmann Consulting GmbH zu prognostizieren und kontrollieren. Die Daten sollen für eine unabhängige Überprüfung des Geschäfts verwendet werden. Dies ist ein fiktiver Case, der nur zur Veranschaulichung dienen soll.
B7: Anwendung
B8: Das Modell besteht aus zwei Teilen: 1. Annahmen - hier werden die Planungszahlen berechnet. 2. Output - hier werden die Planungszahlen dargestellt. Nutze die Buttons am Ende eines jeden Arbeitsblattes um zielführend durch die Tabelle zu navigieren.
B10: Unternehmensinformationen
B11: Firma | C11: Ellmann Consulting GmbH
B12: Kontakt | C12: Lukas Ellmann
B13: Telefon | C13: 040 2396 99771
B14: Email | C14: contact@ellmann-consulting.com
B15: Projektstart | C15: 45658
B16: Startkapital | C16: 25000
B19: Formatierung
B20: Hard-coded Zahlen (Inputs) | C20: 1234
B21: Formeln (Berechnungen) | C21: =A1*A2
B22: Links zu anderen Tabellenblättern | C22: ='Tabellenblatt'!A1
B23: Links zu anderen Dokumenten | C23: =[Andere Excel-Tabelle]TabellenblattA1
B24: Links zu externen Datenquellen | C24: =CIQ
B25: Kommentare | C25: kursiv
B27: powered by
B32: -> Jetzt mit der Planung starten!

Sheet Annahmen->
B2: Schritte | C2: 1 | D2: 2 | E2: 3 | F2: 4 | G2: 5 | H2: 6 | I2: 7 | J2: 8 | K2: 9
B3: Arbeitsblatt | C3: Annahmen | D3: Umsatz | COGS | E3: HR | F3: OPEX | G3: CAPEX | H3: Rentabilität | I3: Liquidität | J3: Finanzierung | K3: Final Check
B4: Prozessfortschritt
B7: Beispiel Case
B9: Firma | C9: In unserem Beispiel Finanzplan betrachten wir die Firma Ellmann Consulting GmbH. Der Case ist fiktiv, orientiert sich aber an der Beratungsfirma.
B11: Hintergrund | C11: Die Firma möchte einen neuen Geschäftszweig prognostizieren. Dieser besteht aus zwei Teilen:
D12: 1. Software
D13: 2. Beratung
C14: Das Finanzmodell wird nun für 2025 - 2027 aufgesetzt und soll Aufschluss über den Investitionsbedarf geben.
B16: Ansatz | C16: Wir planen den neuen Geschäftsbereich Top-Down. Das bedeutet, wir planen ausgehend von den strategischen Zielen wie zum Beispiel Umsatz oder Marktexpansion.
C17: In unserem Fall, möchten wir bis 2027 einen jährlichen Umsatz in Höhe von 3 Mio. Euro mit dem Geschäftsbereich erzielen.
B22: -> Zur Umsatzplanung

Sheet Umsatz | COGS
A1: Umsatz | COGS | F1: Jahr | G1: 1. Geschäftsjahr | S1: 2. Geschäftsjahr | AE1: 3. Geschäftsjahr
A2: =Cover!C11 -> Ellmann Consulting GmbH | F2: Monat | G2: =DATE(YEAR(Cover!C15),MONTH(Cover!C15),DAY(Cover!C15)) -> 45658 | H2: =DATE(YEAR(G2),MONTH(G2)+1,DAY(G2)) -> 45689 | I2: =DATE(YEAR(H2),MONTH(H2)+1,DAY(H2)) -> 45717 | J2: =DATE(YEAR(I2),MONTH(I2)+1,DAY(I2)) -> 45748 | K2: =DATE(YEAR(J2),MONTH(J2)+1,DAY(J2)) -> 45778 | L2: =DATE(YEAR(K2),MONTH(K2)+1,DAY(K2)) -> 45809 | M2: =DATE(YEAR(L2),MONTH(L2)+1,DAY(L2)) -> 45839 | N2: =DATE(YEAR(M2),MONTH(M2)+1,DAY(M2)) -> 45870 | O2: =DATE(YEAR(N2),MONTH(N2)+1,DAY(N2)) -> 45901 | ... AP2: =DATE(YEAR(AO2),MONTH(AO2)+1,DAY(AO2)) -> 46722
A4: Im ersten Schritt planen wir die Verkaufszahlen. Hierbei ist wichtig, dass eine Logik für die Verkäufe implementiert und begründet wird.
A5: Verkaufsplanung
A6: 1. Beratungsgeschäft
A7: Wir verkaufen eine produktisierte Beratung. Heißt, dass wir einen Standard entwickelt haben, welchen wir für einen Festpreis an unsere Kunden verkaufen können.
B9: 1. GJ | C9: 2. GJ | D9: 3. GJ
A10: Werbekosten | B10: =SUM(G10:R10) -> 150000 | C10: =SUM(S10:AD10) -> 270000 | D10: =SUM(AE10:AP10) -> 348000 | F10: Werbekosten | G10: 10000 | H10: 10000 | I10: 10000 | J10: 10000 | K10: 10000 | L10: 10000 | M10: 15000 | N10: 15000 | O10: 15000 | P10: 15000 | Q10: 15000 | R10: 15000 | S10: 20000 | T10: 20000 | U10: 20000 | V10: 20000 | W10: 20000 | X10: 20000 | Y10: 25000 | Z10: 25000 | AA10: 25000 | AB10: 25000 | AC10: 25000 | AD10: 25000 | AE10: 28000 | AF10: 28000 | AG10: 28000 | AH10: 28000 | AI10: 28000 | AJ10: 28000 | AK10: 30000 | AL10: 30000 | AM10: 30000 | AN10: 30000 | AO10: 30000 | AP10: 30000
F12: Leadkosten | G12: 75 | H12: 75 | I12: 75 | J12: 75 | K12: 75 | L12: 75 | M12: 75 | N12: 75 | O12: 75 | P12: 75 | Q12: 75 | R12: 75 | S12: 50 | T12: 50 | U12: 50 | V12: 50 | W12: 50 | X12: 50 | Y12: 50 | Z12: 50 | AA12: 50 | AB12: 50 | AC12: 50 | AD12: 50 | AE12: 40 | AF12: 40 | AG12: 40 | AH12: 40 | AI12: 40 | AJ12: 40 | AK12: 40 | AL12: 40 | AM12: 40 | AN12: 40 | AO12: 40 | AP12: 40
F13: Leads | G13: =ROUND(G10/G12,0) -> 133 | H13: =ROUND(H10/H12,0) -> 133 | I13: =ROUND(I10/I12,0) -> 133 | J13: =ROUND(J10/J12,0) -> 133 | K13: =ROUND(K10/K12,0) -> 133 | L13: =ROUND(L10/L12,0) -> 133 | M13: =ROUND(M10/M12,0) -> 200 | N13: =ROUND(N10/N12,0) -> 200 | ... AP13: =ROUND(AP10/AP12,0) -> 750
F15: Conversion | G15: 0.04 | H15: 0.04 | I15: 0.04 | J15: 0.04 | K15: 0.04 | L15: 0.04 | M15: 0.04 | N15: 0.04 | O15: 0.04 | P15: 0.04 | Q15: 0.04 | R15: 0.04 | S15: 0.04 | T15: 0.04 | U15: 0.04 | V15: 0.04 | W15: 0.04 | X15: 0.04 | Y15: 0.04 | Z15: 0.04 | AA15: 0.04 | AB15: 0.04 | AC15: 0.04 | AD15: 0.04 | AE15: 0.04 | AF15: 0.04 | AG15: 0.04 | AH15: 0.04 | AI15: 0.04 | AJ15: 0.04 | AK15: 0.04 | AL15: 0.04 | AM15: 0.04 | AN15: 0.04 | AO15: 0.04 | AP15: 0.04
F16: Neukunden | G16: =ROUND(G13*G15,0) -> 5 | H16: =ROUND(H13*H15,0) -> 5 | I16: =ROUND(I13*I15,0) -> 5 | J16: =ROUND(J13*J15,0) -> 5 | K16: =ROUND(K13*K15,0) -> 5 | L16: =ROUND(L13*L15,0) -> 5 | M16: =ROUND(M13*M15,0) -> 8 | N16: =ROUND(N13*N15,0) -> 8 | ... AP16: =ROUND(AP13*AP15,0) -> 30
F17: mit Zeitverzug | G17: =ROUNDUP(G16*0.5,0) -> 3 | H17: =ROUNDUP(H16*0.5,0)+ROUNDDOWN(G16*0.5,0) -> 5 | I17: =ROUNDUP(I16*0.5,0)+ROUNDDOWN(H16*0.5,0) -> 5 | J17: =ROUNDUP(J16*0.5,0)+ROUNDDOWN(I16*0.5,0) -> 5 | K17: =ROUNDUP(K16*0.5,0)+ROUNDDOWN(J16*0.5,0) -> 5 | L17: =ROUNDUP(L16*0.5,0)+ROUNDDOWN(K16*0.5,0) -> 5 | M17: =ROUNDUP(M16*0.5,0)+ROUNDDOWN(L16*0.5,0) -> 6 | N17: =ROUNDUP(N16*0.5,0)+ROUNDDOWN(M16*0.5,0) -> 8 | O17: =ROUNDUP(O16*0.5,0)+ROUNDDOWN(N16*0.5,0) -> 8 | ... AP17: =ROUNDUP(AP16*0.5,0)+ROUNDDOWN(AO16*0.5,0) -> 30
F18: Achtung: Hard-coded! Die Hälfte der Neukunden startet im gleichen Monat, die andere startet im nächsten Monat.
B20: Beratungsmandat
A21: Silber | B21: 5000 | E21: 0.5 | F21: Silber | G21: =ROUND(G$17*$E21,0) -> 2 | H21: =ROUND(H$17*$E21,0) -> 3 | I21: =ROUND(I$17*$E21,0) -> 3 | J21: =ROUND(J$17*$E21,0) -> 3 | K21: =ROUND(K$17*$E21,0) -> 3 | L21: =ROUND(L$17*$E21,0) -> 3 | M21: =ROUND(M$17*$E21,0) -> 3 | N21: =ROUND(N$17*$E21,0) -> 4 | ... AP21: =ROUND(AP$17*$E21,0) -> 15
A22: Gold | B22: 7500 | E22: 0.35 | F22: Gold | G22: =ROUND(G$17*$E22,0) -> 1 | H22: =ROUND(H$17*$E22,0) -> 2 | I22: =ROUND(I$17*$E22,0) -> 2 | J22: =ROUND(J$17*$E22,0) -> 2 | K22: =ROUND(K$17*$E22,0) -> 2 | L22: =ROUND(L$17*$E22,0) -> 2 | M22: =ROUND(M$17*$E22,0) -> 2 | N22: =ROUND(N$17*$E22,0) -> 3 | ... AP22: =ROUND(AP$17*$E22,0) -> 11
A23: Platin | B23: 10000 | E23: 0.15 | F23: Platin | G23: =ROUND(G$17*$E23,0) -> 0 | H23: =ROUND(H$17*$E23,0) -> 1 | I23: =ROUND(I$17*$E23,0) -> 1 | J23: =ROUND(J$17*$E23,0) -> 1 | K23: =ROUND(K$17*$E23,0) -> 1 | L23: =ROUND(L$17*$E23,0) -> 1 | M23: =ROUND(M$17*$E23,0) -> 1 | N23: =ROUND(N$17*$E23,0) -> 1 | ... AP23: =ROUND(AP$17*$E23,0) -> 5
F24: Neukunden auf Pakete aufgeteilt
I25: Formeländerung
F26: Umsatz Beratungsgeschäft | G26: =SUMPRODUCT(G21:G23,$B$21:$B$23)/2 -> 8750 | H26: =SUMPRODUCT(H21:H23,$B$21:$B$23)/2 -> 20000 | I26: =(SUMPRODUCT(I21:I23,$B$21:$B$23)+SUMPRODUCT(G21:G23,$B$21:$B$23))/2 -> 28750 | J26: =(SUMPRODUCT(J21:J23,$B$21:$B$23)+SUMPRODUCT(H21:H23,$B$21:$B$23))/2 -> 40000 | K26: =(SUMPRODUCT(K21:K23,$B$21:$B$23)+SUMPRODUCT(I21:I23,$B$21:$B$23))/2 -> 40000 | L26: =(SUMPRODUCT(L21:L23,$B$21:$B$23)+SUMPRODUCT(J21:J23,$B$21:$B$23))/2 -> 40000 | M26: =(SUMPRODUCT(M21:M23,$B$21:$B$23)+SUMPRODUCT(K21:K23,$B$21:$B$23))/2 -> 40000 | N26: =(SUMPRODUCT(N21:N23,$B$21:$B$23)+SUMPRODUCT(L21:L23,$B$21:$B$23))/2 -> 46250 | O26: =(SUMPRODUCT(O21:O23,$B$21:$B$23)+SUMPRODUCT(M21:M23,$B$21:$B$23))/2 -> 46250 | P26: =(SUMPRODUCT(P21:P23,$B$21:$B$23)+SUMPRODUCT(N21:N23,$B$21:$B$23))/2 -> 52500 | ... AP26: =(SUMPRODUCT(AP21:AP23,$B$21:$B$23)+SUMPRODUCT(AN21:AN23,$B$21:$B$23))/2 -> 207500
F27: Achtung: Hard-coded! Kunden zahlen die Hälfte des Auftragswerts an und zwei Monate später die zweite Hälfte.
A29: 2. Software Lizenzen
A30: Die Software wird in den Beratungsprojekten bei unseren Kunden eingeführt. Unsere Lizenzen sind daher abhängig von unseren Bestandskunden.
F32: Anteil der Beratungsprojekte, welche in Lizenzkäufe convertiert werden.
F33: Erfolgsquote | G33: 0.5 | H33: 0.5 | I33: 0.5 | J33: 0.5 | K33: 0.5 | L33: 0.5 | M33: 0.5 | N33: 0.5 | O33: 0.5 | P33: 0.5 | Q33: 0.5 | R33: 0.5 | S33: 0.6 | T33: 0.6 | U33: 0.6 | V33: 0.6 | W33: 0.6 | X33: 0.6 | Y33: 0.6 | Z33: 0.6 | AA33: 0.6 | AB33: 0.6 | AC33: 0.6 | AD33: 0.6 | AE33: 0.65 | AF33: 0.65 | AG33: 0.65 | AH33: 0.65 | AI33: 0.65 | AJ33: 0.65 | AK33: 0.65 | AL33: 0.65 | AM33: 0.65 | AN33: 0.65 | AO33: 0.65 | AP33: 0.65
B36: Anzahl Lizenzen | F36: Anzahl Lizenzen (t-3m), da Lizenzkauf-Entscheidung erst nach dem Beratungsprojekt, welches 2 Monate dauert.
A37: Silber | B37: 10 | F37: Silber | J37: =I37+ROUND(G21*J$33,0)*$B37 -> 10 | K37: =J37+ROUND(H21*K$33,0)*$B37 -> 30 | L37: =K37+ROUND(I21*L$33,0)*$B37 -> 50 | M37: =L37+ROUND(J21*M$33,0)*$B37 -> 70 | N37: =M37+ROUND(K21*N$33,0)*$B37 -> 90 | O37: =N37+ROUND(L21*O$33,0)*$B37 -> 110 | P37: =O37+ROUND(M21*P$33,0)*$B37 -> 130 | Q37: =P37+ROUND(N21*Q$33,0)*$B37 -> 150 | ... AP37: =AO37+ROUND(AM21*AP$33,0)*$B37 -> 1730
A38: Gold | B38: 25 | F38: Gold | J38: =I38+ROUND(G22*J$33,0)*$B38 -> 25 | K38: =J38+ROUND(H22*K$33,0)*$B38 -> 50 | L38: =K38+ROUND(I22*L$33,0)*$B38 -> 75 | M38: =L38+ROUND(J22*M$33,0)*$B38 -> 100 | N38: =M38+ROUND(K22*N$33,0)*$B38 -> 125 | O38: =N38+ROUND(L22*O$33,0)*$B38 -> 150 | P38: =O38+ROUND(M22*P$33,0)*$B38 -> 175 | Q38: =P38+ROUND(N22*Q$33,0)*$B38 -> 225 | ... AP38: =AO38+ROUND(AM22*AP$33,0)*$B38 -> 3175
A39: Platin | B39: 50 | F39: Platin | J39: =I39+ROUND(G23*J$33,0)*$B39 -> 0 | K39: =J39+ROUND(H23*K$33,0)*$B39 -> 50 | L39: =K39+ROUND(I23*L$33,0)*$B39 -> 100 | M39: =L39+ROUND(J23*M$33,0)*$B39 -> 150 | N39: =M39+ROUND(K23*N$33,0)*$B39 -> 200 | O39: =N39+ROUND(L23*O$33,0)*$B39 -> 250 | P39: =O39+ROUND(M23*P$33,0)*$B39 -> 300 | Q39: =P39+ROUND(N23*Q$33,0)*$B39 -> 350 | ... AP39: =AO39+ROUND(AM23*AP$33,0)*$B39 -> 2800
A40: Durchschnittliche Anzahl
A42: Monatliche Gebühr | B42: 15.99 | C42: pro User | F42: Lizenzeinnahmen | G42: =SUM(G37:G39)*$B$42 -> 0 | H42: =SUM(H37:H39)*$B$42 -> 0 | I42: =SUM(I37:I39)*$B$42 -> 0 | J42: =SUM(J37:J39)*$B$42 -> 559.65 | K42: =SUM(K37:K39)*$B$42 -> 2078.7 | L42: =SUM(L37:L39)*$B$42 -> 3597.75 | M42: =SUM(M37:M39)*$B$42 -> 5116.8 | N42: =SUM(N37:N39)*$B$42 -> 6635.85 | ... AP42: =SUM(AP37:AP39)*$B$42 -> 123202.95
A45: Umsatzplanung
B48: 1. GJ | C48: 2. GJ | D48: 3. GJ
A49: Beratung | B49: =SUM(G49:R49) -> 467500 | C49: =SUM(S49:AD49) -> 1307500 | D49: =SUM(AE49:AP49) -> 2237500 | F49: Beratung | G49: =G26 -> 8750 | H49: =H26 -> 20000 | I49: =I26 -> 28750 | J49: =J26 -> 40000 | K49: =K26 -> 40000 | L49: =L26 -> 40000 | M49: =M26 -> 40000 | N49: =N26 -> 46250 | ... AP49: =AP26 -> 207500
A50: Software | B50: =SUM(G50:R50) -> 60921.9 | C50: =SUM(S50:AD50) -> 366011.1 | D50: =SUM(AE50:AP50) -> 1044306.9 | F50: Software | G50: =G42 -> 0 | H50: =H42 -> 0 | I50: =I42 -> 0 | J50: =J42 -> 559.65 | K50: =K42 -> 2078.7 | L50: =L42 -> 3597.75 | M50: =M42 -> 5116.8 | N50: =N42 -> 6635.85 | ... AP50: =AP42 -> 123202.95
A51: Gesamtumsatz | B51: =SUM(G51:R51) -> 528421.9 | C51: =SUM(S51:AD51) -> 1673511.1 | D51: =SUM(AE51:AP51) -> 3281806.9 | F51: Gesamtumsatz | G51: =SUM(G49:G50) -> 8750 | H51: =SUM(H49:H50) -> 20000 | I51: =SUM(I49:I50) -> 28750 | J51: =SUM(J49:J50) -> 40559.65 | K51: =SUM(K49:K50) -> 42078.7 | L51: =SUM(L49:L50) -> 43597.75 | M51: =SUM(M49:M50) -> 45116.8 | N51: =SUM(N49:N50) -> 52885.85 | ... AP51: =SUM(AP49:AP50) -> 330702.95
A53: Direkte Kosten
A54: Welche Kosten fallen durch den Verkauf unserer Leistung an?
A56: 1. Beratungsgeschäft
...

Sheet HR
A1: HR | F1: Jahr | G1: 1. Geschäftsjahr | S1: 2. Geschäftsjahr | AE1: 3. Geschäftsjahr
A2: =Cover!C11 -> Ellmann Consulting GmbH | F2: Monat | G2: =DATE(YEAR(Cover!C15),MONTH(Cover!C15),DAY(Cover!C15)) -> 45658 | H2: =DATE(YEAR(G2),MONTH(G2)+1,DAY(G2)) -> 45689 | I2: =DATE(YEAR(H2),MONTH(H2)+1,DAY(H2)) -> 45717 | J2: =DATE(YEAR(I2),MONTH(I2)+1,DAY(I2)) -> 45748 | K2: =DATE(YEAR(J2),MONTH(J2)+1,DAY(J2)) -> 45778 | L2: =DATE(YEAR(K2),MONTH(K2)+1,DAY(K2)) -> 45809 | M2: =DATE(YEAR(L2),MONTH(L2)+1,DAY(L2)) -> 45839 | N2: =DATE(YEAR(M2),MONTH(M2)+1,DAY(M2)) -> 45870 | O2: =DATE(YEAR(N2),MONTH(N2)+1,DAY(N2)) -> 45901 | ... AP2: =DATE(YEAR(AO2),MONTH(AO2)+1,DAY(AO2)) -> 46722
A4: Übertragung
A5: Ermittlung der Anzahl Berater
F6: Beratungsprojekte | G6: =SUM('Umsatz | COGS'!G21:G23) -> 3 | H6: =SUM('Umsatz | COGS'!H21:H23) -> 6 | I6: =SUM('Umsatz | COGS'!I21:I23) -> 6 | J6: =SUM('Umsatz | COGS'!J21:J23) -> 6 | K6: =SUM('Umsatz | COGS'!K21:K23) -> 6 | L6: =SUM('Umsatz | COGS'!L21:L23) -> 6 | M6: =SUM('Umsatz | COGS'!M21:M23) -> 6 | N6: =SUM('Umsatz | COGS'!N21:N23) -> 8 | ... AP6: =SUM('Umsatz | COGS'!AP21:AP23) -> 31
A8: Projekte | B8: 8
A9: pro Berater pro Monat
F10: Benötigte Berater | G10: =ROUND(G6/$B$8,0) -> 0 | H10: =ROUND(H6/$B$8,0) -> 1 | I10: =ROUND(I6/$B$8,0) -> 1 | J10: =ROUND(J6/$B$8,0) -> 1 | K10: =ROUND(K6/$B$8,0) -> 1 | L10: =ROUND(L6/$B$8,0) -> 1 | M10: =ROUND(M6/$B$8,0) -> 1 | N10: =ROUND(N6/$B$8,0) -> 1 | ... AP10: =ROUND(AP6/$B$8,0) -> 4
A12: Ermittlung der Anzahl Supportmitarbeiter
F13: Anzahl User | G13: =SUM('Umsatz | COGS'!G37:G39) -> 0 | H13: =SUM('Umsatz | COGS'!H37:H39) -> 0 | I13: =SUM('Umsatz | COGS'!I37:I39) -> 0 | J13: =SUM('Umsatz | COGS'!J37:J39) -> 35 | K13: =SUM('Umsatz | COGS'!K37:K39) -> 130 | L13: =SUM('Umsatz | COGS'!L37:L39) -> 225 | M13: =SUM('Umsatz | COGS'!M37:M39) -> 320 | N13: =SUM('Umsatz | COGS'!N37:N39) -> 415 | ... AP13: =SUM('Umsatz | COGS'!AP37:AP39) -> 7705
A15: Support | B15: 1500
A16: Lizenzen pro Servicemitarbeiter
F17: Benötigte Supportmitarbeiter | G17: =ROUNDUP(G13/$B$15,0) -> 0 | H17: =ROUNDUP(H13/$B$15,0) -> 0 | I17: =ROUNDUP(I13/$B$15,0) -> 0 | J17: =ROUNDUP(J13/$B$15,0) -> 1 | K17: =ROUNDUP(K13/$B$15,0) -> 1 | L17: =ROUNDUP(L13/$B$15,0) -> 1 | M17: =ROUNDUP(M13/$B$15,0) -> 1 | N17: =ROUNDUP(N13/$B$15,0) -> 1 | ... AP17: =ROUNDUP(AP13/$B$15,0) -> 6
A19: Beriebliche Personalkosten
F21: Position | G21: Anzahl der eingestellten Personen
F22: Geschäftsführer/in | G22: 1 | H22: 1 | I22: 1 | J22: 1 | K22: 1 | L22: 1 | M22: 1 | N22: 1 | O22: 1 | P22: 1 | Q22: 1 | R22: 1 | S22: 1 | T22: 1 | U22: 1 | V22: 1 | W22: 1 | X22: 1 | Y22: 1 | Z22: 1 | AA22: 1 | AB22: 1 | AC22: 1 | AD22: 1 | AE22: 1 | AF22: 1 | AG22: 1 | AH22: 1 | AI22: 1 | AJ22: 1 | AK22: 1 | AL22: 1 | AM22: 1 | AN22: 1 | AO22: 1 | AP22: 1
F23: Berater/in | G23: =G10 -> 0 | H23: =H10 -> 1 | I23: =I10 -> 1 | J23: =J10 -> 1 | K23: =K10 -> 1 | L23: =L10 -> 1 | M23: =M10 -> 1 | N23: =N10 -> 1 | ... AP23: =AP10 -> 4
F24: Büroassistenz TZ | G24: 1 | H24: 1 | I24: 1 | J24: 1 | K24: 1 | L24: 1 | M24: 1 | N24: 1 | O24: 1 | P24: 1 | Q24: 1 | R24: 1 | S24: 2 | T24: 2 | U24: 2 | V24: 2 | W24: 2 | X24: 2 | Y24: 2 | Z24: 2 | AA24: 2 | AB24: 2 | AC24: 2 | AD24: 2 | AE24: 2 | AF24: 2 | AG24: 2 | AH24: 2 | AI24: 2 | AJ24: 2 | AK24: 2 | AL24: 2 | AM24: 2 | AN24: 2 | AO24: 2 | AP24: 2
F25: Entwickler/in | G25: 2 | H25: 2 | I25: 2 | J25: 2 | K25: 2 | L25: 2 | M25: 2 | N25: 2 | O25: 2 | P25: 2 | Q25: 2 | R25: 2 | S25: 3 | T25: 3 | U25: 3 | V25: 3 | W25: 3 | X25: 3 | Y25: 3 | Z25: 3 | AA25: 3 | AB25: 3 | AC25: 3 | AD25: 3 | AE25: 3 | AF25: 3 | AG25: 3 | AH25: 3 | AI25: 3 | AJ25: 3 | AK25: 3 | AL25: 3 | AM25: 3 | AN25: 3 | AO25: 3 | AP25: 3
F26: Servicemitarbeiter/in | G26: =G17 -> 0 | H26: =H17 -> 0 | I26: =I17 -> 0 | J26: =J17 -> 1 | K26: =K17 -> 1 | L26: =L17 -> 1 | M26: =M17 -> 1 | N26: =N17 -> 1 | ... AP26: =AP17 -> 6
F27: Position 6 | G27: 0 | H27: 0 | I27: 0 | J27: 0 | K27: 0 | L27: 0 | M27: 0 | N27: 0 | O27: 0 | P27: 0 | Q27: 0 | R27: 0 | S27: 0 | T27: 0 | U27: 0 | V27: 0 | W27: 0 | X27: 0 | Y27: 0 | Z27: 0 | AA27: 0 | AB27: 0 | AC27: 0 | AD27: 0 | AE27: 0 | AF27: 0 | AG27: 0 | AH27: 0 | AI27: 0 | AJ27: 0 | AK27: 0 | AL27: 0 | AM27: 0 | AN27: 0 | AO27: 0 | AP27: 0
F28: Position 7 | G28: 0 | H28: 0 | I28: 0 | J28: 0 | K28: 0 | L28: 0 | M28: 0 | N28: 0 | O28: 0 | P28: 0 | Q28: 0 | R28: 0 | S28: 0 | T28: 0 | U28: 0 | V28: 0 | W28: 0 | X28: 0 | Y28: 0 | Z28: 0 | AA28: 0 | AB28: 0 | AC28: 0 | AD28: 0 | AE28: 0 | AF28: 0 | AG28: 0 | AH28: 0 | AI28: 0 | AJ28: 0 | AK28: 0 | AL28: 0 | AM28: 0 | AN28: 0 | AO28: 0 | AP28: 0
F29: Position 8 | G29: 0 | H29: 0 | I29: 0 | J29: 0 | K29: 0 | L29: 0 | M29: 0 | N29: 0 | O29: 0 | P29: 0 | Q29: 0 | R29: 0 | S29: 0 | T29: 0 | U29: 0 | V29: 0 | W29: 0 | X29: 0 | Y29: 0 | Z29: 0 | AA29: 0 | AB29: 0 | AC29: 0 | AD29: 0 | AE29: 0 | AF29: 0 | AG29: 0 | AH29: 0 | AI29: 0 | AJ29: 0 | AK29: 0 | AL29: 0 | AM29: 0 | AN29: 0 | AO29: 0 | AP29: 0
E31: Jährl. Gehalt | F31: Position
E32: 80000 | F32: =F22 -> Geschäftsführer/in | G32: =$E32*G22/12 -> 6666.6667 | H32: =$E32*H22/12 -> 6666.6667 | I32: =$E32*I22/12 -> 6666.6667 | J32: =$E32*J22/12 -> 6666.6667 | K32: =$E32*K22/12 -> 6666.6667 | L32: =$E32*L22/12 -> 6666.6667 | M32: =$E32*M22/12 -> 6666.6667 | N32: =$E32*N22/12 -> 6666.6667 | ... AP32: =$E32*AP22/12 -> 6666.6667
E33: 65000 | F33: =F23 -> Berater/in | G33: =$E33*G23/12 -> 0 | H33: =$E33*H23/12 -> 5416.6667 | I33: =$E33*I23/12 -> 5416.6667 | J33: =$E33*J23/12 -> 5416.6667 | K33: =$E33*K23/12 -> 5416.6667 | L33: =$E33*L23/12 -> 5416.6667 | M33: =$E33*M23/12 -> 5416.6667 | N33: =$E33*N23/12 -> 5416.6667 | ... AP33: =$E33*AP23/12 -> 21666.667
E34: 25000 | F34: =F24 -> Büroassistenz TZ | G34: =$E34*G24/12 -> 2083.3333 | H34: =$E34*H24/12 -> 2083.3333 | I34: =$E34*I24/12 -> 2083.3333 | J34: =$E34*J24/12 -> 2083.3333 | K34: =$E34*K24/12 -> 2083.3333 | L34: =$E34*L24/12 -> 2083.3333 | M34: =$E34*M24/12 -> 2083.3333 | N34: =$E34*N24/12 -> 2083.3333 | ... AP34: =$E34*AP24/12 -> 4166.6667
E35: 70000 | F35: =F25 -> Entwickler/in | G35: =$E35*G25/12 -> 11666.667 | H35: =$E35*H25/12 -> 11666.667 | I35: =$E35*I25/12 -> 11666.667 | J35: =$E35*J25/12 -> 11666.667 | K35: =$E35*K25/12 -> 11666.667 | L35: =$E35*L25/12 -> 11666.667 | M35: =$E35*M25/12 -> 11666.667 | N35: =$E35*N25/12 -> 11666.667 | ... AP35: =$E35*AP25/12 -> 17500
E36: 35000 | F36: =F26 -> Servicemitarbeiter/in | G36: =$E36*G26/12 -> 0 | H36: =$E36*H26/12 -> 0 | I36: =$E36*I26/12 -> 0 | J36: =$E36*J26/12 -> 2916.6667 | K36: =$E36*K26/12 -> 2916.6667 | L36: =$E36*L26/12 -> 2916.6667 | M36: =$E36*M26/12 -> 2916.6667 | N36: =$E36*N26/12 -> 2916.6667 | ... AP36: =$E36*AP26/12 -> 17500
E37: 0 | F37: =F27 -> Position 6 | G37: =$E37*G27/12 -> 0 | H37: =$E37*H27/12 -> 0 | I37: =$E37*I27/12 -> 0 | J37: =$E37*J27/12 -> 0 | K37: =$E37*K27/12 -> 0 | L37: =$E37*L27/12 -> 0 | M37: =$E37*M27/12 -> 0 | N37: =$E37*N27/12 -> 0 | ... AP37: =$E37*AP27/12 -> 0
E38: 0 | F38: =F28 -> Position 7 | G38: =$E38*G28/12 -> 0 | H38: =$E38*H28/12 -> 0 | I38: =$E38*I28/12 -> 0 | J38: =$E38*J28/12 -> 0 | K38: =$E38*K28/12 -> 0 | L38: =$E38*L28/12 -> 0 | M38: =$E38*M28/12 -> 0 | N38: =$E38*N28/12 -> 0 | ... AP38: =$E38*AP28/12 -> 0
E39: 0 | F39: =F29 -> Position 8 | G39: =$E39*G29/12 -> 0 | H39: =$E39*H29/12 -> 0 | I39: =$E39*I29/12 -> 0 | J39: =$E39*J29/12 -> 0 | K39: =$E39*K29/12 -> 0 | L39: =$E39*L29/12 -> 0 | M39: =$E39*M29/12 -> 0 | N39: =$E39*N29/12 -> 0 | ... AP39: =$E39*AP29/12 -> 0
E41: 0.25 | F41: Sozialv., Steuern, Benefits etc. | G41: =SUM(G32:G39)*$E41 -> 5104.1667 | H41: =SUM(H32:H39)*$E41 -> 6458.3333 | I41: =SUM(I32:I39)*$E41 -> 6458.3333 | J41: =SUM(J32:J39)*$E41 -> 7187.5 | K41: =SUM(K32:K39)*$E41 -> 7187.5 | L41: =SUM(L32:L39)*$E41 -> 7187.5 | M41: =SUM(M32:M39)*$E41 -> 7187.5 | N41: =SUM(N32:N39)*$E41 -> 7187.5 | ... AP41: =SUM(AP32:AP39)*$E41 -> 16875
F43: Betriebliche Personalkosten inkl. NK | G43: =SUM(G32:G39)+G41 -> 25520.833 | H43: =SUM(H32:H39)+H41 -> 32291.667 | I43: =SUM(I32:I39)+I41 -> 32291.667 | J43: =SUM(J32:J39)+J41 -> 35937.5 | K43: =SUM(K32:K39)+K41 -> 35937.5 | L43: =SUM(L32:L39)+L41 -> 35937.5 | M43: =SUM(M32:M39)+M41 -> 35937.5 | N43: =SUM(N32:N39)+N41 -> 35937.5 | ... AP43: =SUM(AP32:AP39)+AP41 -> 84375
F44: Wird in die Umsatz- und Ertragsvorschau übertragen
B45: 1. GJ | C45: 2. GJ | D45: 3. GJ
A46: Gesamte Personalkosten | B46: =SUM(G46:R46) -> 413541.67 | C46: =SUM(S46:AD46) -> 697916.67 | D46: =SUM(AE46:AP46) -> 925520.83 | F46: Gesamte Personalkosten | G46: =G43 -> 25520.833 | H46: =H43 -> 32291.667 | I46: =I43 -> 32291.667 | J46: =J43 -> 35937.5 | K46: =K43 -> 35937.5 | L46: =L43 -> 35937.5 | M46: =M43 -> 35937.5 | N46: =N43 -> 35937.5 | ... AP46: =AP43 -> 84375
F48: Unternehmerlohn
F49: Nur bei Einzelunternehmen; wird in die Liquiditätsplanung übertragen
A51: Anzahl Mitarbeiter
...

Sheet OPEX
A1: OPEX = "Operational Expenditures" / Betriebskosten | F1: Jahr | G1: 1. Geschäftsjahr | S1: 2. Geschäftsjahr | AE1: 3. Geschäftsjahr
A2: =Cover!C11 -> Ellmann Consulting GmbH | F2: Monat | G2: =DATE(YEAR(Cover!C15),MONTH(Cover!C15),DAY(Cover!C15)) -> 45658 | H2: =DATE(YEAR(G2),MONTH(G2)+1,DAY(G2)) -> 45689 | I2: =DATE(YEAR(H2),MONTH(H2)+1,DAY(H2)) -> 45717 | J2: =DATE(YEAR(I2),MONTH(I2)+1,DAY(I2)) -> 45748 | K2: =DATE(YEAR(J2),MONTH(J2)+1,DAY(J2)) -> 45778 | L2: =DATE(YEAR(K2),MONTH(K2)+1,DAY(K2)) -> 45809 | M2: =DATE(YEAR(L2),MONTH(L2)+1,DAY(L2)) -> 45839 | N2: =DATE(YEAR(M2),MONTH(M2)+1,DAY(M2)) -> 45870 | O2: =DATE(YEAR(N2),MONTH(N2)+1,DAY(N2)) -> 45901 | ... AP2: =DATE(YEAR(AO2),MONTH(AO2)+1,DAY(AO2)) -> 46722
A4: Übertragung
F6: # Mitarbeiter insgesamt | G6: =HR!G53 -> 4 | H6: =HR!H53 -> 5 | I6: =HR!I53 -> 5 | J6: =HR!J53 -> 6 | K6: =HR!K53 -> 6 | L6: =HR!L53 -> 6 | M6: =HR!M53 -> 6 | N6: =HR!N53 -> 6 | ... AP6: =HR!AP53 -> 16
F7: # Mitarbeiter vor Ort | G7: =HR!G54 -> 2 | H7: =HR!H54 -> 2 | I7: =HR!I54 -> 2 | J7: =HR!J54 -> 2 | K7: =HR!K54 -> 2 | L7: =HR!L54 -> 2 | M7: =HR!M54 -> 2 | N7: =HR!N54 -> 2 | ... AP7: =HR!AP54 -> 6
F8: # Reisende Mitarbeiter | G8: =HR!G55 -> 1 | H8: =HR!H55 -> 1 | I8: =HR!I55 -> 1 | J8: =HR!J55 -> 1 | K8: =HR!K55 -> 1 | L8: =HR!L55 -> 1 | M8: =HR!M55 -> 1 | N8: =HR!N55 -> 1 | ... AP8: =HR!AP55 -> 3
F9: # Mitarbeiter Remote | G9: =HR!G56 -> 2 | H9: =HR!H56 -> 3 | I9: =HR!I56 -> 3 | J9: =HR!J56 -> 4 | K9: =HR!K56 -> 4 | L9: =HR!L56 -> 4 | M9: =HR!M56 -> 4 | N9: =HR!N56 -> 4 | ... AP9: =HR!AP56 -> 10
F11: Umsatz | G11: ='Umsatz | COGS'!G51 -> 8750 | H11: ='Umsatz | COGS'!H51 -> 20000 | I11: ='Umsatz | COGS'!I51 -> 28750 | J11: ='Umsatz | COGS'!J51 -> 40559.65 | K11: ='Umsatz | COGS'!K51 -> 42078.7 | L11: ='Umsatz | COGS'!L51 -> 43597.75 | M11: ='Umsatz | COGS'!M51 -> 45116.8 | N11: ='Umsatz | COGS'!N51 -> 52885.85 | ... AP11: ='Umsatz | COGS'!AP51 -> 330702.95
F13: Werbekosten | G13: ='Umsatz | COGS'!G10 -> 10000 | H13: ='Umsatz | COGS'!H10 -> 10000 | I13: ='Umsatz | COGS'!I10 -> 10000 | J13: ='Umsatz | COGS'!J10 -> 10000 | K13: ='Umsatz | COGS'!K10 -> 10000 | L13: ='Umsatz | COGS'!L10 -> 10000 | M13: ='Umsatz | COGS'!M10 -> 15000 | N13: ='Umsatz | COGS'!N10 -> 15000 | ... AP13: ='Umsatz | COGS'!AP10 -> 30000
A15: Betriebliche Kosten
A16: 1. Miete und Mietnebenkosten
A17: qm je Mitarbeiter vor Ort | B17: 25 | F17: qm gesamt | G17: =$B17*G7 -> 50 | H17: =$B17*H7 -> 50 | I17: =$B17*I7 -> 50 | J17: =$B17*J7 -> 50 | K17: =$B17*K7 -> 50 | L17: =$B17*L7 -> 50 | M17: =$B17*M7 -> 50 | N17: =$B17*N7 -> 50 | ... AP17: =$B17*AP7 -> 150
A18: Preis je qm | B18: 22
A19: Mindestmiete | B19: 1500
B22: 1. GJ | C22: 2. GJ | D22: 3. GJ
A23: Gesamte Mietkosten | B23: =SUM(G23:R23) -> 18000 | C23: =SUM(S23:AD23) -> 26950 | D23: =SUM(AE23:AP23) -> 37400 | F23: Miete gesamt | G23: =IF($B18*G17>$B$19,$B18*G17,$B$19) -> 1500 | H23: =IF($B18*H17>$B$19,$B18*H17,$B$19) -> 1500 | I23: =IF($B18*I17>$B$19,$B18*I17,$B$19) -> 1500 | J23: =IF($B18*J17>$B$19,$B18*J17,$B$19) -> 1500 | K23: =IF($B18*K17>$B$19,$B18*K17,$B$19) -> 1500 | L23: =IF($B18*L17>$B$19,$B18*L17,$B$19) -> 1500 | M23: =IF($B18*M17>$B$19,$B18*M17,$B$19) -> 1500 | N23: =IF($B18*N17>$B$19,$B18*N17,$B$19) -> 1500 | ... AP23: =IF($B18*AP17>$B$19,$B18*AP17,$B$19) -> 3300
A26: 2. Operatives Equipment | H26: Formeländerung
A27: Durchschn. Investitionen je MA vor Ort | B27: 3500 | F27: Investitionen für MA vor Ort | G27: =$B27*G7 -> 7000 | H27: =IF(H7-G7>0,(H7-G7)*$B$27,0) -> 0 | I27: =IF(I7-H7>0,(I7-H7)*$B$27,0) -> 0 | J27: =IF(J7-I7>0,(J7-I7)*$B$27,0) -> 0 | K27: =IF(K7-J7>0,(K7-J7)*$B$27,0) -> 0 | L27: =IF(L7-K7>0,(L7-K7)*$B$27,0) -> 0 | M27: =IF(M7-L7>0,(M7-L7)*$B$27,0) -> 0 | N27: =IF(N7-M7>0,(N7-M7)*$B$27,0) -> 0 | O27: =IF(O7-N7>0,(O7-N7)*$B$27,0) -> 0 | ... AP27: =IF(AP7-AO7>0,(AP7-AO7)*$B$27,0) -> 0
A28: Durchschn. Investitionen je MA Remote | B28: 2500 | F28: Investitionen für MA Remote | G28: =$B28*G9 -> 5000 | H28: =IF(H9-G9>0,(H9-G9)*$B$28,0) -> 2500 | I28: =IF(I9-H9>0,(I9-H9)*$B$28,0) -> 0 | J28: =IF(J9-I9>0,(J9-I9)*$B$28,0) -> 2500 | K28: =IF(K9-J9>0,(K9-J9)*$B$28,0) -> 0 | L28: =IF(L9-K9>0,(L9-K9)*$B$28,0) -> 0 | M28: =IF(M9-L9>0,(M9-L9)*$B$28,0) -> 0 | N28: =IF(N9-M9>0,(N9-M9)*$B$28,0) -> 0 | O28: =IF(O9-N9>0,(O9-N9)*$B$28,0) -> 0 | ... AP28: =IF(AP9-AO9>0,(AP9-AO9)*$B$28,0) -> 2500
A29: Durchschn. monatl. Kosten je MA [Handy, Office 365, etc.] | B29: 200 | F29: Monatl. Investitionen für alle MA | G29: =$B29*G6 -> 800 | H29: =$B29*H6 -> 1000 | I29: =$B29*I6 -> 1000 | J29: =$B29*J6 -> 1200 | K29: =$B29*K6 -> 1200 | L29: =$B29*L6 -> 1200 | M29: =$B29*M6 -> 1200 | N29: =$B29*N6 -> 1200 | ... AP29: =$B29*AP6 -> 3200
B32: 1. GJ | C32: 2. GJ | D32: 3. GJ
A33: Gesamtes Operatives Equipment | B33: =SUM(G33:R33) -> 30600 | C33: =SUM(S33:AD33) -> 42400 | D33: =SUM(AE33:AP33) -> 44800 | F33: Gesamtes operatives Equipment | G33: =SUM(G27:G29) -> 12800 | H33: =SUM(H27:H29) -> 3500 | I33: =SUM(I27:I29) -> 1000 | J33: =SUM(J27:J29) -> 3700 | K33: =SUM(K27:K29) -> 1200 | L33: =SUM(L27:L29) -> 1200 | M33: =SUM(M27:M29) -> 1200 | N33: =SUM(N27:N29) -> 1200 | ... AP33: =SUM(AP27:AP29) -> 5700
A36: 3. Versicherungen
A37: Versicherungen je MA pro Monat | B37: 25
A38: Weitere Versicherungen in "Sonstige OPEX"
B40: 1. GJ | C40: 2. GJ | D40: 3. GJ
A41: Gesamte Versicherungskosten | B41: =SUM(G41:R41) -> 1700 | C41: =SUM(S41:AD41) -> 3050 | D41: =SUM(AE41:AP41) -> 4225 | F41: Gesamte Versicherungen für MA | G41: =G6*$B$37 -> 100 | H41: =H6*$B$37 -> 125 | I41: =I6*$B$37 -> 125 | J41: =J6*$B$37 -> 150 | K41: =K6*$B$37 -> 150 | L41: =L6*$B$37 -> 150 | M41: =M6*$B$37 -> 150 | N41: =N6*$B$37 -> 150 | ... AP41: =AP6*$B$37 -> 400
A44: 4. Rechts- und Beratungskosten | G44: Steuerberatung ist auch abhängig vom Umsatz. Rechnung: Umsatz/1000 + monatliche Gebühr
A45: Steuerberatung | B45: 70 | C45: p. Monat | F45: Steuerberatung | G45: =$B$45+G11/1000 -> 78.75 | H45: =$B$45+H11/1000 -> 90 | I45: =$B$45+I11/1000 -> 98.75 | J45: =$B$45+J11/1000 -> 110.55965 | K45: =$B$45+K11/1000 -> 112.0787 | L45: =$B$45+L11/1000 -> 113.59775 | M45: =$B$45+M11/1000 -> 115.1168 | N45: =$B$45+N11/1000 -> 122.88585 | ... AP45: =$B$45+AP11/1000 -> 400.70295
A46: Lohnbuchhaltung | B46: 15 | C46: p. MA | F46: Lohnbuchhaltung | G46: =G6*$B$46 -> 60 | H46: =H6*$B$46 -> 75 | I46: =I6*$B$46 -> 75 | J46: =J6*$B$46 -> 90 | K46: =K6*$B$46 -> 90 | L46: =L6*$B$46 -> 90 | M46: =M6*$B$46 -> 90 | N46: =N6*$B$46 -> 90 | ... AP46: =AP6*$B$46 -> 240
A47: Rechtsberatung | B47: 5000 | C47: p. Jahr | F47: Rechtsberatung | G47: =$B$47/12 -> 416.66667 | H47: =$B$47/12 -> 416.66667 | I47: =$B$47/12 -> 416.66667 | J47: =$B$47/12 -> 416.66667 | K47: =$B$47/12 -> 416.66667 | L47: =$B$47/12 -> 416.66667 | M47: =$B$47/12 -> 416.66667 | N47: =$B$47/12 -> 416.66667 | ... AP47: =$B$47/12 -> 416.66667
A48: monatlich fester Betrag oder manuell einpflegen
B50: 1. GJ | C50: 2. GJ | D50: 3. GJ
A51: Gesamte Beratungskosten | B51: =SUM(G51:R51) -> 7388.4219 | C51: =SUM(S51:AD51) -> 9343.5111 | D51: =SUM(AE51:AP51) -> 11656.807 | F51: Gesamte Beratungskosten | G51: =SUM(G45:G47) -> 555.41667 | H51: =SUM(H45:H47) -> 581.66667 | I51: =SUM(I45:I47) -> 590.41667 | J51: =SUM(J45:J47) -> 617.22632 | K51: =SUM(K45:K47) -> 618.74537 | L51: =SUM(L45:L47) -> 620.26442 | M51: =SUM(M45:M47) -> 621.78347 | N51: =SUM(N45:N47) -> 629.55252 | ... AP51: =SUM(AP45:AP47) -> 1057.3696
A54: 5. Werbekosten
A55: Agentur | B55: 2500 | C55: p. Monat | F55: Agentur | G55: =$B$55 -> 2500 | H55: =$B$55 -> 2500 | I55: =$B$55 -> 2500 | J55: =$B$55 -> 2500 | K55: =$B$55 -> 2500 | L55: =$B$55 -> 2500 | M55: =$B$55 -> 2500 | N55: =$B$55 -> 2500 | ... AP55: =$B$55 -> 2500
A56: Werbekosten | F56: Werbekosten | G56: =G13 -> 10000 | H56: =H13 -> 10000 | I56: =I13 -> 10000 | J56: =J13 -> 10000 | K56: =K13 -> 10000 | L56: =L13 -> 10000 | M56: =M13 -> 15000 | N56: =N13 -> 15000 | ... AP56: =AP13 -> 30000
A57: monatlich fester Betrag oder manuell einpflegen
B59: 1. GJ | C59: 2. GJ | D59: 3. GJ
A60: Gesamte Werbekosten | B60: =SUM(G60:R60) -> 180000 | C60: =SUM(S60:AD60) -> 300000 | D60: =SUM(AE60:AP60) -> 378000 | F60: Gesamte Marketingkosten | G60: =SUM(G55:G56) -> 12500 | H60: =SUM(H55:H56) -> 12500 | I60: =SUM(I55:I56) -> 12500 | J60: =SUM(J55:J56) -> 12500 | K60: =SUM(K55:K56) -> 12500 | L60: =SUM(L55:L56) -> 12500 | M60: =SUM(M55:M56) -> 17500 | N60: =SUM(N55:N56) -> 17500 | ... AP60: =SUM(AP55:AP56) -> 32500
...

Sheet CAPEX
A1: CAPEX = "Capital Expenditures" / Investionen | F1: Jahr | G1: 1. Geschäftsjahr | S1: 2. Geschäftsjahr | AE1: 3. Geschäftsjahr
A2: =Cover!C11 -> Ellmann Consulting GmbH | F2: Monat | G2: =DATE(YEAR(Cover!C15),MONTH(Cover!C15),DAY(Cover!C15)) -> 45658 | H2: =DATE(YEAR(G2),MONTH(G2)+1,DAY(G2)) -> 45689 | I2: =DATE(YEAR(H2),MONTH(H2)+1,DAY(H2)) -> 45717 | J2: =DATE(YEAR(I2),MONTH(I2)+1,DAY(I2)) -> 45748 | K2: =DATE(YEAR(J2),MONTH(J2)+1,DAY(J2)) -> 45778 | L2: =DATE(YEAR(K2),MONTH(K2)+1,DAY(K2)) -> 45809 | M2: =DATE(YEAR(L2),MONTH(L2)+1,DAY(L2)) -> 45839 | N2: =DATE(YEAR(M2),MONTH(M2)+1,DAY(M2)) -> 45870 | O2: =DATE(YEAR(N2),MONTH(N2)+1,DAY(N2)) -> 45901 | ... AP2: =DATE(YEAR(AO2),MONTH(AO2)+1,DAY(AO2)) -> 46722
A4: Investitionen
E6: Nutzungsdauer (Monate) | F6: Kauf von Anlagevermögen
E7: 60 | F7: Software | G7: 300000
E8: 1 | F8: Anlage 2
E9: 1 | F9: Anlage 3
E10: 1 | F10: Anlage 4
E11: 1 | F11: Anlage 5
F12: Total CAPEX | G12: =SUM(G7:G11) -> 300000 | H12: =SUM(H7:H11) -> 0 | I12: =SUM(I7:I11) -> 0 | J12: =SUM(J7:J11) -> 0 | K12: =SUM(K7:K11) -> 0 | L12: =SUM(L7:L11) -> 0 | M12: =SUM(M7:M11) -> 0 | N12: =SUM(N7:N11) -> 0 | ... AP12: =SUM(AP7:AP11) -> 0
E13: Für eine handelsübliche Software sieht die Software Afa Tabelle eine voraussichtliche Nutzungsdauer von drei Jahren vor. Handelt es sich um eine spezielle programmierte Software, so hast du nach der Afa Tabelle für Software für die Abschreibung eine Dauer von fünf Jahren.
A14: Abschreibungen
F16: Abschreibungen (neu)
F17: =F7 -> Software | G17: =SUM($G7:G7)/$E7 -> 5000 | H17: =SUM($G7:H7)/$E7 -> 5000 | I17: =SUM($G7:I7)/$E7 -> 5000 | J17: =SUM($G7:J7)/$E7 -> 5000 | K17: =SUM($G7:K7)/$E7 -> 5000 | L17: =SUM($G7:L7)/$E7 -> 5000 | M17: =SUM($G7:M7)/$E7 -> 5000 | N17: =SUM($G7:N7)/$E7 -> 5000 | ... AP17: =SUM($G7:AP7)/$E7 -> 5000
F18: =F8 -> Anlage 2 | G18: =SUM($G8:G8)/$E8 -> 0 | H18: =SUM($G8:H8)/$E8 -> 0 | I18: =SUM($G8:I8)/$E8 -> 0 | J18: =SUM($G8:J8)/$E8 -> 0 | K18: =SUM($G8:K8)/$E8 -> 0 | L18: =SUM($G8:L8)/$E8 -> 0 | M18: =SUM($G8:M8)/$E8 -> 0 | N18: =SUM($G8:N8)/$E8 -> 0 | ... AP18: =SUM($G8:AP8)/$E8 -> 0
F19: =F9 -> Anlage 3 | G19: =SUM($G9:G9)/$E9 -> 0 | H19: =SUM($G9:H9)/$E9 -> 0 | I19: =SUM($G9:I9)/$E9 -> 0 | J19: =SUM($G9:J9)/$E9 -> 0 | K19: =SUM($G9:K9)/$E9 -> 0 | L19: =SUM($G9:L9)/$E9 -> 0 | M19: =SUM($G9:M9)/$E9 -> 0 | N19: =SUM($G9:N9)/$E9 -> 0 | ... AP19: =SUM($G9:AP9)/$E9 -> 0
F20: =F10 -> Anlage 4 | G20: =SUM($G10:G10)/$E10 -> 0 | H20: =SUM($G10:H10)/$E10 -> 0 | I20: =SUM($G10:I10)/$E10 -> 0 | J20: =SUM($G10:J10)/$E10 -> 0 | K20: =SUM($G10:K10)/$E10 -> 0 | L20: =SUM($G10:L10)/$E10 -> 0 | M20: =SUM($G10:M10)/$E10 -> 0 | N20: =SUM($G10:N10)/$E10 -> 0 | ... AP20: =SUM($G10:AP10)/$E10 -> 0
B21: 1. GJ | C21: 2. GJ | D21: 3. GJ | F21: =F11 -> Anlage 5 | G21: =SUM($G11:G11)/$E11 -> 0 | H21: =SUM($G11:H11)/$E11 -> 0 | I21: =SUM($G11:I11)/$E11 -> 0 | J21: =SUM($G11:J11)/$E11 -> 0 | K21: =SUM($G11:K11)/$E11 -> 0 | L21: =SUM($G11:L11)/$E11 -> 0 | M21: =SUM($G11:M11)/$E11 -> 0 | N21: =SUM($G11:N11)/$E11 -> 0 | ... AP21: =SUM($G11:AP11)/$E11 -> 0
A22: Gesamte Abschreibung | B22: =SUM(G22:R22) -> 60000 | C22: =SUM(S22:AD22) -> 60000 | D22: =SUM(AE22:AP22) -> 60000 | F22: Gesamte Abschreibungen | G22: =SUM(G17:G21) -> 5000 | H22: =SUM(H17:H21) -> 5000 | I22: =SUM(I17:I21) -> 5000 | J22: =SUM(J17:J21) -> 5000 | K22: =SUM(K17:K21) -> 5000 | L22: =SUM(L17:L21) -> 5000 | M22: =SUM(M17:M21) -> 5000 | N22: =SUM(N17:N21) -> 5000 | ... AP22: =SUM(AP17:AP21) -> 5000
F23: VORSICHT: Formeln funktionieren nicht für Abschreibungen <3 Jahre!
A26: Anlagevermögen
F28: Investitionen | G28: =G12 -> 300000 | H28: =H12 -> 0 | I28: =I12 -> 0 | J28: =J12 -> 0 | K28: =K12 -> 0 | L28: =L12 -> 0 | M28: =M12 -> 0 | N28: =N12 -> 0 | ... AP28: =AP12 -> 0
F29: Abschreibungen | G29: =G22 -> 5000 | H29: =H22 -> 5000 | I29: =I22 -> 5000 | J29: =J22 -> 5000 | K29: =K22 -> 5000 | L29: =L22 -> 5000 | M29: =M22 -> 5000 | N29: =N22 -> 5000 | ... AP29: =AP22 -> 5000
F30: Buchwert | G30: =G28-G29 -> 295000 | H30: =G30+H28-H29 -> 290000 | I30: =H30+I28-I29 -> 285000 | J30: =I30+J28-J29 -> 280000 | K30: =J30+K28-K29 -> 275000 | L30: =K30+L28-L29 -> 270000 | M30: =L30+M28-M29 -> 265000 | N30: =M30+N28-N29 -> 260000 | O30: =N30+O28-O29 -> 255000 | ... AP30: =AO30+AP28-AP29 -> 120000
B34: -> Zum Output
A37: Schritte | B37: 1 | C37: 2 | D37: 3 | E37: 4 | F37: 5 | G37: 6 | H37: 7 | I37: 8 | J37: 9
A38: Arbeitsblatt | B38: Annahmen | C38: Umsatz | COGS | D38: HR | E38: OPEX | F38: CAPEX | G38: Rentabilität | H38: Liquidität | I38: Finanzierung | J38: Final Check
A39: Prozessfortschritt

Sheet Finanzierung
A1: Finanzierung | F1: Jahr | G1: 1. Geschäftsjahr | S1: 2. Geschäftsjahr | AE1: 3. Geschäftsjahr
A2: =Cover!C11 -> Ellmann Consulting GmbH | F2: Monat | G2: =DATE(YEAR(Cover!C15),MONTH(Cover!C15),DAY(Cover!C15)) -> 45658 | H2: =DATE(YEAR(G2),MONTH(G2)+1,DAY(G2)) -> 45689 | I2: =DATE(YEAR(H2),MONTH(H2)+1,DAY(H2)) -> 45717 | J2: =DATE(YEAR(I2),MONTH(I2)+1,DAY(I2)) -> 45748 | K2: =DATE(YEAR(J2),MONTH(J2)+1,DAY(J2)) -> 45778 | L2: =DATE(YEAR(K2),MONTH(K2)+1,DAY(K2)) -> 45809 | M2: =DATE(YEAR(L2),MONTH(L2)+1,DAY(L2)) -> 45839 | N2: =DATE(YEAR(M2),MONTH(M2)+1,DAY(M2)) -> 45870 | O2: =DATE(YEAR(N2),MONTH(N2)+1,DAY(N2)) -> 45901 | ... AP2: =DATE(YEAR(AO2),MONTH(AO2)+1,DAY(AO2)) -> 46722
A4: Fremdkapital
F6: Darlehen 1
F7: Verbleibende Laufzeit | G7: 120 | H7: =IF(G7-1>0,G7-1,0) -> 119 | I7: =IF(H7-1>0,H7-1,0) -> 118 | J7: =IF(I7-1>0,I7-1,0) -> 117 | K7: =IF(J7-1>0,J7-1,0) -> 116 | L7: =IF(K7-1>0,K7-1,0) -> 115 | M7: =IF(L7-1>0,L7-1,0) -> 114 | N7: =IF(M7-1>0,M7-1,0) -> 113 | O7: =IF(N7-1>0,N7-1,0) -> 112 | ... AP7: =IF(AO7-1>0,AO7-1,0) -> 85
F8: Verbleibender Betrag | G8: 650000 | H8: =IFERROR(G8-G12,0) -> 650000 | I8: =IFERROR(H8-H12,"") -> 650000 | J8: =IFERROR(I8-I12,"") -> 650000 | K8: =IFERROR(J8-J12,"") -> 650000 | L8: =IFERROR(K8-K12,"") -> 650000 | M8: =IFERROR(L8-L12,"") -> 650000 | N8: =IFERROR(M8-M12,"") -> 650000 | O8: =IFERROR(N8-N12,"") -> 650000 | P8: =IFERROR(O8-O12,"") -> 650000 | ... AP8: =IFERROR(AO8-AO12,"") -> 530445.53
F9: Annuität | G9: =G11 -> 2166.6667 | H9: =H11 -> 2166.6667 | I9: =I11 -> 2166.6667 | J9: =J11 -> 2166.6667 | K9: =K11 -> 2166.6667 | L9: =L11 -> 2166.6667 | M9: =M11 -> 2166.6667 | N9: =N11 -> 2166.6667 | ... R9: =R11 -> 2166.6667 | S9: =IFERROR(PMT(S10/12,S7,-S8,0,0),0) -> 7176.6298 | T9: =IFERROR(IF(T7>0,S9,0),0) -> 7176.6298 | U9: =IFERROR(IF(U7>0,T9,0),0) -> 7176.6298 | V9: =IFERROR(IF(V7>0,U9,0),0) -> 7176.6298 | W9: =IFERROR(IF(W7>0,V9,0),0) -> 7176.6298 | X9: =IFERROR(IF(X7>0,W9,0),0) -> 7176.6298 | Y9: =IFERROR(IF(Y7>0,X9,0),0) -> 7176.6298 | Z9: =IFERROR(IF(Z7>0,Y9,0),0) -> 7176.6298 | AA9: =IFERROR(IF(AA7>0,Z9,0),0) -> 7176.6298 | ... AP9: =IFERROR(IF(AP7>0,AO9,0),0) -> 7176.6298
F10: Zinssatz | G10: 0.04 | H10: =IF(H7>0,G10,0) -> 0.04 | I10: =IF(I7>0,H10,0) -> 0.04 | J10: =IF(J7>0,I10,0) -> 0.04 | K10: =IF(K7>0,J10,0) -> 0.04 | L10: =IF(L7>0,K10,0) -> 0.04 | M10: =IF(M7>0,L10,0) -> 0.04 | N10: =IF(N7>0,M10,0) -> 0.04 | O10: =IF(O7>0,N10,0) -> 0.04 | ... AP10: =IF(AP7>0,AO10,0) -> 0.04
F11: Zinszahlungen | G11: =G8*G10/12 -> 2166.6667 | H11: =IFERROR(H8*H10/12,0) -> 2166.6667 | I11: =IFERROR(I8*I10/12,0) -> 2166.6667 | J11: =IFERROR(J8*J10/12,0) -> 2166.6667 | K11: =IFERROR(K8*K10/12,0) -> 2166.6667 | L11: =IFERROR(L8*L10/12,0) -> 2166.6667 | M11: =IFERROR(M8*M10/12,0) -> 2166.6667 | N11: =IFERROR(N8*N10/12,0) -> 2166.6667 | O11: =IFERROR(O8*O10/12,0) -> 2166.6667 | ... AP11: =IFERROR(AP8*AP10/12,0) -> 1768.1518
F12: Tilgung | G12: =G9-G11 -> 0 | H12: =IF(H8>H9-H11,H9-H11,H8) -> 0 | I12: =IF(I8>I9-I11,I9-I11,I8) -> 0 | J12: =IF(J8>J9-J11,J9-J11,J8) -> 0 | K12: =IF(K8>K9-K11,K9-K11,K8) -> 0 | L12: =IF(L8>L9-L11,L9-L11,L8) -> 0 | M12: =IF(M8>M9-M11,M9-M11,M8) -> 0 | N12: =IF(N8>N9-N11,N9-N11,N8) -> 0 | O12: =IF(O8>O9-O11,O9-O11,O8) -> 0 | ... AP12: =IF(AP8>AP9-AP11,AP9-AP11,AP8) -> 5408.478
F13: Frühere und laufende Kredite eintragen
F15: Darlehen 2
F16: Verbleibende Laufzeit | K16: 0 | L16: =IF(K16-1>0,K16-1,0) -> 0 | M16: =IF(L16-1>0,L16-1,0) -> 0 | N16: =IF(M16-1>0,M16-1,0) -> 0 | O16: =IF(N16-1>0,N16-1,0) -> 0 | P16: =IF(O16-1>0,O16-1,0) -> 0 | Q16: =IF(P16-1>0,P16-1,0) -> 0 | R16: =IF(Q16-1>0,Q16-1,0) -> 0 | S16: =IF(R16-1>0,R16-1,0) -> 0 | ... AP16: =IF(AO16-1>0,AO16-1,0) -> 0
F17: Verbleibender Betrag | K17: 0 | L17: =IFERROR(K17-K21,0) -> 0 | M17: =L17-L21 -> 0 | N17: =M17-M21 -> 0 | O17: =N17-N21 -> 0 | P17: =O17-O21 -> 0 | Q17: =P17-P21 -> 0 | R17: =Q17-Q21 -> 0 | S17: =R17-R21 -> 0 | T17: =S17-S21 -> 0 | ... AP17: =AO17-AO21 -> 0
F18: Annuität | K18: =IFERROR(PMT(K19,K16,-K17,0,0),0) -> 0 | L18: =IF(L16>0,K18,0) -> 0 | M18: =IF(M16>0,L18,0) -> 0 | N18: =IF(N16>0,M18,0) -> 0 | O18: =IF(O16>0,N18,0) -> 0 | P18: =IF(P16>0,O18,0) -> 0 | Q18: =IF(Q16>0,P18,0) -> 0 | R18: =IF(R16>0,Q18,0) -> 0 | S18: =IF(S16>0,R18,0) -> 0 | ... AP18: =IF(AP16>0,AO18,0) -> 0
F19: Zinssatz | K19: 0.04 | L19: =IF(L16>0,K19,0) -> 0 | M19: =IF(M16>0,L19,0) -> 0 | N19: =IF(N16>0,M19,0) -> 0 | O19: =IF(O16>0,N19,0) -> 0 | P19: =IF(P16>0,O19,0) -> 0 | Q19: =IF(Q16>0,P19,0) -> 0 | R19: =IF(R16>0,Q19,0) -> 0 | S19: =IF(S16>0,R19,0) -> 0 | ... AP19: =IF(AP16>0,AO19,0) -> 0
F20: Zinszahlungen | K20: =K17*K19 -> 0 | L20: =L17*L19 -> 0 | M20: =M17*M19 -> 0 | N20: =N17*N19 -> 0 | O20: =O17*O19 -> 0 | P20: =P17*P19 -> 0 | Q20: =Q17*Q19 -> 0 | R20: =R17*R19 -> 0 | ... AP20: =AP17*AP19 -> 0
F21: Tilgung | K21: =K18-K20 -> 0 | L21: =IF(L17>L18-L20,L18-L20,L17) -> 0 | M21: =IF(M17>M18-M20,M18-M20,M17) -> 0 | N21: =IF(N17>N18-N20,N18-N20,N17) -> 0 | O21: =IF(O17>O18-O20,O18-O20,O17) -> 0 | P21: =IF(P17>P18-P20,P18-P20,P17) -> 0 | Q21: =IF(Q17>Q18-Q20,Q18-Q20,Q17) -> 0 | R21: =IF(R17>R18-R20,R18-R20,R17) -> 0 | S21: =IF(S17>S18-S20,S18-S20,S17) -> 0 | ... AP21: =IF(AP17>AP18-AP20,AP18-AP20,AP17) -> 0
B23: 1. GJ | C23: 2. GJ | D23: 3. GJ | F23: Gesamtes Fremdkapital | G23: =G8+G17 -> 650000 | H23: =H8+H17 -> 650000 | I23: =I8+I17 -> 650000 | J23: =J8+J17 -> 650000 | K23: =K8+K18 -> 650000 | L23: =L8+L18 -> 650000 | M23: =M8+M17 -> 650000 | N23: =N8+N17 -> 650000 | O23: =O8+O17 -> 650000 | P23: =P8+P17 -> 650000 | Q23: =Q8+Q17 -> 650000 | R23: =R8+R17 -> 650000 | S23: =S8+S17 -> 650000 | T23: =T8+T17 -> 644990.04 | ... AP23: =AP8+AP17 -> 530445.53
A24: Gesamte Zinsen | B24: =SUM(G24:R24) -> 26000 | C24: =SUM(S24:AD24) -> 24885.469 | D24: =SUM(AE24:AP24) -> 22390.698 | F24: Gesamtgezahlte Zinsen | G24: =G11+G20 -> 2166.6667 | H24: =H11+H20 -> 2166.6667 | I24: =I11+I20 -> 2166.6667 | J24: =J11+J20 -> 2166.6667 | K24: =K11+K20 -> 2166.6667 | L24: =L11+L20 -> 2166.6667 | M24: =M11+M20 -> 2166.6667 | N24: =N11+N20 -> 2166.6667 | ... AP24: =AP11+AP20 -> 1768.1518
F25: Gesamtgezahlte Tilgungen | G25: =G12+G21 -> 0 | H25: =H12+H21 -> 0 | I25: =I12+I21 -> 0 | J25: =J12+J21 -> 0 | K25: =K12+K21 -> 0 | L25: =L12+L21 -> 0 | M25: =M12+M21 -> 0 | N25: =N12+N21 -> 0 | ... AP25: =AP12+AP21 -> 5408.478
A27: Eigenkapital
F29: Eigenkapital | G29: =Cover!C16 -> 25000 | H29: =G29-G31+G32+G33 -> 25000 | I29: =H29-H31+H32+H33 -> 25000 | J29: =I29-I31+I32+I33 -> 25000 | K29: =J29-J31+J32+J33 -> 25000 | L29: =K29-K31+K32+K33 -> 25000 | M29: =L29-L31+L32+L33 -> 25000 | N29: =M29-M31+M32+M33 -> 25000 | O29: =N29-N31+N32+N33 -> 25000 | ... AP29: =AO29-AO31+AO32+AO33 -> -246762.07
F30: Dividenden | R30: 0 | AD30: 0 | AP30: 0
F31: Gezahlte Dividenden | R31: =R30*'Umsatz- und Ertragsvorschau'!N25 -> 0 | AD31: =AD30*'Umsatz- und Ertragsvorschau'!N51 -> 0 | AP31: =AP30*'Umsatz- und Ertragsvorschau'!N77 -> 0
F32: Gewinnrücklage | R32: ='Umsatz- und Ertragsvorschau'!N25-R31 -> -346122.41 | AD32: ='Umsatz- und Ertragsvorschau'!N51-AD31 -> 74360.342 | AP32: ='Umsatz- und Ertragsvorschau'!N77-AP31 -> 961265.49
F33: Kapitaleinlagen | G33: 0 | H33: 0 | I33: 0 | J33: 0 | K33: 0 | L33: 0 | M33: 0 | N33: 0 | O33: 0 | P33: 0 | Q33: 0 | R33: 0 | S33: 0 | T33: 0 | U33: 0 | V33: 0 | W33: 0 | X33: 0 | Y33: 0 | Z33: 0 | AA33: 0 | AB33: 0 | AC33: 0 | AD33: 0 | AE33: 0 | AF33: 0 | AG33: 0 | AH33: 0 | AI33: 0 | AJ33: 0 | AK33: 0 | AL33: 0 | AM33: 0 | AN33: 0 | AO33: 0 | AP33: 0
F34: Annahme: Dividendenauszahlung jährlich
B37: -> Zum Final Check
A40: Schritte | B40: 1 | C40: 2 | D40: 3 | E40: 4 | F40: 5 | G40: 6 | H40: 7 | I40: 8 | J40: 9
A41: Arbeitsblatt | B41: Annahmen | C41: Umsatz | COGS | D41: HR | E41: OPEX | F41: CAPEX | G41: Rentabilität | H41: Liquidität | I41: Finanzierung | J41: Final Check
A42: Prozessfortschritt

Sheet Output->
B2: Schritte | C2: 1 | D2: 2 | E2: 3 | F2: 4 | G2: 5 | H2: 6 | I2: 7 | J2: 8 | K2: 9
B3: Arbeitsblatt | C3: Annahmen | D3: Umsatz | COGS | E3: HR | F3: OPEX | G3: CAPEX | H3: Rentabilität | I3: Liquidität | J3: Finanzierung | K3: Final Check
B4: Prozessfortschritt
B7: Beispiel Case
B9: Status Quo | C9: Wir haben nun die Logik unseres Modells erstellt. Im Beispiel Case ist ein Großteil der Zahlen abhängig vom Verkauf im Beratungsgeschäft.
C10: Diese Vorgehensweise hat den Vorteil, dass wir nun mit einer einzigen Variable "Werbekosten" herumspielen können.
C11: Für die Ellmann Consulting GmbH ist nun wichtig, dass das Geschäft rentabel ist und sie muss sich über die Finanzierung Gedanken machen.
C13: Als Geschäftsführer/in stellt man sich nun unter anderem die Fragen:
D14: - Wie viel können/wollen wir aus eigener Kraft vorfinanzieren?
D15: - Ist unsere Firma kreditwürdig? Falls ja, wie viel Kredit können/wollen wir aufnehmen?
D16: - Ist unser Wachstum attrativ für einen Investor? Falls ja, wie viel Geld wollen wir aufnehmen?
B22: -> Zur Rentabilität

Sheet Rentabilitätsplanung
B2: Rentabilitätsplanung | G2: Druckversion
B4: Firma: | C4: =Cover!$C$11 -> Ellmann Consulting GmbH
C6: =YEAR(Cover!$C$15) -> 2025 | D6: =YEAR(Cover!$C$15)+1 -> 2026 | E6: =YEAR(Cover!$C$15)+2 -> 2027
B7: Umsatzerlöse | C7: ='Umsatz | COGS'!B51 -> 528421.9 | D7: ='Umsatz | COGS'!C51 -> 1673511.1 | E7: ='Umsatz | COGS'!D51 -> 3281806.9
B8: Bestandsveränderungen FE/UE | C8: 0 | D8: 0 | E8: 0
B9: Aktivierte Eigenleistungen | C9: 0 | D9: 0 | E9: 0
B10: Gesamtleistung | C10: =SUM(C7:C9) -> 528421.9 | D10: =SUM(D7:D9) -> 1673511.1 | E10: =SUM(E7:E9) -> 3281806.9
B11: Wareneinsatz | C11: ='Umsatz | COGS'!B70 -> 58830 | D11: ='Umsatz | COGS'!C70 -> 194670 | E11: ='Umsatz | COGS'!D70 -> 404730
B12: Fremdleistungen | C12: ='Umsatz | COGS'!B71 -> 66000 | D12: ='Umsatz | COGS'!C71 -> 208800 | E12: ='Umsatz | COGS'!D71 -> 378000
B13: Rohertrag | C13: =C10-SUM(C11:C12) -> 403591.9 | D13: =D10-SUM(D11:D12) -> 1270041.1 | E13: =E10-SUM(E11:E12) -> 2499076.9
B14: Sonstige betriebliche Erlöse | C14: 0 | D14: 0 | E14: 0
B15: Betrieblicher Rohertrag | C15: =C13+C14 -> 403591.9 | D15: =D13+D14 -> 1270041.1 | E15: =E13+E14 -> 2499076.9
B16: Personalkosten inkl. Nebenkosten | C16: =HR!B46 -> 413541.67 | D16: =HR!C46 -> 697916.67 | E16: =HR!D46 -> 925520.83
B17: Miete und Mietnebenkosten | C17: =OPEX!B23 -> 18000 | D17: =OPEX!C23 -> 26950 | E17: =OPEX!D23 -> 37400
B18: Operatives Equipment | C18: =OPEX!B33 -> 30600 | D18: =OPEX!C33 -> 42400 | E18: =OPEX!D33 -> 44800
B19: Versicherungen | C19: =OPEX!B41 -> 1700 | D19: =OPEX!C41 -> 3050 | E19: =OPEX!D41 -> 4225
B20: Rechts- und Beratungskosten | C20: =OPEX!B51 -> 7388.4219 | D20: =OPEX!C51 -> 9343.5111 | E20: =OPEX!D51 -> 11656.807
B21: Marketingkosten | C21: =OPEX!B60 -> 180000 | D21: =OPEX!C60 -> 300000 | E21: =OPEX!D60 -> 378000
B22: Reisekosten | C22: =OPEX!B67 -> 7200 | D22: =OPEX!C67 -> 14400 | E22: =OPEX!D67 -> 21000
B23: Sonstige Kosten | C23: =OPEX!B74 -> 5284.219 | D23: =OPEX!C74 -> 16735.111 | E23: =OPEX!D74 -> 32818.069
B24: Betriebsergebnis vor Zinsen/Abschreibung/Steuern | C24: =C15-SUM(C16:C23) -> -260122.41 | D24: =D15-SUM(D16:D23) -> 159245.81 | E24: =E15-SUM(E16:E23) -> 1043656.2
B25: Abschreibung | C25: =CAPEX!B22 -> 60000 | D25: =CAPEX!C22 -> 60000 | E25: =CAPEX!D22 -> 60000
B26: Zinsaufwand | C26: =Finanzierung!B24 -> 26000 | D26: =Finanzierung!C24 -> 24885.469 | E26: =Finanzierung!D24 -> 22390.698
B27: Betriebsergebnis vor Steuern | C27: =C24-SUM(C25:C26) -> -346122.41 | D27: =D24-SUM(D25:D26) -> 74360.342 | E27: =E24-SUM(E25:E26) -> 961265.49
B28: Steuern auf Einkommen / Ertrag | C28: =Liquiditätsplan!N28 -> 0 | D28: =Liquiditätsplan!N64 -> 0 | E28: =Liquiditätsplan!N100 -> 282131.42
B29: Jahresüberschuss/-verlust | C29: =C27-C28 -> -346122.41 | D29: =D27-D28 -> 74360.342 | E29: =E27-E28 -> 679134.07
B31: in % der Gesamtleistung
B32: Wareneinsatz | C32: =C11/C$10 -> 0.11133149 | D32: =D11/D$10 -> 0.1163243 | E32: =E11/E$10 -> 0.12332535
B33: Fremdleistungen | C33: =C12/C$10 -> 0.1249002 | D33: =D12/D$10 -> 0.12476762 | E33: =E12/E$10 -> 0.11518045
B34: Personalkosten inkl. Nebenkosten | C34: =C16/C$10 -> 0.78259752 | D34: =D16/D$10 -> 0.41703737 | E34: =E16/E$10 -> 0.28201563
B35: Miete und Mietnebenkosten | C35: =C17/C$10 -> 0.03406369 | D35: =D17/D$10 -> 0.016103867 | E35: =E17/E$10 -> 0.011396161
B36: Operatives Equipment | C36: =C18/C$10 -> 0.057908274 | D36: =D18/D$10 -> 0.025335954 | E36: =E18/E$10 -> 0.013651016
B37: Versicherungen | C37: =C19/C$10 -> 0.0032171263 | D37: =D19/D$10 -> 0.0018225155 | E37: =E19/E$10 -> 0.0012874005
B38: Rechts- und Beratungskosten | C38: =C20/C$10 -> 0.013982051 | D38: =D20/D$10 -> 0.0055831784 | E38: =E20/E$10 -> 0.0035519478
B39: Marketingkosten | C39: =C21/C$10 -> 0.3406369 | D39: =D21/D$10 -> 0.17926382 | E39: =E21/E$10 -> 0.11518045
B40: Reisekosten | C40: =C22/C$10 -> 0.013625476 | D40: =D22/D$10 -> 0.0086046636 | E40: =E22/E$10 -> 0.006398914
B41: Sonstige Kosten | C41: =C23/C$10 -> 0.01 | D41: =D23/D$10 -> 0.01 | E41: =E23/E$10 -> 0.01
B42: Betriebsergebnis vor Steuern | C42: =C27/C$10 -> -0.65501147 | D42: =D27/D$10 -> 0.044433731 | E42: =E27/E$10 -> 0.29290739
B43: Steuern | C43: =C28/C$10 -> 0 | D43: =D28/D$10 -> 0 | E43: =E28/E$10 -> 0.085968319
B44: Jahresüberschuss/-verlust | C44: =C29/C$10 -> -0.65501147 | D44: =D29/D$10 -> 0.044433731 | E44: =E29/E$10 -> 0.20693907
...

Sheet Umsatz- und Ertragsvorschau
A1: Umsatz- und Ertragsvorschau - 1. Jahr | P1: Druckversion
A3: Firma: | B3: =Cover!$C$11 -> Ellmann Consulting GmbH
A4: 1. Geschäftsjahr | B4: 1. Monat | C4: 2. Monat | D4: 3. Monat | E4: 4. Monat | F4: 5. Monat | G4: 6. Monat | H4: 7. Monat | I4: 8. Monat | J4: 9. Monat | K4: 10. Monat | L4: 11. Monat | M4: 12. Monat | N4: Summe
B5: =DATE(YEAR(Cover!$C$15),MONTH(Cover!$C$15),DAY(Cover!$C$15)) -> 45658 | C5: =DATE(YEAR(B5),MONTH(B5)+1,DAY(B5)) -> 45689 | D5: =DATE(YEAR(C5),MONTH(C5)+1,DAY(C5)) -> 45717 | E5: =DATE(YEAR(D5),MONTH(D5)+1,DAY(D5)) -> 45748 | F5: =DATE(YEAR(E5),MONTH(E5)+1,DAY(E5)) -> 45778 | G5: =DATE(YEAR(F5),MONTH(F5)+1,DAY(F5)) -> 45809 | H5: =DATE(YEAR(G5),MONTH(G5)+1,DAY(G5)) -> 45839 | I5: =DATE(YEAR(H5),MONTH(H5)+1,DAY(H5)) -> 45870 | J5: =DATE(YEAR(I5),MONTH(I5)+1,DAY(I5)) -> 45901 | ... M5: =DATE(YEAR(L5),MONTH(L5)+1,DAY(L5)) -> 45992
A7: Nettoumsatz (ohne MwSt.) | B7: ='Umsatz | COGS'!G51 -> 8750 | C7: ='Umsatz | COGS'!H51 -> 20000 | D7: ='Umsatz | COGS'!I51 -> 28750 | E7: ='Umsatz | COGS'!J51 -> 40559.65 | F7: ='Umsatz | COGS'!K51 -> 42078.7 | G7: ='Umsatz | COGS'!L51 -> 43597.75 | H7: ='Umsatz | COGS'!M51 -> 45116.8 | I7: ='Umsatz | COGS'!N51 -> 52885.85 | ... M7: ='Umsatz | COGS'!R51 -> 66011.55 | N7: =SUM(B7:M7) -> 528421.9
A8: - Wareneinsatz | B8: ='Umsatz | COGS'!G70 -> 1800 | C8: ='Umsatz | COGS'!H70 -> 3600 | D8: ='Umsatz | COGS'!I70 -> 3600 | E8: ='Umsatz | COGS'!J70 -> 3705 | F8: ='Umsatz | COGS'!K70 -> 3990 | G8: ='Umsatz | COGS'!L70 -> 4275 | H8: ='Umsatz | COGS'!M70 -> 4560 | I8: ='Umsatz | COGS'!N70 -> 6045 | ... M8: ='Umsatz | COGS'!R70 -> 7335 | N8: =SUM(B8:M8) -> 58830
A9: - Fremdleistungen | B9: ='Umsatz | COGS'!G71 -> 0 | C9: ='Umsatz | COGS'!H71 -> 0 | D9: ='Umsatz | COGS'!I71 -> 0 | E9: ='Umsatz | COGS'!J71 -> 3600 | F9: ='Umsatz | COGS'!K71 -> 7200 | G9: ='Umsatz | COGS'!L71 -> 7200 | H9: ='Umsatz | COGS'!M71 -> 7200 | I9: ='Umsatz | COGS'!N71 -> 7200 | ... M9: ='Umsatz | COGS'!R71 -> 9600 | N9: =SUM(B9:M9) -> 66000
A10: = Rohertrag | B10: =B7-B8-B9 -> 6950 | C10: =C7-C8-C9 -> 16400 | D10: =D7-D8-D9 -> 25150 | E10: =E7-E8-E9 -> 33254.65 | F10: =F7-F8-F9 -> 30888.7 | G10: =G7-G8-G9 -> 32122.75 | H10: =H7-H8-H9 -> 33356.8 | I10: =I7-I8-I9 -> 39640.85 | ... N10: =N7-N8-N9 -> 403591.9
A12: Betriebliche Kosten
A13: Personalkosten inkl. Nebenkosten | B13: =HR!G46 -> 25520.833 | C13: =HR!H46 -> 32291.667 | D13: =HR!I46 -> 32291.667 | E13: =HR!J46 -> 35937.5 | F13: =HR!K46 -> 35937.5 | G13: =HR!L46 -> 35937.5 | H13: =HR!M46 -> 35937.5 | I13: =HR!N46 -> 35937.5 | ... M13: =HR!R46 -> 35937.5 | N13: =SUM(B13:M13) -> 413541.67
A14: + Miete und Mietnebenkosten | B14: =OPEX!G23 -> 1500 | C14: =OPEX!H23 -> 1500 | D14: =OPEX!I23 -> 1500 | E14: =OPEX!J23 -> 1500 | F14: =OPEX!K23 -> 1500 | G14: =OPEX!L23 -> 1500 | H14: =OPEX!M23 -> 1500 | I14: =OPEX!N23 -> 1500 | ... M14: =OPEX!R23 -> 1500 | N14: =SUM(B14:M14) -> 18000
A15: + Operatives Equipment | B15: =OPEX!G33 -> 12800 | C15: =OPEX!H33 -> 3500 | D15: =OPEX!I33 -> 1000 | E15: =OPEX!J33 -> 3700 | F15: =OPEX!K33 -> 1200 | G15: =OPEX!L33 -> 1200 | H15: =OPEX!M33 -> 1200 | I15: =OPEX!N33 -> 1200 | ... M15: =OPEX!R33 -> 1200 | N15: =SUM(B15:M15) -> 30600
A16: + Versicherungen | B16: =OPEX!G41 -> 100 | C16: =OPEX!H41 -> 125 | D16: =OPEX!I41 -> 125 | E16: =OPEX!J41 -> 150 | F16: =OPEX!K41 -> 150 | G16: =OPEX!L41 -> 150 | H16: =OPEX!M41 -> 150 | I16: =OPEX!N41 -> 150 | ... M16: =OPEX!R41 -> 150 | N16: =SUM(B16:M16) -> 1700
A17: + Rechts- und Beratungskosten | B17: =OPEX!G51 -> 555.41667 | C17: =OPEX!H51 -> 581.66667 | D17: =OPEX!I51 -> 590.41667 | E17: =OPEX!J51 -> 617.22632 | F17: =OPEX!K51 -> 618.74537 | G17: =OPEX!L51 -> 620.26442 | H17: =OPEX!M51 -> 621.78347 | I17: =OPEX!N51 -> 629.55252 | ... M17: =OPEX!R51 -> 642.67822 | N17: =SUM(B17:M17) -> 7388.4219
A18: + Marketingkosten | B18: =OPEX!G60 -> 12500 | C18: =OPEX!H60 -> 12500 | D18: =OPEX!I60 -> 12500 | E18: =OPEX!J60 -> 12500 | F18: =OPEX!K60 -> 12500 | G18: =OPEX!L60 -> 12500 | H18: =OPEX!M60 -> 17500 | I18: =OPEX!N60 -> 17500 | ... M18: =OPEX!R60 -> 17500 | N18: =SUM(B18:M18) -> 180000
A19: + Reisekosten | B19: =OPEX!G67 -> 600 | C19: =OPEX!H67 -> 600 | D19: =OPEX!I67 -> 600 | E19: =OPEX!J67 -> 600 | F19: =OPEX!K67 -> 600 | G19: =OPEX!L67 -> 600 | H19: =OPEX!M67 -> 600 | I19: =OPEX!N67 -> 600 | ... M19: =OPEX!R67 -> 600 | N19: =SUM(B19:M19) -> 7200
A20: + Sonstige Kosten | B20: =OPEX!G74 -> 87.5 | C20: =OPEX!H74 -> 200 | D20: =OPEX!I74 -> 287.5 | E20: =OPEX!J74 -> 405.5965 | F20: =OPEX!K74 -> 420.787 | G20: =OPEX!L74 -> 435.9775 | H20: =OPEX!M74 -> 451.168 | I20: =OPEX!N74 -> 528.8585 | ... M20: =OPEX!R74 -> 660.1155 | N20: =SUM(B20:M20) -> 5284.219
A21: + Zinsen | B21: =Finanzierung!G24 -> 2166.6667 | C21: =Finanzierung!H24 -> 2166.6667 | D21: =Finanzierung!I24 -> 2166.6667 | E21: =Finanzierung!J24 -> 2166.6667 | F21: =Finanzierung!K24 -> 2166.6667 | G21: =Finanzierung!L24 -> 2166.6667 | H21: =Finanzierung!M24 -> 2166.6667 | I21: =Finanzierung!N24 -> 2166.6667 | ... M21: =Finanzierung!R24 -> 2166.6667 | N21: =SUM(B21:M21) -> 26000
A22: + Abschreibungen | B22: =CAPEX!G29 -> 5000 | C22: =CAPEX!H29 -> 5000 | D22: =CAPEX!I29 -> 5000 | E22: =CAPEX!J29 -> 5000 | F22: =CAPEX!K29 -> 5000 | G22: =CAPEX!L29 -> 5000 | H22: =CAPEX!M29 -> 5000 | I22: =CAPEX!N29 -> 5000 | ... M22: =CAPEX!R29 -> 5000 | N22: =SUM(B22:M22) -> 60000
A23: = Summe Kosten | B23: =SUM(B13:B20) -> 53663.75 | C23: =SUM(C13:C20) -> 51298.333 | D23: =SUM(D13:D20) -> 48894.583 | E23: =SUM(E13:E20) -> 55410.323 | F23: =SUM(F13:F20) -> 52927.032 | G23: =SUM(G13:G20) -> 52943.742 | H23: =SUM(H13:H20) -> 57960.451 | I23: =SUM(I13:I20) -> 58045.911 | ... M23: =SUM(M13:M20) -> 58190.294 | N23: =SUM(N13:N22) -> 749714.31
A25: = Betriebsergebnis vor Steuern | B25: =B10-B23 -> -46713.75 | C25: =C10-C23 -> -34898.333 | D25: =D10-D23 -> -23744.583 | E25: =E10-E23 -> -22155.673 | F25: =F10-F23 -> -22038.332 | G25: =G10-G23 -> -20820.992 | H25: =H10-H23 -> -24603.651 | I25: =I10-I23 -> -18405.061 | ... N25: =N10-N23 -> -346122.41
A28: Umsatz- und Ertragsvorschau - 2. Jahr
A29: Firma: | B29: =Cover!$C$11 -> Ellmann Consulting GmbH
A30: 2. Geschäftsjahr | B30: 1. Monat | C30: 2. Monat | D30: 3. Monat | E30: 4. Monat | F30: 5. Monat | G30: 6. Monat | H30: 7. Monat | I30: 8. Monat | J30: 9. Monat | K30: 10. Monat | L30: 11. Monat | M30: 12. Monat | N30: Summe
B31: =DATE(YEAR(M5)+1,MONTH(M5)+1,DAY(M5)) -> 46388 | C31: =DATE(YEAR(B31),MONTH(B31)+1,DAY(B31)) -> 46419 | D31: =DATE(YEAR(C31),MONTH(C31)+1,DAY(C31)) -> 46447 | E31: =DATE(YEAR(D31),MONTH(D31)+1,DAY(D31)) -> 46478 | F31: =DATE(YEAR(E31),MONTH(E31)+1,DAY(E31)) -> 46508 | G31: =DATE(YEAR(F31),MONTH(F31)+1,DAY(F31)) -> 46539 | H31: =DATE(YEAR(G31),MONTH(G31)+1,DAY(G31)) -> 46569 | I31: =DATE(YEAR(H31),MONTH(H31)+1,DAY(H31)) -> 46600 | J31: =DATE(YEAR(I31),MONTH(I31)+1,DAY(I31)) -> 46631 | ... M31: =DATE(YEAR(L31),MONTH(L31)+1,DAY(L31)) -> 46722
A33: Nettoumsatz (ohne MwSt.) | B33: ='Umsatz | COGS'!S51 -> 81680.35 | C33: ='Umsatz | COGS'!T51 -> 96099.15 | D33: ='Umsatz | COGS'!U51 -> 111767.95 | E33: ='Umsatz | COGS'!V51 -> 126506.55 | F33: ='Umsatz | COGS'!W51 -> 129704.55 | G33: ='Umsatz | COGS'!X51 -> 132902.55 | H33: ='Umsatz | COGS'!Y51 -> 143600.55 | I33: ='Umsatz | COGS'!Z51 -> 153048.55 | ... M33: ='Umsatz | COGS'!AD51 -> 182308.85 | N33: =SUM(B33:M33) -> 1673511.1
A34: - Wareneinsatz | B34: ='Umsatz | COGS'!S70 -> 10095 | C34: ='Umsatz | COGS'!T70 -> 12855 | D34: ='Umsatz | COGS'!U70 -> 13215 | E34: ='Umsatz | COGS'!V70 -> 13635 | F34: ='Umsatz | COGS'!W70 -> 14235 | G34: ='Umsatz | COGS'!X70 -> 14835 | H34: ='Umsatz | COGS'!Y70 -> 16635 | I34: ='Umsatz | COGS'!Z70 -> 18435 | ... M34: ='Umsatz | COGS'!AD70 -> 21345 | N34: =SUM(B34:M34) -> 194670
A35: - Fremdleistungen | B35: ='Umsatz | COGS'!S71 -> 9600 | C35: ='Umsatz | COGS'!T71 -> 9600 | D35: ='Umsatz | COGS'!U71 -> 9600 | E35: ='Umsatz | COGS'!V71 -> 14400 | F35: ='Umsatz | COGS'!W71 -> 19200 | G35: ='Umsatz | COGS'!X71 -> 19200 | H35: ='Umsatz | COGS'!Y71 -> 19200 | I35: ='Umsatz | COGS'!Z71 -> 19200 | ... M35: ='Umsatz | COGS'!AD71 -> 24000 | N35: =SUM(B35:M35) -> 208800
A36: = Rohertrag | B36: =B33-B34-B35 -> 61985.35 | C36: =C33-C34-C35 -> 73644.15 | D36: =D33-D34-D35 -> 88952.95 | E36: =E33-E34-E35 -> 98471.55 | F36: =F33-F34-F35 -> 96269.55 | G36: =G33-G34-G35 -> 98867.55 | H36: =H33-H34-H35 -> 107765.55 | I36: =I33-I34-I35 -> 115413.55 | ... N36: =N33-N34-N35 -> 1270041.1
A38: Betriebliche Kosten
A39: Personalkosten inkl. Nebenkosten | B39: =HR!S46 -> 52604.167 | C39: =HR!T46 -> 52604.167 | D39: =HR!U46 -> 52604.167 | E39: =HR!V46 -> 52604.167 | F39: =HR!W46 -> 56250 | G39: =HR!X46 -> 56250 | H39: =HR!Y46 -> 56250 | I39: =HR!Z46 -> 63020.833 | ... M39: =HR!AD46 -> 66666.667 | N39: =SUM(B39:M39) -> 697916.67
A40: + Miete und Mietnebenkosten | B40: =OPEX!S23 -> 2200 | C40: =OPEX!T23 -> 2200 | D40: =OPEX!U23 -> 2200 | E40: =OPEX!V23 -> 2200 | F40: =OPEX!W23 -> 2200 | G40: =OPEX!X23 -> 2200 | H40: =OPEX!Y23 -> 2200 | I40: =OPEX!Z23 -> 2200 | ... M40: =OPEX!AD23 -> 2750 | N40: =SUM(B40:M40) -> 26950
A41: + Operatives Equipment | B41: =OPEX!S33 -> 11300 | C41: =OPEX!T33 -> 1800 | D41: =OPEX!U33 -> 1800 | E41: =OPEX!V33 -> 1800 | F41: =OPEX!W33 -> 4500 | G41: =OPEX!X33 -> 2000 | H41: =OPEX!Y33 -> 2000 | I41: =OPEX!Z33 -> 4700 | ... M41: =OPEX!AD33 -> 5900 | N41: =SUM(B41:M41) -> 42400
A42: + Versicherungen | B42: =OPEX!S41 -> 225 | C42: =OPEX!T41 -> 225 | D42: =OPEX!U41 -> 225 | E42: =OPEX!V41 -> 225 | F42: =OPEX!W41 -> 250 | G42: =OPEX!X41 -> 250 | H42: =OPEX!Y41 -> 250 | I42: =OPEX!Z41 -> 275 | ... M42: =OPEX!AD41 -> 300 | N42: =SUM(B42:M42) -> 3050
A43: + Rechts- und Beratungskosten | B43: =OPEX!S51 -> 703.34702 | C43: =OPEX!T51 -> 717.76582 | D43: =OPEX!U51 -> 733.43462 | E43: =OPEX!V51 -> 748.17322 | F43: =OPEX!W51 -> 766.37122 | G43: =OPEX!X51 -> 769.56922 | H43: =OPEX!Y51 -> 780.26722 | I43: =OPEX!Z51 -> 804.71522 | ... M43: =OPEX!AD51 -> 848.97552 | N43: =SUM(B43:M43) -> 9343.5111
A44: + Marketingkosten | B44: =OPEX!S60 -> 22500 | C44: =OPEX!T60 -> 22500 | D44: =OPEX!U60 -> 22500 | E44: =OPEX!V60 -> 22500 | F44: =OPEX!W60 -> 22500 | G44: =OPEX!X60 -> 22500 | H44: =OPEX!Y60 -> 27500 | I44: =OPEX!Z60 -> 27500 | ... M44: =OPEX!AD60 -> 27500 | N44: =SUM(B44:M44) -> 300000
A45: + Reisekosten | B45: =OPEX!S67 -> 1200 | C45: =OPEX!T67 -> 1200 | D45: =OPEX!U67 -> 1200 | E45: =OPEX!V67 -> 1200 | F45: =OPEX!W67 -> 1200 | G45: =OPEX!X67 -> 1200 | H45: =OPEX!Y67 -> 1200 | I45: =OPEX!Z67 -> 1200 | ... M45: =OPEX!AD67 -> 1200 | N45: =SUM(B45:M45) -> 14400
A46: + Sonstige Kosten | B46: =OPEX!S74 -> 816.8035 | C46: =OPEX!T74 -> 960.9915 | D46: =OPEX!U74 -> 1117.6795 | E46: =OPEX!V74 -> 1265.0655 | F46: =OPEX!W74 -> 1297.0455 | G46: =OPEX!X74 -> 1329.0255 | H46: =OPEX!Y74 -> 1436.0055 | I46: =OPEX!Z74 -> 1530.4855 | ... M46: =OPEX!AD74 -> 1823.0885 | N46: =SUM(B46:M46) -> 16735.111
A47: + Zinsen | B47: =Finanzierung!S24 -> 2166.6667 | C47: =Finanzierung!T24 -> 2149.9668 | D47: =Finanzierung!U24 -> 2133.2112 | E47: =Finanzierung!V24 -> 2116.3999 | F47: =Finanzierung!W24 -> 2099.5324 | G47: =Finanzierung!X24 -> 2082.6088 | H47: =Finanzierung!Y24 -> 2065.6287 | I47: =Finanzierung!Z24 -> 2048.592 | ... M47: =Finanzierung!AD24 -> 1979.8756 | N47: =SUM(B47:M47) -> 24885.469
A48: + Abschreibungen | B48: =CAPEX!S29 -> 5000 | C48: =CAPEX!T29 -> 5000 | D48: =CAPEX!U29 -> 5000 | E48: =CAPEX!V29 -> 5000 | F48: =CAPEX!W29 -> 5000 | G48: =CAPEX!X29 -> 5000 | H48: =CAPEX!Y29 -> 5000 | I48: =CAPEX!Z29 -> 5000 | ... M48: =CAPEX!AD29 -> 5000 | N48: =SUM(B48:M48) -> 60000
...

Sheet Liquiditätsplan
A1: Liquiditätsplan - 1. Jahr | P1: Druckversion
A3: Firma: | B3: =Cover!$C$11 -> Ellmann Consulting GmbH | F3: Zahlungsziel: | G3: 1 | H3: (1=gleicher Monat, 2=nächster Monat)
A4: 1. Geschäftsjahr | B4: 1. Monat | C4: 2. Monat | D4: 3. Monat | E4: 4. Monat | F4: 5. Monat | G4: 6. Monat | H4: 7. Monat | I4: 8. Monat | J4: 9. Monat | K4: 10. Monat | L4: 11. Monat | M4: 12. Monat | N4: Summe
