Workbook

Sheet Resumen
B2: CST 2026–2027 Flowcharts por programa
B4: Escenario de pauta con honorarios incluidos (comisión 15%). Presupuestos y entregas estimadas por programa.
B6: Inversión total | C6: =SUM(D10:D18) -> 3763000 | E6: Balance | F6: =SUM(E10:E18) -> 0
B9: PO | C9: Programa | D9: Inversión del plan | E9: Balance vs. AGA | F9: TV abierta | G9: Radio | H9: Exterior | I9: Digital y gaming | J9: Creadores | K9: SOI %
B10: 27-12-01 | C10: Alcohol adultos | D10: ='01 Alcohol adultos'!L12 -> 1625000 | E10: =ROUND('AGA y criterios'!D9-D10,2) -> 0 | F10: ='01 Alcohol adultos'!D12 -> 474381.94 | G10: ='01 Alcohol adultos'!E12 -> 150896.75 | H10: ='01 Alcohol adultos'!F12 -> 0 | I10: =SUM('01 Alcohol adultos'!G12:J12) -> 919448.51 | J10: ='01 Alcohol adultos'!K12 -> 80272.8 | K10: =D10/$C$6 -> 0.4318363
B11: 27-12-02 | C11: Alcohol jóvenes | D11: ='02 Alcohol jóvenes'!L12 -> 195000 | E11: =ROUND('AGA y criterios'!D10-D11,2) -> 0 | F11: ='02 Alcohol jóvenes'!D12 -> 56925.82 | G11: ='02 Alcohol jóvenes'!E12 -> 18107.62 | H11: ='02 Alcohol jóvenes'!F12 -> 0 | I11: =SUM('02 Alcohol jóvenes'!G12:J12) -> 110333.82 | J11: ='02 Alcohol jóvenes'!K12 -> 9632.74 | K11: =D11/$C$6 -> 0.051820356
B12: 27-12-03 | C12: Velocidad y agresividad | D12: ='03 Velocidad y agresividad'!L13 -> 330000 | E12: =ROUND('AGA y criterios'!D11-D12,2) -> 0 | F12: ='03 Velocidad y agresividad'!D13 -> 98120.03 | G12: ='03 Velocidad y agresividad'!E13 -> 47144.07 | H12: ='03 Velocidad y agresividad'!F13 -> 43708.5 | I12: =SUM('03 Velocidad y agresividad'!G13:J13) -> 141027.4 | J12: ='03 Velocidad y agresividad'!K13 -> 0 | K12: =D12/$C$6 -> 0.087695987
B13: 27-12-07 | C13: Protección al ocupante | D13: ='04 Protección al ocupante'!L14 -> 625000 | E13: =ROUND('AGA y criterios'!D12-D13,2) -> 0 | F13: ='04 Protección al ocupante'!D14 -> 215084.05 | G13: ='04 Protección al ocupante'!E14 -> 53572.81 | H13: ='04 Protección al ocupante'!F14 -> 0 | I13: =SUM('04 Protección al ocupante'!G14:J14) -> 319294.18 | J13: ='04 Protección al ocupante'!K14 -> 37048.96 | K13: =D13/$C$6 -> 0.16609088
B14: 27-12-10 | C14: No motorizados | D14: ='05 No motorizados'!L15 -> 400000 | E14: =ROUND('AGA y criterios'!D13-D14,2) -> 0 | F14: ='05 No motorizados'!D15 -> 116770.92 | G14: ='05 No motorizados'!E15 -> 55715.7 | H14: ='05 No motorizados'!F15 -> 52980 | I14: =SUM('05 No motorizados'!G15:J15) -> 159713.8 | J14: ='05 No motorizados'!K15 -> 14819.58 | K14: =D14/$C$6 -> 0.10629817
B15: 27-12-13 | C15: Motocicletas | D15: ='06 Motocicletas'!L13 -> 198000 | E15: =ROUND('AGA y criterios'!D14-D15,2) -> 0 | F15: ='06 Motocicletas'!D13 -> 36699.44 | G15: ='06 Motocicletas'!E13 -> 0 | H15: ='06 Motocicletas'!F13 -> 0 | I15: =SUM('06 Motocicletas'!G13:J13) -> 131608.46 | J15: ='06 Motocicletas'!K13 -> 29692.1 | K15: =D15/$C$6 -> 0.052617592
B16: 27-12-14 | C16: Distracción | D16: ='07 Distracción'!L12 -> 125000 | E16: =ROUND('AGA y criterios'!D15-D16,2) -> 0 | F16: ='07 Distracción'!D12 -> 17376.63 | G16: ='07 Distracción'!E12 -> 0 | H16: ='07 Distracción'!F12 -> 0 | I16: =SUM('07 Distracción'!G12:J12) -> 95494.24 | J16: ='07 Distracción'!K12 -> 12129.13 | K16: =D16/$C$6 -> 0.033218177
B17: 27-12-15 | C17: PESET | D17: ='08 PESET'!L12 -> 140000 | E17: =ROUND('AGA y criterios'!D16-D17,2) -> 0 | F17: ='08 PESET'!D12 -> 39356.14 | G17: ='08 PESET'!E12 -> 0 | H17: ='08 PESET'!F12 -> 0 | I17: =SUM('08 PESET'!G12:J12) -> 79896.44 | J17: ='08 PESET'!K12 -> 20747.42 | K17: =D17/$C$6 -> 0.037204358
B18: 27-12-16 | C18: Drogas y conducción | D18: ='09 Drogas y conducción'!L12 -> 125000 | E18: =ROUND('AGA y criterios'!D17-D18,2) -> 0 | F18: ='09 Drogas y conducción'!D12 -> 27030.3 | G18: ='09 Drogas y conducción'!E12 -> 8928.8 | H18: ='09 Drogas y conducción'!F12 -> 0 | I18: =SUM('09 Drogas y conducción'!G12:J12) -> 89040.9 | J18: ='09 Drogas y conducción'!K12 -> 0 | K18: =D18/$C$6 -> 0.033218177
B19: TOTAL PAUTA | D19: =SUM(D10:D18) -> 3763000 | E19: =SUM(E10:E18) -> 0 | F19: =SUM(F10:F18) -> 1081745.3 | G19: =SUM(G10:G18) -> 334365.75 | H19: =SUM(H10:H18) -> 96688.5 | I19: =SUM(I10:I18) -> 2045857.7 | J19: =SUM(J10:J18) -> 204342.73 | K19: =SUM(K10:K18) -> 1
B21: Los importes ya incluyen honorarios del 15% sobre el costo neto de pauta. No se añaden nuevamente a cada campaña.
B22: Auspicios: $1,075,000 pendientes de con con el RFP. No están sumados al escenario de $3,763,000.
B23: No se asignan los $117,200 sin desglose del PO de no motorizados. Producción y reproducción están fuera de estos flowcharts de pauta.
B24: Jóvenes, golpe de calor y PESET incluyen calendarios propuestos. Los demás planes conservan las ventanas y el mix de origen, escalados por partida.
B25: Entregas estimadas con tarifas de referencia.
B28: Medio | C28: Inversión | D28: SOI total
B29: TV abierta | C29: =SUM('01 Alcohol adultos'!D12,'02 Alcohol jóvenes'!D12,'03 Velocidad y agresividad'!D13,'04 Protección al ocupante'!D14,'05 No motorizados'!D15,'06 Motocicletas'!D13,'07 Distracción'!D12,'08 PESET'!D12,'09 Drogas y conducción'!D12) -> 1081745.3 | D29: =C29/$C$6 -> 0.28746885
B30: Radio regional | C30: =SUM('01 Alcohol adultos'!E12,'02 Alcohol jóvenes'!E12,'03 Velocidad y agresividad'!E13,'04 Protección al ocupante'!E14,'05 No motorizados'!E15,'06 Motocicletas'!E13,'07 Distracción'!E12,'08 PESET'!E12,'09 Drogas y conducción'!E12) -> 334365.75 | D30: =C30/$C$6 -> 0.088856165
B31: Exterior / OOH | C31: =SUM('01 Alcohol adultos'!F12,'02 Alcohol jóvenes'!F12,'03 Velocidad y agresividad'!F13,'04 Protección al ocupante'!F14,'05 No motorizados'!F15,'06 Motocicletas'!F13,'07 Distracción'!F12,'08 PESET'!F12,'09 Drogas y conducción'!F12) -> 96688.5 | D31: =C31/$C$6 -> 0.025694526
B32: Meta | C32: =SUM('01 Alcohol adultos'!G12,'02 Alcohol jóvenes'!G12,'03 Velocidad y agresividad'!G13,'04 Protección al ocupante'!G14,'05 No motorizados'!G15,'06 Motocicletas'!G13,'07 Distracción'!G12,'08 PESET'!G12,'09 Drogas y conducción'!G12) -> 1077307.6 | D32: =C32/$C$6 -> 0.28628957
B33: YouTube | C33: =SUM('01 Alcohol adultos'!H12,'02 Alcohol jóvenes'!H12,'03 Velocidad y agresividad'!H13,'04 Protección al ocupante'!H14,'05 No motorizados'!H15,'06 Motocicletas'!H13,'07 Distracción'!H12,'08 PESET'!H12,'09 Drogas y conducción'!H12) -> 682150.03 | D33: =C33/$C$6 -> 0.18127824
B34: Programática | C34: =SUM('01 Alcohol adultos'!I12,'02 Alcohol jóvenes'!I12,'03 Velocidad y agresividad'!I13,'04 Protección al ocupante'!I14,'05 No motorizados'!I15,'06 Motocicletas'!I13,'07 Distracción'!I12,'08 PESET'!I12,'09 Drogas y conducción'!I12) -> 60650.06 | D34: =C34/$C$6 -> 0.016117475
B35: Gaming | C35: =SUM('01 Alcohol adultos'!J12,'02 Alcohol jóvenes'!J12,'03 Velocidad y agresividad'!J13,'04 Protección al ocupante'!J14,'05 No motorizados'!J15,'06 Motocicletas'!J13,'07 Distracción'!J12,'08 PESET'!J12,'09 Drogas y conducción'!J12) -> 225750.02 | D35: =C35/$C$6 -> 0.059992033
B36: Creadores e integraciones | C36: =SUM('01 Alcohol adultos'!K12,'02 Alcohol jóvenes'!K12,'03 Velocidad y agresividad'!K13,'04 Protección al ocupante'!K14,'05 No motorizados'!K15,'06 Motocicletas'!K13,'07 Distracción'!K12,'08 PESET'!K12,'09 Drogas y conducción'!K12) -> 204342.73 | D36: =C36/$C$6 -> 0.054303144
B37: TOTAL | C37: =SUM(C29:C36) -> 3763000 | D37: =SUM(D29:D36) -> 1

Sheet 01 Alcohol adultos
B2: 27-12-01 Alcohol adultos
B4: Escenario de pauta con honorarios incluidos (comisión 15%). Presupuestos y entregas estimadas por programa.
B6: Presupuesto AGA | C6: ='AGA y criterios'!D9 -> 1625000 | E6: Inversión del plan | F6: =L12 -> 1625000 | H6: Balance | I6: =ROUND(C6-F6,2) -> 0 | K6: Auspicios AGA pendientes | M6: ='AGA y criterios'!E9 -> 570000
B8: Auspicios AGA pendientes de conciliación; no se suman al plan. Ver “AGA y criterios”. Alcance y frecuencia requieren datos de audiencia.
B10: Campaña | C10: Presupuesto | D10: TV abierta | E10: Radio | F10: Exterior | G10: Meta | H10: YouTube | I10: Programática | J10: Gaming | K10: Creadores | L10: Total asignado | M10: Balance | N10: SOI programa
B11: Alcohol adultos | C11: ='AGA y criterios'!D26 -> 1625000 | D11: =M23 -> 474381.94 | E11: =M24 -> 150896.75 | F11: 0 | G11: =M25 -> 431948.51 | H11: =M26 -> 325000 | I11: 0 | J11: =M27 -> 162500 | K11: =M28 -> 80272.8 | L11: =M29 -> 1625000 | M11: =ROUND(C11-L11,2) -> 0 | N11: =L11/$C$6 -> 1
B12: TOTAL PROGRAMA | C12: =SUM(C11:C11) -> 1625000 | D12: =SUM(D11:D11) -> 474381.94 | E12: =SUM(E11:E11) -> 150896.75 | F12: =SUM(F11:F11) -> 0 | G12: =SUM(G11:G11) -> 431948.51 | H12: =SUM(H11:H11) -> 325000 | I12: =SUM(I11:I11) -> 0 | J12: =SUM(J11:J11) -> 162500 | ... N12: =SUM(N11:N11) -> 1
B16: 27-12-01 Alcohol adultos
B17: Público: Hombres 25–34. Secundario: hombres 35–44.
B18: Mensaje: Si guías borracho, serás arrestado. Si vas a beber, utiliza un conductor designado o un transporte alterno.
B19: 7 campañas. Se conservan las siete ventanas del archivo base.
B20: Presupuesto de campaña | C20: ='AGA y criterios'!D26 -> 1625000
B22: Auspicios pendientes de con con el RFP. No están sumados al escenario de $3,763,000. | C22: Unidad estimada | D22: Tarifa integrada | E22: 19–31 oct 26 | F22: 1–28 nov 26 | G22: 1–28 dic 26 | H22: 1–28 mar 27 | I22: 1–28 jun 27 | J22: 1–28 jul 27 | K22: 1–28 sep 27 | L22: Entrega estimada | M22: Inversión total | N22: SOI %
B23: TV abierta | C23: Spots de 60 s eq. | D23: =SUM(Tarifas!E7:E12) -> 10068.25 | E23: =ROUND($C$20*('Base de distribución'!E8/SUM('Base de distribución'!E8,'Base de distribución'!E9,'Base de distribución'!E10,'Base de distribución'!E11,'Base de distribución'!E12,'Base de distribución'!E13,'Base de distribución'!E14,'Base de distribución'!E15,'Base de distribución'!E16,'Base de distribución'!E17,'Base de distribución'!E18,'Base de distribución'!E19,'Base de distribución'!E20,'Base de distribución'!E21,'Base de distribución'!E22,'Base de distribución'!E23,'Base de distribución'!E24,'Base de distribución'!E25,'Base de distribución'!E26,'Base de distribución'!E27,'Base de distribución'!E28,'Base de distribución'!E29,'Base de distribución'!E30,'Base de distribución'!E31,'Base de distribución'!E32,'Base de distribución'!E33,'Base de distribución'!E34,'Base de distribución'!E35,'Base de distribución'!E36,'Base de distribución'!E37,'Base de distribución'!E38,'Base de distribución'!E39,'Base de distribución'!E40,'Base de distribución'!E41,'Base de distribución'!E42,'Base de distribución'!E43,'Base de distribución'!E44,'Base de distribución'!E45,'Base de distribución'!E46,'Base de distribución'!E47,'Base de distribución'!E48,'Base de distribución'!E49)),2) -> 52709.1 | F23: =ROUND($C$20*('Base de distribución'!E9/SUM('Base de distribución'!E8,'Base de distribución'!E9,'Base de distribución'!E10,'Base de distribución'!E11,'Base de distribución'!E12,'Base de distribución'!E13,'Base de distribución'!E14,'Base de distribución'!E15,'Base de distribución'!E16,'Base de distribución'!E17,'Base de distribución'!E18,'Base de distribución'!E19,'Base de distribución'!E20,'Base de distribución'!E21,'Base de distribución'!E22,'Base de distribución'!E23,'Base de distribución'!E24,'Base de distribución'!E25,'Base de distribución'!E26,'Base de distribución'!E27,'Base de distribución'!E28,'Base de distribución'!E29,'Base de distribución'!E30,'Base de distribución'!E31,'Base de distribución'!E32,'Base de distribución'!E33,'Base de distribución'!E34,'Base de distribución'!E35,'Base de distribución'!E36,'Base de distribución'!E37,'Base de distribución'!E38,'Base de distribución'!E39,'Base de distribución'!E40,'Base de distribución'!E41,'Base de distribución'!E42,'Base de distribución'!E43,'Base de distribución'!E44,'Base de distribución'!E45,'Base de distribución'!E46,'Base de distribución'!E47,'Base de distribución'!E48,'Base de distribución'!E49)),2) -> 52709.1 | G23: =ROUND($C$20*('Base de distribución'!E10/SUM('Base de distribución'!E8,'Base de distribución'!E9,'Base de distribución'!E10,'Base de distribución'!E11,'Base de distribución'!E12,'Base de distribución'!E13,'Base de distribución'!E14,'Base de distribución'!E15,'Base de distribución'!E16,'Base de distribución'!E17,'Base de distribución'!E18,'Base de distribución'!E19,'Base de distribución'!E20,'Base de distribución'!E21,'Base de distribución'!E22,'Base de distribución'!E23,'Base de distribución'!E24,'Base de distribución'!E25,'Base de distribución'!E26,'Base de distribución'!E27,'Base de distribución'!E28,'Base de distribución'!E29,'Base de distribución'!E30,'Base de distribución'!E31,'Base de distribución'!E32,'Base de distribución'!E33,'Base de distribución'!E34,'Base de distribución'!E35,'Base de distribución'!E36,'Base de distribución'!E37,'Base de distribución'!E38,'Base de distribución'!E39,'Base de distribución'!E40,'Base de distribución'!E41,'Base de distribución'!E42,'Base de distribución'!E43,'Base de distribución'!E44,'Base de distribución'!E45,'Base de distribución'!E46,'Base de distribución'!E47,'Base de distribución'!E48,'Base de distribución'!E49)),2) -> 87848.5 | H23: =ROUND($C$20*('Base de distribución'!E11/SUM('Base de distribución'!E8,'Base de distribución'!E9,'Base de distribución'!E10,'Base de distribución'!E11,'Base de distribución'!E12,'Base de distribución'!E13,'Base de distribución'!E14,'Base de distribución'!E15,'Base de distribución'!E16,'Base de distribución'!E17,'Base de distribución'!E18,'Base de distribución'!E19,'Base de distribución'!E20,'Base de distribución'!E21,'Base de distribución'!E22,'Base de distribución'!E23,'Base de distribución'!E24,'Base de distribución'!E25,'Base de distribución'!E26,'Base de distribución'!E27,'Base de distribución'!E28,'Base de distribución'!E29,'Base de distribución'!E30,'Base de distribución'!E31,'Base de distribución'!E32,'Base de distribución'!E33,'Base de distribución'!E34,'Base de distribución'!E35,'Base de distribución'!E36,'Base de distribución'!E37,'Base de distribución'!E38,'Base de distribución'!E39,'Base de distribución'!E40,'Base de distribución'!E41,'Base de distribución'!E42,'Base de distribución'!E43,'Base de distribución'!E44,'Base de distribución'!E45,'Base de distribución'!E46,'Base de distribución'!E47,'Base de distribución'!E48,'Base de distribución'!E49)),2) -> 70278.81 | I23: =ROUND($C$20*('Base de distribución'!E12/SUM('Base de distribución'!E8,'Base de distribución'!E9,'Base de distribución'!E10,'Base de distribución'!E11,'Base de distribución'!E12,'Base de distribución'!E13,'Base de distribución'!E14,'Base de distribución'!E15,'Base de distribución'!E16,'Base de distribución'!E17,'Base de distribución'!E18,'Base de distribución'!E19,'Base de distribución'!E20,'Base de distribución'!E21,'Base de distribución'!E22,'Base de distribución'!E23,'Base de distribución'!E24,'Base de distribución'!E25,'Base de distribución'!E26,'Base de distribución'!E27,'Base de distribución'!E28,'Base de distribución'!E29,'Base de distribución'!E30,'Base de distribución'!E31,'Base de distribución'!E32,'Base de distribución'!E33,'Base de distribución'!E34,'Base de distribución'!E35,'Base de distribución'!E36,'Base de distribución'!E37,'Base de distribución'!E38,'Base de distribución'!E39,'Base de distribución'!E40,'Base de distribución'!E41,'Base de distribución'!E42,'Base de distribución'!E43,'Base de distribución'!E44,'Base de distribución'!E45,'Base de distribución'!E46,'Base de distribución'!E47,'Base de distribución'!E48,'Base de distribución'!E49)),2) -> 70278.81 | J23: =ROUND($C$20*('Base de distribución'!E13/SUM('Base de distribución'!E8,'Base de distribución'!E9,'Base de distribución'!E10,'Base de distribución'!E11,'Base de distribución'!E12,'Base de distribución'!E13,'Base de distribución'!E14,'Base de distribución'!E15,'Base de distribución'!E16,'Base de distribución'!E17,'Base de distribución'!E18,'Base de distribución'!E19,'Base de distribución'!E20,'Base de distribución'!E21,'Base de distribución'!E22,'Base de distribución'!E23,'Base de distribución'!E24,'Base de distribución'!E25,'Base de distribución'!E26,'Base de distribución'!E27,'Base de distribución'!E28,'Base de distribución'!E29,'Base de distribución'!E30,'Base de distribución'!E31,'Base de distribución'!E32,'Base de distribución'!E33,'Base de distribución'!E34,'Base de distribución'!E35,'Base de distribución'!E36,'Base de distribución'!E37,'Base de distribución'!E38,'Base de distribución'!E39,'Base de distribución'!E40,'Base de distribución'!E41,'Base de distribución'!E42,'Base de distribución'!E43,'Base de distribución'!E44,'Base de distribución'!E45,'Base de distribución'!E46,'Base de distribución'!E47,'Base de distribución'!E48,'Base de distribución'!E49)),2) -> 70278.81 | K23: =ROUND($C$20*('Base de distribución'!E14/SUM('Base de distribución'!E8,'Base de distribución'!E9,'Base de distribución'!E10,'Base de distribución'!E11,'Base de distribución'!E12,'Base de distribución'!E13,'Base de distribución'!E14,'Base de distribución'!E15,'Base de distribución'!E16,'Base de distribución'!E17,'Base de distribución'!E18,'Base de distribución'!E19,'Base de distribución'!E20,'Base de distribución'!E21,'Base de distribución'!E22,'Base de distribución'!E23,'Base de distribución'!E24,'Base de distribución'!E25,'Base de distribución'!E26,'Base de distribución'!E27,'Base de distribución'!E28,'Base de distribución'!E29,'Base de distribución'!E30,'Base de distribución'!E31,'Base de distribución'!E32,'Base de distribución'!E33,'Base de distribución'!E34,'Base de distribución'!E35,'Base de distribución'!E36,'Base de distribución'!E37,'Base de distribución'!E38,'Base de distribución'!E39,'Base de distribución'!E40,'Base de distribución'!E41,'Base de distribución'!E42,'Base de distribución'!E43,'Base de distribución'!E44,'Base de distribución'!E45,'Base de distribución'!E46,'Base de distribución'!E47,'Base de distribución'!E48,'Base de distribución'!E49)),2) -> 70278.81 | L23: =SUM(L46:L51) -> 282.69974 | M23: =SUM(E23:K23) -> 474381.94 | N23: =M23/$C$20 -> 0.29192735
B24: Radio regional | C24: Cuñas de 30 s eq. | D24: =SUM(Tarifas!E13:E30) -> 665.16 | E24: =ROUND($C$20*('Base de distribución'!E15/SUM('Base de distribución'!E8,'Base de distribución'!E9,'Base de distribución'!E10,'Base de distribución'!E11,'Base de distribución'!E12,'Base de distribución'!E13,'Base de distribución'!E14,'Base de distribución'!E15,'Base de distribución'!E16,'Base de distribución'!E17,'Base de distribución'!E18,'Base de distribución'!E19,'Base de distribución'!E20,'Base de distribución'!E21,'Base de distribución'!E22,'Base de distribución'!E23,'Base de distribución'!E24,'Base de distribución'!E25,'Base de distribución'!E26,'Base de distribución'!E27,'Base de distribución'!E28,'Base de distribución'!E29,'Base de distribución'!E30,'Base de distribución'!E31,'Base de distribución'!E32,'Base de distribución'!E33,'Base de distribución'!E34,'Base de distribución'!E35,'Base de distribución'!E36,'Base de distribución'!E37,'Base de distribución'!E38,'Base de distribución'!E39,'Base de distribución'!E40,'Base de distribución'!E41,'Base de distribución'!E42,'Base de distribución'!E43,'Base de distribución'!E44,'Base de distribución'!E45,'Base de distribución'!E46,'Base de distribución'!E47,'Base de distribución'!E48,'Base de distribución'!E49)),2) -> 11607.45 | F24: =ROUND($C$20*('Base de distribución'!E16/SUM('Base de distribución'!E8,'Base de distribución'!E9,'Base de distribución'!E10,'Base de distribución'!E11,'Base de distribución'!E12,'Base de distribución'!E13,'Base de distribución'!E14,'Base de distribución'!E15,'Base de distribución'!E16,'Base de distribución'!E17,'Base de distribución'!E18,'Base de distribución'!E19,'Base de distribución'!E20,'Base de distribución'!E21,'Base de distribución'!E22,'Base de distribución'!E23,'Base de distribución'!E24,'Base de distribución'!E25,'Base de distribución'!E26,'Base de distribución'!E27,'Base de distribución'!E28,'Base de distribución'!E29,'Base de distribución'!E30,'Base de distribución'!E31,'Base de distribución'!E32,'Base de distribución'!E33,'Base de distribución'!E34,'Base de distribución'!E35,'Base de distribución'!E36,'Base de distribución'!E37,'Base de distribución'!E38,'Base de distribución'!E39,'Base de distribución'!E40,'Base de distribución'!E41,'Base de distribución'!E42,'Base de distribución'!E43,'Base de distribución'!E44,'Base de distribución'!E45,'Base de distribución'!E46,'Base de distribución'!E47,'Base de distribución'!E48,'Base de distribución'!E49)),2) -> 11607.45 | G24: =ROUND($C$20*('Base de distribución'!E17/SUM('Base de distribución'!E8,'Base de distribución'!E9,'Base de distribución'!E10,'Base de distribución'!E11,'Base de distribución'!E12,'Base de distribución'!E13,'Base de distribución'!E14,'Base de distribución'!E15,'Base de distribución'!E16,'Base de distribución'!E17,'Base de distribución'!E18,'Base de distribución'!E19,'Base de distribución'!E20,'Base de distribución'!E21,'Base de distribución'!E22,'Base de distribución'!E23,'Base de distribución'!E24,'Base de distribución'!E25,'Base de distribución'!E26,'Base de distribución'!E27,'Base de distribución'!E28,'Base de distribución'!E29,'Base de distribución'!E30,'Base de distribución'!E31,'Base de distribución'!E32,'Base de distribución'!E33,'Base de distribución'!E34,'Base de distribución'!E35,'Base de distribución'!E36,'Base de distribución'!E37,'Base de distribución'!E38,'Base de distribución'!E39,'Base de distribución'!E40,'Base de distribución'!E41,'Base de distribución'!E42,'Base de distribución'!E43,'Base de distribución'!E44,'Base de distribución'!E45,'Base de distribución'!E46,'Base de distribución'!E47,'Base de distribución'!E48,'Base de distribución'!E49)),2) -> 34822.33 | H24: =ROUND($C$20*('Base de distribución'!E18/SUM('Base de distribución'!E8,'Base de distribución'!E9,'Base de distribución'!E10,'Base de distribución'!E11,'Base de distribución'!E12,'Base de distribución'!E13,'Base de distribución'!E14,'Base de distribución'!E15,'Base de distribución'!E16,'Base de distribución'!E17,'Base de distribución'!E18,'Base de distribución'!E19,'Base de distribución'!E20,'Base de distribución'!E21,'Base de distribución'!E22,'Base de distribución'!E23,'Base de distribución'!E24,'Base de distribución'!E25,'Base de distribución'!E26,'Base de distribución'!E27,'Base de distribución'!E28,'Base de distribución'!E29,'Base de distribución'!E30,'Base de distribución'!E31,'Base de distribución'!E32,'Base de distribución'!E33,'Base de distribución'!E34,'Base de distribución'!E35,'Base de distribución'!E36,'Base de distribución'!E37,'Base de distribución'!E38,'Base de distribución'!E39,'Base de distribución'!E40,'Base de distribución'!E41,'Base de distribución'!E42,'Base de distribución'!E43,'Base de distribución'!E44,'Base de distribución'!E45,'Base de distribución'!E46,'Base de distribución'!E47,'Base de distribución'!E48,'Base de distribución'!E49)),2) -> 23214.88 | I24: =ROUND($C$20*('Base de distribución'!E19/SUM('Base de distribución'!E8,'Base de distribución'!E9,'Base de distribución'!E10,'Base de distribución'!E11,'Base de distribución'!E12,'Base de distribución'!E13,'Base de distribución'!E14,'Base de distribución'!E15,'Base de distribución'!E16,'Base de distribución'!E17,'Base de distribución'!E18,'Base de distribución'!E19,'Base de distribución'!E20,'Base de distribución'!E21,'Base de distribución'!E22,'Base de distribución'!E23,'Base de distribución'!E24,'Base de distribución'!E25,'Base de distribución'!E26,'Base de distribución'!E27,'Base de distribución'!E28,'Base de distribución'!E29,'Base de distribución'!E30,'Base de distribución'!E31,'Base de distribución'!E32,'Base de distribución'!E33,'Base de distribución'!E34,'Base de distribución'!E35,'Base de distribución'!E36,'Base de distribución'!E37,'Base de distribución'!E38,'Base de distribución'!E39,'Base de distribución'!E40,'Base de distribución'!E41,'Base de distribución'!E42,'Base de distribución'!E43,'Base de distribución'!E44,'Base de distribución'!E45,'Base de distribución'!E46,'Base de distribución'!E47,'Base de distribución'!E48,'Base de distribución'!E49)),2) -> 23214.88 | J24: =ROUND($C$20*('Base de distribución'!E20/SUM('Base de distribución'!E8,'Base de distribución'!E9,'Base de distribución'!E10,'Base de distribución'!E11,'Base de distribución'!E12,'Base de distribución'!E13,'Base de distribución'!E14,'Base de distribución'!E15,'Base de distribución'!E16,'Base de distribución'!E17,'Base de distribución'!E18,'Base de distribución'!E19,'Base de distribución'!E20,'Base de distribución'!E21,'Base de distribución'!E22,'Base de distribución'!E23,'Base de distribución'!E24,'Base de distribución'!E25,'Base de distribución'!E26,'Base de distribución'!E27,'Base de distribución'!E28,'Base de distribución'!E29,'Base de distribución'!E30,'Base de distribución'!E31,'Base de distribución'!E32,'Base de distribución'!E33,'Base de distribución'!E34,'Base de distribución'!E35,'Base de distribución'!E36,'Base de distribución'!E37,'Base de distribución'!E38,'Base de distribución'!E39,'Base de distribución'!E40,'Base de distribución'!E41,'Base de distribución'!E42,'Base de distribución'!E43,'Base de distribución'!E44,'Base de distribución'!E45,'Base de distribución'!E46,'Base de distribución'!E47,'Base de distribución'!E48,'Base de distribución'!E49)),2) -> 23214.88 | K24: =ROUND($C$20*('Base de distribución'!E21/SUM('Base de distribución'!E8,'Base de distribución'!E9,'Base de distribución'!E10,'Base de distribución'!E11,'Base de distribución'!E12,'Base de distribución'!E13,'Base de distribución'!E14,'Base de distribución'!E15,'Base de distribución'!E16,'Base de distribución'!E17,'Base de distribución'!E18,'Base de distribución'!E19,'Base de distribución'!E20,'Base de distribución'!E21,'Base de distribución'!E22,'Base de distribución'!E23,'Base de distribución'!E24,'Base de distribución'!E25,'Base de distribución'!E26,'Base de distribución'!E27,'Base de distribución'!E28,'Base de distribución'!E29,'Base de distribución'!E30,'Base de distribución'!E31,'Base de distribución'!E32,'Base de distribución'!E33,'Base de distribución'!E34,'Base de distribución'!E35,'Base de distribución'!E36,'Base de distribución'!E37,'Base de distribución'!E38,'Base de distribución'!E39,'Base de distribución'!E40,'Base de distribución'!E41,'Base de distribución'!E42,'Base de distribución'!E43,'Base de distribución'!E44,'Base de distribución'!E45,'Base de distribución'!E46,'Base de distribución'!E47,'Base de distribución'!E48,'Base de distribución'!E49)),2) -> 23214.88 | L24: =SUM(L54:L71) -> 4083.4408 | M24: =SUM(E24:K24) -> 150896.75 | N24: =M24/$C$20 -> 0.092859538
B25: Entregas estimadas con tarifas de referencia. | C25: Impresiones | D25: =Tarifas!E35 -> 8.625 | E25: =ROUND($C$20*('Base de distribución'!E22/SUM('Base de distribución'!E8,'Base de distribución'!E9,'Base de distribución'!E10,'Base de distribución'!E11,'Base de distribución'!E12,'Base de distribución'!E13,'Base de distribución'!E14,'Base de distribución'!E15,'Base de distribución'!E16,'Base de distribución'!E17,'Base de distribución'!E18,'Base de distribución'!E19,'Base de distribución'!E20,'Base de distribución'!E21,'Base de distribución'!E22,'Base de distribución'!E23,'Base de distribución'!E24,'Base de distribución'!E25,'Base de distribución'!E26,'Base de distribución'!E27,'Base de distribución'!E28,'Base de distribución'!E29,'Base de distribución'!E30,'Base de distribución'!E31,'Base de distribución'!E32,'Base de distribución'!E33,'Base de distribución'!E34,'Base de distribución'!E35,'Base de distribución'!E36,'Base de distribución'!E37,'Base de distribución'!E38,'Base de distribución'!E39,'Base de distribución'!E40,'Base de distribución'!E41,'Base de distribución'!E42,'Base de distribución'!E43,'Base de distribución'!E44,'Base de distribución'!E45,'Base de distribución'!E46,'Base de distribución'!E47,'Base de distribución'!E48,'Base de distribución'!E49)),2) -> 39399.35 | F25: =ROUND($C$20*('Base de distribución'!E23/SUM('Base de distribución'!E8,'Base de distribución'!E9,'Base de distribución'!E10,'Base de distribución'!E11,'Base de distribución'!E12,'Base de distribución'!E13,'Base de distribución'!E14,'Base de distribución'!E15,'Base de distribución'!E16,'Base de distribución'!E17,'Base de distribución'!E18,'Base de distribución'!E19,'Base de distribución'!E20,'Base de distribución'!E21,'Base de distribución'!E22,'Base de distribución'!E23,'Base de distribución'!E24,'Base de distribución'!E25,'Base de distribución'!E26,'Base de distribución'!E27,'Base de distribución'!E28,'Base de distribución'!E29,'Base de distribución'!E30,'Base de distribución'!E31,'Base de distribución'!E32,'Base de distribución'!E33,'Base de distribución'!E34,'Base de distribución'!E35,'Base de distribución'!E36,'Base de distribución'!E37,'Base de distribución'!E38,'Base de distribución'!E39,'Base de distribución'!E40,'Base de distribución'!E41,'Base de distribución'!E42,'Base de distribución'!E43,'Base de distribución'!E44,'Base de distribución'!E45,'Base de distribución'!E46,'Base de distribución'!E47,'Base de distribución'!E48,'Base de distribución'!E49)),2) -> 39399.35 | G25: =ROUND($C$20*('Base de distribución'!E24/SUM('Base de distribución'!E8,'Base de distribución'!E9,'Base de distribución'!E10,'Base de distribución'!E11,'Base de distribución'!E12,'Base de distribución'!E13,'Base de distribución'!E14,'Base de distribución'!E15,'Base de distribución'!E16,'Base de distribución'!E17,'Base de distribución'!E18,'Base de distribución'!E19,'Base de distribución'!E20,'Base de distribución'!E21,'Base de distribución'!E22,'Base de distribución'!E23,'Base de distribución'!E24,'Base de distribución'!E25,'Base de distribución'!E26,'Base de distribución'!E27,'Base de distribución'!E28,'Base de distribución'!E29,'Base de distribución'!E30,'Base de distribución'!E31,'Base de distribución'!E32,'Base de distribución'!E33,'Base de distribución'!E34,'Base de distribución'!E35,'Base de distribución'!E36,'Base de distribución'!E37,'Base de distribución'!E38,'Base de distribución'!E39,'Base de distribución'!E40,'Base de distribución'!E41,'Base de distribución'!E42,'Base de distribución'!E43,'Base de distribución'!E44,'Base de distribución'!E45,'Base de distribución'!E46,'Base de distribución'!E47,'Base de distribución'!E48,'Base de distribución'!E49)),2) -> 89778.02 | H25: =ROUND($C$20*('Base de distribución'!E25/SUM('Base de distribución'!E8,'Base de distribución'!E9,'Base de distribución'!E10,'Base de distribución'!E11,'Base de distribución'!E12,'Base de distribución'!E13,'Base de distribución'!E14,'Base de distribución'!E15,'Base de distribución'!E16,'Base de distribución'!E17,'Base de distribución'!E18,'Base de distribución'!E19,'Base de distribución'!E20,'Base de distribución'!E21,'Base de distribución'!E22,'Base de distribución'!E23,'Base de distribución'!E24,'Base de distribución'!E25,'Base de distribución'!E26,'Base de distribución'!E27,'Base de distribución'!E28,'Base de distribución'!E29,'Base de distribución'!E30,'Base de distribución'!E31,'Base de distribución'!E32,'Base de distribución'!E33,'Base de distribución'!E34,'Base de distribución'!E35,'Base de distribución'!E36,'Base de distribución'!E37,'Base de distribución'!E38,'Base de distribución'!E39,'Base de distribución'!E40,'Base de distribución'!E41,'Base de distribución'!E42,'Base de distribución'!E43,'Base de distribución'!E44,'Base de distribución'!E45,'Base de distribución'!E46,'Base de distribución'!E47,'Base de distribución'!E48,'Base de distribución'!E49)),2) -> 62080.16 | I25: =ROUND($C$20*('Base de distribución'!E26/SUM('Base de distribución'!E8,'Base de distribución'!E9,'Base de distribución'!E10,'Base de distribución'!E11,'Base de distribución'!E12,'Base de distribución'!E13,'Base de distribución'!E14,'Base de distribución'!E15,'Base de distribución'!E16,'Base de distribución'!E17,'Base de distribución'!E18,'Base de distribución'!E19,'Base de distribución'!E20,'Base de distribución'!E21,'Base de distribución'!E22,'Base de distribución'!E23,'Base de distribución'!E24,'Base de distribución'!E25,'Base de distribución'!E26,'Base de distribución'!E27,'Base de distribución'!E28,'Base de distribución'!E29,'Base de distribución'!E30,'Base de distribución'!E31,'Base de distribución'!E32,'Base de distribución'!E33,'Base de distribución'!E34,'Base de distribución'!E35,'Base de distribución'!E36,'Base de distribución'!E37,'Base de distribución'!E38,'Base de distribución'!E39,'Base de distribución'!E40,'Base de distribución'!E41,'Base de distribución'!E42,'Base de distribución'!E43,'Base de distribución'!E44,'Base de distribución'!E45,'Base de distribución'!E46,'Base de distribución'!E47,'Base de distribución'!E48,'Base de distribución'!E49)),2) -> 67097.21 | J25: =ROUND($C$20*('Base de distribución'!E27/SUM('Base de distribución'!E8,'Base de distribución'!E9,'Base de distribución'!E10,'Base de distribución'!E11,'Base de distribución'!E12,'Base de distribución'!E13,'Base de distribución'!E14,'Base de distribución'!E15,'Base de distribución'!E16,'Base de distribución'!E17,'Base de distribución'!E18,'Base de distribución'!E19,'Base de distribución'!E20,'Base de distribución'!E21,'Base de distribución'!E22,'Base de distribución'!E23,'Base de distribución'!E24,'Base de distribución'!E25,'Base de distribución'!E26,'Base de distribución'!E27,'Base de distribución'!E28,'Base de distribución'!E29,'Base de distribución'!E30,'Base de distribución'!E31,'Base de distribución'!E32,'Base de distribución'!E33,'Base de distribución'!E34,'Base de distribución'!E35,'Base de distribución'!E36,'Base de distribución'!E37,'Base de distribución'!E38,'Base de distribución'!E39,'Base de distribución'!E40,'Base de distribución'!E41,'Base de distribución'!E42,'Base de distribución'!E43,'Base de distribución'!E44,'Base de distribución'!E45,'Base de distribución'!E46,'Base de distribución'!E47,'Base de distribución'!E48,'Base de distribución'!E49)),2) -> 67097.21 | K25: =ROUND($C$20*('Base de distribución'!E28/SUM('Base de distribución'!E8,'Base de distribución'!E9,'Base de distribución'!E10,'Base de distribución'!E11,'Base de distribución'!E12,'Base de distribución'!E13,'Base de distribución'!E14,'Base de distribución'!E15,'Base de distribución'!E16,'Base de distribución'!E17,'Base de distribución'!E18,'Base de distribución'!E19,'Base de distribución'!E20,'Base de distribución'!E21,'Base de distribución'!E22,'Base de distribución'!E23,'Base de distribución'!E24,'Base de distribución'!E25,'Base de distribución'!E26,'Base de distribución'!E27,'Base de distribución'!E28,'Base de distribución'!E29,'Base de distribución'!E30,'Base de distribución'!E31,'Base de distribución'!E32,'Base de distribución'!E33,'Base de distribución'!E34,'Base de distribución'!E35,'Base de distribución'!E36,'Base de distribución'!E37,'Base de distribución'!E38,'Base de distribución'!E39,'Base de distribución'!E40,'Base de distribución'!E41,'Base de distribución'!E42,'Base de distribución'!E43,'Base de distribución'!E44,'Base de distribución'!E45,'Base de distribución'!E46,'Base de distribución'!E47,'Base de distribución'!E48,'Base de distribución'!E49)),2) -> 67097.21 | L25: =SUM(L74:L74) -> 50080982 | M25: =SUM(E25:K25) -> 431948.51 | N25: =M25/$C$20 -> 0.26581447
B26: YouTube | C26: Impresiones | D26: =Tarifas!E36 -> 6.9 | E26: =ROUND($C$20*('Base de distribución'!E29/SUM('Base de distribución'!E8,'Base de distribución'!E9,'Base de distribución'!E10,'Base de distribución'!E11,'Base de distribución'!E12,'Base de distribución'!E13,'Base de distribución'!E14,'Base de distribución'!E15,'Base de distribución'!E16,'Base de distribución'!E17,'Base de distribución'!E18,'Base de distribución'!E19,'Base de distribución'!E20,'Base de distribución'!E21,'Base de distribución'!E22,'Base de distribución'!E23,'Base de distribución'!E24,'Base de distribución'!E25,'Base de distribución'!E26,'Base de distribución'!E27,'Base de distribución'!E28,'Base de distribución'!E29,'Base de distribución'!E30,'Base de distribución'!E31,'Base de distribución'!E32,'Base de distribución'!E33,'Base de distribución'!E34,'Base de distribución'!E35,'Base de distribución'!E36,'Base de distribución'!E37,'Base de distribución'!E38,'Base de distribución'!E39,'Base de distribución'!E40,'Base de distribución'!E41,'Base de distribución'!E42,'Base de distribución'!E43,'Base de distribución'!E44,'Base de distribución'!E45,'Base de distribución'!E46,'Base de distribución'!E47,'Base de distribución'!E48,'Base de distribución'!E49)),2) -> 32500 | F26: =ROUND($C$20*('Base de distribución'!E30/SUM('Base de distribución'!E8,'Base de distribución'!E9,'Base de distribución'!E10,'Base de distribución'!E11,'Base de distribución'!E12,'Base de distribución'!E13,'Base de distribución'!E14,'Base de distribución'!E15,'Base de distribución'!E16,'Base de distribución'!E17,'Base de distribución'!E18,'Base de distribución'!E19,'Base de distribución'!E20,'Base de distribución'!E21,'Base de distribución'!E22,'Base de distribución'!E23,'Base de distribución'!E24,'Base de distribución'!E25,'Base de distribución'!E26,'Base de distribución'!E27,'Base de distribución'!E28,'Base de distribución'!E29,'Base de distribución'!E30,'Base de distribución'!E31,'Base de distribución'!E32,'Base de distribución'!E33,'Base de distribución'!E34,'Base de distribución'!E35,'Base de distribución'!E36,'Base de distribución'!E37,'Base de distribución'!E38,'Base de distribución'!E39,'Base de distribución'!E40,'Base de distribución'!E41,'Base de distribución'!E42,'Base de distribución'!E43,'Base de distribución'!E44,'Base de distribución'!E45,'Base de distribución'!E46,'Base de distribución'!E47,'Base de distribución'!E48,'Base de distribución'!E49)),2) -> 32500 | G26: =ROUND($C$20*('Base de distribución'!E31/SUM('Base de distribución'!E8,'Base de distribución'!E9,'Base de distribución'!E10,'Base de distribución'!E11,'Base de distribución'!E12,'Base de distribución'!E13,'Base de distribución'!E14,'Base de distribución'!E15,'Base de distribución'!E16,'Base de distribución'!E17,'Base de distribución'!E18,'Base de distribución'!E19,'Base de distribución'!E20,'Base de distribución'!E21,'Base de distribución'!E22,'Base de distribución'!E23,'Base de distribución'!E24,'Base de distribución'!E25,'Base de distribución'!E26,'Base de distribución'!E27,'Base de distribución'!E28,'Base de distribución'!E29,'Base de distribución'!E30,'Base de distribución'!E31,'Base de distribución'!E32,'Base de distribución'!E33,'Base de distribución'!E34,'Base de distribución'!E35,'Base de distribución'!E36,'Base de distribución'!E37,'Base de distribución'!E38,'Base de distribución'!E39,'Base de distribución'!E40,'Base de distribución'!E41,'Base de distribución'!E42,'Base de distribución'!E43,'Base de distribución'!E44,'Base de distribución'!E45,'Base de distribución'!E46,'Base de distribución'!E47,'Base de distribución'!E48,'Base de distribución'!E49)),2) -> 65000 | H26: =ROUND($C$20*('Base de distribución'!E32/SUM('Base de distribución'!E8,'Base de distribución'!E9,'Base de distribución'!E10,'Base de distribución'!E11,'Base de distribución'!E12,'Base de distribución'!E13,'Base de distribución'!E14,'Base de distribución'!E15,'Base de distribución'!E16,'Base de distribución'!E17,'Base de distribución'!E18,'Base de distribución'!E19,'Base de distribución'!E20,'Base de distribución'!E21,'Base de distribución'!E22,'Base de distribución'!E23,'Base de distribución'!E24,'Base de distribución'!E25,'Base de distribución'!E26,'Base de distribución'!E27,'Base de distribución'!E28,'Base de distribución'!E29,'Base de distribución'!E30,'Base de distribución'!E31,'Base de distribución'!E32,'Base de distribución'!E33,'Base de distribución'!E34,'Base de distribución'!E35,'Base de distribución'!E36,'Base de distribución'!E37,'Base de distribución'!E38,'Base de distribución'!E39,'Base de distribución'!E40,'Base de distribución'!E41,'Base de distribución'!E42,'Base de distribución'!E43,'Base de distribución'!E44,'Base de distribución'!E45,'Base de distribución'!E46,'Base de distribución'!E47,'Base de distribución'!E48,'Base de distribución'!E49)),2) -> 48750 | I26: =ROUND($C$20*('Base de distribución'!E33/SUM('Base de distribución'!E8,'Base de distribución'!E9,'Base de distribución'!E10,'Base de distribución'!E11,'Base de distribución'!E12,'Base de distribución'!E13,'Base de distribución'!E14,'Base de distribución'!E15,'Base de distribución'!E16,'Base de distribución'!E17,'Base de distribución'!E18,'Base de distribución'!E19,'Base de distribución'!E20,'Base de distribución'!E21,'Base de distribución'!E22,'Base de distribución'!E23,'Base de distribución'!E24,'Base de distribución'!E25,'Base de distribución'!E26,'Base de distribución'!E27,'Base de distribución'!E28,'Base de distribución'!E29,'Base de distribución'!E30,'Base de distribución'!E31,'Base de distribución'!E32,'Base de distribución'!E33,'Base de distribución'!E34,'Base de distribución'!E35,'Base de distribución'!E36,'Base de distribución'!E37,'Base de distribución'!E38,'Base de distribución'!E39,'Base de distribución'!E40,'Base de distribución'!E41,'Base de distribución'!E42,'Base de distribución'!E43,'Base de distribución'!E44,'Base de distribución'!E45,'Base de distribución'!E46,'Base de distribución'!E47,'Base de distribución'!E48,'Base de distribución'!E49)),2) -> 48750 | J26: =ROUND($C$20*('Base de distribución'!E34/SUM('Base de distribución'!E8,'Base de distribución'!E9,'Base de distribución'!E10,'Base de distribución'!E11,'Base de distribución'!E12,'Base de distribución'!E13,'Base de distribución'!E14,'Base de distribución'!E15,'Base de distribución'!E16,'Base de distribución'!E17,'Base de distribución'!E18,'Base de distribución'!E19,'Base de distribución'!E20,'Base de distribución'!E21,'Base de distribución'!E22,'Base de distribución'!E23,'Base de distribución'!E24,'Base de distribución'!E25,'Base de distribución'!E26,'Base de distribución'!E27,'Base de distribución'!E28,'Base de distribución'!E29,'Base de distribución'!E30,'Base de distribución'!E31,'Base de distribución'!E32,'Base de distribución'!E33,'Base de distribución'!E34,'Base de distribución'!E35,'Base de distribución'!E36,'Base de distribución'!E37,'Base de distribución'!E38,'Base de distribución'!E39,'Base de distribución'!E40,'Base de distribución'!E41,'Base de distribución'!E42,'Base de distribución'!E43,'Base de distribución'!E44,'Base de distribución'!E45,'Base de distribución'!E46,'Base de distribución'!E47,'Base de distribución'!E48,'Base de distribución'!E49)),2) -> 48750 | K26: =ROUND($C$20*('Base de distribución'!E35/SUM('Base de distribución'!E8,'Base de distribución'!E9,'Base de distribución'!E10,'Base de distribución'!E11,'Base de distribución'!E12,'Base de distribución'!E13,'Base de distribución'!E14,'Base de distribución'!E15,'Base de distribución'!E16,'Base de distribución'!E17,'Base de distribución'!E18,'Base de distribución'!E19,'Base de distribución'!E20,'Base de distribución'!E21,'Base de distribución'!E22,'Base de distribución'!E23,'Base de distribución'!E24,'Base de distribución'!E25,'Base de distribución'!E26,'Base de distribución'!E27,'Base de distribución'!E28,'Base de distribución'!E29,'Base de distribución'!E30,'Base de distribución'!E31,'Base de distribución'!E32,'Base de distribución'!E33,'Base de distribución'!E34,'Base de distribución'!E35,'Base de distribución'!E36,'Base de distribución'!E37,'Base de distribución'!E38,'Base de distribución'!E39,'Base de distribución'!E40,'Base de distribución'!E41,'Base de distribución'!E42,'Base de distribución'!E43,'Base de distribución'!E44,'Base de distribución'!E45,'Base de distribución'!E46,'Base de distribución'!E47,'Base de distribución'!E48,'Base de distribución'!E49)),2) -> 48750 | L26: =SUM(L77:L77) -> 47101445 | M26: =SUM(E26:K26) -> 325000 | N26: =M26/$C$20 -> 0.2
B27: Gaming | C27: Vistas completas | D27: =Tarifas!E38 -> 0.115 | E27: =ROUND($C$20*('Base de distribución'!E36/SUM('Base de distribución'!E8,'Base de distribución'!E9,'Base de distribución'!E10,'Base de distribución'!E11,'Base de distribución'!E12,'Base de distribución'!E13,'Base de distribución'!E14,'Base de distribución'!E15,'Base de distribución'!E16,'Base de distribución'!E17,'Base de distribución'!E18,'Base de distribución'!E19,'Base de distribución'!E20,'Base de distribución'!E21,'Base de distribución'!E22,'Base de distribución'!E23,'Base de distribución'!E24,'Base de distribución'!E25,'Base de distribución'!E26,'Base de distribución'!E27,'Base de distribución'!E28,'Base de distribución'!E29,'Base de distribución'!E30,'Base de distribución'!E31,'Base de distribución'!E32,'Base de distribución'!E33,'Base de distribución'!E34,'Base de distribución'!E35,'Base de distribución'!E36,'Base de distribución'!E37,'Base de distribución'!E38,'Base de distribución'!E39,'Base de distribución'!E40,'Base de distribución'!E41,'Base de distribución'!E42,'Base de distribución'!E43,'Base de distribución'!E44,'Base de distribución'!E45,'Base de distribución'!E46,'Base de distribución'!E47,'Base de distribución'!E48,'Base de distribución'!E49)),2) -> 16250 | F27: =ROUND($C$20*('Base de distribución'!E37/SUM('Base de distribución'!E8,'Base de distribución'!E9,'Base de distribución'!E10,'Base de distribución'!E11,'Base de distribución'!E12,'Base de distribución'!E13,'Base de distribución'!E14,'Base de distribución'!E15,'Base de distribución'!E16,'Base de distribución'!E17,'Base de distribución'!E18,'Base de distribución'!E19,'Base de distribución'!E20,'Base de distribución'!E21,'Base de distribución'!E22,'Base de distribución'!E23,'Base de distribución'!E24,'Base de distribución'!E25,'Base de distribución'!E26,'Base de distribución'!E27,'Base de distribución'!E28,'Base de distribución'!E29,'Base de distribución'!E30,'Base de distribución'!E31,'Base de distribución'!E32,'Base de distribución'!E33,'Base de distribución'!E34,'Base de distribución'!E35,'Base de distribución'!E36,'Base de distribución'!E37,'Base de distribución'!E38,'Base de distribución'!E39,'Base de distribución'!E40,'Base de distribución'!E41,'Base de distribución'!E42,'Base de distribución'!E43,'Base de distribución'!E44,'Base de distribución'!E45,'Base de distribución'!E46,'Base de distribución'!E47,'Base de distribución'!E48,'Base de distribución'!E49)),2) -> 16250 | G27: =ROUND($C$20*('Base de distribución'!E38/SUM('Base de distribución'!E8,'Base de distribución'!E9,'Base de distribución'!E10,'Base de distribución'!E11,'Base de distribución'!E12,'Base de distribución'!E13,'Base de distribución'!E14,'Base de distribución'!E15,'Base de distribución'!E16,'Base de distribución'!E17,'Base de distribución'!E18,'Base de distribución'!E19,'Base de distribución'!E20,'Base de distribución'!E21,'Base de distribución'!E22,'Base de distribución'!E23,'Base de distribución'!E24,'Base de distribución'!E25,'Base de distribución'!E26,'Base de distribución'!E27,'Base de distribución'!E28,'Base de distribución'!E29,'Base de distribución'!E30,'Base de distribución'!E31,'Base de distribución'!E32,'Base de distribución'!E33,'Base de distribución'!E34,'Base de distribución'!E35,'Base de distribución'!E36,'Base de distribución'!E37,'Base de distribución'!E38,'Base de distribución'!E39,'Base de distribución'!E40,'Base de distribución'!E41,'Base de distribución'!E42,'Base de distribución'!E43,'Base de distribución'!E44,'Base de distribución'!E45,'Base de distribución'!E46,'Base de distribución'!E47,'Base de distribución'!E48,'Base de distribución'!E49)),2) -> 32500 | H27: =ROUND($C$20*('Base de distribución'!E39/SUM('Base de distribución'!E8,'Base de distribución'!E9,'Base de distribución'!E10,'Base de distribución'!E11,'Base de distribución'!E12,'Base de distribución'!E13,'Base de distribución'!E14,'Base de distribución'!E15,'Base de distribución'!E16,'Base de distribución'!E17,'Base de distribución'!E18,'Base de distribución'!E19,'Base de distribución'!E20,'Base de distribución'!E21,'Base de distribución'!E22,'Base de distribución'!E23,'Base de distribución'!E24,'Base de distribución'!E25,'Base de distribución'!E26,'Base de distribución'!E27,'Base de distribución'!E28,'Base de distribución'!E29,'Base de distribución'!E30,'Base de distribución'!E31,'Base de distribución'!E32,'Base de distribución'!E33,'Base de distribución'!E34,'Base de distribución'!E35,'Base de distribución'!E36,'Base de distribución'!E37,'Base de distribución'!E38,'Base de distribución'!E39,'Base de distribución'!E40,'Base de distribución'!E41,'Base de distribución'!E42,'Base de distribución'!E43,'Base de distribución'!E44,'Base de distribución'!E45,'Base de distribución'!E46,'Base de distribución'!E47,'Base de distribución'!E48,'Base de distribución'!E49)),2) -> 24375 | I27: =ROUND($C$20*('Base de distribución'!E40/SUM('Base de distribución'!E8,'Base de distribución'!E9,'Base de distribución'!E10,'Base de distribución'!E11,'Base de distribución'!E12,'Base de distribución'!E13,'Base de distribución'!E14,'Base de distribución'!E15,'Base de distribución'!E16,'Base de distribución'!E17,'Base de distribución'!E18,'Base de distribución'!E19,'Base de distribución'!E20,'Base de distribución'!E21,'Base de distribución'!E22,'Base de distribución'!E23,'Base de distribución'!E24,'Base de distribución'!E25,'Base de distribución'!E26,'Base de distribución'!E27,'Base de distribución'!E28,'Base de distribución'!E29,'Base de distribución'!E30,'Base de distribución'!E31,'Base de distribución'!E32,'Base de distribución'!E33,'Base de distribución'!E34,'Base de distribución'!E35,'Base de distribución'!E36,'Base de distribución'!E37,'Base de distribución'!E38,'Base de distribución'!E39,'Base de distribución'!E40,'Base de distribución'!E41,'Base de distribución'!E42,'Base de distribución'!E43,'Base de distribución'!E44,'Base de distribución'!E45,'Base de distribución'!E46,'Base de distribución'!E47,'Base de distribución'!E48,'Base de distribución'!E49)),2) -> 24375 | J27: =ROUND($C$20*('Base de distribución'!E41/SUM('Base de distribución'!E8,'Base de distribución'!E9,'Base de distribución'!E10,'Base de distribución'!E11,'Base de distribución'!E12,'Base de distribución'!E13,'Base de distribución'!E14,'Base de distribución'!E15,'Base de distribución'!E16,'Base de distribución'!E17,'Base de distribución'!E18,'Base de distribución'!E19,'Base de distribución'!E20,'Base de distribución'!E21,'Base de distribución'!E22,'Base de distribución'!E23,'Base de distribución'!E24,'Base de distribución'!E25,'Base de distribución'!E26,'Base de distribución'!E27,'Base de distribución'!E28,'Base de distribución'!E29,'Base de distribución'!E30,'Base de distribución'!E31,'Base de distribución'!E32,'Base de distribución'!E33,'Base de distribución'!E34,'Base de distribución'!E35,'Base de distribución'!E36,'Base de distribución'!E37,'Base de distribución'!E38,'Base de distribución'!E39,'Base de distribución'!E40,'Base de distribución'!E41,'Base de distribución'!E42,'Base de distribución'!E43,'Base de distribución'!E44,'Base de distribución'!E45,'Base de distribución'!E46,'Base de distribución'!E47,'Base de distribución'!E48,'Base de distribución'!E49)),2) -> 24375 | K27: =ROUND($C$20*('Base de distribución'!E42/SUM('Base de distribución'!E8,'Base de distribución'!E9,'Base de distribución'!E10,'Base de distribución'!E11,'Base de distribución'!E12,'Base de distribución'!E13,'Base de distribución'!E14,'Base de distribución'!E15,'Base de distribución'!E16,'Base de distribución'!E17,'Base de distribución'!E18,'Base de distribución'!E19,'Base de distribución'!E20,'Base de distribución'!E21,'Base de distribución'!E22,'Base de distribución'!E23,'Base de distribución'!E24,'Base de distribución'!E25,'Base de distribución'!E26,'Base de distribución'!E27,'Base de distribución'!E28,'Base de distribución'!E29,'Base de distribución'!E30,'Base de distribución'!E31,'Base de distribución'!E32,'Base de distribución'!E33,'Base de distribución'!E34,'Base de distribución'!E35,'Base de distribución'!E36,'Base de distribución'!E37,'Base de distribución'!E38,'Base de distribución'!E39,'Base de distribución'!E40,'Base de distribución'!E41,'Base de distribución'!E42,'Base de distribución'!E43,'Base de distribución'!E44,'Base de distribución'!E45,'Base de distribución'!E46,'Base de distribución'!E47,'Base de distribución'!E48,'Base de distribución'!E49)),2) -> 24375 | L27: =SUM(L80:L80) -> 1413040 | M27: =SUM(E27:K27) -> 162500 | N27: =M27/$C$20 -> 0.1
B28: Creadores e integraciones | C28: Publicaciones eq. | D28: =Tarifas!E39 -> 2875 | E28: =ROUND($C$20*('Base de distribución'!E43/SUM('Base de distribución'!E8,'Base de distribución'!E9,'Base de distribución'!E10,'Base de distribución'!E11,'Base de distribución'!E12,'Base de distribución'!E13,'Base de distribución'!E14,'Base de distribución'!E15,'Base de distribución'!E16,'Base de distribución'!E17,'Base de distribución'!E18,'Base de distribución'!E19,'Base de distribución'!E20,'Base de distribución'!E21,'Base de distribución'!E22,'Base de distribución'!E23,'Base de distribución'!E24,'Base de distribución'!E25,'Base de distribución'!E26,'Base de distribución'!E27,'Base de distribución'!E28,'Base de distribución'!E29,'Base de distribución'!E30,'Base de distribución'!E31,'Base de distribución'!E32,'Base de distribución'!E33,'Base de distribución'!E34,'Base de distribución'!E35,'Base de distribución'!E36,'Base de distribución'!E37,'Base de distribución'!E38,'Base de distribución'!E39,'Base de distribución'!E40,'Base de distribución'!E41,'Base de distribución'!E42,'Base de distribución'!E43,'Base de distribución'!E44,'Base de distribución'!E45,'Base de distribución'!E46,'Base de distribución'!E47,'Base de distribución'!E48,'Base de distribución'!E49)),2) -> 10034.09 | F28: =ROUND($C$20*('Base de distribución'!E44/SUM('Base de distribución'!E8,'Base de distribución'!E9,'Base de distribución'!E10,'Base de distribución'!E11,'Base de distribución'!E12,'Base de distribución'!E13,'Base de distribución'!E14,'Base de distribución'!E15,'Base de distribución'!E16,'Base de distribución'!E17,'Base de distribución'!E18,'Base de distribución'!E19,'Base de distribución'!E20,'Base de distribución'!E21,'Base de distribución'!E22,'Base de distribución'!E23,'Base de distribución'!E24,'Base de distribución'!E25,'Base de distribución'!E26,'Base de distribución'!E27,'Base de distribución'!E28,'Base de distribución'!E29,'Base de distribución'!E30,'Base de distribución'!E31,'Base de distribución'!E32,'Base de distribución'!E33,'Base de distribución'!E34,'Base de distribución'!E35,'Base de distribución'!E36,'Base de distribución'!E37,'Base de distribución'!E38,'Base de distribución'!E39,'Base de distribución'!E40,'Base de distribución'!E41,'Base de distribución'!E42,'Base de distribución'!E43,'Base de distribución'!E44,'Base de distribución'!E45,'Base de distribución'!E46,'Base de distribución'!E47,'Base de distribución'!E48,'Base de distribución'!E49)),2) -> 10034.09 | G28: =ROUND($C$20*('Base de distribución'!E45/SUM('Base de distribución'!E8,'Base de distribución'!E9,'Base de distribución'!E10,'Base de distribución'!E11,'Base de distribución'!E12,'Base de distribución'!E13,'Base de distribución'!E14,'Base de distribución'!E15,'Base de distribución'!E16,'Base de distribución'!E17,'Base de distribución'!E18,'Base de distribución'!E19,'Base de distribución'!E20,'Base de distribución'!E21,'Base de distribución'!E22,'Base de distribución'!E23,'Base de distribución'!E24,'Base de distribución'!E25,'Base de distribución'!E26,'Base de distribución'!E27,'Base de distribución'!E28,'Base de distribución'!E29,'Base de distribución'!E30,'Base de distribución'!E31,'Base de distribución'!E32,'Base de distribución'!E33,'Base de distribución'!E34,'Base de distribución'!E35,'Base de distribución'!E36,'Base de distribución'!E37,'Base de distribución'!E38,'Base de distribución'!E39,'Base de distribución'!E40,'Base de distribución'!E41,'Base de distribución'!E42,'Base de distribución'!E43,'Base de distribución'!E44,'Base de distribución'!E45,'Base de distribución'!E46,'Base de distribución'!E47,'Base de distribución'!E48,'Base de distribución'!E49)),2) -> 15051.15 | H28: =ROUND($C$20*('Base de distribución'!E46/SUM('Base de distribución'!E8,'Base de distribución'!E9,'Base de distribución'!E10,'Base de distribución'!E11,'Base de distribución'!E12,'Base de distribución'!E13,'Base de distribución'!E14,'Base de distribución'!E15,'Base de distribución'!E16,'Base de distribución'!E17,'Base de distribución'!E18,'Base de distribución'!E19,'Base de distribución'!E20,'Base de distribución'!E21,'Base de distribución'!E22,'Base de distribución'!E23,'Base de distribución'!E24,'Base de distribución'!E25,'Base de distribución'!E26,'Base de distribución'!E27,'Base de distribución'!E28,'Base de distribución'!E29,'Base de distribución'!E30,'Base de distribución'!E31,'Base de distribución'!E32,'Base de distribución'!E33,'Base de distribución'!E34,'Base de distribución'!E35,'Base de distribución'!E36,'Base de distribución'!E37,'Base de distribución'!E38,'Base de distribución'!E39,'Base de distribución'!E40,'Base de distribución'!E41,'Base de distribución'!E42,'Base de distribución'!E43,'Base de distribución'!E44,'Base de distribución'!E45,'Base de distribución'!E46,'Base de distribución'!E47,'Base de distribución'!E48,'Base de distribución'!E49)),2) -> 15051.15 | I28: =ROUND($C$20*('Base de distribución'!E47/SUM('Base de distribución'!E8,'Base de distribución'!E9,'Base de distribución'!E10,'Base de distribución'!E11,'Base de distribución'!E12,'Base de distribución'!E13,'Base de distribución'!E14,'Base de distribución'!E15,'Base de distribución'!E16,'Base de distribución'!E17,'Base de distribución'!E18,'Base de distribución'!E19,'Base de distribución'!E20,'Base de distribución'!E21,'Base de distribución'!E22,'Base de distribución'!E23,'Base de distribución'!E24,'Base de distribución'!E25,'Base de distribución'!E26,'Base de distribución'!E27,'Base de distribución'!E28,'Base de distribución'!E29,'Base de distribución'!E30,'Base de distribución'!E31,'Base de distribución'!E32,'Base de distribución'!E33,'Base de distribución'!E34,'Base de distribución'!E35,'Base de distribución'!E36,'Base de distribución'!E37,'Base de distribución'!E38,'Base de distribución'!E39,'Base de distribución'!E40,'Base de distribución'!E41,'Base de distribución'!E42,'Base de distribución'!E43,'Base de distribución'!E44,'Base de distribución'!E45,'Base de distribución'!E46,'Base de distribución'!E47,'Base de distribución'!E48,'Base de distribución'!E49)),2) -> 10034.09 | J28: =ROUND($C$20*('Base de distribución'!E48/SUM('Base de distribución'!E8,'Base de distribución'!E9,'Base de distribución'!E10,'Base de distribución'!E11,'Base de distribución'!E12,'Base de distribución'!E13,'Base de distribución'!E14,'Base de distribución'!E15,'Base de distribución'!E16,'Base de distribución'!E17,'Base de distribución'!E18,'Base de distribución'!E19,'Base de distribución'!E20,'Base de distribución'!E21,'Base de distribución'!E22,'Base de distribución'!E23,'Base de distribución'!E24,'Base de distribución'!E25,'Base de distribución'!E26,'Base de distribución'!E27,'Base de distribución'!E28,'Base de distribución'!E29,'Base de distribución'!E30,'Base de distribución'!E31,'Base de distribución'!E32,'Base de distribución'!E33,'Base de distribución'!E34,'Base de distribución'!E35,'Base de distribución'!E36,'Base de distribución'!E37,'Base de distribución'!E38,'Base de distribución'!E39,'Base de distribución'!E40,'Base de distribución'!E41,'Base de distribución'!E42,'Base de distribución'!E43,'Base de distribución'!E44,'Base de distribución'!E45,'Base de distribución'!E46,'Base de distribución'!E47,'Base de distribución'!E48,'Base de distribución'!E49)),2) -> 10034.09 | K28: =ROUND($C$20-SUM(E23:K23,E24:K24,E25:K25,E26:K26,E27:K27,E28:J28),2) -> 10034.14 | L28: =L83*Tarifas!F39 -> 83.762922 | M28: =SUM(E28:K28) -> 80272.8 | N28: =M28/$C$20 -> 0.049398646
B29: TOTAL CAMPAÑA | E29: =SUM(E23:E28) -> 162499.99 | F29: =SUM(F23:F28) -> 162499.99 | G29: =SUM(G23:G28) -> 325000 | H29: =SUM(H23:H28) -> 243750 | I29: =SUM(I23:I28) -> 243749.99 | J29: =SUM(J23:J28) -> 243749.99 | K29: =SUM(K23:K28) -> 243750.04 | M29: =SUM(M23:M28) -> 1625000 | N29: =SUM(N23:N28) -> 1
B30: Balance de campaña | C30: =ROUND(C20-M29,2) -> 0
